{"text_format":"1","workbook":"xlsx","n_sheets":11,"sheets":["取扱説明","概要設定","list","赤","赤RT","赤ラベル","黒","黒RT","黒ラベル","順位戦","結果"],"not_rendered":{"charts":0,"images":0,"macros":1,"external_links":0,"defined_names":13,"comments":0,"pivot_tables":0},"unopened":[],"bounds":{"document_bytes":16777216,"sheet_cells":100000,"rows_first":2000,"rows_last":500,"rows_between":2000,"halvings":0,"cell_chars":16384,"cell_head_chars":4096},"cells_cut":0,"cells_raw":0,"read":"whole","date_system":"1900"}

{"sheet":"取扱説明","index":0,"n_rows":74,"n_cols":13,"rows_kept":74,"cut":false,"hidden":false,"merged":[]}
[null,"【ローテーション赤／黒組　取扱説明】"]
[null,null,null,null,null,null,null,null,null,null,null,"ver.2.6改","by：にんにん"]
[null,"◆","概要設定",null,null,null,null,null,null,null,null,null,"ayayagogo7@gmail.com"]
[null,null,"まずはじめに、名前、よみがな、ハンデ者には\"-\"を事前に入力します。（５０人まで対応）",null,null,null,null,null,null,null,null,null,"バグ等が有りましたら、その状態で保存しメールお願いします。"]
[null,null,"基準点、ハンデ点を自由に設定でき、プルダウンメニューから選んでください。",null,null,null,null,null,null,null,null,null,"出来る範囲で対応します。"]
[null,null,"開催日、対抗戦名を入力し、ルール（基準点）、会場名をプルダウンメニューから選んでください。"]
[null,null,"注）同姓同名の場合は違う名前にして登録お願いします。（よみがな　は同じでも良いです。）",null,null,null,null,null,null,null,null,null,"概要設定以外を全クリアします。"]
[null,null,"　　例）　山田太郎A　山田太郎B",null,null,null,null,null,null,null,null,null,"（サンプルデーターが入っています。見終わったら全クリアして下さい。）"]
[null,null,"並べ替え：","選手を追加した場合、よみがな順にリストを並べ替えます。"]
[]
[null,"◆","list"]
[null,null,"ラウンドテーブル表を設定します。（３人～１７人に対応）",null,null,null,null,"16人・17人は新◯ｐの協力ｗ"]
[]
[null,"◆","赤／黒"]
[null,null,"名前をプルダウンメニューから選択し「よみがな」が表示されます。（３人～１７人に対応、絶対に赤／黒に同じ名前を選択しないで下さい。）"]
[null,null,"女子のハンデにも対応しハンデ点数が表示され、ハンデ変更で細かくハンデ点数を設定できます。"]
[null,null,"　（ハンデ変更については、TP、Rに影響が出ます。基準点より小さく設定するばTPが増え、大きくすれば減ります。）"]
[null,null,"勝者は半角小文字\"w\"、敗者は得点を入力。（全角および大文字で入力しても自動で\"w\"に変換されます。）"]
[]
[null,null,"新たにA・B・C、HRを入力出来る様にし、結果表に反映されます。（半角小文字で入力しても自動で\"A\"\"B\"\"C\"に変換されます。HRは３６０点以下まで対応。）"]
[null,null,"HRの個人およびトップHR表示については、下記を優先表示しております。"]
[null,null,"　　\"A\"（マスワリ１番～基準点）　＞　\"B\"（裏マス１番～基準点）　＞　\"C\"（左記以外１番～基準点）　＞　\"\"（１００点以上）の順番とします。"]
[null,null,"　　※上記の理由から、ハンデ者は基準点まで撞けないので、ABCハイランは存在しません。"]
[null,null,"実際には有りませんが、この順番で表示およびトップHRを決めています。（\"A\"１８０　＞　\"B\"１８１　＞　\"C\"１８２　＞　\"\"１８３）"]
[]
[null,null,"「入力アシスト機能」"]
[null,null,"負けスコア入力後”w”が自動表示、「Ctrl+q」は自分相手クリア、「Ctrl+f」は全てクリア、「Ctrl+k」は対戦マス目のみクリア"]
[null,null,"印刷する時はマス目以外の所でクリック（A1セル）、対戦相手のマゼンダ色が表示されるからです。"]
[]
[null,"◆","RT（出場選手人数により、ラウンドテーブル表を元に対戦相手を節毎に表示します。）"]
[null,null,"RT作成ボタンで対戦相手が表示されラベルも同時に作成し、スコア入力後、赤／黒へ反映ボタンで赤／黒にスコアが反映されます。"]
[null,null,"入力手順：","RTクリア ＞ 赤／黒で選手を選択 ＞ 何節まで：表示させる節数を入力 ＞　RT作成 ＞ スコア入力 ＞ 赤／黒へ反映"]
[null,null,"RTクリア：","赤／黒RT、赤／黒ラベルが初期化されます。（前回入力したゴミが残っている場合があります。）"]
[null,null,"人数は：","人数が自動表示されます。（3人～17人対応。人数の入力は出来ません。）"]
[null,null,"何節まで：","節数を入力しRT作成ボタンを押すと、入力節まで表示されます。　（”９９”と入力すると全節が表示され”０”だと全節クリアされます。）"]
[null,null,null,"１節、３節、５節の試合を行い場合は、”９９”で奇数節だけ入力して下さい。　"]
[null,null,"RT作成：","何節まで：を入力後、赤／黒RT、赤／黒ラベルが自動で作成されます。（赤／黒で出場選手を選択して下さい。赤／黒RT、赤／黒で入力したスコアは消えます。）"]
[null,null,"スコア：","スコア、A・B・C、HRの入力ができます。（敗者側のスコアを入力すると相手側に”ｗ”が自動表示されます。）"]
[null,null,"赤／黒へ反映：","全てのスコア入力後、赤／黒にスコアが反映されます。　（赤／黒で入力したスコアは消えます。）"]
[null,null,"赤／黒および、赤／黒RT画面からスコアを入力する場合はどちらか一方のみにして下さい。　（結果表はどちらで入力しても同じです。）"]
[null,null,"赤／黒から赤／黒RTへの反映は出来ません。"]
[]
[null,"◆","ラベル（運営カード）"]
[null,null,"運営カードシートで運営カードを印刷してください。（印刷設定で1頁～試合数頁を指定して下さい。）"]
[null,null,"A6またはハガキサイズで印刷されます。（Excel2007以降に対応）"]
[]
[null,"◆","順位戦"]
[null,null,"順位結果を入力し、対抗戦番手をプルダウンメニューより変更お願いします。（その他の項目は自動表示されます。）"]
[null,null,"赤／黒合計人数が奇数の場合は、最下位の人は試合が有りません。（順位戦でのHRは対象外）"]
[]
[null,"◆","結果"]
[null,null,"順位、名前、総合W数、総合L数、総合TP、LP、HRが集計されます。"]
[null,null,"HR者の最高得点者には点数に色が表示されます。（ただしA・B・C優先、順位戦でのHRは対象外）"]
[null,null,"「順位判定」"]
[null,null,"W数多い＞TP多い（ハンデに対応）＞総失点少ない(”w”を除いた合計、又失点のハンデは未対応)＞HR多い（ABC優先）"]
[]
[null,null,"女子のハンデにも対応しました。（１組および、結果のＴＰの内訳は、横合計＊180/140　　\"w\"はハンデ点とします。）"]
[null,null,"例）"]
[null,null,"花子　-","（ハンデ者）","w　　100","w　　50","　　→","（140＋100＋140＋50）＊180/140＝552点　（小数点以下切り捨て）"]
[null,null,"太郎",null,"w　　100","w　　50","　　→","（180＋100＋180＋50）＊180/180＝510点　（小数点以下切り捨て）"]
[]
[null,"◆","シートの保護／解除"]
[null,null,"保護を解除したい時は　リボン＞校閲＞変更の　シートの解除（一部シートを解除してもマクロを使用している為、自動で保護されてしまいます。）　"]
[]
[null,"◆","緑色の小さな▲が出る場合"]
[null,null,"excelのオプション＞数式＞エラーチェック＞バックグラウンドでエラーチェックを行う　チェック外す"]
[]
[null,"◆","マクロを使用しています。マクロを有効にして下さい。"]
[null,null,"左上側に　セキュリティーの警告　マクロが無効にされました　オプション　をクリック"]
[null,null,null,"このコンテンツを有効にする　にチェックを入れる"]
[null,null,"毎回マクロを有効にするのが手間ならば（このファイルがある場所がディスクトップの場合）"]
[null,null,"excelのオプション＞セキュリティセンター＞セキュリティセンターの設定＞信頼できる場所＞新しい場所の追加＞参照＞ディスクトップ　OK＞OK"]
[]
[null,"◆",null,"色とスコア項目以外は基本的に入力や選択は出来ません。また項目を消す時はスペースキーでなく、Deleteキーを使用して下さい。"]

{"sheet":"概要設定","index":1,"n_rows":19,"n_cols":15,"rows_kept":19,"cut":false,"hidden":false,"merged":[[14,1,14,2],[15,1,15,2],[3,1,3,6],[7,1,7,6],[10,1,10,2],[11,1,11,2],[12,1,12,2],[13,1,13,2],[5,3,5,6]]}
[null,null,null,null,null,null,null,null,null,"名　　前","よみがな","ハンデ",null,"基準点数","ハンデ点数"]
["開催日",2016,"年",9,"月",11,"日",null,null,"岩本　剛","いわもと　つよし",null,null,120,100]
[null,null,null,null,null,null,null,null,null,"植田　慎也","うえだ　しんや",null,null,160,120]
["試合名","和奈対抗戦",null,null,null,null,null,null,null,"金澤　茂昌","かなざわ　しげまさ",null,null,180,140]
[null,null,null,null,null,null,null,null,null,"吉向　翔平","きっこう　しょうへい",null,null,240,200]
["ルール",180,"点","コールショット",null,null,null,null,null,"近藤　拓馬","こんどう　たくま",null,null,360,300]
["（基準点）",null,null,null,null,null,null,null,null,"斉藤　大輔","さいとう　だいすけ"]
["会場名","トップガン",null,null,null,null,null,null,null,"斉藤　裕児","さいとう　ゆうじ"]
[null,null,null,null,null,null,null,null,null,"白戸　玲人","しらと　れいにん",null,null,null,"←名前順に並べ替え"]
[null,null,null,null,null,null,null,null,null,"谷野　晋平","たにの　しんぺい"]
[null,"会　場",null,null,null,null,null,null,null,"長谷川　進","はせがわ　すすむ"]
[null,"トップガン",null,null,null,null,null,null,null,"水田　賢宏","みずた　よしひろ"]
[null,"キングスポット",null,null,null,null,null,null,null,"峯山　崇史","みねやま　たかし"]
[null,"プールギャング",null,null,null,null,null,null,null,"宮野　早織","みやの　さおり","-"]
[null,null,null,null,null,null,null,null,null,"山田　晋之","やまだ　くにゆき"]
[null,null,null,null,null,null,null,null,null,"山田　晃司","やまだ　こうじ"]
[null,null,null,null,null,null,null,null,null,"鷲尾　隆杜","わしお　りゅうと"]
[null,null,null,null,null,null,null,null,null,"佐藤　循一","さとう　じゅんいち"]
[null,null,null,null,null,null,null,null,null,"白戸　恭子","しらと　きょうこ","-"]

{"sheet":"list","index":2,"n_rows":146,"n_cols":75,"rows_kept":146,"cut":false,"hidden":false,"merged":[[29,0,32,0],[29,1,32,1],[29,2,32,2],[29,3,32,3],[29,4,32,4]]}
[null,3,"人",null,null,null,4,"人",null,null,null,5,"人",null,null,null,6,"人",null,null,null,7,"人",null,null,null,8,"人",null,null,null,9,"人",null,null,null,10,"人",null,null,null,11,"人",null,null,null,12,"人",null,null,null,13,"人",null,null,null,14,"人",null,null,null,15,"人",null,null,null,16,"人",null,null,null,17,"人"]
[1,{"$f":"A2+1","v":2},{"$f":"B2+1","v":3},{"$f":"C2+1","v":4},5,6,7,8,9,10,11,12,13,14,15,16,17,18,19,20,21,22,23,24,25,26,27,28,29,30,31,32,33,34,35,36,37,38,39,40,41,42,43,44,45,46,47,48,49,50,51,52,53,54,55,56,57,58,59,60,61,62,63,64,65,66,67,{"$f":"BO2+1","v":68},69,70,71,72,73,74,75]
[null,"一節",null,null,1,null,"一節",null,null,1,null,"一節",null,null,1,null,"一節",null,null,1,null,"一節",null,null,1,null,"一節",null,null,1,null,"一節",null,null,1,null,"一節",null,null,1,null,"一節",null,null,1,null,"一節",null,null,1,null,"一節",null,null,1,null,"一節",null,null,1,null,"一節",null,null,1,null,"一節",null,null,1,null,"一節",null,null,1]
[1,2,"-",3,1,1,2,"-",3,1,1,2,"-",5,1,1,3,"-",4,1,1,2,"-",4,1,1,4,"-",5,1,1,2,"-",4,1,1,5,"-",6,1,1,2,"-",4,1,1,6,"-",7,1,1,2,"-",4,1,1,7,"-",8,1,1,2,"-",4,1,1,8,"-",9,1,1,2,"-",4,1]
[{"$f":"A4+1","v":2},1,"-",3,1,{"$f":"F4+1","v":2},1,"-",4,1,{"$f":"K4+1","v":2},3,"-",4,1,2,2,"-",5,1,2,3,"-",6,1,2,3,"-",6,1,2,3,"-",6,1,2,4,"-",7,1,2,3,"-",6,1,2,5,"-",8,1,2,3,"-",6,1,2,6,"-",9,1,2,3,"-",6,1,2,7,"-",10,1,2,3,"-",6,1]
[{"$f":"A5+1","v":3},1,"-",2,1,{"$f":"F5+1","v":3},4,"-",2,1,{"$f":"K5+1","v":3},1,"-",5,1,3,1,"-",6,1,3,5,"-",7,1,3,2,"-",7,1,3,5,"-",8,1,3,3,"-",8,1,3,5,"-",8,1,3,4,"-",9,1,3,5,"-",8,1,3,5,"-",10,1,3,5,"-",8,1,3,6,"-",11,1,3,5,"-",8,1]
[null,null,null,null,null,4,1,"-",3,1,4,3,"-",2,1,null,"二節",null,null,2,4,4,"-",1,1,4,1,"-",8,1,4,7,"-",9,1,4,2,"-",9,1,4,7,"-",10,1,4,3,"-",10,1,4,7,"-",10,1,4,4,"-",11,1,4,7,"-",10,1,4,5,"-",12,1,4,7,"-",10,1]
[null,null,null,null,null,5,3,"-",4,1,5,1,"-",4,1,4,2,"-",3,2,5,2,"-",6,1,null,"二節",null,null,2,5,4,"-",1,1,5,1,"-",10,1,5,9,"-",11,1,5,2,"-",11,1,5,9,"-",12,1,5,3,"-",12,1,5,9,"-",12,1,5,4,"-",13,1,5,9,"-",12,1]
[null,null,null,null,null,6,1,"-",2,1,6,3,"-",5,1,5,6,"-",4,2,6,3,"-",7,1,5,3,"-",4,2,6,2,"-",6,1,null,"二節",null,null,2,6,4,"-",1,1,6,1,"-",12,1,6,11,"-",13,1,6,2,"-",13,1,6,11,"-",14,1,6,3,"-",14,1,6,11,"-",14,1]
[null,null,null,null,null,null,null,null,null,null,7,4,"-",2,1,6,1,"-",5,2,7,1,"-",5,1,6,2,"-",5,2,7,3,"-",8,1,6,4,"-",5,2,7,2,"-",6,1,null,"二節",null,null,2,7,4,"-",1,1,7,1,"-",14,1,7,13,"-",15,1,7,2,"-",15,1,7,13,"-",16,1]
[null,null,null,null,null,null,null,null,null,null,8,3,"-",1,1,null,"三節",null,null,3,null,"二節",null,null,2,7,8,"-",6,2,8,5,"-",9,1,7,3,"-",6,2,8,3,"-",8,1,7,5,"-",6,2,8,2,"-",6,1,null,"二節",null,null,2,8,4,"-",1,1,8,1,"-",16,1,8,15,"-",17,1]
[null,null,null,null,null,null,null,null,null,null,9,4,"-",5,1,7,6,"-",2,3,8,4,"-",6,2,8,1,"-",7,2,9,1,"-",7,1,8,2,"-",7,2,9,5,"-",10,1,8,4,"-",7,2,9,3,"-",8,1,8,6,"-",7,2,9,2,"-",6,1,null,"二節",null,null,2,9,4,"-",1,1]
[null,null,null,null,null,null,null,null,null,null,10,1,"-",2,1,8,5,"-",3,3,9,2,"-",7,2,null,"三節",null,null,3,null,"二節",null,null,2,9,10,"-",8,2,10,7,"-",11,1,9,3,"-",8,2,10,5,"-",10,1,9,5,"-",8,2,10,3,"-",8,1,9,7,"-",8,2,10,2,"-",6,1]
[null,null,null,null,null,null,null,null,null,null,null,null,null,null,null,9,1,"-",4,3,10,3,"-",5,2,9,2,"-",3,3,10,4,"-",6,2,10,1,"-",9,2,11,1,"-",9,1,10,2,"-",9,2,11,7,"-",12,1,10,4,"-",9,2,11,5,"-",10,1,10,6,"-",9,2,11,3,"-",8,1]
[null,null,null,null,null,null,null,null,null,null,null,null,null,null,null,null,"四節",null,null,4,11,6,"-",1,2,10,8,"-",4,3,11,2,"-",8,2,null,"三節",null,null,3,null,"二節",null,null,2,11,12,"-",10,2,12,9,"-",13,1,11,3,"-",10,2,12,7,"-",12,1,11,5,"-",10,2,12,5,"-",10,1]
[null,null,null,null,null,null,null,null,null,null,null,null,null,null,null,10,5,"-",6,4,12,4,"-",7,2,11,7,"-",5,3,12,3,"-",9,2,11,3,"-",4,3,12,4,"-",6,2,12,1,"-",11,2,13,1,"-",11,1,12,2,"-",11,2,13,9,"-",14,1,12,4,"-",11,2,13,7,"-",12,1]
[null,null,null,null,null,null,null,null,null,null,null,null,null,null,null,11,4,"-",2,4,13,2,"-",5,2,12,1,"-",6,3,13,5,"-",7,2,12,2,"-",5,3,13,2,"-",8,2,null,"三節",null,null,3,null,"二節",null,null,2,13,14,"-",12,2,14,11,"-",15,1,13,3,"-",12,2,14,9,"-",14,1]
[null,null,null,null,null,null,null,null,null,null,null,null,null,null,null,12,1,"-",3,4,14,1,"-",3,2,null,"四節",null,null,4,14,6,"-",1,2,13,10,"-",6,3,14,3,"-",10,2,13,4,"-",5,3,14,4,"-",6,2,14,1,"-",13,2,15,1,"-",13,1,14,2,"-",13,2,15,11,"-",16,1]
[null,null,null,null,null,null,null,null,null,null,null,null,null,null,null,null,"五節",null,null,5,null,"三節",null,null,3,13,8,"-",2,4,15,4,"-",8,2,14,9,"-",7,3,15,5,"-",11,2,14,3,"-",6,3,15,2,"-",8,2,null,"三節",null,null,3,null,"二節",null,null,2,15,16,"-",14,2,16,13,"-",17,1]
[null,null,null,null,null,null,null,null,null,null,null,null,null,null,null,13,4,"-",5,5,15,6,"-",7,3,14,7,"-",3,4,16,2,"-",9,2,15,1,"-",8,3,16,7,"-",9,2,15,2,"-",7,3,16,3,"-",10,2,15,5,"-",6,3,16,4,"-",6,2,16,1,"-",15,2,17,1,"-",15,1]
[null,null,null,null,null,null,null,null,null,null,null,null,null,null,null,14,3,"-",6,5,16,4,"-",5,3,15,6,"-",4,4,17,3,"-",7,2,null,"四節",null,null,4,17,6,"-",1,2,16,12,"-",8,3,17,5,"-",12,2,16,4,"-",7,3,17,2,"-",8,2,null,"三節",null,null,3,null,"二節",null,null,2]
[null,null,null,null,null,null,null,null,null,null,null,null,null,null,null,15,1,"-",2,5,17,2,"-",3,3,16,1,"-",5,4,18,1,"-",5,2,16,2,"-",3,4,18,4,"-",8,2,17,11,"-",9,3,18,7,"-",13,2,17,3,"-",8,3,18,3,"-",10,2,17,6,"-",7,3,18,4,"-",6,2]
[null,null,null,null,null,null,null,null,null,null,null,null,null,null,null,null,null,null,null,null,18,1,"-",7,3,null,"五節",null,null,5,null,"三節",null,null,3,17,10,"-",4,4,19,2,"-",10,2,18,1,"-",10,3,19,9,"-",11,2,18,2,"-",9,3,19,5,"-",12,2,18,5,"-",8,3,19,2,"-",8,2]
[null,null,null,null,null,null,null,null,null,null,null,null,null,null,null,null,null,null,null,null,19,5,"-",6,3,17,7,"-",8,5,19,6,"-",8,3,18,9,"-",5,4,20,3,"-",11,2,null,"四節",null,null,4,20,6,"-",1,2,19,14,"-",10,3,20,7,"-",14,2,19,4,"-",9,3,20,3,"-",10,2]
[null,null,null,null,null,null,null,null,null,null,null,null,null,null,null,null,null,null,null,null,20,3,"-",4,3,18,6,"-",2,5,20,4,"-",9,3,19,8,"-",6,4,21,5,"-",9,2,19,3,"-",4,4,21,4,"-",8,2,20,13,"-",11,3,21,9,"-",15,2,20,3,"-",10,3,21,5,"-",12,2]
["ラウンドテーブル表",null,null,null,null,null,null,null,null,null,null,null,null,null,null,null,null,null,null,null,21,1,"-",2,3,19,5,"-",3,5,21,2,"-",7,3,20,1,"-",7,4,22,1,"-",7,2,20,2,"-",5,4,22,2,"-",10,2,21,1,"-",12,3,22,11,"-",13,2,21,2,"-",11,3,22,7,"-",14,2]
[null,"人","数",null,null,null,null,null,null,null,null,null,null,null,null,null,null,null,null,null,null,null,null,null,null,20,1,"-",4,5,22,3,"-",5,3,null,"五節",null,null,5,null,"三節",null,null,3,21,12,"-",6,4,23,3,"-",12,2,null,"四節",null,null,4,23,6,"-",1,2,22,16,"-",12,3,23,9,"-",16,2]
[null,"列セル数",null,null,null,null,null,null,null,null,null,null,null,null,null,null,null,null,null,null,null,null,null,null,null,null,"六節",null,null,6,23,8,"-",1,3,21,10,"-",2,5,23,6,"-",8,3,22,11,"-",7,4,24,5,"-",13,2,22,4,"-",5,4,24,4,"-",8,2,23,15,"-",13,3,24,11,"-",17,2]
[null,"節タイトル",null,null,null,null,null,null,null,null,null,null,null,null,null,null,null,null,null,null,null,null,null,null,null,21,6,"-",7,6,24,6,"-",9,3,22,9,"-",3,5,24,4,"-",10,3,23,10,"-",8,4,25,7,"-",11,2,23,3,"-",6,4,25,2,"-",10,2,24,1,"-",14,3,25,13,"-",15,2]
["試合数","左Ｎｏ","-","右Ｎｏ","節　数",null,null,null,null,null,null,null,null,null,null,null,null,null,null,null,null,null,null,null,null,22,5,"-",8,6,25,4,"-",7,3,23,8,"-",4,5,25,2,"-",11,3,24,1,"-",9,4,26,1,"-",9,2,24,2,"-",7,4,26,3,"-",12,2,null,"四節",null,null,4,26,6,"-",1,2]
[null,null,null,null,null,null,null,null,null,null,null,null,null,null,null,null,null,null,null,null,null,null,null,null,null,23,4,"-",2,6,26,2,"-",5,3,24,7,"-",5,5,26,3,"-",9,3,null,"五節",null,null,5,null,"三節",null,null,3,25,14,"-",8,4,27,5,"-",14,2,25,5,"-",6,4,27,4,"-",8,2]
[null,null,null,null,null,null,null,null,null,null,null,null,null,null,null,null,null,null,null,null,null,null,null,null,null,24,1,"-",3,6,27,1,"-",3,3,25,1,"-",6,5,27,5,"-",7,3,25,2,"-",3,5,27,6,"-",8,3,26,13,"-",9,4,28,7,"-",15,2,26,4,"-",7,4,28,2,"-",10,2]
[null,null,null,null,null,null,null,null,null,null,null,null,null,null,null,null,null,null,null,null,null,null,null,null,null,null,"七節",null,null,7,null,"四節",null,null,4,null,"六節",null,null,6,28,8,"-",1,3,26,12,"-",4,5,28,4,"-",10,3,27,12,"-",10,4,29,9,"-",13,2,27,3,"-",8,4,29,3,"-",12,2]
[null,null,null,null,null,null,null,null,null,null,null,null,null,null,null,null,null,null,null,null,null,null,null,null,null,25,5,"-",6,7,28,8,"-",9,4,26,9,"-",10,6,29,6,"-",10,3,27,11,"-",5,5,29,2,"-",12,3,28,1,"-",11,4,30,1,"-",11,2,28,2,"-",9,4,30,5,"-",14,2]
["出場人員＊（出場人員－１）／２＝総試合数",null,null,null,null,null,null,null,null,null,null,null,null,null,null,null,null,null,null,null,null,null,null,null,null,26,4,"-",7,7,29,6,"-",7,4,27,8,"-",2,6,30,4,"-",11,3,28,10,"-",6,5,30,3,"-",13,3,null,"五節",null,null,5,null,"三節",null,null,3,29,16,"-",10,4,31,7,"-",16,2]
["奇数の場合：節を抜く毎に２ゲームずつ減る",null,null,null,null,null,null,null,null,null,null,null,null,null,null,null,null,null,null,null,null,null,null,null,null,27,3,"-",8,7,30,4,"-",5,4,28,7,"-",3,6,31,2,"-",9,3,29,9,"-",7,5,31,5,"-",11,3,29,3,"-",4,5,31,6,"-",8,3,30,15,"-",11,4,32,9,"-",17,2]
["偶数の場合：節を抜く毎に１ゲームずつ減る",null,null,null,null,null,null,null,null,null,null,null,null,null,null,null,null,null,null,null,null,null,null,null,null,28,1,"-",2,7,31,2,"-",3,4,29,6,"-",4,6,32,3,"-",7,3,30,1,"-",8,5,32,7,"-",9,3,30,2,"-",5,5,32,4,"-",10,3,31,14,"-",12,4,33,11,"-",15,2]
[null,null,null,null,null,null,null,null,null,null,null,null,null,null,null,null,null,null,null,null,null,null,null,null,null,null,null,null,null,null,32,9,"-",1,4,30,1,"-",5,6,33,1,"-",5,3,null,"六節",null,null,6,33,8,"-",1,3,31,14,"-",6,5,33,2,"-",12,3,32,1,"-",13,4,34,1,"-",13,2]
["例）出場人員が７人の場合（奇数人）",null,null,null,null,null,null,null,null,null,null,null,null,null,null,null,null,null,null,null,null,null,null,null,null,null,null,null,null,null,33,7,"-",8,4,null,"七節",null,null,7,null,"四節",null,null,4,31,12,"-",2,6,34,6,"-",10,3,32,13,"-",7,5,34,3,"-",14,3,null,"五節",null,null,5,null,"三節",null,null,3]
["　　７人＊（７人－１人）／２＝全２１試合",null,null,null,null,null,null,null,null,null,null,null,null,null,null,null,null,null,null,null,null,null,null,null,null,null,null,null,null,null,34,5,"-",6,4,31,8,"-",9,7,34,8,"-",10,4,32,11,"-",3,6,35,4,"-",12,3,33,12,"-",8,5,35,5,"-",15,3,33,4,"-",5,5,35,6,"-",8,3]
["　　７人で三節を１つ抜くと全節一人に対して６ゲームですが、４ゲームとなる",null,null,null,null,null,null,null,null,null,null,null,null,null,null,null,null,null,null,null,null,null,null,null,null,null,null,null,null,null,35,3,"-",4,4,32,7,"-",10,7,35,6,"-",11,4,33,10,"-",4,6,36,2,"-",13,3,34,11,"-",9,5,36,7,"-",13,3,34,3,"-",6,5,36,4,"-",10,3]
["例）出場人員が８人の場合（偶数人）",null,null,null,null,null,null,null,null,null,null,null,null,null,null,null,null,null,null,null,null,null,null,null,null,null,null,null,null,null,36,1,"-",2,4,33,6,"-",2,7,36,4,"-",9,4,34,9,"-",5,6,37,3,"-",11,3,35,1,"-",10,5,37,9,"-",11,3,35,2,"-",7,5,37,2,"-",12,3]
["　　８人＊（８人－１人）／２＝全２８試合",null,null,null,null,null,null,null,null,null,null,null,null,null,null,null,null,null,null,null,null,null,null,null,null,null,null,null,null,null,null,null,null,null,null,34,5,"-",3,7,37,2,"-",7,4,35,8,"-",6,6,38,5,"-",9,3,null,"六節",null,null,6,38,8,"-",1,3,36,16,"-",8,5,38,3,"-",14,3]
["　　８人で六・七節を２つ抜くと全節一人に対して７ゲームですが、５ゲームとなる",null,null,null,null,null,null,null,null,null,null,null,null,null,null,null,null,null,null,null,null,null,null,null,null,null,null,null,null,null,null,null,null,null,null,35,1,"-",4,7,38,3,"-",5,4,36,1,"-",7,6,39,1,"-",7,3,36,2,"-",3,6,39,6,"-",10,3,37,15,"-",9,5,39,5,"-",16,3]
[null,null,null,null,null,null,null,null,null,null,null,null,null,null,null,null,null,null,null,null,null,null,null,null,null,null,null,null,null,null,null,null,null,null,null,null,"八節",null,null,8,39,10,"-",1,4,null,"七節",null,null,7,null,"四節",null,null,4,37,14,"-",4,6,40,4,"-",12,3,38,14,"-",10,5,40,7,"-",17,3]
[null,null,null,null,null,null,null,null,null,null,null,null,null,null,null,null,null,null,null,null,null,null,null,null,null,null,null,null,null,null,null,null,null,null,null,36,7,"-",8,8,40,8,"-",11,4,37,11,"-",12,7,40,8,"-",10,4,38,13,"-",5,6,41,2,"-",14,3,39,13,"-",11,5,41,9,"-",15,3]
[null,null,null,null,null,null,null,null,null,null,null,null,null,null,null,null,null,null,null,null,null,null,null,null,null,null,null,null,null,null,null,null,null,null,null,37,6,"-",9,8,41,6,"-",9,4,38,10,"-",2,7,41,6,"-",12,4,39,12,"-",6,6,42,3,"-",15,3,40,1,"-",12,5,42,11,"-",13,3]
[null,null,null,null,null,null,null,null,null,null,null,null,null,null,null,null,null,null,null,null,null,null,null,null,null,null,null,null,null,null,null,null,null,null,null,38,5,"-",10,8,42,4,"-",7,4,39,9,"-",3,7,42,4,"-",13,4,40,11,"-",7,6,43,5,"-",13,3,null,"六節",null,null,6,43,8,"-",1,3]
[null,null,null,null,null,null,null,null,null,null,null,null,null,null,null,null,null,null,null,null,null,null,null,null,null,null,null,null,null,null,null,null,null,null,null,39,4,"-",2,8,43,2,"-",5,4,40,8,"-",4,7,43,2,"-",11,4,41,10,"-",8,6,44,7,"-",11,3,41,3,"-",4,6,44,6,"-",10,3]
[null,null,null,null,null,null,null,null,null,null,null,null,null,null,null,null,null,null,null,null,null,null,null,null,null,null,null,null,null,null,null,null,null,null,null,40,1,"-",3,8,44,1,"-",3,4,41,7,"-",5,7,44,3,"-",9,4,42,1,"-",9,6,45,1,"-",9,3,42,2,"-",5,6,45,4,"-",12,3]
[null,null,null,null,null,null,null,null,null,null,null,null,null,null,null,null,null,null,null,null,null,null,null,null,null,null,null,null,null,null,null,null,null,null,null,null,"九節",null,null,9,null,"五節",null,null,5,42,1,"-",6,7,45,5,"-",7,4,null,"七節",null,null,7,null,"四節",null,null,4,43,16,"-",6,6,46,2,"-",14,3]
[null,null,null,null,null,null,null,null,null,null,null,null,null,null,null,null,null,null,null,null,null,null,null,null,null,null,null,null,null,null,null,null,null,null,null,41,6,"-",7,9,45,10,"-",11,5,null,"八節",null,null,8,46,10,"-",1,4,43,14,"-",2,7,46,8,"-",10,4,44,15,"-",7,6,47,3,"-",16,3]
[null,null,null,null,null,null,null,null,null,null,null,null,null,null,null,null,null,null,null,null,null,null,null,null,null,null,null,null,null,null,null,null,null,null,null,42,5,"-",8,9,46,8,"-",9,5,43,10,"-",11,8,47,8,"-",12,4,44,13,"-",3,7,47,6,"-",12,4,45,14,"-",8,6,48,5,"-",17,3]
[null,null,null,null,null,null,null,null,null,null,null,null,null,null,null,null,null,null,null,null,null,null,null,null,null,null,null,null,null,null,null,null,null,null,null,43,4,"-",9,9,47,6,"-",7,5,44,9,"-",12,8,48,6,"-",13,4,45,12,"-",4,7,48,4,"-",14,4,46,13,"-",9,6,49,7,"-",15,3]
[null,null,null,null,null,null,null,null,null,null,null,null,null,null,null,null,null,null,null,null,null,null,null,null,null,null,null,null,null,null,null,null,null,null,null,44,3,"-",10,9,48,4,"-",5,5,45,8,"-",2,8,49,4,"-",11,4,46,11,"-",5,7,49,2,"-",15,4,47,12,"-",10,6,50,9,"-",13,3]
[null,null,null,null,null,null,null,null,null,null,null,null,null,null,null,null,null,null,null,null,null,null,null,null,null,null,null,null,null,null,null,null,null,null,null,45,1,"-",2,9,49,2,"-",3,5,46,7,"-",3,8,50,2,"-",9,4,47,10,"-",6,7,50,3,"-",13,4,48,1,"-",11,6,51,1,"-",11,3]
[null,null,null,null,null,null,null,null,null,null,null,null,null,null,null,null,null,null,null,null,null,null,null,null,null,null,null,null,null,null,null,null,null,null,null,null,null,null,null,null,50,11,"-",1,5,47,6,"-",4,8,51,3,"-",7,4,48,9,"-",7,7,51,5,"-",11,4,null,"七節",null,null,7,null,"四節",null,null,4]
[null,null,null,null,null,null,null,null,null,null,null,null,null,null,null,null,null,null,null,null,null,null,null,null,null,null,null,null,null,null,null,null,null,null,null,null,null,null,null,null,51,9,"-",10,5,48,1,"-",5,8,52,1,"-",5,4,49,1,"-",8,7,52,7,"-",9,4,49,2,"-",3,7,52,8,"-",10,4]
[null,null,null,null,null,null,null,null,null,null,null,null,null,null,null,null,null,null,null,null,null,null,null,null,null,null,null,null,null,null,null,null,null,null,null,null,null,null,null,null,52,7,"-",8,5,null,"九節",null,null,9,null,"五節",null,null,5,null,"八節",null,null,8,53,10,"-",1,4,50,16,"-",4,7,53,6,"-",12,4]
[null,null,null,null,null,null,null,null,null,null,null,null,null,null,null,null,null,null,null,null,null,null,null,null,null,null,null,null,null,null,null,null,null,null,null,null,null,null,null,null,53,5,"-",6,5,49,9,"-",10,9,53,10,"-",12,5,50,13,"-",14,8,54,8,"-",12,4,51,15,"-",5,7,54,4,"-",14,4]
[null,null,null,null,null,null,null,null,null,null,null,null,null,null,null,null,null,null,null,null,null,null,null,null,null,null,null,null,null,null,null,null,null,null,null,null,null,null,null,null,54,3,"-",4,5,50,8,"-",11,9,54,8,"-",13,5,51,12,"-",2,8,55,6,"-",14,4,52,14,"-",6,7,55,2,"-",16,4]
[null,null,null,null,null,null,null,null,null,null,null,null,null,null,null,null,null,null,null,null,null,null,null,null,null,null,null,null,null,null,null,null,null,null,null,null,null,null,null,null,55,1,"-",2,5,51,7,"-",12,9,55,6,"-",11,5,52,11,"-",3,8,56,4,"-",15,4,53,13,"-",7,7,56,3,"-",17,4]
[null,null,null,null,null,null,null,null,null,null,null,null,null,null,null,null,null,null,null,null,null,null,null,null,null,null,null,null,null,null,null,null,null,null,null,null,null,null,null,null,null,null,null,null,null,52,6,"-",2,9,56,4,"-",9,5,53,10,"-",4,8,57,2,"-",13,4,54,12,"-",8,7,57,5,"-",15,4]
[null,null,null,null,null,null,null,null,null,null,null,null,null,null,null,null,null,null,null,null,null,null,null,null,null,null,null,null,null,null,null,null,null,null,null,null,null,null,null,null,null,null,null,null,null,53,5,"-",3,9,57,2,"-",7,5,54,9,"-",5,8,58,3,"-",11,4,55,11,"-",9,7,58,7,"-",13,4]
[null,null,null,null,null,null,null,null,null,null,null,null,null,null,null,null,null,null,null,null,null,null,null,null,null,null,null,null,null,null,null,null,null,null,null,null,null,null,null,null,null,null,null,null,null,54,1,"-",4,9,58,3,"-",5,5,55,8,"-",6,8,59,5,"-",9,4,56,1,"-",10,7,59,9,"-",11,4]
[null,null,null,null,null,null,null,null,null,null,null,null,null,null,null,null,null,null,null,null,null,null,null,null,null,null,null,null,null,null,null,null,null,null,null,null,null,null,null,null,null,null,null,null,null,null,"十節",null,null,10,59,12,"-",1,5,56,1,"-",7,8,60,1,"-",7,4,null,"八節",null,null,8,60,10,"-",1,4]
[null,null,null,null,null,null,null,null,null,null,null,null,null,null,null,null,null,null,null,null,null,null,null,null,null,null,null,null,null,null,null,null,null,null,null,null,null,null,null,null,null,null,null,null,null,55,8,"-",9,10,60,10,"-",13,5,null,"九節",null,null,9,null,"五節",null,null,5,57,16,"-",2,8,61,8,"-",12,4]
[null,null,null,null,null,null,null,null,null,null,null,null,null,null,null,null,null,null,null,null,null,null,null,null,null,null,null,null,null,null,null,null,null,null,null,null,null,null,null,null,null,null,null,null,null,56,7,"-",10,10,61,8,"-",11,5,57,12,"-",13,9,61,10,"-",12,5,58,15,"-",3,8,62,6,"-",14,4]
[null,null,null,null,null,null,null,null,null,null,null,null,null,null,null,null,null,null,null,null,null,null,null,null,null,null,null,null,null,null,null,null,null,null,null,null,null,null,null,null,null,null,null,null,null,57,6,"-",11,10,62,6,"-",9,5,58,11,"-",14,9,62,8,"-",14,5,59,14,"-",4,8,63,4,"-",16,4]
[null,null,null,null,null,null,null,null,null,null,null,null,null,null,null,null,null,null,null,null,null,null,null,null,null,null,null,null,null,null,null,null,null,null,null,null,null,null,null,null,null,null,null,null,null,58,5,"-",12,10,63,4,"-",7,5,59,10,"-",2,9,63,6,"-",15,5,60,13,"-",5,8,64,2,"-",17,4]
[null,null,null,null,null,null,null,null,null,null,null,null,null,null,null,null,null,null,null,null,null,null,null,null,null,null,null,null,null,null,null,null,null,null,null,null,null,null,null,null,null,null,null,null,null,59,4,"-",2,10,64,2,"-",5,5,60,9,"-",3,9,64,4,"-",13,5,61,12,"-",6,8,65,3,"-",15,4]
[null,null,null,null,null,null,null,null,null,null,null,null,null,null,null,null,null,null,null,null,null,null,null,null,null,null,null,null,null,null,null,null,null,null,null,null,null,null,null,null,null,null,null,null,null,60,1,"-",3,10,65,1,"-",3,5,61,8,"-",4,9,65,2,"-",11,5,62,11,"-",7,8,66,5,"-",13,4]
[null,null,null,null,null,null,null,null,null,null,null,null,null,null,null,null,null,null,null,null,null,null,null,null,null,null,null,null,null,null,null,null,null,null,null,null,null,null,null,null,null,null,null,null,null,null,"十一節",null,null,11,null,"六節",null,null,6,62,7,"-",5,9,66,3,"-",9,5,63,10,"-",8,8,67,7,"-",11,4]
[null,null,null,null,null,null,null,null,null,null,null,null,null,null,null,null,null,null,null,null,null,null,null,null,null,null,null,null,null,null,null,null,null,null,null,null,null,null,null,null,null,null,null,null,null,61,7,"-",8,11,66,12,"-",13,6,63,1,"-",6,9,67,5,"-",7,5,64,1,"-",9,8,68,1,"-",9,4]
[null,null,null,null,null,null,null,null,null,null,null,null,null,null,null,null,null,null,null,null,null,null,null,null,null,null,null,null,null,null,null,null,null,null,null,null,null,null,null,null,null,null,null,null,null,62,6,"-",9,11,67,10,"-",11,6,null,"十節",null,null,10,68,12,"-",1,5,null,"九節",null,null,9,null,"五節",null,null,5]
[null,null,null,null,null,null,null,null,null,null,null,null,null,null,null,null,null,null,null,null,null,null,null,null,null,null,null,null,null,null,null,null,null,null,null,null,null,null,null,null,null,null,null,null,null,63,5,"-",10,11,68,8,"-",9,6,64,11,"-",12,10,69,10,"-",14,5,65,15,"-",16,9,69,10,"-",12,5]
[null,null,null,null,null,null,null,null,null,null,null,null,null,null,null,null,null,null,null,null,null,null,null,null,null,null,null,null,null,null,null,null,null,null,null,null,null,null,null,null,null,null,null,null,null,64,4,"-",11,11,69,6,"-",7,6,65,10,"-",13,10,70,8,"-",15,5,66,14,"-",2,9,70,8,"-",14,5]
[null,null,null,null,null,null,null,null,null,null,null,null,null,null,null,null,null,null,null,null,null,null,null,null,null,null,null,null,null,null,null,null,null,null,null,null,null,null,null,null,null,null,null,null,null,65,3,"-",12,11,70,4,"-",5,6,66,9,"-",14,10,71,6,"-",13,5,67,13,"-",3,9,71,6,"-",16,5]
[null,null,null,null,null,null,null,null,null,null,null,null,null,null,null,null,null,null,null,null,null,null,null,null,null,null,null,null,null,null,null,null,null,null,null,null,null,null,null,null,null,null,null,null,null,66,1,"-",2,11,71,2,"-",3,6,67,8,"-",2,10,72,4,"-",11,5,68,12,"-",4,9,72,4,"-",17,5]
[null,null,null,null,null,null,null,null,null,null,null,null,null,null,null,null,null,null,null,null,null,null,null,null,null,null,null,null,null,null,null,null,null,null,null,null,null,null,null,null,null,null,null,null,null,null,null,null,null,null,72,13,"-",1,6,68,7,"-",3,10,73,2,"-",9,5,69,11,"-",5,9,73,2,"-",15,5]
[null,null,null,null,null,null,null,null,null,null,null,null,null,null,null,null,null,null,null,null,null,null,null,null,null,null,null,null,null,null,null,null,null,null,null,null,null,null,null,null,null,null,null,null,null,null,null,null,null,null,73,11,"-",12,6,69,6,"-",4,10,74,3,"-",7,5,70,10,"-",6,9,74,3,"-",13,5]
[null,null,null,null,null,null,null,null,null,null,null,null,null,null,null,null,null,null,null,null,null,null,null,null,null,null,null,null,null,null,null,null,null,null,null,null,null,null,null,null,null,null,null,null,null,null,null,null,null,null,74,9,"-",10,6,70,1,"-",5,10,75,1,"-",5,5,71,9,"-",7,9,75,5,"-",11,5]
[null,null,null,null,null,null,null,null,null,null,null,null,null,null,null,null,null,null,null,null,null,null,null,null,null,null,null,null,null,null,null,null,null,null,null,null,null,null,null,null,null,null,null,null,null,null,null,null,null,null,75,7,"-",8,6,null,"十一節",null,null,11,null,"六節",null,null,6,72,1,"-",8,9,76,7,"-",9,5]
[null,null,null,null,null,null,null,null,null,null,null,null,null,null,null,null,null,null,null,null,null,null,null,null,null,null,null,null,null,null,null,null,null,null,null,null,null,null,null,null,null,null,null,null,null,null,null,null,null,null,76,5,"-",6,6,71,10,"-",11,11,76,12,"-",14,6,null,"十節",null,null,10,77,12,"-",1,5]
[null,null,null,null,null,null,null,null,null,null,null,null,null,null,null,null,null,null,null,null,null,null,null,null,null,null,null,null,null,null,null,null,null,null,null,null,null,null,null,null,null,null,null,null,null,null,null,null,null,null,77,3,"-",4,6,72,9,"-",12,11,77,10,"-",15,6,73,14,"-",15,10,78,10,"-",14,5]
[null,null,null,null,null,null,null,null,null,null,null,null,null,null,null,null,null,null,null,null,null,null,null,null,null,null,null,null,null,null,null,null,null,null,null,null,null,null,null,null,null,null,null,null,null,null,null,null,null,null,78,1,"-",2,6,73,8,"-",13,11,78,8,"-",13,6,74,13,"-",16,10,79,8,"-",16,5]
[null,null,null,null,null,null,null,null,null,null,null,null,null,null,null,null,null,null,null,null,null,null,null,null,null,null,null,null,null,null,null,null,null,null,null,null,null,null,null,null,null,null,null,null,null,null,null,null,null,null,null,null,null,null,null,74,7,"-",14,11,79,6,"-",11,6,75,12,"-",2,10,80,6,"-",17,5]
[null,null,null,null,null,null,null,null,null,null,null,null,null,null,null,null,null,null,null,null,null,null,null,null,null,null,null,null,null,null,null,null,null,null,null,null,null,null,null,null,null,null,null,null,null,null,null,null,null,null,null,null,null,null,null,75,6,"-",2,11,80,4,"-",9,6,76,11,"-",3,10,81,4,"-",15,5]
[null,null,null,null,null,null,null,null,null,null,null,null,null,null,null,null,null,null,null,null,null,null,null,null,null,null,null,null,null,null,null,null,null,null,null,null,null,null,null,null,null,null,null,null,null,null,null,null,null,null,null,null,null,null,null,76,5,"-",3,11,81,2,"-",7,6,77,10,"-",4,10,82,2,"-",13,5]
[null,null,null,null,null,null,null,null,null,null,null,null,null,null,null,null,null,null,null,null,null,null,null,null,null,null,null,null,null,null,null,null,null,null,null,null,null,null,null,null,null,null,null,null,null,null,null,null,null,null,null,null,null,null,null,77,1,"-",4,11,82,3,"-",5,6,78,9,"-",5,10,83,3,"-",11,5]
[null,null,null,null,null,null,null,null,null,null,null,null,null,null,null,null,null,null,null,null,null,null,null,null,null,null,null,null,null,null,null,null,null,null,null,null,null,null,null,null,null,null,null,null,null,null,null,null,null,null,null,null,null,null,null,null,"十二節",null,null,12,83,14,"-",1,6,79,8,"-",6,10,84,5,"-",9,5]
[null,null,null,null,null,null,null,null,null,null,null,null,null,null,null,null,null,null,null,null,null,null,null,null,null,null,null,null,null,null,null,null,null,null,null,null,null,null,null,null,null,null,null,null,null,null,null,null,null,null,null,null,null,null,null,78,9,"-",10,12,84,12,"-",15,6,80,1,"-",7,10,85,1,"-",7,5]
[null,null,null,null,null,null,null,null,null,null,null,null,null,null,null,null,null,null,null,null,null,null,null,null,null,null,null,null,null,null,null,null,null,null,null,null,null,null,null,null,null,null,null,null,null,null,null,null,null,null,null,null,null,null,null,79,8,"-",11,12,85,10,"-",13,6,null,"十一節",null,null,11,null,"六節",null,null,6]
[null,null,null,null,null,null,null,null,null,null,null,null,null,null,null,null,null,null,null,null,null,null,null,null,null,null,null,null,null,null,null,null,null,null,null,null,null,null,null,null,null,null,null,null,null,null,null,null,null,null,null,null,null,null,null,80,7,"-",12,12,86,8,"-",11,6,81,13,"-",14,11,86,12,"-",14,6]
[null,null,null,null,null,null,null,null,null,null,null,null,null,null,null,null,null,null,null,null,null,null,null,null,null,null,null,null,null,null,null,null,null,null,null,null,null,null,null,null,null,null,null,null,null,null,null,null,null,null,null,null,null,null,null,81,6,"-",13,12,87,6,"-",9,6,82,12,"-",15,11,87,10,"-",16,6]
[null,null,null,null,null,null,null,null,null,null,null,null,null,null,null,null,null,null,null,null,null,null,null,null,null,null,null,null,null,null,null,null,null,null,null,null,null,null,null,null,null,null,null,null,null,null,null,null,null,null,null,null,null,null,null,82,5,"-",14,12,88,4,"-",7,6,83,11,"-",16,11,88,8,"-",17,6]
[null,null,null,null,null,null,null,null,null,null,null,null,null,null,null,null,null,null,null,null,null,null,null,null,null,null,null,null,null,null,null,null,null,null,null,null,null,null,null,null,null,null,null,null,null,null,null,null,null,null,null,null,null,null,null,83,4,"-",2,12,89,2,"-",5,6,84,10,"-",2,11,89,6,"-",15,6]
[null,null,null,null,null,null,null,null,null,null,null,null,null,null,null,null,null,null,null,null,null,null,null,null,null,null,null,null,null,null,null,null,null,null,null,null,null,null,null,null,null,null,null,null,null,null,null,null,null,null,null,null,null,null,null,84,1,"-",3,12,90,1,"-",3,6,85,9,"-",3,11,90,4,"-",13,6]
[null,null,null,null,null,null,null,null,null,null,null,null,null,null,null,null,null,null,null,null,null,null,null,null,null,null,null,null,null,null,null,null,null,null,null,null,null,null,null,null,null,null,null,null,null,null,null,null,null,null,null,null,null,null,null,null,"十三節",null,null,13,null,"七節",null,null,7,86,8,"-",4,11,91,2,"-",11,6]
[null,null,null,null,null,null,null,null,null,null,null,null,null,null,null,null,null,null,null,null,null,null,null,null,null,null,null,null,null,null,null,null,null,null,null,null,null,null,null,null,null,null,null,null,null,null,null,null,null,null,null,null,null,null,null,85,8,"-",9,13,91,14,"-",15,7,87,7,"-",5,11,92,3,"-",9,6]
[null,null,null,null,null,null,null,null,null,null,null,null,null,null,null,null,null,null,null,null,null,null,null,null,null,null,null,null,null,null,null,null,null,null,null,null,null,null,null,null,null,null,null,null,null,null,null,null,null,null,null,null,null,null,null,86,7,"-",10,13,92,12,"-",13,7,88,1,"-",6,11,93,5,"-",7,6]
[null,null,null,null,null,null,null,null,null,null,null,null,null,null,null,null,null,null,null,null,null,null,null,null,null,null,null,null,null,null,null,null,null,null,null,null,null,null,null,null,null,null,null,null,null,null,null,null,null,null,null,null,null,null,null,87,6,"-",11,13,93,10,"-",11,7,null,"十二節",null,null,12,94,14,"-",1,6]
[null,null,null,null,null,null,null,null,null,null,null,null,null,null,null,null,null,null,null,null,null,null,null,null,null,null,null,null,null,null,null,null,null,null,null,null,null,null,null,null,null,null,null,null,null,null,null,null,null,null,null,null,null,null,null,88,5,"-",12,13,94,8,"-",9,7,89,12,"-",13,12,95,12,"-",16,6]
[null,null,null,null,null,null,null,null,null,null,null,null,null,null,null,null,null,null,null,null,null,null,null,null,null,null,null,null,null,null,null,null,null,null,null,null,null,null,null,null,null,null,null,null,null,null,null,null,null,null,null,null,null,null,null,89,4,"-",13,13,95,6,"-",7,7,90,11,"-",14,12,96,10,"-",17,6]
[null,null,null,null,null,null,null,null,null,null,null,null,null,null,null,null,null,null,null,null,null,null,null,null,null,null,null,null,null,null,null,null,null,null,null,null,null,null,null,null,null,null,null,null,null,null,null,null,null,null,null,null,null,null,null,90,3,"-",14,13,96,4,"-",5,7,91,10,"-",15,12,97,8,"-",15,6]
[null,null,null,null,null,null,null,null,null,null,null,null,null,null,null,null,null,null,null,null,null,null,null,null,null,null,null,null,null,null,null,null,null,null,null,null,null,null,null,null,null,null,null,null,null,null,null,null,null,null,null,null,null,null,null,91,1,"-",2,13,97,2,"-",3,7,92,9,"-",16,12,98,6,"-",13,6]
[null,null,null,null,null,null,null,null,null,null,null,null,null,null,null,null,null,null,null,null,null,null,null,null,null,null,null,null,null,null,null,null,null,null,null,null,null,null,null,null,null,null,null,null,null,null,null,null,null,null,null,null,null,null,null,null,null,null,null,null,98,15,"-",1,7,93,8,"-",2,12,99,4,"-",11,6]
[null,null,null,null,null,null,null,null,null,null,null,null,null,null,null,null,null,null,null,null,null,null,null,null,null,null,null,null,null,null,null,null,null,null,null,null,null,null,null,null,null,null,null,null,null,null,null,null,null,null,null,null,null,null,null,null,null,null,null,null,99,13,"-",14,7,94,7,"-",3,12,100,2,"-",9,6]
[null,null,null,null,null,null,null,null,null,null,null,null,null,null,null,null,null,null,null,null,null,null,null,null,null,null,null,null,null,null,null,null,null,null,null,null,null,null,null,null,null,null,null,null,null,null,null,null,null,null,null,null,null,null,null,null,null,null,null,null,100,11,"-",12,7,95,6,"-",4,12,101,3,"-",7,6]
[null,null,null,null,null,null,null,null,null,null,null,null,null,null,null,null,null,null,null,null,null,null,null,null,null,null,null,null,null,null,null,null,null,null,null,null,null,null,null,null,null,null,null,null,null,null,null,null,null,null,null,null,null,null,null,null,null,null,null,null,101,9,"-",10,7,96,1,"-",5,12,102,1,"-",5,6]
[null,null,null,null,null,null,null,null,null,null,null,null,null,null,null,null,null,null,null,null,null,null,null,null,null,null,null,null,null,null,null,null,null,null,null,null,null,null,null,null,null,null,null,null,null,null,null,null,null,null,null,null,null,null,null,null,null,null,null,null,102,7,"-",8,7,null,"十三節",null,null,13,null,"七節",null,null,7]
[null,null,null,null,null,null,null,null,null,null,null,null,null,null,null,null,null,null,null,null,null,null,null,null,null,null,null,null,null,null,null,null,null,null,null,null,null,null,null,null,null,null,null,null,null,null,null,null,null,null,null,null,null,null,null,null,null,null,null,null,103,5,"-",6,7,97,11,"-",12,13,103,14,"-",16,7]
[null,null,null,null,null,null,null,null,null,null,null,null,null,null,null,null,null,null,null,null,null,null,null,null,null,null,null,null,null,null,null,null,null,null,null,null,null,null,null,null,null,null,null,null,null,null,null,null,null,null,null,null,null,null,null,null,null,null,null,null,104,3,"-",4,7,98,10,"-",13,13,104,12,"-",17,7]
[null,null,null,null,null,null,null,null,null,null,null,null,null,null,null,null,null,null,null,null,null,null,null,null,null,null,null,null,null,null,null,null,null,null,null,null,null,null,null,null,null,null,null,null,null,null,null,null,null,null,null,null,null,null,null,null,null,null,null,null,105,1,"-",2,7,99,9,"-",14,13,105,10,"-",15,7]
[null,null,null,null,null,null,null,null,null,null,null,null,null,null,null,null,null,null,null,null,null,null,null,null,null,null,null,null,null,null,null,null,null,null,null,null,null,null,null,null,null,null,null,null,null,null,null,null,null,null,null,null,null,null,null,null,null,null,null,null,null,null,null,null,null,100,8,"-",15,13,106,8,"-",13,7]
[null,null,null,null,null,null,null,null,null,null,null,null,null,null,null,null,null,null,null,null,null,null,null,null,null,null,null,null,null,null,null,null,null,null,null,null,null,null,null,null,null,null,null,null,null,null,null,null,null,null,null,null,null,null,null,null,null,null,null,null,null,null,null,null,null,101,7,"-",16,13,107,6,"-",11,7]
[null,null,null,null,null,null,null,null,null,null,null,null,null,null,null,null,null,null,null,null,null,null,null,null,null,null,null,null,null,null,null,null,null,null,null,null,null,null,null,null,null,null,null,null,null,null,null,null,null,null,null,null,null,null,null,null,null,null,null,null,null,null,null,null,null,102,6,"-",2,13,108,4,"-",9,7]
[null,null,null,null,null,null,null,null,null,null,null,null,null,null,null,null,null,null,null,null,null,null,null,null,null,null,null,null,null,null,null,null,null,null,null,null,null,null,null,null,null,null,null,null,null,null,null,null,null,null,null,null,null,null,null,null,null,null,null,null,null,null,null,null,null,103,5,"-",3,13,109,2,"-",7,7]
[null,null,null,null,null,null,null,null,null,null,null,null,null,null,null,null,null,null,null,null,null,null,null,null,null,null,null,null,null,null,null,null,null,null,null,null,null,null,null,null,null,null,null,null,null,null,null,null,null,null,null,null,null,null,null,null,null,null,null,null,null,null,null,null,null,104,1,"-",4,13,110,3,"-",5,7]
[null,null,null,null,null,null,null,null,null,null,null,null,null,null,null,null,null,null,null,null,null,null,null,null,null,null,null,null,null,null,null,null,null,null,null,null,null,null,null,null,null,null,null,null,null,null,null,null,null,null,null,null,null,null,null,null,null,null,null,null,null,null,null,null,null,null,"十四節",null,null,14,111,16,"-",1,7]
[null,null,null,null,null,null,null,null,null,null,null,null,null,null,null,null,null,null,null,null,null,null,null,null,null,null,null,null,null,null,null,null,null,null,null,null,null,null,null,null,null,null,null,null,null,null,null,null,null,null,null,null,null,null,null,null,null,null,null,null,null,null,null,null,null,105,10,"-",11,14,112,14,"-",17,7]
[null,null,null,null,null,null,null,null,null,null,null,null,null,null,null,null,null,null,null,null,null,null,null,null,null,null,null,null,null,null,null,null,null,null,null,null,null,null,null,null,null,null,null,null,null,null,null,null,null,null,null,null,null,null,null,null,null,null,null,null,null,null,null,null,null,106,9,"-",12,14,113,12,"-",15,7]
[null,null,null,null,null,null,null,null,null,null,null,null,null,null,null,null,null,null,null,null,null,null,null,null,null,null,null,null,null,null,null,null,null,null,null,null,null,null,null,null,null,null,null,null,null,null,null,null,null,null,null,null,null,null,null,null,null,null,null,null,null,null,null,null,null,107,8,"-",13,14,114,10,"-",13,7]
[null,null,null,null,null,null,null,null,null,null,null,null,null,null,null,null,null,null,null,null,null,null,null,null,null,null,null,null,null,null,null,null,null,null,null,null,null,null,null,null,null,null,null,null,null,null,null,null,null,null,null,null,null,null,null,null,null,null,null,null,null,null,null,null,null,108,7,"-",14,14,115,8,"-",11,7]
[null,null,null,null,null,null,null,null,null,null,null,null,null,null,null,null,null,null,null,null,null,null,null,null,null,null,null,null,null,null,null,null,null,null,null,null,null,null,null,null,null,null,null,null,null,null,null,null,null,null,null,null,null,null,null,null,null,null,null,null,null,null,null,null,null,109,6,"-",15,14,116,6,"-",9,7]
[null,null,null,null,null,null,null,null,null,null,null,null,null,null,null,null,null,null,null,null,null,null,null,null,null,null,null,null,null,null,null,null,null,null,null,null,null,null,null,null,null,null,null,null,null,null,null,null,null,null,null,null,null,null,null,null,null,null,null,null,null,null,null,null,null,110,5,"-",16,14,117,4,"-",7,7]
[null,null,null,null,null,null,null,null,null,null,null,null,null,null,null,null,null,null,null,null,null,null,null,null,null,null,null,null,null,null,null,null,null,null,null,null,null,null,null,null,null,null,null,null,null,null,null,null,null,null,null,null,null,null,null,null,null,null,null,null,null,null,null,null,null,111,4,"-",2,14,118,2,"-",5,7]
[null,null,null,null,null,null,null,null,null,null,null,null,null,null,null,null,null,null,null,null,null,null,null,null,null,null,null,null,null,null,null,null,null,null,null,null,null,null,null,null,null,null,null,null,null,null,null,null,null,null,null,null,null,null,null,null,null,null,null,null,null,null,null,null,null,112,1,"-",3,14,119,1,"-",3,7]
[null,null,null,null,null,null,null,null,null,null,null,null,null,null,null,null,null,null,null,null,null,null,null,null,null,null,null,null,null,null,null,null,null,null,null,null,null,null,null,null,null,null,null,null,null,null,null,null,null,null,null,null,null,null,null,null,null,null,null,null,null,null,null,null,null,null,"十五節",null,null,15,null,"八節",null,null,8]
[null,null,null,null,null,null,null,null,null,null,null,null,null,null,null,null,null,null,null,null,null,null,null,null,null,null,null,null,null,null,null,null,null,null,null,null,null,null,null,null,null,null,null,null,null,null,null,null,null,null,null,null,null,null,null,null,null,null,null,null,null,null,null,null,null,113,9,"-",10,15,120,16,"-",17,8]
[null,null,null,null,null,null,null,null,null,null,null,null,null,null,null,null,null,null,null,null,null,null,null,null,null,null,null,null,null,null,null,null,null,null,null,null,null,null,null,null,null,null,null,null,null,null,null,null,null,null,null,null,null,null,null,null,null,null,null,null,null,null,null,null,null,114,8,"-",11,15,121,14,"-",15,8]
[null,null,null,null,null,null,null,null,null,null,null,null,null,null,null,null,null,null,null,null,null,null,null,null,null,null,null,null,null,null,null,null,null,null,null,null,null,null,null,null,null,null,null,null,null,null,null,null,null,null,null,null,null,null,null,null,null,null,null,null,null,null,null,null,null,115,7,"-",12,15,122,12,"-",13,8]
[null,null,null,null,null,null,null,null,null,null,null,null,null,null,null,null,null,null,null,null,null,null,null,null,null,null,null,null,null,null,null,null,null,null,null,null,null,null,null,null,null,null,null,null,null,null,null,null,null,null,null,null,null,null,null,null,null,null,null,null,null,null,null,null,null,116,6,"-",13,15,123,10,"-",11,8]
[null,null,null,null,null,null,null,null,null,null,null,null,null,null,null,null,null,null,null,null,null,null,null,null,null,null,null,null,null,null,null,null,null,null,null,null,null,null,null,null,null,null,null,null,null,null,null,null,null,null,null,null,null,null,null,null,null,null,null,null,null,null,null,null,null,117,5,"-",14,15,124,8,"-",9,8]
[null,null,null,null,null,null,null,null,null,null,null,null,null,null,null,null,null,null,null,null,null,null,null,null,null,null,null,null,null,null,null,null,null,null,null,null,null,null,null,null,null,null,null,null,null,null,null,null,null,null,null,null,null,null,null,null,null,null,null,null,null,null,null,null,null,118,4,"-",15,15,125,6,"-",7,8]
[null,null,null,null,null,null,null,null,null,null,null,null,null,null,null,null,null,null,null,null,null,null,null,null,null,null,null,null,null,null,null,null,null,null,null,null,null,null,null,null,null,null,null,null,null,null,null,null,null,null,null,null,null,null,null,null,null,null,null,null,null,null,null,null,null,119,3,"-",16,15,126,4,"-",5,8]
[null,null,null,null,null,null,null,null,null,null,null,null,null,null,null,null,null,null,null,null,null,null,null,null,null,null,null,null,null,null,null,null,null,null,null,null,null,null,null,null,null,null,null,null,null,null,null,null,null,null,null,null,null,null,null,null,null,null,null,null,null,null,null,null,null,120,1,"-",2,15,127,2,"-",3,8]
[null,null,null,null,null,null,null,null,null,null,null,null,null,null,null,null,null,null,null,null,null,null,null,null,null,null,null,null,null,null,null,null,null,null,null,null,null,null,null,null,null,null,null,null,null,null,null,null,null,null,null,null,null,null,null,null,null,null,null,null,null,null,null,null,null,null,null,null,null,null,128,17,"-",1,8]
[null,null,null,null,null,null,null,null,null,null,null,null,null,null,null,null,null,null,null,null,null,null,null,null,null,null,null,null,null,null,null,null,null,null,null,null,null,null,null,null,null,null,null,null,null,null,null,null,null,null,null,null,null,null,null,null,null,null,null,null,null,null,null,null,null,null,null,null,null,null,129,15,"-",16,8]
[null,null,null,null,null,null,null,null,null,null,null,null,null,null,null,null,null,null,null,null,null,null,null,null,null,null,null,null,null,null,null,null,null,null,null,null,null,null,null,null,null,null,null,null,null,null,null,null,null,null,null,null,null,null,null,null,null,null,null,null,null,null,null,null,null,null,null,null,null,null,130,13,"-",14,8]
[null,null,null,null,null,null,null,null,null,null,null,null,null,null,null,null,null,null,null,null,null,null,null,null,null,null,null,null,null,null,null,null,null,null,null,null,null,null,null,null,null,null,null,null,null,null,null,null,null,null,null,null,null,null,null,null,null,null,null,null,null,null,null,null,null,null,null,null,null,null,131,11,"-",12,8]
[null,null,null,null,null,null,null,null,null,null,null,null,null,null,null,null,null,null,null,null,null,null,null,null,null,null,null,null,null,null,null,null,null,null,null,null,null,null,null,null,null,null,null,null,null,null,null,null,null,null,null,null,null,null,null,null,null,null,null,null,null,null,null,null,null,null,null,null,null,null,132,9,"-",10,8]
[null,null,null,null,null,null,null,null,null,null,null,null,null,null,null,null,null,null,null,null,null,null,null,null,null,null,null,null,null,null,null,null,null,null,null,null,null,null,null,null,null,null,null,null,null,null,null,null,null,null,null,null,null,null,null,null,null,null,null,null,null,null,null,null,null,null,null,null,null,null,133,7,"-",8,8]
[null,null,null,null,null,null,null,null,null,null,null,null,null,null,null,null,null,null,null,null,null,null,null,null,null,null,null,null,null,null,null,null,null,null,null,null,null,null,null,null,null,null,null,null,null,null,null,null,null,null,null,null,null,null,null,null,null,null,null,null,null,null,null,null,null,null,null,null,null,null,134,5,"-",6,8]
[null,null,null,null,null,null,null,null,null,null,null,null,null,null,null,null,null,null,null,null,null,null,null,null,null,null,null,null,null,null,null,null,null,null,null,null,null,null,null,null,null,null,null,null,null,null,null,null,null,null,null,null,null,null,null,null,null,null,null,null,null,null,null,null,null,null,null,null,null,null,135,3,"-",4,8]
[null,null,null,null,null,null,null,null,null,null,null,null,null,null,null,null,null,null,null,null,null,null,null,null,null,null,null,null,null,null,null,null,null,null,null,null,null,null,null,null,null,null,null,null,null,null,null,null,null,null,null,null,null,null,null,null,null,null,null,null,null,null,null,null,null,null,null,null,null,null,136,1,"-",2,8]

{"sheet":"赤","index":3,"n_rows":43,"n_cols":51,"rows_kept":43,"cut":false,"hidden":false,"merged":[[42,19,42,20],[1,40,1,44],[4,17,4,18],[4,19,4,20],[4,21,4,22],[4,23,4,24],[4,25,4,26],[4,9,4,10],[6,27,6,28],[6,25,6,26],[6,11,6,12],[4,27,4,28],[6,19,6,20],[6,23,6,24],[6,31,6,32],[1,12,1,14],[20,37,20,38],[20,35,20,36],[20,33,20,34],[16,35,16,36],[12,35,12,36],[12,33,12,34],[8,33,8,34],[18,37,18,38],[18,35,18,36],[18,33,18,34],[16,37,16,38],[16,33,16,34],[14,37,14,38],[14,35,14,36],[14,33,14,34],[8,37,8,38],[10,37,10,38],[10,35,10,36],[10,33,10,34],[12,37,12,38],[8,35,8,36],[14,31,14,32],[8,19,8,20],[16,31,16,32],[8,25,8,26],[22,37,22,38],[6,37,6,38],[6,35,6,36],[6,33,6,34],[3,15,3,16],[3,33,3,34],[3,35,3,36],[3,37,3,38],[3,25,3,26],[3,27,3,28],[4,29,4,30],[4,31,4,32],[3,29,3,30],[3,31,3,32],[4,33,4,34],[4,35,4,36],[4,37,4,38],[6,17,6,18],[6,15,6,16],[8,17,8,18],[38,29,38,30],[38,31,38,32],[38,37,38,38],[38,35,38,36],[38,33,38,34],[34,37,34,38],[34,35,34,36],[34,33,34,34],[34,29,34,30],[34,31,34,32],[36,37,36,38],[36,35,36,36],[36,33,36,34],[30,37,30,38],[28,35,28,36],[28,33,28,34],[26,37,26,38],[26,35,26,36],[28,31,28,32],[28,29,28,30],[34,27,34,28],[24,25,24,26],[32,37,32,38],[32,35,32,36],[32,33,32,34],[28,37,28,38],[32,31,32,32],[30,29,30,30],[24,37,24,38],[24,35,24,36],[36,25,36,26],[36,27,36,28],[36,29,36,30],[36,31,36,32],[22,35,22,36],[22,33,22,34],[24,33,24,34],[18,31,18,32],[20,29,20,30],[30,35,30,36],[26,31,26,32],[32,29,32,30],[30,31,30,32],[26,29,26,30],[22,29,22,30],[24,29,24,30],[32,27,32,28],[30,33,30,34],[18,27,18,28],[20,25,20,26],[22,25,22,26],[18,29,18,30],[26,33,26,34],[22,31,22,32],[34,11,34,12],[34,13,34,14],[24,5,24,6],[18,11,18,12],[22,11,22,12],[20,9,20,10],[20,7,20,8],[18,5,18,6],[30,5,30,6],[30,7,30,8],[30,9,30,10],[22,7,22,8],[32,5,32,6],[24,7,24,8],[24,9,24,10],[22,9,22,10],[18,7,18,8],[28,13,28,14],[18,13,18,14],[16,13,16,14],[20,13,20,14],[16,11,16,12],[20,11,20,12],[16,25,16,26],[18,25,18,26],[30,27,30,28],[26,23,26,24],[22,23,22,24],[20,23,20,24],[26,21,26,22],[24,21,24,22],[28,11,28,12],[30,11,30,12],[30,13,30,14],[30,19,30,20],[28,27,28,28],[22,27,22,28],[26,27,26,28],[26,25,26,26],[18,21,18,22],[28,25,28,26],[16,21,16,22],[18,23,18,24],[32,23,32,24],[32,15,32,16],[32,17,32,18],[32,19,32,20],[22,15,22,16],[20,21,20,22],[24,23,24,24],[20,17,20,18],[30,17,30,18],[22,21,22,22],[42,11,42,12],[32,9,32,10],[32,11,32,12],[42,15,42,16],[38,23,38,24],[26,13,26,14],[26,7,26,8],[26,9,26,10],[26,11,26,12],[32,13,32,14],[28,21,28,22],[28,23,28,24],[36,7,36,8],[36,9,36,10],[32,21,32,22],[36,23,36,24],[32,7,32,8],[36,13,36,14],[36,15,36,16],[36,17,36,18],[36,19,36,20],[36,21,36,22],[30,21,30,22],[30,15,30,16],[38,25,38,26],[24,11,24,12],[24,15,24,16],[36,11,36,12],[38,27,38,28],[38,21,38,22],[22,17,22,18],[22,19,22,20],[26,15,26,16],[30,23,30,24],[30,25,30,26],[38,13,38,14],[38,15,38,16],[38,17,38,18],[38,19,38,20],[38,11,38,12],[34,15,34,16],[34,17,34,18],[22,13,22,14],[34,19,34,20],[34,21,34,22],[34,23,34,24],[34,25,34,26],[32,25,32,26],[38,5,38,6],[38,7,38,8],[38,9,38,10],[20,5,20,6],[16,5,16,6],[36,5,36,6],[22,5,22,6],[34,5,34,6],[34,7,34,8],[34,9,34,10],[28,9,28,10],[26,5,26,6],[18,9,18,10],[14,5,14,6],[4,11,4,12],[8,5,8,6],[8,11,8,12],[6,5,6,6],[6,7,6,8],[8,7,8,8],[16,9,16,10],[16,7,16,8],[12,9,12,10],[6,9,6,10],[14,7,14,8],[14,9,14,10],[10,9,10,10],[12,11,12,12],[12,5,12,6],[12,19,12,20],[14,17,14,18],[12,17,12,18],[14,13,14,14],[12,15,12,16],[12,13,12,14],[14,29,14,30],[6,13,6,14],[8,9,8,10],[14,25,14,26],[10,27,10,28],[14,27,14,28],[10,29,10,30],[12,29,12,30],[8,27,8,28],[8,29,8,30],[3,1,4,1],[4,5,4,6],[4,7,4,8],[3,23,3,24],[3,17,3,18],[3,19,3,20],[3,21,3,22],[14,23,14,24],[6,21,6,22],[14,15,14,16],[3,5,3,6],[3,7,3,8],[3,9,3,10],[3,11,3,12],[3,13,3,14],[8,15,8,16],[4,15,4,16],[10,23,10,24],[8,23,8,24],[4,13,4,14],[10,7,10,8],[10,11,10,12],[10,13,10,14],[8,13,8,14],[0,15,0,20],[16,15,16,16],[18,17,18,18],[20,19,20,20],[20,27,20,28],[20,31,20,32],[8,21,8,22],[18,15,18,16],[20,15,20,16],[14,21,14,22],[1,21,1,24],[16,17,16,18],[16,19,16,20],[18,19,18,20],[8,31,8,32],[10,31,10,32],[12,31,12,32],[10,15,10,16],[10,17,10,18],[14,19,14,20],[10,19,10,20],[6,29,6,30],[16,27,16,28],[16,23,16,24],[42,7,42,8],[10,5,10,6],[24,13,24,14],[24,17,24,18],[24,19,24,20],[24,27,24,28],[24,31,24,32],[39,4,39,44],[12,7,12,8],[12,21,12,22],[12,23,12,24],[12,27,12,28],[10,21,10,22],[10,25,10,26],[12,25,12,26],[28,15,28,16],[28,17,28,18],[28,19,28,20],[26,17,26,18],[26,19,26,20],[28,5,28,6],[28,7,28,8],[16,29,16,30],[14,11,14,12]]}
[null,null,null,null,{"$f":"概要設定!B2","v":2016},"年",null,null,{"$f":"概要設定!D2","v":9},"月",null,"例会",null,null,null,{"$f":"概要設定!B4","v":"和奈対抗戦"}]
[null,null,null,null,"赤組",null,null,null,null,null,{"$f":"概要設定!B6","v":180},"点",{"$f":"概要設定!D6","v":"コールショット"},null,null,null,null,null,null,"開催日：",null,{"$f":"E1&\"/\"&I1&\"/\"&概要設定!F2","v":"2016/9/11"},null,null,null,null,null,null,null,null,null,null,null,null,null,null,null,null,null,"会場：",{"$f":"概要設定!B8","v":"トップガン"}]
[]
[null,"No","ハンデ","ハンデ","No.",1,null,2,null,3,null,4,null,5,null,6,null,7,null,8,null,9,null,10,null,11,null,12,null,13,null,14,null,15,null,16,null,17,null,null,null,"H・C",null,null,null,"ABC","ABC優劣","A","B","C"]
[null,null,"点数","変更",null,{"$f":"IF($E7=\"\",\"\",$E7)","v":"吉向　翔平"},null,{"$f":"IF($E9=\"\",\"\",$E9)","v":"近藤　拓馬"},null,{"$f":"IF($E11=\"\",\"\",$E11)","v":"山田　晋之"},null,{"$f":"IF($E13=\"\",\"\",$E13)","v":"水田　賢宏"},null,{"$f":"IF($E15=\"\",\"\",$E15)","v":"峯山　崇史"},null,{"$f":"IF($E17=\"\",\"\",$E17)","v":"宮野　早織"},null,{"$f":"IF($E19=\"\",\"\",$E19)","v":"岩本　剛"},null,{"$f":"IF($E21=\"\",\"\",$E21)","v":"佐藤　循一"},null,{"$f":"IF($E23=\"\",\"\",$E23)","v":""},null,{"$f":"IF($E25=\"\",\"\",$E25)","v":""},null,{"$f":"IF($E27=\"\",\"\",$E27)","v":""},null,{"$f":"IF($E29=\"\",\"\",$E29)","v":""},null,{"$f":"IF($E31=\"\",\"\",$E31)","v":""},null,{"$f":"IF($E33=\"\",\"\",$E33)","v":""},null,{"$f":"IF($E35=\"\",\"\",$E35)","v":""},null,{"$f":"IF($E37=\"\",\"\",$E37)","v":""},null,{"$f":"IF($E39=\"\",\"\",$E39)","v":""},null,"W","L","TP","LP","R_POINT","R","HR","ABC+HR","HR","HR","HR","HR"]
[null,null,{"$f":"IF($E7=\"\",\"\",INDEX(概要設定!$J$2:$L$51,MATCH($E7, 概要設定!$J$2:$J$51,0),3))","v":0},null,{"$f":"IF(ISERROR(INDEX(概要設定!$J$2:$K$51,MATCH($E7,概要設定!$J$2:$J$51,0),2)),\"\",INDEX(概要設定!$J$2:$K$51,MATCH($E7,概要設定!$J$2:$J$51,0),2))","v":"きっこう　しょうへい"},null,null,null,null,null,null,null,null,null,null,null,null,null,null,null,null,null,null,null,null,null,null,null,null,null,null,null,null,null,null,null,null,null,null,null,null,{"$f":"IF($E7=\"\",\"\",INT((SUM($F7:$AM7)+($C7*$AN7))))","v":1038},null,null,null,{"$f":"IF($E7=\"\",\"\",IF($AV6=\"A\",\"A\",IF($AW6=\"B\",\"B\",IF($AX6=\"C\",\"C\",\"\"))))","v":""},{"$f":"IF($AT7=\"\",\"\",IF($AT7=0,0,IF($AT6=\"A\",9000,IF($AT6=\"B\",8000,IF($AT6=\"C\",7000,0)))))","v":0},{"$f":"IF($E7=\"\",\"\",IF(COUNTIF($F6:$AM6,\"A\")=0,\"\",\"A\"))","v":""},{"$f":"IF($E7=\"\",\"\",IF(COUNTIF($F6:$AM6,\"B\")=0,\"\",\"B\"))","v":""},{"$f":"IF($E7=\"\",\"\",IF(COUNTIF($F6:$AM6,\"C\")=0,\"\",\"C\"))","v":""}]
[null,1,{"$f":"IF($E7=\"\",\"\",IF($D7<>\"\",$D7,IF($C6<>\"-\",概要設定!$B$6,INDEX(概要設定!$N$2:$O$6,MATCH(概要設定!$B$6, 概要設定!$N$2:$N$6,0),2))))","v":180},null,"吉向　翔平",null,null,null,null,"w",null,"w",null,"w",null,138,null,"w",null,"w",null,null,null,null,null,null,null,null,null,null,null,null,null,null,null,null,null,null,null,{"$f":"IF($E7=\"\",\"\",COUNTIF($F7:$AL7,\"w\"))","v":5},{"$f":"IF($E7=\"\",\"\",COUNTIF($F7:$AL7,\">=0\"))","v":1},{"$f":"IF($E7=\"\",\"\",INT((SUM($F7:$AM7)+($C7*$AN7))*$K$2/$C7))","v":1038},{"$f":"IF($E7=\"\",\"\",SUM(F$7:F$39))","v":375},{"$f":"IF($E7=\"\",\"\",$AN7*100000000+$AP7*10000-$AQ7+$AU7*0.0001)","v":510379625},{"$f":"IF($E7=\"\",\"\",RANK($AR7,$AR$7:$AR$39)+COUNTIF($AR$7:$AR7,$AR7)-1)","v":1},{"$f":"IF($E7=\"\",\"\",IF($AV6=\"A\",$AV7,IF($AW6=\"B\",$AW7,IF($AX6=\"C\",$AX7,$AY7))))","v":0},{"$f":"IF($AT7=\"\",\"\",$AT7+$AU6)","v":0},{"$f":"IF($E7=\"\",\"\",IF(COUNTIF($F6:$AM6,\"A\")=0,\"\",MAX(IF($F6:$AL6=\"A\",$G6:$AM6))))","v":""},{"$f":"IF($E7=\"\",\"\",IF(COUNTIF($F6:$AM6,\"B\")=0,\"\",MAX(IF($F6:$AL6=\"B\",$G6:$AM6))))","v":""},{"$f":"IF($E7=\"\",\"\",IF(COUNTIF($F6:$AM6,\"C\")=0,\"\",MAX(IF($F6:$AL6=\"C\",$G6:$AM6))))","v":""},{"$f":"IF($E7=\"\",\"\",MAX($F6:$AM6))","v":0}]
[null,null,{"$f":"IF($E9=\"\",\"\",INDEX(概要設定!$J$2:$L$51,MATCH($E9, 概要設定!$J$2:$J$51,0),3))","v":0},null,{"$f":"IF(ISERROR(INDEX(概要設定!$J$2:$K$51,MATCH($E9,概要設定!$J$2:$J$51,0),2)),\"\",INDEX(概要設定!$J$2:$K$51,MATCH($E9,概要設定!$J$2:$J$51,0),2))","v":"こんどう　たくま"},null,null,null,null,null,null,null,null,null,null,null,null,null,null,null,null,null,null,null,null,null,null,null,null,null,null,null,null,null,null,null,null,null,null,null,null,{"$f":"IF($E9=\"\",\"\",INT((SUM($F9:$AM9)+($C9*$AN9))))","v":913},null,null,null,{"$f":"IF($E9=\"\",\"\",IF($AV8=\"A\",\"A\",IF($AW8=\"B\",\"B\",IF($AX8=\"C\",\"C\",\"\"))))","v":""},{"$f":"IF($AT9=\"\",\"\",IF($AT9=0,0,IF($AT8=\"A\",9000,IF($AT8=\"B\",8000,IF($AT8=\"C\",7000,0)))))","v":0},{"$f":"IF($E9=\"\",\"\",IF(COUNTIF($F8:$AM8,\"A\")=0,\"\",\"A\"))","v":""},{"$f":"IF($E9=\"\",\"\",IF(COUNTIF($F8:$AM8,\"B\")=0,\"\",\"B\"))","v":""},{"$f":"IF($E9=\"\",\"\",IF(COUNTIF($F8:$AM8,\"C\")=0,\"\",\"C\"))","v":""}]
[null,2,{"$f":"IF($E9=\"\",\"\",IF($D9<>\"\",$D9,IF($C8<>\"-\",概要設定!$B$6,INDEX(概要設定!$N$2:$O$6,MATCH(概要設定!$B$6, 概要設定!$N$2:$N$6,0),2))))","v":180},null,"近藤　拓馬",null,null,null,null,"w",null,"w",null,"w",null,"w",null,13,null,"w",null,null,null,null,null,null,null,null,null,null,null,null,null,null,null,null,null,null,null,{"$f":"IF($E9=\"\",\"\",COUNTIF($F9:$AL9,\"w\"))","v":5},{"$f":"IF($E9=\"\",\"\",COUNTIF($F9:$AL9,\">=0\"))","v":1},{"$f":"IF($E9=\"\",\"\",INT((SUM($F9:$AM9)+($C9*$AN9))*$K$2/$C9))","v":913},{"$f":"IF($E9=\"\",\"\",SUM(H$7:H$39))","v":526},{"$f":"IF($E9=\"\",\"\",$AN9*100000000+$AP9*10000-$AQ9+$AU9*0.0001)","v":509129474},{"$f":"IF($E9=\"\",\"\",RANK($AR9,$AR$7:$AR$39)+COUNTIF($AR$7:$AR9,$AR9)-1)","v":3},{"$f":"IF($E9=\"\",\"\",IF($AV8=\"A\",$AV9,IF($AW8=\"B\",$AW9,IF($AX8=\"C\",$AX9,$AY9))))","v":0},0,{"$f":"IF($E9=\"\",\"\",IF(COUNTIF($F8:$AM8,\"A\")=0,\"\",MAX(IF($F8:$AL8=\"A\",$G8:$AM8))))","v":""},{"$f":"IF($E9=\"\",\"\",IF(COUNTIF($F8:$AM8,\"B\")=0,\"\",MAX(IF($F8:$AL8=\"B\",$G8:$AM8))))","v":""},{"$f":"IF($E9=\"\",\"\",IF(COUNTIF($F8:$AM8,\"C\")=0,\"\",MAX(IF($F8:$AL8=\"C\",$G8:$AM8))))","v":""},{"$f":"IF($E9=\"\",\"\",MAX($F8:$AM8))","v":0}]
[null,null,{"$f":"IF($E11=\"\",\"\",INDEX(概要設定!$J$2:$L$51,MATCH($E11, 概要設定!$J$2:$J$51,0),3))","v":0},null,{"$f":"IF(ISERROR(INDEX(概要設定!$J$2:$K$51,MATCH($E11,概要設定!$J$2:$J$51,0),2)),\"\",INDEX(概要設定!$J$2:$K$51,MATCH($E11,概要設定!$J$2:$J$51,0),2))","v":"やまだ　くにゆき"},null,null,null,null,null,null,null,null,null,null,null,null,null,null,null,null,null,null,null,null,null,null,null,null,null,null,null,null,null,null,null,null,null,null,null,null,{"$f":"IF($E11=\"\",\"\",INT((SUM($F11:$AM11)+($C11*$AN11))))","v":787},null,null,null,{"$f":"IF($E11=\"\",\"\",IF($AV10=\"A\",\"A\",IF($AW10=\"B\",\"B\",IF($AX10=\"C\",\"C\",\"\"))))","v":""},{"$f":"IF($AT11=\"\",\"\",IF($AT11=0,0,IF($AT10=\"A\",9000,IF($AT10=\"B\",8000,IF($AT10=\"C\",7000,0)))))","v":0},{"$f":"IF($E11=\"\",\"\",IF(COUNTIF($F10:$AM10,\"A\")=0,\"\",\"A\"))","v":""},{"$f":"IF($E11=\"\",\"\",IF(COUNTIF($F10:$AM10,\"B\")=0,\"\",\"B\"))","v":""},{"$f":"IF($E11=\"\",\"\",IF(COUNTIF($F10:$AM10,\"C\")=0,\"\",\"C\"))","v":""}]
[null,3,{"$f":"IF($E11=\"\",\"\",IF($D11<>\"\",$D11,IF($C10<>\"-\",概要設定!$B$6,INDEX(概要設定!$N$2:$O$6,MATCH(概要設定!$B$6, 概要設定!$N$2:$N$6,0),2))))","v":180},null,"山田　晋之",50,null,163,null,null,null,"w",null,"w",null,"w",null,34,null,null,null,null,null,null,null,null,null,null,null,null,null,null,null,null,null,null,null,null,null,{"$f":"IF($E11=\"\",\"\",COUNTIF($F11:$AL11,\"w\"))","v":3},{"$f":"IF($E11=\"\",\"\",COUNTIF($F11:$AL11,\">=0\"))","v":3},{"$f":"IF($E11=\"\",\"\",INT((SUM($F11:$AM11)+($C11*$AN11))*$K$2/$C11))","v":787},{"$f":"IF($E11=\"\",\"\",SUM(J$7:J$39))","v":224},{"$f":"IF($E11=\"\",\"\",$AN11*100000000+$AP11*10000-$AQ11+$AU11*0.0001)","v":307869776},{"$f":"IF($E11=\"\",\"\",RANK($AR11,$AR$7:$AR$39)+COUNTIF($AR$7:$AR11,$AR11)-1)","v":4},{"$f":"IF($E11=\"\",\"\",IF($AV10=\"A\",$AV11,IF($AW10=\"B\",$AW11,IF($AX10=\"C\",$AX11,$AY11))))","v":0},0,{"$f":"IF($E11=\"\",\"\",IF(COUNTIF($F10:$AM10,\"A\")=0,\"\",MAX(IF($F10:$AL10=\"A\",$G10:$AM10))))","v":""},{"$f":"IF($E11=\"\",\"\",IF(COUNTIF($F10:$AM10,\"B\")=0,\"\",MAX(IF($F10:$AL10=\"B\",$G10:$AM10))))","v":""},{"$f":"IF($E11=\"\",\"\",IF(COUNTIF($F10:$AM10,\"C\")=0,\"\",MAX(IF($F10:$AL10=\"C\",$G10:$AM10))))","v":""},{"$f":"IF($E11=\"\",\"\",MAX($F10:$AM10))","v":0}]
[null,null,{"$f":"IF($E13=\"\",\"\",INDEX(概要設定!$J$2:$L$51,MATCH($E13, 概要設定!$J$2:$J$51,0),3))","v":0},null,{"$f":"IF(ISERROR(INDEX(概要設定!$J$2:$K$51,MATCH($E13,概要設定!$J$2:$J$51,0),2)),\"\",INDEX(概要設定!$J$2:$K$51,MATCH($E13,概要設定!$J$2:$J$51,0),2))","v":"みずた　よしひろ"},null,null,null,null,null,null,null,null,null,null,null,null,null,null,null,115,null,null,null,null,null,null,null,null,null,null,null,null,null,null,null,null,null,null,null,null,{"$f":"IF($E13=\"\",\"\",INT((SUM($F13:$AM13)+($C13*$AN13))))","v":654},null,null,null,{"$f":"IF($E13=\"\",\"\",IF($AV12=\"A\",\"A\",IF($AW12=\"B\",\"B\",IF($AX12=\"C\",\"C\",\"\"))))","v":""},{"$f":"IF($AT13=\"\",\"\",IF($AT13=0,0,IF($AT12=\"A\",9000,IF($AT12=\"B\",8000,IF($AT12=\"C\",7000,0)))))","v":0},{"$f":"IF($E13=\"\",\"\",IF(COUNTIF($F12:$AM12,\"A\")=0,\"\",\"A\"))","v":""},{"$f":"IF($E13=\"\",\"\",IF(COUNTIF($F12:$AM12,\"B\")=0,\"\",\"B\"))","v":""},{"$f":"IF($E13=\"\",\"\",IF(COUNTIF($F12:$AM12,\"C\")=0,\"\",\"C\"))","v":""}]
[null,4,{"$f":"IF($E13=\"\",\"\",IF($D13<>\"\",$D13,IF($C12<>\"-\",概要設定!$B$6,INDEX(概要設定!$N$2:$O$6,MATCH(概要設定!$B$6, 概要設定!$N$2:$N$6,0),2))))","v":180},null,"水田　賢宏",100,null,61,null,107,null,null,null,89,null,117,null,null,null,"w",null,null,null,null,null,null,null,null,null,null,null,null,null,null,null,null,null,null,null,{"$f":"IF($E13=\"\",\"\",COUNTIF($F13:$AL13,\"w\"))","v":1},{"$f":"IF($E13=\"\",\"\",COUNTIF($F13:$AL13,\">=0\"))","v":5},{"$f":"IF($E13=\"\",\"\",INT((SUM($F13:$AM13)+($C13*$AN13))*$K$2/$C13))","v":654},{"$f":"IF($E13=\"\",\"\",SUM(L$7:L$39))","v":123},{"$f":"IF($E13=\"\",\"\",$AN13*100000000+$AP13*10000-$AQ13+$AU13*0.0001)","v":106539877.0115},{"$f":"IF($E13=\"\",\"\",RANK($AR13,$AR$7:$AR$39)+COUNTIF($AR$7:$AR13,$AR13)-1)","v":7},{"$f":"IF($E13=\"\",\"\",IF($AV12=\"A\",$AV13,IF($AW12=\"B\",$AW13,IF($AX12=\"C\",$AX13,$AY13))))","v":115},115,{"$f":"IF($E13=\"\",\"\",IF(COUNTIF($F12:$AM12,\"A\")=0,\"\",MAX(IF($F12:$AL12=\"A\",$G12:$AM12))))","v":""},{"$f":"IF($E13=\"\",\"\",IF(COUNTIF($F12:$AM12,\"B\")=0,\"\",MAX(IF($F12:$AL12=\"B\",$G12:$AM12))))","v":""},{"$f":"IF($E13=\"\",\"\",IF(COUNTIF($F12:$AM12,\"C\")=0,\"\",MAX(IF($F12:$AL12=\"C\",$G12:$AM12))))","v":""},{"$f":"IF($E13=\"\",\"\",MAX($F12:$AM12))","v":115}]
[null,null,{"$f":"IF($E15=\"\",\"\",INDEX(概要設定!$J$2:$L$51,MATCH($E15, 概要設定!$J$2:$J$51,0),3))","v":0},null,{"$f":"IF(ISERROR(INDEX(概要設定!$J$2:$K$51,MATCH($E15,概要設定!$J$2:$J$51,0),2)),\"\",INDEX(概要設定!$J$2:$K$51,MATCH($E15,概要設定!$J$2:$J$51,0),2))","v":"みねやま　たかし"},null,null,null,null,null,null,null,null,null,null,null,null,null,null,null,null,null,null,null,null,null,null,null,null,null,null,null,null,null,null,null,null,null,null,null,null,{"$f":"IF($E15=\"\",\"\",INT((SUM($F15:$AM15)+($C15*$AN15))))","v":900},null,null,null,{"$f":"IF($E15=\"\",\"\",IF($AV14=\"A\",\"A\",IF($AW14=\"B\",\"B\",IF($AX14=\"C\",\"C\",\"\"))))","v":""},{"$f":"IF($AT15=\"\",\"\",IF($AT15=0,0,IF($AT14=\"A\",9000,IF($AT14=\"B\",8000,IF($AT14=\"C\",7000,0)))))","v":0},{"$f":"IF($E15=\"\",\"\",IF(COUNTIF($F14:$AM14,\"A\")=0,\"\",\"A\"))","v":""},{"$f":"IF($E15=\"\",\"\",IF(COUNTIF($F14:$AM14,\"B\")=0,\"\",\"B\"))","v":""},{"$f":"IF($E15=\"\",\"\",IF(COUNTIF($F14:$AM14,\"C\")=0,\"\",\"C\"))","v":""}]
[null,5,{"$f":"IF($E15=\"\",\"\",IF($D15<>\"\",$D15,IF($C14<>\"-\",概要設定!$B$6,INDEX(概要設定!$N$2:$O$6,MATCH(概要設定!$B$6, 概要設定!$N$2:$N$6,0),2))))","v":180},null,"峯山　崇史",140,null,148,null,111,null,"w",null,null,null,null,null,141,null,"w",null,null,null,null,null,null,null,null,null,null,null,null,null,null,null,null,null,null,null,{"$f":"IF($E15=\"\",\"\",COUNTIF($F15:$AL15,\"w\"))","v":2},{"$f":"IF($E15=\"\",\"\",COUNTIF($F15:$AL15,\">=0\"))","v":4},{"$f":"IF($E15=\"\",\"\",INT((SUM($F15:$AM15)+($C15*$AN15))*$K$2/$C15))","v":900},{"$f":"IF($E15=\"\",\"\",SUM(N$7:N$39))","v":153},{"$f":"IF($E15=\"\",\"\",$AN15*100000000+$AP15*10000-$AQ15+$AU15*0.0001)","v":208999847},{"$f":"IF($E15=\"\",\"\",RANK($AR15,$AR$7:$AR$39)+COUNTIF($AR$7:$AR15,$AR15)-1)","v":6},{"$f":"IF($E15=\"\",\"\",IF($AV14=\"A\",$AV15,IF($AW14=\"B\",$AW15,IF($AX14=\"C\",$AX15,$AY15))))","v":0},0,{"$f":"IF($E15=\"\",\"\",IF(COUNTIF($F14:$AM14,\"A\")=0,\"\",MAX(IF($F14:$AL14=\"A\",$G14:$AM14))))","v":""},{"$f":"IF($E15=\"\",\"\",IF(COUNTIF($F14:$AM14,\"B\")=0,\"\",MAX(IF($F14:$AL14=\"B\",$G14:$AM14))))","v":""},{"$f":"IF($E15=\"\",\"\",IF(COUNTIF($F14:$AM14,\"C\")=0,\"\",MAX(IF($F14:$AL14=\"C\",$G14:$AM14))))","v":""},{"$f":"IF($E15=\"\",\"\",MAX($F14:$AM14))","v":0}]
[null,null,{"$f":"IF($E17=\"\",\"\",INDEX(概要設定!$J$2:$L$51,MATCH($E17, 概要設定!$J$2:$J$51,0),3))","v":"-"},null,{"$f":"IF(ISERROR(INDEX(概要設定!$J$2:$K$51,MATCH($E17,概要設定!$J$2:$J$51,0),2)),\"\",INDEX(概要設定!$J$2:$K$51,MATCH($E17,概要設定!$J$2:$J$51,0),2))","v":"みやの　さおり"},null,null,null,null,null,null,null,null,null,null,null,null,null,null,null,null,null,null,null,null,null,null,null,null,null,null,null,null,null,null,null,null,null,null,null,null,{"$f":"IF($E17=\"\",\"\",INT((SUM($F17:$AM17)+($C17*$AN17))))","v":590},null,null,null,{"$f":"IF($E17=\"\",\"\",IF($AV16=\"A\",\"A\",IF($AW16=\"B\",\"B\",IF($AX16=\"C\",\"C\",\"\"))))","v":""},{"$f":"IF($AT17=\"\",\"\",IF($AT17=0,0,IF($AT16=\"A\",9000,IF($AT16=\"B\",8000,IF($AT16=\"C\",7000,0)))))","v":0},{"$f":"IF($E17=\"\",\"\",IF(COUNTIF($F16:$AM16,\"A\")=0,\"\",\"A\"))","v":""},{"$f":"IF($E17=\"\",\"\",IF(COUNTIF($F16:$AM16,\"B\")=0,\"\",\"B\"))","v":""},{"$f":"IF($E17=\"\",\"\",IF(COUNTIF($F16:$AM16,\"C\")=0,\"\",\"C\"))","v":""}]
[null,6,{"$f":"IF($E17=\"\",\"\",IF($D17<>\"\",$D17,IF($C16<>\"-\",概要設定!$B$6,INDEX(概要設定!$N$2:$O$6,MATCH(概要設定!$B$6, 概要設定!$N$2:$N$6,0),2))))","v":140},null,"宮野　早織","w",null,121,null,6,null,"w",null,null,null,null,null,43,null,"w",null,null,null,null,null,null,null,null,null,null,null,null,null,null,null,null,null,null,null,{"$f":"IF($E17=\"\",\"\",COUNTIF($F17:$AL17,\"w\"))","v":3},{"$f":"IF($E17=\"\",\"\",COUNTIF($F17:$AL17,\">=0\"))","v":3},{"$f":"IF($E17=\"\",\"\",INT((SUM($F17:$AM17)+($C17*$AN17))*$K$2/$C17))","v":758},{"$f":"IF($E17=\"\",\"\",SUM(P$7:P$39))","v":292},{"$f":"IF($E17=\"\",\"\",$AN17*100000000+$AP17*10000-$AQ17+$AU17*0.0001)","v":307579708},{"$f":"IF($E17=\"\",\"\",RANK($AR17,$AR$7:$AR$39)+COUNTIF($AR$7:$AR17,$AR17)-1)","v":5},{"$f":"IF($E17=\"\",\"\",IF($AV16=\"A\",$AV17,IF($AW16=\"B\",$AW17,IF($AX16=\"C\",$AX17,$AY17))))","v":0},0,{"$f":"IF($E17=\"\",\"\",IF(COUNTIF($F16:$AM16,\"A\")=0,\"\",MAX(IF($F16:$AL16=\"A\",$G16:$AM16))))","v":""},{"$f":"IF($E17=\"\",\"\",IF(COUNTIF($F16:$AM16,\"B\")=0,\"\",MAX(IF($F16:$AL16=\"B\",$G16:$AM16))))","v":""},{"$f":"IF($E17=\"\",\"\",IF(COUNTIF($F16:$AM16,\"C\")=0,\"\",MAX(IF($F16:$AL16=\"C\",$G16:$AM16))))","v":""},{"$f":"IF($E17=\"\",\"\",MAX($F16:$AM16))","v":0}]
[null,null,{"$f":"IF($E19=\"\",\"\",INDEX(概要設定!$J$2:$L$51,MATCH($E19, 概要設定!$J$2:$J$51,0),3))","v":0},null,{"$f":"IF(ISERROR(INDEX(概要設定!$J$2:$K$51,MATCH($E19,概要設定!$J$2:$J$51,0),2)),\"\",INDEX(概要設定!$J$2:$K$51,MATCH($E19,概要設定!$J$2:$J$51,0),2))","v":"いわもと　つよし"},null,null,null,null,null,null,null,null,null,null,null,null,null,null,null,null,null,null,null,null,null,null,null,null,null,null,null,null,null,null,null,null,null,null,null,null,{"$f":"IF($E19=\"\",\"\",INT((SUM($F19:$AM19)+($C19*$AN19))))","v":931},null,null,null,{"$f":"IF($E19=\"\",\"\",IF($AV18=\"A\",\"A\",IF($AW18=\"B\",\"B\",IF($AX18=\"C\",\"C\",\"\"))))","v":""},{"$f":"IF($AT19=\"\",\"\",IF($AT19=0,0,IF($AT18=\"A\",9000,IF($AT18=\"B\",8000,IF($AT18=\"C\",7000,0)))))","v":0},{"$f":"IF($E19=\"\",\"\",IF(COUNTIF($F18:$AM18,\"A\")=0,\"\",\"A\"))","v":""},{"$f":"IF($E19=\"\",\"\",IF(COUNTIF($F18:$AM18,\"B\")=0,\"\",\"B\"))","v":""},{"$f":"IF($E19=\"\",\"\",IF(COUNTIF($F18:$AM18,\"C\")=0,\"\",\"C\"))","v":""}]
[null,7,{"$f":"IF($E19=\"\",\"\",IF($D19<>\"\",$D19,IF($C18<>\"-\",概要設定!$B$6,INDEX(概要設定!$N$2:$O$6,MATCH(概要設定!$B$6, 概要設定!$N$2:$N$6,0),2))))","v":180},null,"岩本　剛",31,null,"w",null,"w",null,null,null,"w",null,"w",null,null,null,"w",null,null,null,null,null,null,null,null,null,null,null,null,null,null,null,null,null,null,null,{"$f":"IF($E19=\"\",\"\",COUNTIF($F19:$AL19,\"w\"))","v":5},{"$f":"IF($E19=\"\",\"\",COUNTIF($F19:$AL19,\">=0\"))","v":1},{"$f":"IF($E19=\"\",\"\",INT((SUM($F19:$AM19)+($C19*$AN19))*$K$2/$C19))","v":931},{"$f":"IF($E19=\"\",\"\",SUM(R$7:R$39))","v":298},{"$f":"IF($E19=\"\",\"\",$AN19*100000000+$AP19*10000-$AQ19+$AU19*0.0001)","v":509309702},{"$f":"IF($E19=\"\",\"\",RANK($AR19,$AR$7:$AR$39)+COUNTIF($AR$7:$AR19,$AR19)-1)","v":2},{"$f":"IF($E19=\"\",\"\",IF($AV18=\"A\",$AV19,IF($AW18=\"B\",$AW19,IF($AX18=\"C\",$AX19,$AY19))))","v":0},0,{"$f":"IF($E19=\"\",\"\",IF(COUNTIF($F18:$AM18,\"A\")=0,\"\",MAX(IF($F18:$AL18=\"A\",$G18:$AM18))))","v":""},{"$f":"IF($E19=\"\",\"\",IF(COUNTIF($F18:$AM18,\"B\")=0,\"\",MAX(IF($F18:$AL18=\"B\",$G18:$AM18))))","v":""},{"$f":"IF($E19=\"\",\"\",IF(COUNTIF($F18:$AM18,\"C\")=0,\"\",MAX(IF($F18:$AL18=\"C\",$G18:$AM18))))","v":""},{"$f":"IF($E19=\"\",\"\",MAX($F18:$AM18))","v":0}]
[null,null,{"$f":"IF($E21=\"\",\"\",INDEX(概要設定!$J$2:$L$51,MATCH($E21, 概要設定!$J$2:$J$51,0),3))","v":0},null,{"$f":"IF(ISERROR(INDEX(概要設定!$J$2:$K$51,MATCH($E21,概要設定!$J$2:$J$51,0),2)),\"\",INDEX(概要設定!$J$2:$K$51,MATCH($E21,概要設定!$J$2:$J$51,0),2))","v":"さとう　じゅんいち"},null,null,null,null,null,null,null,null,null,null,null,null,null,null,null,null,null,null,null,null,null,null,null,null,null,null,null,null,null,null,null,null,null,null,null,null,{"$f":"IF($E21=\"\",\"\",INT((SUM($F21:$AM21)+($C21*$AN21))))","v":378},null,null,null,{"$f":"IF($E21=\"\",\"\",IF($AV20=\"A\",\"A\",IF($AW20=\"B\",\"B\",IF($AX20=\"C\",\"C\",\"\"))))","v":""},{"$f":"IF($AT21=\"\",\"\",IF($AT21=0,0,IF($AT20=\"A\",9000,IF($AT20=\"B\",8000,IF($AT20=\"C\",7000,0)))))","v":0},{"$f":"IF($E21=\"\",\"\",IF(COUNTIF($F20:$AM20,\"A\")=0,\"\",\"A\"))","v":""},{"$f":"IF($E21=\"\",\"\",IF(COUNTIF($F20:$AM20,\"B\")=0,\"\",\"B\"))","v":""},{"$f":"IF($E21=\"\",\"\",IF(COUNTIF($F20:$AM20,\"C\")=0,\"\",\"C\"))","v":""}]
[null,8,{"$f":"IF($E21=\"\",\"\",IF($D21<>\"\",$D21,IF($C20<>\"-\",概要設定!$B$6,INDEX(概要設定!$N$2:$O$6,MATCH(概要設定!$B$6, 概要設定!$N$2:$N$6,0),2))))","v":180},null,"佐藤　循一",54,null,33,null,null,null,123,null,64,null,37,null,67,null,null,null,null,null,null,null,null,null,null,null,null,null,null,null,null,null,null,null,null,null,{"$f":"IF($E21=\"\",\"\",COUNTIF($F21:$AL21,\"w\"))","v":0},{"$f":"IF($E21=\"\",\"\",COUNTIF($F21:$AL21,\">=0\"))","v":6},{"$f":"IF($E21=\"\",\"\",INT((SUM($F21:$AM21)+($C21*$AN21))*$K$2/$C21))","v":378},{"$f":"IF($E21=\"\",\"\",SUM(T$7:T$39))","v":0},{"$f":"IF($E21=\"\",\"\",$AN21*100000000+$AP21*10000-$AQ21+$AU21*0.0001)","v":3780000},{"$f":"IF($E21=\"\",\"\",RANK($AR21,$AR$7:$AR$39)+COUNTIF($AR$7:$AR21,$AR21)-1)","v":8},{"$f":"IF($E21=\"\",\"\",IF($AV20=\"A\",$AV21,IF($AW20=\"B\",$AW21,IF($AX20=\"C\",$AX21,$AY21))))","v":0},0,{"$f":"IF($E21=\"\",\"\",IF(COUNTIF($F20:$AM20,\"A\")=0,\"\",MAX(IF($F20:$AL20=\"A\",$G20:$AM20))))","v":""},{"$f":"IF($E21=\"\",\"\",IF(COUNTIF($F20:$AM20,\"B\")=0,\"\",MAX(IF($F20:$AL20=\"B\",$G20:$AM20))))","v":""},{"$f":"IF($E21=\"\",\"\",IF(COUNTIF($F20:$AM20,\"C\")=0,\"\",MAX(IF($F20:$AL20=\"C\",$G20:$AM20))))","v":""},{"$f":"IF($E21=\"\",\"\",MAX($F20:$AM20))","v":0}]
[null,null,{"$f":"IF($E23=\"\",\"\",INDEX(概要設定!$J$2:$L$51,MATCH($E23, 概要設定!$J$2:$J$51,0),3))","v":""},null,{"$f":"IF(ISERROR(INDEX(概要設定!$J$2:$K$51,MATCH($E23,概要設定!$J$2:$J$51,0),2)),\"\",INDEX(概要設定!$J$2:$K$51,MATCH($E23,概要設定!$J$2:$J$51,0),2))","v":""},null,null,null,null,null,null,null,null,null,null,null,null,null,null,null,null,null,null,null,null,null,null,null,null,null,null,null,null,null,null,null,null,null,null,null,null,{"$f":"IF($E23=\"\",\"\",INT((SUM($F23:$AM23)+($C23*$AN23))))","v":""},null,null,null,{"$f":"IF($E23=\"\",\"\",IF($AV22=\"A\",\"A\",IF($AW22=\"B\",\"B\",IF($AX22=\"C\",\"C\",\"\"))))","v":""},{"$f":"IF($AT23=\"\",\"\",IF($AT23=0,0,IF($AT22=\"A\",9000,IF($AT22=\"B\",8000,IF($AT22=\"C\",7000,0)))))","v":""},{"$f":"IF($E23=\"\",\"\",IF(COUNTIF($F22:$AM22,\"A\")=0,\"\",\"A\"))","v":""},{"$f":"IF($E23=\"\",\"\",IF(COUNTIF($F22:$AM22,\"B\")=0,\"\",\"B\"))","v":""},{"$f":"IF($E23=\"\",\"\",IF(COUNTIF($F22:$AM22,\"C\")=0,\"\",\"C\"))","v":""}]
[null,9,{"$f":"IF($E23=\"\",\"\",IF($D23<>\"\",$D23,IF($C22<>\"-\",概要設定!$B$6,INDEX(概要設定!$N$2:$O$6,MATCH(概要設定!$B$6, 概要設定!$N$2:$N$6,0),2))))","v":""},null,null,null,null,null,null,null,null,null,null,null,null,null,null,null,null,null,null,null,null,null,null,null,null,null,null,null,null,null,null,null,null,null,null,null,null,{"$f":"IF($E23=\"\",\"\",COUNTIF($F23:$AL23,\"w\"))","v":""},{"$f":"IF($E23=\"\",\"\",COUNTIF($F23:$AL23,\">=0\"))","v":""},{"$f":"IF($E23=\"\",\"\",INT((SUM($F23:$AM23)+($C23*$AN23))*$K$2/$C23))","v":""},{"$f":"IF($E23=\"\",\"\",SUM(V$7:V$39))","v":""},{"$f":"IF($E23=\"\",\"\",$AN23*100000000+$AP23*10000-$AQ23+$AU23*0.0001)","v":""},{"$f":"IF($E23=\"\",\"\",RANK($AR23,$AR$7:$AR$39)+COUNTIF($AR$7:$AR23,$AR23)-1)","v":""},{"$f":"IF($E23=\"\",\"\",IF($AV22=\"A\",$AV23,IF($AW22=\"B\",$AW23,IF($AX22=\"C\",$AX23,$AY23))))","v":""},"",{"$f":"IF($E23=\"\",\"\",IF(COUNTIF($F22:$AM22,\"A\")=0,\"\",MAX(IF($F22:$AL22=\"A\",$G22:$AM22))))","v":""},{"$f":"IF($E23=\"\",\"\",IF(COUNTIF($F22:$AM22,\"B\")=0,\"\",MAX(IF($F22:$AL22=\"B\",$G22:$AM22))))","v":""},{"$f":"IF($E23=\"\",\"\",IF(COUNTIF($F22:$AM22,\"C\")=0,\"\",MAX(IF($F22:$AL22=\"C\",$G22:$AM22))))","v":""},{"$f":"IF($E23=\"\",\"\",MAX($F22:$AM22))","v":""}]
[null,null,{"$f":"IF($E25=\"\",\"\",INDEX(概要設定!$J$2:$L$51,MATCH($E25, 概要設定!$J$2:$J$51,0),3))","v":""},null,{"$f":"IF(ISERROR(INDEX(概要設定!$J$2:$K$51,MATCH($E25,概要設定!$J$2:$J$51,0),2)),\"\",INDEX(概要設定!$J$2:$K$51,MATCH($E25,概要設定!$J$2:$J$51,0),2))","v":""},null,null,null,null,null,null,null,null,null,null,null,null,null,null,null,null,null,null,null,null,null,null,null,null,null,null,null,null,null,null,null,null,null,null,null,null,{"$f":"IF($E25=\"\",\"\",INT((SUM($F25:$AM25)+($C25*$AN25))))","v":""},null,null,null,{"$f":"IF($E25=\"\",\"\",IF($AV24=\"A\",\"A\",IF($AW24=\"B\",\"B\",IF($AX24=\"C\",\"C\",\"\"))))","v":""},{"$f":"IF($AT25=\"\",\"\",IF($AT25=0,0,IF($AT24=\"A\",9000,IF($AT24=\"B\",8000,IF($AT24=\"C\",7000,0)))))","v":""},{"$f":"IF($E25=\"\",\"\",IF(COUNTIF($F24:$AM24,\"A\")=0,\"\",\"A\"))","v":""},{"$f":"IF($E25=\"\",\"\",IF(COUNTIF($F24:$AM24,\"B\")=0,\"\",\"B\"))","v":""},{"$f":"IF($E25=\"\",\"\",IF(COUNTIF($F24:$AM24,\"C\")=0,\"\",\"C\"))","v":""}]
[null,10,{"$f":"IF($E25=\"\",\"\",IF($D25<>\"\",$D25,IF($C24<>\"-\",概要設定!$B$6,INDEX(概要設定!$N$2:$O$6,MATCH(概要設定!$B$6, 概要設定!$N$2:$N$6,0),2))))","v":""},null,null,null,null,null,null,null,null,null,null,null,null,null,null,null,null,null,null,null,null,null,null,null,null,null,null,null,null,null,null,null,null,null,null,null,null,{"$f":"IF($E25=\"\",\"\",COUNTIF($F25:$AL25,\"w\"))","v":""},{"$f":"IF($E25=\"\",\"\",COUNTIF($F25:$AL25,\">=0\"))","v":""},{"$f":"IF($E25=\"\",\"\",INT((SUM($F25:$AM25)+($C25*$AN25))*$K$2/$C25))","v":""},{"$f":"IF($E25=\"\",\"\",SUM(X$7:X$39))","v":""},{"$f":"IF($E25=\"\",\"\",$AN25*100000000+$AP25*10000-$AQ25+$AU25*0.0001)","v":""},{"$f":"IF($E25=\"\",\"\",RANK($AR25,$AR$7:$AR$39)+COUNTIF($AR$7:$AR25,$AR25)-1)","v":""},{"$f":"IF($E25=\"\",\"\",IF($AV24=\"A\",$AV25,IF($AW24=\"B\",$AW25,IF($AX24=\"C\",$AX25,$AY25))))","v":""},"",{"$f":"IF($E25=\"\",\"\",IF(COUNTIF($F24:$AM24,\"A\")=0,\"\",MAX(IF($F24:$AL24=\"A\",$G24:$AM24))))","v":""},{"$f":"IF($E25=\"\",\"\",IF(COUNTIF($F24:$AM24,\"B\")=0,\"\",MAX(IF($F24:$AL24=\"B\",$G24:$AM24))))","v":""},{"$f":"IF($E25=\"\",\"\",IF(COUNTIF($F24:$AM24,\"C\")=0,\"\",MAX(IF($F24:$AL24=\"C\",$G24:$AM24))))","v":""},{"$f":"IF($E25=\"\",\"\",MAX($F24:$AM24))","v":""}]
[null,null,{"$f":"IF($E27=\"\",\"\",INDEX(概要設定!$J$2:$L$51,MATCH($E27, 概要設定!$J$2:$J$51,0),3))","v":""},null,{"$f":"IF(ISERROR(INDEX(概要設定!$J$2:$K$51,MATCH($E27,概要設定!$J$2:$J$51,0),2)),\"\",INDEX(概要設定!$J$2:$K$51,MATCH($E27,概要設定!$J$2:$J$51,0),2))","v":""},null,null,null,null,null,null,null,null,null,null,null,null,null,null,null,null,null,null,null,null,null,null,null,null,null,null,null,null,null,null,null,null,null,null,null,null,{"$f":"IF($E27=\"\",\"\",INT((SUM($F27:$AM27)+($C27*$AN27))))","v":""},null,null,null,{"$f":"IF($E27=\"\",\"\",IF($AV26=\"A\",\"A\",IF($AW26=\"B\",\"B\",IF($AX26=\"C\",\"C\",\"\"))))","v":""},{"$f":"IF($AT27=\"\",\"\",IF($AT27=0,0,IF($AT26=\"A\",9000,IF($AT26=\"B\",8000,IF($AT26=\"C\",7000,0)))))","v":""},{"$f":"IF($E27=\"\",\"\",IF(COUNTIF($F26:$AM26,\"A\")=0,\"\",\"A\"))","v":""},{"$f":"IF($E27=\"\",\"\",IF(COUNTIF($F26:$AM26,\"B\")=0,\"\",\"B\"))","v":""},{"$f":"IF($E27=\"\",\"\",IF(COUNTIF($F26:$AM26,\"C\")=0,\"\",\"C\"))","v":""}]
[null,11,{"$f":"IF($E27=\"\",\"\",IF($D27<>\"\",$D27,IF($C26<>\"-\",概要設定!$B$6,INDEX(概要設定!$N$2:$O$6,MATCH(概要設定!$B$6, 概要設定!$N$2:$N$6,0),2))))","v":""},null,null,null,null,null,null,null,null,null,null,null,null,null,null,null,null,null,null,null,null,null,null,null,null,null,null,null,null,null,null,null,null,null,null,null,null,{"$f":"IF($E27=\"\",\"\",COUNTIF($F27:$AL27,\"w\"))","v":""},{"$f":"IF($E27=\"\",\"\",COUNTIF($F27:$AL27,\">=0\"))","v":""},{"$f":"IF($E27=\"\",\"\",INT((SUM($F27:$AM27)+($C27*$AN27))*$K$2/$C27))","v":""},{"$f":"IF($E27=\"\",\"\",SUM(Z$7:Z$39))","v":""},{"$f":"IF($E27=\"\",\"\",$AN27*100000000+$AP27*10000-$AQ27+$AU27*0.0001)","v":""},{"$f":"IF($E27=\"\",\"\",RANK($AR27,$AR$7:$AR$39)+COUNTIF($AR$7:$AR27,$AR27)-1)","v":""},{"$f":"IF($E27=\"\",\"\",IF($AV26=\"A\",$AV27,IF($AW26=\"B\",$AW27,IF($AX26=\"C\",$AX27,$AY27))))","v":""},"",{"$f":"IF($E27=\"\",\"\",IF(COUNTIF($F26:$AM26,\"A\")=0,\"\",MAX(IF($F26:$AL26=\"A\",$G26:$AM26))))","v":""},{"$f":"IF($E27=\"\",\"\",IF(COUNTIF($F26:$AM26,\"B\")=0,\"\",MAX(IF($F26:$AL26=\"B\",$G26:$AM26))))","v":""},{"$f":"IF($E27=\"\",\"\",IF(COUNTIF($F26:$AM26,\"C\")=0,\"\",MAX(IF($F26:$AL26=\"C\",$G26:$AM26))))","v":""},{"$f":"IF($E27=\"\",\"\",MAX($F26:$AM26))","v":""}]
[null,null,{"$f":"IF($E29=\"\",\"\",INDEX(概要設定!$J$2:$L$51,MATCH($E29, 概要設定!$J$2:$J$51,0),3))","v":""},null,{"$f":"IF(ISERROR(INDEX(概要設定!$J$2:$K$51,MATCH($E29,概要設定!$J$2:$J$51,0),2)),\"\",INDEX(概要設定!$J$2:$K$51,MATCH($E29,概要設定!$J$2:$J$51,0),2))","v":""},null,null,null,null,null,null,null,null,null,null,null,null,null,null,null,null,null,null,null,null,null,null,null,null,null,null,null,null,null,null,null,null,null,null,null,null,{"$f":"IF($E29=\"\",\"\",INT((SUM($F29:$AM29)+($C29*$AN29))))","v":""},null,null,null,{"$f":"IF($E29=\"\",\"\",IF($AV28=\"A\",\"A\",IF($AW28=\"B\",\"B\",IF($AX28=\"C\",\"C\",\"\"))))","v":""},{"$f":"IF($AT29=\"\",\"\",IF($AT29=0,0,IF($AT28=\"A\",9000,IF($AT28=\"B\",8000,IF($AT28=\"C\",7000,0)))))","v":""},{"$f":"IF($E29=\"\",\"\",IF(COUNTIF($F28:$AM28,\"A\")=0,\"\",\"A\"))","v":""},{"$f":"IF($E29=\"\",\"\",IF(COUNTIF($F28:$AM28,\"B\")=0,\"\",\"B\"))","v":""},{"$f":"IF($E29=\"\",\"\",IF(COUNTIF($F28:$AM28,\"C\")=0,\"\",\"C\"))","v":""}]
[null,12,{"$f":"IF($E29=\"\",\"\",IF($D29<>\"\",$D29,IF($C28<>\"-\",概要設定!$B$6,INDEX(概要設定!$N$2:$O$6,MATCH(概要設定!$B$6, 概要設定!$N$2:$N$6,0),2))))","v":""},null,null,null,null,null,null,null,null,null,null,null,null,null,null,null,null,null,null,null,null,null,null,null,null,null,null,null,null,null,null,null,null,null,null,null,null,{"$f":"IF($E29=\"\",\"\",COUNTIF($F29:$AL29,\"w\"))","v":""},{"$f":"IF($E29=\"\",\"\",COUNTIF($F29:$AL29,\">=0\"))","v":""},{"$f":"IF($E29=\"\",\"\",INT((SUM($F29:$AM29)+($C29*$AN29))*$K$2/$C29))","v":""},{"$f":"IF($E29=\"\",\"\",SUM(AB$7:AB$39))","v":""},{"$f":"IF($E29=\"\",\"\",$AN29*100000000+$AP29*10000-$AQ29+$AU29*0.0001)","v":""},{"$f":"IF($E29=\"\",\"\",RANK($AR29,$AR$7:$AR$39)+COUNTIF($AR$7:$AR29,$AR29)-1)","v":""},{"$f":"IF($E29=\"\",\"\",IF($AV28=\"A\",$AV29,IF($AW28=\"B\",$AW29,IF($AX28=\"C\",$AX29,$AY29))))","v":""},"",{"$f":"IF($E29=\"\",\"\",IF(COUNTIF($F28:$AM28,\"A\")=0,\"\",MAX(IF($F28:$AL28=\"A\",$G28:$AM28))))","v":""},{"$f":"IF($E29=\"\",\"\",IF(COUNTIF($F28:$AM28,\"B\")=0,\"\",MAX(IF($F28:$AL28=\"B\",$G28:$AM28))))","v":""},{"$f":"IF($E29=\"\",\"\",IF(COUNTIF($F28:$AM28,\"C\")=0,\"\",MAX(IF($F28:$AL28=\"C\",$G28:$AM28))))","v":""},{"$f":"IF($E29=\"\",\"\",MAX($F28:$AM28))","v":""}]
[null,null,{"$f":"IF($E31=\"\",\"\",INDEX(概要設定!$J$2:$L$51,MATCH($E31, 概要設定!$J$2:$J$51,0),3))","v":""},null,{"$f":"IF(ISERROR(INDEX(概要設定!$J$2:$K$51,MATCH($E31,概要設定!$J$2:$J$51,0),2)),\"\",INDEX(概要設定!$J$2:$K$51,MATCH($E31,概要設定!$J$2:$J$51,0),2))","v":""},null,null,null,null,null,null,null,null,null,null,null,null,null,null,null,null,null,null,null,null,null,null,null,null,null,null,null,null,null,null,null,null,null,null,null,null,{"$f":"IF($E31=\"\",\"\",INT((SUM($F31:$AM31)+($C31*$AN31))))","v":""},null,null,null,{"$f":"IF($E31=\"\",\"\",IF($AV30=\"A\",\"A\",IF($AW30=\"B\",\"B\",IF($AX30=\"C\",\"C\",\"\"))))","v":""},{"$f":"IF($AT31=\"\",\"\",IF($AT31=0,0,IF($AT30=\"A\",9000,IF($AT30=\"B\",8000,IF($AT30=\"C\",7000,0)))))","v":""},{"$f":"IF($E31=\"\",\"\",IF(COUNTIF($F30:$AM30,\"A\")=0,\"\",\"A\"))","v":""},{"$f":"IF($E31=\"\",\"\",IF(COUNTIF($F30:$AM30,\"B\")=0,\"\",\"B\"))","v":""},{"$f":"IF($E31=\"\",\"\",IF(COUNTIF($F30:$AM30,\"C\")=0,\"\",\"C\"))","v":""}]
[null,13,{"$f":"IF($E31=\"\",\"\",IF($D31<>\"\",$D31,IF($C30<>\"-\",概要設定!$B$6,INDEX(概要設定!$N$2:$O$6,MATCH(概要設定!$B$6, 概要設定!$N$2:$N$6,0),2))))","v":""},null,null,null,null,null,null,null,null,null,null,null,null,null,null,null,null,null,null,null,null,null,null,null,null,null,null,null,null,null,null,null,null,null,null,null,null,{"$f":"IF($E31=\"\",\"\",COUNTIF($F31:$AL31,\"w\"))","v":""},{"$f":"IF($E31=\"\",\"\",COUNTIF($F31:$AL31,\">=0\"))","v":""},{"$f":"IF($E31=\"\",\"\",INT((SUM($F31:$AM31)+($C31*$AN31))*$K$2/$C31))","v":""},{"$f":"IF($E31=\"\",\"\",SUM(AD$7:AD$39))","v":""},{"$f":"IF($E31=\"\",\"\",$AN31*100000000+$AP31*10000-$AQ31+$AU31*0.0001)","v":""},{"$f":"IF($E31=\"\",\"\",RANK($AR31,$AR$7:$AR$39)+COUNTIF($AR$7:$AR31,$AR31)-1)","v":""},{"$f":"IF($E31=\"\",\"\",IF($AV30=\"A\",$AV31,IF($AW30=\"B\",$AW31,IF($AX30=\"C\",$AX31,$AY31))))","v":""},"",{"$f":"IF($E31=\"\",\"\",IF(COUNTIF($F30:$AM30,\"A\")=0,\"\",MAX(IF($F30:$AL30=\"A\",$G30:$AM30))))","v":""},{"$f":"IF($E31=\"\",\"\",IF(COUNTIF($F30:$AM30,\"B\")=0,\"\",MAX(IF($F30:$AL30=\"B\",$G30:$AM30))))","v":""},{"$f":"IF($E31=\"\",\"\",IF(COUNTIF($F30:$AM30,\"C\")=0,\"\",MAX(IF($F30:$AL30=\"C\",$G30:$AM30))))","v":""},{"$f":"IF($E31=\"\",\"\",MAX($F30:$AM30))","v":""}]
[null,null,{"$f":"IF($E33=\"\",\"\",INDEX(概要設定!$J$2:$L$51,MATCH($E33, 概要設定!$J$2:$J$51,0),3))","v":""},null,{"$f":"IF(ISERROR(INDEX(概要設定!$J$2:$K$51,MATCH($E33,概要設定!$J$2:$J$51,0),2)),\"\",INDEX(概要設定!$J$2:$K$51,MATCH($E33,概要設定!$J$2:$J$51,0),2))","v":""},null,null,null,null,null,null,null,null,null,null,null,null,null,null,null,null,null,null,null,null,null,null,null,null,null,null,null,null,null,null,null,null,null,null,null,null,{"$f":"IF($E33=\"\",\"\",INT((SUM($F33:$AM33)+($C33*$AN33))))","v":""},null,null,null,{"$f":"IF($E33=\"\",\"\",IF($AV32=\"A\",\"A\",IF($AW32=\"B\",\"B\",IF($AX32=\"C\",\"C\",\"\"))))","v":""},{"$f":"IF($AT33=\"\",\"\",IF($AT33=0,0,IF($AT32=\"A\",9000,IF($AT32=\"B\",8000,IF($AT32=\"C\",7000,0)))))","v":""},{"$f":"IF($E33=\"\",\"\",IF(COUNTIF($F32:$AM32,\"A\")=0,\"\",\"A\"))","v":""},{"$f":"IF($E33=\"\",\"\",IF(COUNTIF($F32:$AM32,\"B\")=0,\"\",\"B\"))","v":""},{"$f":"IF($E33=\"\",\"\",IF(COUNTIF($F32:$AM32,\"C\")=0,\"\",\"C\"))","v":""}]
[null,14,{"$f":"IF($E33=\"\",\"\",IF($D33<>\"\",$D33,IF($C32<>\"-\",概要設定!$B$6,INDEX(概要設定!$N$2:$O$6,MATCH(概要設定!$B$6, 概要設定!$N$2:$N$6,0),2))))","v":""},null,null,null,null,null,null,null,null,null,null,null,null,null,null,null,null,null,null,null,null,null,null,null,null,null,null,null,null,null,null,null,null,null,null,null,null,{"$f":"IF($E33=\"\",\"\",COUNTIF($F33:$AL33,\"w\"))","v":""},{"$f":"IF($E33=\"\",\"\",COUNTIF($F33:$AL33,\">=0\"))","v":""},{"$f":"IF($E33=\"\",\"\",INT((SUM($F33:$AM33)+($C33*$AN33))*$K$2/$C33))","v":""},{"$f":"IF($E33=\"\",\"\",SUM(AF$7:AF$39))","v":""},{"$f":"IF($E33=\"\",\"\",$AN33*100000000+$AP33*10000-$AQ33+$AU33*0.0001)","v":""},{"$f":"IF($E33=\"\",\"\",RANK($AR33,$AR$7:$AR$39)+COUNTIF($AR$7:$AR33,$AR33)-1)","v":""},{"$f":"IF($E33=\"\",\"\",IF($AV32=\"A\",$AV33,IF($AW32=\"B\",$AW33,IF($AX32=\"C\",$AX33,$AY33))))","v":""},"",{"$f":"IF($E33=\"\",\"\",IF(COUNTIF($F32:$AM32,\"A\")=0,\"\",MAX(IF($F32:$AL32=\"A\",$G32:$AM32))))","v":""},{"$f":"IF($E33=\"\",\"\",IF(COUNTIF($F32:$AM32,\"B\")=0,\"\",MAX(IF($F32:$AL32=\"B\",$G32:$AM32))))","v":""},{"$f":"IF($E33=\"\",\"\",IF(COUNTIF($F32:$AM32,\"C\")=0,\"\",MAX(IF($F32:$AL32=\"C\",$G32:$AM32))))","v":""},{"$f":"IF($E33=\"\",\"\",MAX($F32:$AM32))","v":""}]
[null,null,{"$f":"IF($E35=\"\",\"\",INDEX(概要設定!$J$2:$L$51,MATCH($E35, 概要設定!$J$2:$J$51,0),3))","v":""},null,{"$f":"IF(ISERROR(INDEX(概要設定!$J$2:$K$51,MATCH($E35,概要設定!$J$2:$J$51,0),2)),\"\",INDEX(概要設定!$J$2:$K$51,MATCH($E35,概要設定!$J$2:$J$51,0),2))","v":""},null,null,null,null,null,null,null,null,null,null,null,null,null,null,null,null,null,null,null,null,null,null,null,null,null,null,null,null,null,null,null,null,null,null,null,null,{"$f":"IF($E35=\"\",\"\",INT((SUM($F35:$AM35)+($C35*$AN35))))","v":""},null,null,null,{"$f":"IF($E35=\"\",\"\",IF($AV34=\"A\",\"A\",IF($AW34=\"B\",\"B\",IF($AX34=\"C\",\"C\",\"\"))))","v":""},{"$f":"IF($AT35=\"\",\"\",IF($AT35=0,0,IF($AT34=\"A\",9000,IF($AT34=\"B\",8000,IF($AT34=\"C\",7000,0)))))","v":""},{"$f":"IF($E35=\"\",\"\",IF(COUNTIF($F34:$AM34,\"A\")=0,\"\",\"A\"))","v":""},{"$f":"IF($E35=\"\",\"\",IF(COUNTIF($F34:$AM34,\"B\")=0,\"\",\"B\"))","v":""},{"$f":"IF($E35=\"\",\"\",IF(COUNTIF($F34:$AM34,\"C\")=0,\"\",\"C\"))","v":""}]
[null,15,{"$f":"IF($E35=\"\",\"\",IF($D35<>\"\",$D35,IF($C34<>\"-\",概要設定!$B$6,INDEX(概要設定!$N$2:$O$6,MATCH(概要設定!$B$6, 概要設定!$N$2:$N$6,0),2))))","v":""},null,null,null,null,null,null,null,null,null,null,null,null,null,null,null,null,null,null,null,null,null,null,null,null,null,null,null,null,null,null,null,null,null,null,null,null,{"$f":"IF($E35=\"\",\"\",COUNTIF($F35:$AL35,\"w\"))","v":""},{"$f":"IF($E35=\"\",\"\",COUNTIF($F35:$AL35,\">=0\"))","v":""},{"$f":"IF($E35=\"\",\"\",INT((SUM($F35:$AM35)+($C35*$AN35))*$K$2/$C35))","v":""},{"$f":"IF($E35=\"\",\"\",SUM(AH$7:AH$39))","v":""},{"$f":"IF($E35=\"\",\"\",$AN35*100000000+$AP35*10000-$AQ35+$AU35*0.0001)","v":""},{"$f":"IF($E35=\"\",\"\",RANK($AR35,$AR$7:$AR$39)+COUNTIF($AR$7:$AR35,$AR35)-1)","v":""},{"$f":"IF($E35=\"\",\"\",IF($AV34=\"A\",$AV35,IF($AW34=\"B\",$AW35,IF($AX34=\"C\",$AX35,$AY35))))","v":""},"",{"$f":"IF($E35=\"\",\"\",IF(COUNTIF($F34:$AM34,\"A\")=0,\"\",MAX(IF($F34:$AL34=\"A\",$G34:$AM34))))","v":""},{"$f":"IF($E35=\"\",\"\",IF(COUNTIF($F34:$AM34,\"B\")=0,\"\",MAX(IF($F34:$AL34=\"B\",$G34:$AM34))))","v":""},{"$f":"IF($E35=\"\",\"\",IF(COUNTIF($F34:$AM34,\"C\")=0,\"\",MAX(IF($F34:$AL34=\"C\",$G34:$AM34))))","v":""},{"$f":"IF($E35=\"\",\"\",MAX($F34:$AM34))","v":""}]
[null,null,{"$f":"IF($E37=\"\",\"\",INDEX(概要設定!$J$2:$L$51,MATCH($E37, 概要設定!$J$2:$J$51,0),3))","v":""},null,{"$f":"IF(ISERROR(INDEX(概要設定!$J$2:$K$51,MATCH($E37,概要設定!$J$2:$J$51,0),2)),\"\",INDEX(概要設定!$J$2:$K$51,MATCH($E37,概要設定!$J$2:$J$51,0),2))","v":""},null,null,null,null,null,null,null,null,null,null,null,null,null,null,null,null,null,null,null,null,null,null,null,null,null,null,null,null,null,null,null,null,null,null,null,null,{"$f":"IF($E37=\"\",\"\",INT((SUM($F37:$AM37)+($C37*$AN37))))","v":""},null,null,null,{"$f":"IF($E37=\"\",\"\",IF($AV36=\"A\",\"A\",IF($AW36=\"B\",\"B\",IF($AX36=\"C\",\"C\",\"\"))))","v":""},{"$f":"IF($AT37=\"\",\"\",IF($AT37=0,0,IF($AT36=\"A\",9000,IF($AT36=\"B\",8000,IF($AT36=\"C\",7000,0)))))","v":""},{"$f":"IF($E37=\"\",\"\",IF(COUNTIF($F36:$AM36,\"A\")=0,\"\",\"A\"))","v":""},{"$f":"IF($E37=\"\",\"\",IF(COUNTIF($F36:$AM36,\"B\")=0,\"\",\"B\"))","v":""},{"$f":"IF($E37=\"\",\"\",IF(COUNTIF($F36:$AM36,\"C\")=0,\"\",\"C\"))","v":""}]
[null,16,{"$f":"IF($E37=\"\",\"\",IF($D37<>\"\",$D37,IF($C36<>\"-\",概要設定!$B$6,INDEX(概要設定!$N$2:$O$6,MATCH(概要設定!$B$6, 概要設定!$N$2:$N$6,0),2))))","v":""},null,null,null,null,null,null,null,null,null,null,null,null,null,null,null,null,null,null,null,null,null,null,null,null,null,null,null,null,null,null,null,null,null,null,null,null,{"$f":"IF($E37=\"\",\"\",COUNTIF($F37:$AL37,\"w\"))","v":""},{"$f":"IF($E37=\"\",\"\",COUNTIF($F37:$AL37,\">=0\"))","v":""},{"$f":"IF($E37=\"\",\"\",INT((SUM($F37:$AM37)+($C37*$AN37))*$K$2/$C37))","v":""},{"$f":"IF($E37=\"\",\"\",SUM(AJ$7:AJ$39))","v":""},{"$f":"IF($E37=\"\",\"\",$AN37*100000000+$AP37*10000-$AQ37+$AU37*0.0001)","v":""},{"$f":"IF($E37=\"\",\"\",RANK($AR37,$AR$7:$AR$39)+COUNTIF($AR$7:$AR37,$AR37)-1)","v":""},{"$f":"IF($E37=\"\",\"\",IF($AV36=\"A\",$AV37,IF($AW36=\"B\",$AW37,IF($AX36=\"C\",$AX37,$AY37))))","v":""},"",{"$f":"IF($E37=\"\",\"\",IF(COUNTIF($F36:$AM36,\"A\")=0,\"\",MAX(IF($F36:$AL36=\"A\",$G36:$AM36))))","v":""},{"$f":"IF($E37=\"\",\"\",IF(COUNTIF($F36:$AM36,\"B\")=0,\"\",MAX(IF($F36:$AL36=\"B\",$G36:$AM36))))","v":""},{"$f":"IF($E37=\"\",\"\",IF(COUNTIF($F36:$AM36,\"C\")=0,\"\",MAX(IF($F36:$AL36=\"C\",$G36:$AM36))))","v":""},{"$f":"IF($E37=\"\",\"\",MAX($F36:$AM36))","v":""}]
[null,null,{"$f":"IF($E39=\"\",\"\",INDEX(概要設定!$J$2:$L$51,MATCH($E39, 概要設定!$J$2:$J$51,0),3))","v":""},null,{"$f":"IF(ISERROR(INDEX(概要設定!$J$2:$K$51,MATCH($E39,概要設定!$J$2:$J$51,0),2)),\"\",INDEX(概要設定!$J$2:$K$51,MATCH($E39,概要設定!$J$2:$J$51,0),2))","v":""},null,null,null,null,null,null,null,null,null,null,null,null,null,null,null,null,null,null,null,null,null,null,null,null,null,null,null,null,null,null,null,null,null,null,null,null,{"$f":"IF($E39=\"\",\"\",INT((SUM($F39:$AM39)+($C39*$AN39))))","v":""},null,null,null,{"$f":"IF($E39=\"\",\"\",IF($AV38=\"A\",\"A\",IF($AW38=\"B\",\"B\",IF($AX38=\"C\",\"C\",\"\"))))","v":""},{"$f":"IF($AT39=\"\",\"\",IF($AT39=0,0,IF($AT38=\"A\",9000,IF($AT38=\"B\",8000,IF($AT38=\"C\",7000,0)))))","v":""},{"$f":"IF($E39=\"\",\"\",IF(COUNTIF($F38:$AM38,\"A\")=0,\"\",\"A\"))","v":""},{"$f":"IF($E39=\"\",\"\",IF(COUNTIF($F38:$AM38,\"B\")=0,\"\",\"B\"))","v":""},{"$f":"IF($E39=\"\",\"\",IF(COUNTIF($F38:$AM38,\"C\")=0,\"\",\"C\"))","v":""}]
[null,17,{"$f":"IF($E39=\"\",\"\",IF($D39<>\"\",$D39,IF($C38<>\"-\",概要設定!$B$6,INDEX(概要設定!$N$2:$O$6,MATCH(概要設定!$B$6, 概要設定!$N$2:$N$6,0),2))))","v":""},null,null,null,null,null,null,null,null,null,null,null,null,null,null,null,null,null,null,null,null,null,null,null,null,null,null,null,null,null,null,null,null,null,null,null,null,{"$f":"IF($E39=\"\",\"\",COUNTIF($F39:$AL39,\"w\"))","v":""},{"$f":"IF($E39=\"\",\"\",COUNTIF($F39:$AL39,\">=0\"))","v":""},{"$f":"IF($E39=\"\",\"\",INT((SUM($F39:$AM39)+($C39*$AN39))*$K$2/$C39))","v":""},{"$f":"IF($E39=\"\",\"\",SUM(AL$7:AL$39))","v":""},{"$f":"IF($E39=\"\",\"\",$AN39*100000000+$AP39*10000-$AQ39+$AU39*0.0001)","v":""},{"$f":"IF($E39=\"\",\"\",RANK($AR39,$AR$7:$AR$39)+COUNTIF($AR$7:$AR39,$AR39)-1)","v":""},{"$f":"IF($E39=\"\",\"\",IF($AV38=\"A\",$AV39,IF($AW38=\"B\",$AW39,IF($AX38=\"C\",$AX39,$AY39))))","v":""},"",{"$f":"IF($E39=\"\",\"\",IF(COUNTIF($F38:$AM38,\"A\")=0,\"\",MAX(IF($F38:$AL38=\"A\",$G38:$AM38))))","v":""},{"$f":"IF($E39=\"\",\"\",IF(COUNTIF($F38:$AM38,\"B\")=0,\"\",MAX(IF($F38:$AL38=\"B\",$G38:$AM38))))","v":""},{"$f":"IF($E39=\"\",\"\",IF(COUNTIF($F38:$AM38,\"C\")=0,\"\",MAX(IF($F38:$AL38=\"C\",$G38:$AM38))))","v":""},{"$f":"IF($E39=\"\",\"\",MAX($F38:$AM38))","v":""}]
[null,null,null,null,"※注1）赤組17人まで　※注2）印刷する時はマス目以外の所でクリック（A1）　※注3）負けスコア入力後”w”が自動表示、Ctrl+qは自分相手クリア、Ctrl+f は全てクリア、Ctrl+k は対戦マス目のみクリア"]
[]
[null,null,null,null,null,"記入例",null,"A",180,null,null,"B",180,null,null,null,110,null,null,null,110]
[null,null,null,null,null,null,null,"w",null,null,null,"w",null,null,null,"w",null,null,null,120]

{"sheet":"赤RT","index":4,"n_rows":329,"n_cols":36,"rows_kept":329,"cut":false,"hidden":false,"merged":[[280,3,280,4],[280,5,280,6],[282,3,282,4],[282,5,282,6],[284,3,284,4],[284,5,284,6],[274,3,274,4],[274,5,274,6],[276,3,276,4],[276,5,276,6],[278,3,278,4],[278,5,278,6],[298,3,298,4],[298,5,298,6],[292,3,292,4],[292,5,292,6],[294,3,294,4],[294,5,294,6],[296,3,296,4],[296,5,296,6],[286,3,286,4],[286,5,286,6],[288,3,288,4],[288,5,288,6],[290,3,290,4],[290,5,290,6],[268,3,268,4],[268,5,268,6],[270,3,270,4],[270,5,270,6],[272,3,272,4],[272,5,272,6],[262,3,262,4],[262,5,262,6],[264,3,264,4],[264,5,264,6],[266,3,266,4],[266,5,266,6],[256,3,256,4],[256,5,256,6],[258,3,258,4],[258,5,258,6],[260,3,260,4],[260,5,260,6],[250,3,250,4],[250,5,250,6],[252,3,252,4],[252,5,252,6],[254,3,254,4],[254,5,254,6],[244,3,244,4],[244,5,244,6],[246,3,246,4],[246,5,246,6],[248,3,248,4],[248,5,248,6],[238,3,238,4],[238,5,238,6],[240,3,240,4],[240,5,240,6],[242,3,242,4],[242,5,242,6],[232,3,232,4],[232,5,232,6],[234,3,234,4],[234,5,234,6],[236,3,236,4],[236,5,236,6],[226,3,226,4],[226,5,226,6],[228,3,228,4],[228,5,228,6],[230,3,230,4],[230,5,230,6],[220,3,220,4],[220,5,220,6],[222,3,222,4],[222,5,222,6],[224,3,224,4],[224,5,224,6],[214,3,214,4],[214,5,214,6],[216,3,216,4],[216,5,216,6],[218,3,218,4],[218,5,218,6],[208,3,208,4],[208,5,208,6],[210,3,210,4],[210,5,210,6],[212,3,212,4],[212,5,212,6],[202,3,202,4],[202,5,202,6],[204,3,204,4],[204,5,204,6],[206,3,206,4],[206,5,206,6],[196,3,196,4],[196,5,196,6],[198,3,198,4],[198,5,198,6],[200,3,200,4],[200,5,200,6],[190,3,190,4],[190,5,190,6],[192,3,192,4],[192,5,192,6],[194,3,194,4],[194,5,194,6],[184,3,184,4],[184,5,184,6],[186,3,186,4],[186,5,186,6],[188,3,188,4],[188,5,188,6],[178,3,178,4],[178,5,178,6],[180,3,180,4],[180,5,180,6],[182,3,182,4],[182,5,182,6],[172,3,172,4],[172,5,172,6],[174,3,174,4],[174,5,174,6],[176,3,176,4],[176,5,176,6],[166,3,166,4],[166,5,166,6],[168,3,168,4],[168,5,168,6],[170,3,170,4],[170,5,170,6],[160,3,160,4],[160,5,160,6],[162,3,162,4],[162,5,162,6],[164,3,164,4],[164,5,164,6],[154,3,154,4],[154,5,154,6],[156,3,156,4],[156,5,156,6],[158,3,158,4],[158,5,158,6],[148,3,148,4],[148,5,148,6],[150,3,150,4],[150,5,150,6],[152,3,152,4],[152,5,152,6],[142,3,142,4],[142,5,142,6],[144,3,144,4],[144,5,144,6],[146,3,146,4],[146,5,146,6],[136,3,136,4],[136,5,136,6],[138,3,138,4],[138,5,138,6],[140,3,140,4],[140,5,140,6],[130,3,130,4],[130,5,130,6],[132,3,132,4],[132,5,132,6],[134,3,134,4],[134,5,134,6],[124,3,124,4],[124,5,124,6],[126,3,126,4],[126,5,126,6],[128,3,128,4],[128,5,128,6],[118,3,118,4],[118,5,118,6],[120,3,120,4],[120,5,120,6],[122,3,122,4],[122,5,122,6],[112,3,112,4],[112,5,112,6],[114,3,114,4],[114,5,114,6],[116,3,116,4],[116,5,116,6],[106,3,106,4],[106,5,106,6],[108,3,108,4],[108,5,108,6],[110,3,110,4],[110,5,110,6],[100,3,100,4],[100,5,100,6],[102,3,102,4],[102,5,102,6],[104,3,104,4],[104,5,104,6],[94,3,94,4],[94,5,94,6],[96,3,96,4],[96,5,96,6],[98,3,98,4],[98,5,98,6],[88,3,88,4],[88,5,88,6],[90,3,90,4],[90,5,90,6],[92,3,92,4],[92,5,92,6],[82,3,82,4],[82,5,82,6],[84,3,84,4],[84,5,84,6],[86,3,86,4],[86,5,86,6],[76,3,76,4],[76,5,76,6],[78,3,78,4],[78,5,78,6],[80,3,80,4],[80,5,80,6],[70,3,70,4],[70,5,70,6],[72,3,72,4],[72,5,72,6],[74,3,74,4],[74,5,74,6],[50,3,50,4],[50,5,50,6],[64,3,64,4],[64,5,64,6],[66,3,66,4],[66,5,66,6],[68,3,68,4],[68,5,68,6],[58,3,58,4],[58,5,58,6],[60,3,60,4],[60,5,60,6],[62,3,62,4],[62,5,62,6],[0,27,0,44],[1,27,1,44],[2,27,2,44],[20,5,20,6],[10,3,10,4],[10,5,10,6],[12,3,12,4],[12,5,12,6],[14,3,14,4],[14,5,14,6],[4,3,4,4],[4,5,4,6],[6,3,6,4],[6,5,6,6],[8,3,8,4],[8,5,8,6],[1,3,1,7],[2,3,2,4],[0,2,0,7],[2,5,2,6],[10,28,10,29],[10,31,10,32],[10,34,10,35],[16,3,16,4],[326,3,326,4],[326,5,326,6],[328,3,328,4],[328,5,328,6],[310,3,310,4],[310,5,310,6],[312,3,312,4],[312,5,312,6],[314,3,314,4],[314,5,314,6],[316,3,316,4],[316,5,316,6],[318,3,318,4],[318,5,318,6],[320,3,320,4],[320,5,320,6],[322,3,322,4],[322,5,322,6],[324,3,324,4],[324,5,324,6],[304,3,304,4],[304,5,304,6],[306,3,306,4],[306,5,306,6],[308,3,308,4],[308,5,308,6],[22,3,22,4],[22,5,22,6],[24,3,24,4],[24,5,24,6],[26,3,26,4],[26,5,26,6],[34,3,34,4],[30,3,30,4],[30,5,30,6],[32,3,32,4],[32,5,32,6],[40,3,40,4],[40,5,40,6],[42,3,42,4],[42,5,42,6],[44,3,44,4],[44,5,44,6],[34,5,34,6],[16,5,16,6],[18,3,18,4],[18,5,18,6],[20,3,20,4],[28,3,28,4],[28,5,28,6],[300,3,300,4],[300,5,300,6],[302,3,302,4],[302,5,302,6],[36,3,36,4],[36,5,36,6],[38,3,38,4],[38,5,38,6],[52,3,52,4],[52,5,52,6],[54,3,54,4],[54,5,54,6],[56,3,56,4],[56,5,56,6],[46,3,46,4],[46,5,46,6],[48,3,48,4],[48,5,48,6]]}
[null,null,"　　　　　　　人数、節数により自動でRTを作成→",null,null,null,null,null,null,"人数は：",{"$f":"IF(赤!$E7 =\"\",0,(34 - COUNTIF(赤!$E$6:$E$39,\"\"))/2)","v":8},"人","列数は：",{"$f":"IF($K$1<3,\"\",HLOOKUP($K$1,list!$A$1:$BW$2,2,FALSE))","v":27},"列","(listセルの開始列数)",null,null,null,null,null,null,null,null,null,null,null,"赤の選手を登録すると人数が自動表示されます。（3人～１７人まで対応、人数は入力しないで下さい。）"]
[null,"赤組",null,"←スコアを赤セルに反映",null,null,null,null,null,"何節まで：",99,"節",null,null,null,"赤側の行と列変換",null,null,null,null,null,null,null,null,null,null,null,"表示させる節数を入力。（”９９”と入力すると全節が表示され”０”だと全節クリアされます。）"]
["試合数","節数/No.","名　前","スコア",null,"スコア",null,"名　前","No.",null,null,null,"スコアL行","スコアL列","ABL行","ABL列","HRL行","HRL列","ハンデ左","スコアL行","スコアL列","ABR行","ABR列","HRR行","HRR列","ハンデ右",null,"入力手順　：　RTクリア ＞ 赤で選手を選択 ＞ 何節まで：表示させる節数を入力 ＞　RT作成 ＞ スコア入力 ＞ 赤へ反映"]
[null,null,{"$f":"IF(ISERROR(INDEX(概要設定!$J$2:$K$51,MATCH($C5,概要設定!$J$2:$J$51,0),2)),\"\",INDEX(概要設定!$J$2:$K$51,MATCH($C5,概要設定!$J$2:$J$51,0),2))","v":""},null,null,null,null,{"$f":"IF(ISERROR(INDEX(概要設定!$J$2:$K$51,MATCH($H5,概要設定!$J$2:$J$51,0),2)),\"\",INDEX(概要設定!$J$2:$K$51,MATCH($H5,概要設定!$J$2:$J$51,0),2))","v":""}]
[null,"一節",{"$f":"IF(AND($B5>=1,$B5<=17),INDEX(赤!$B$6:$E$39,MATCH($B5,赤!$B$6:$B$39,0),4),\"\")","v":""},null,null,null,null,{"$f":"IF(AND($I5>=1,$I5<=17),INDEX(赤!$B$6:$E$39,MATCH($I5,赤!$B$6:$B$39,0),4),\"\")","v":""},null,null,"←RT・ラベルを初期化",null,{"$f":"IF($A5=\"\",\"\",$B5+$B5+5)","v":""},{"$f":"IF($A5=\"\",\"\",$I5+$I5+4)","v":""},{"$f":"IF($A5=\"\",\"\",$M5-1)","v":""},{"$f":"IF($A5=\"\",\"\",$N5)","v":""},{"$f":"IF($A5=\"\",\"\",$M5-1)","v":""},{"$f":"IF($A5=\"\",\"\",$N5+1)","v":""},{"$f":"IF(AND($B5>=1,$B5<=17),INDEX(赤!$B$6:$E$39,MATCH($B5,赤!$B$6:$B$39,0),2),\"\")","v":""},{"$f":"IF($A5=\"\",\"\",$I5+$I5+5)","v":""},{"$f":"IF($A5=\"\",\"\",$B5+$B5+4)","v":""},{"$f":"IF($A5=\"\",\"\",$T5-1)","v":""},{"$f":"IF($A5=\"\",\"\",$U5)","v":""},{"$f":"IF($A5=\"\",\"\",$T5-1)","v":""},{"$f":"IF($A5=\"\",\"\",$U5+1)","v":""},{"$f":"IF(AND($I5>=1,$I5<=17),INDEX(赤!$B$6:$E$39,MATCH($I5,赤!$B$6:$B$39,0),2),\"\")","v":""}]
[null,null,{"$f":"IF(ISERROR(INDEX(概要設定!$J$2:$K$51,MATCH($C7,概要設定!$J$2:$J$51,0),2)),\"\",INDEX(概要設定!$J$2:$K$51,MATCH($C7,概要設定!$J$2:$J$51,0),2))","v":"みずた　よしひろ"},null,null,null,null,{"$f":"IF(ISERROR(INDEX(概要設定!$J$2:$K$51,MATCH($H7,概要設定!$J$2:$J$51,0),2)),\"\",INDEX(概要設定!$J$2:$K$51,MATCH($H7,概要設定!$J$2:$J$51,0),2))","v":"みねやま　たかし"}]
[1,4,{"$f":"IF(AND($B7>=1,$B7<=17),INDEX(赤!$B$6:$E$39,MATCH($B7,赤!$B$6:$B$39,0),4),\"\")","v":"水田　賢宏"},89,null,"w",null,{"$f":"IF(AND($I7>=1,$I7<=17),INDEX(赤!$B$6:$E$39,MATCH($I7,赤!$B$6:$B$39,0),4),\"\")","v":"峯山　崇史"},5,null,null,null,{"$f":"IF($A7=\"\",\"\",$B7+$B7+5)","v":13},{"$f":"IF($A7=\"\",\"\",$I7+$I7+4)","v":14},{"$f":"IF($A7=\"\",\"\",$M7-1)","v":12},{"$f":"IF($A7=\"\",\"\",$N7)","v":14},{"$f":"IF($A7=\"\",\"\",$M7-1)","v":12},{"$f":"IF($A7=\"\",\"\",$N7+1)","v":15},{"$f":"IF(AND($B7>=1,$B7<=17),INDEX(赤!$B$6:$E$39,MATCH($B7,赤!$B$6:$B$39,0),2),\"\")","v":180},{"$f":"IF($A7=\"\",\"\",$I7+$I7+5)","v":15},{"$f":"IF($A7=\"\",\"\",$B7+$B7+4)","v":12},{"$f":"IF($A7=\"\",\"\",$T7-1)","v":14},{"$f":"IF($A7=\"\",\"\",$U7)","v":12},{"$f":"IF($A7=\"\",\"\",$T7-1)","v":14},{"$f":"IF($A7=\"\",\"\",$U7+1)","v":13},{"$f":"IF(AND($I7>=1,$I7<=17),INDEX(赤!$B$6:$E$39,MATCH($I7,赤!$B$6:$B$39,0),2),\"\")","v":180}]
[null,null,{"$f":"IF(ISERROR(INDEX(概要設定!$J$2:$K$51,MATCH($C9,概要設定!$J$2:$J$51,0),2)),\"\",INDEX(概要設定!$J$2:$K$51,MATCH($C9,概要設定!$J$2:$J$51,0),2))","v":"やまだ　くにゆき"},null,null,null,null,{"$f":"IF(ISERROR(INDEX(概要設定!$J$2:$K$51,MATCH($H9,概要設定!$J$2:$J$51,0),2)),\"\",INDEX(概要設定!$J$2:$K$51,MATCH($H9,概要設定!$J$2:$J$51,0),2))","v":"みやの　さおり"}]
[2,3,{"$f":"IF(AND($B9>=1,$B9<=17),INDEX(赤!$B$6:$E$39,MATCH($B9,赤!$B$6:$B$39,0),4),\"\")","v":"山田　晋之"},"w",null,6,null,{"$f":"IF(AND($I9>=1,$I9<=17),INDEX(赤!$B$6:$E$39,MATCH($I9,赤!$B$6:$B$39,0),4),\"\")","v":"宮野　早織"},6,null,null,null,{"$f":"IF($A9=\"\",\"\",$B9+$B9+5)","v":11},{"$f":"IF($A9=\"\",\"\",$I9+$I9+4)","v":16},{"$f":"IF($A9=\"\",\"\",$M9-1)","v":10},{"$f":"IF($A9=\"\",\"\",$N9)","v":16},{"$f":"IF($A9=\"\",\"\",$M9-1)","v":10},{"$f":"IF($A9=\"\",\"\",$N9+1)","v":17},{"$f":"IF(AND($B9>=1,$B9<=17),INDEX(赤!$B$6:$E$39,MATCH($B9,赤!$B$6:$B$39,0),2),\"\")","v":180},{"$f":"IF($A9=\"\",\"\",$I9+$I9+5)","v":17},{"$f":"IF($A9=\"\",\"\",$B9+$B9+4)","v":10},{"$f":"IF($A9=\"\",\"\",$T9-1)","v":16},{"$f":"IF($A9=\"\",\"\",$U9)","v":10},{"$f":"IF($A9=\"\",\"\",$T9-1)","v":16},{"$f":"IF($A9=\"\",\"\",$U9+1)","v":11},{"$f":"IF(AND($I9>=1,$I9<=17),INDEX(赤!$B$6:$E$39,MATCH($I9,赤!$B$6:$B$39,0),2),\"\")","v":140}]
[null,null,{"$f":"IF(ISERROR(INDEX(概要設定!$J$2:$K$51,MATCH($C11,概要設定!$J$2:$J$51,0),2)),\"\",INDEX(概要設定!$J$2:$K$51,MATCH($C11,概要設定!$J$2:$J$51,0),2))","v":"こんどう　たくま"},null,null,null,null,{"$f":"IF(ISERROR(INDEX(概要設定!$J$2:$K$51,MATCH($H11,概要設定!$J$2:$J$51,0),2)),\"\",INDEX(概要設定!$J$2:$K$51,MATCH($H11,概要設定!$J$2:$J$51,0),2))","v":"いわもと　つよし"},null,null,null,null,null,null,null,null,null,null,null,null,null,null,null,null,null,null,null,"記入例","A",180,null,"B",180,null,null,110]
[3,2,{"$f":"IF(AND($B11>=1,$B11<=17),INDEX(赤!$B$6:$E$39,MATCH($B11,赤!$B$6:$B$39,0),4),\"\")","v":"近藤　拓馬"},13,null,"w",null,{"$f":"IF(AND($I11>=1,$I11<=17),INDEX(赤!$B$6:$E$39,MATCH($I11,赤!$B$6:$B$39,0),4),\"\")","v":"岩本　剛"},7,null,null,null,{"$f":"IF($A11=\"\",\"\",$B11+$B11+5)","v":9},{"$f":"IF($A11=\"\",\"\",$I11+$I11+4)","v":18},{"$f":"IF($A11=\"\",\"\",$M11-1)","v":8},{"$f":"IF($A11=\"\",\"\",$N11)","v":18},{"$f":"IF($A11=\"\",\"\",$M11-1)","v":8},{"$f":"IF($A11=\"\",\"\",$N11+1)","v":19},{"$f":"IF(AND($B11>=1,$B11<=17),INDEX(赤!$B$6:$E$39,MATCH($B11,赤!$B$6:$B$39,0),2),\"\")","v":180},{"$f":"IF($A11=\"\",\"\",$I11+$I11+5)","v":19},{"$f":"IF($A11=\"\",\"\",$B11+$B11+4)","v":8},{"$f":"IF($A11=\"\",\"\",$T11-1)","v":18},{"$f":"IF($A11=\"\",\"\",$U11)","v":8},{"$f":"IF($A11=\"\",\"\",$T11-1)","v":18},{"$f":"IF($A11=\"\",\"\",$U11+1)","v":9},{"$f":"IF(AND($I11>=1,$I11<=17),INDEX(赤!$B$6:$E$39,MATCH($I11,赤!$B$6:$B$39,0),2),\"\")","v":180},null,null,"w",null,null,"w",null,null,125]
[null,null,{"$f":"IF(ISERROR(INDEX(概要設定!$J$2:$K$51,MATCH($C13,概要設定!$J$2:$J$51,0),2)),\"\",INDEX(概要設定!$J$2:$K$51,MATCH($C13,概要設定!$J$2:$J$51,0),2))","v":"きっこう　しょうへい"},null,null,null,null,{"$f":"IF(ISERROR(INDEX(概要設定!$J$2:$K$51,MATCH($H13,概要設定!$J$2:$J$51,0),2)),\"\",INDEX(概要設定!$J$2:$K$51,MATCH($H13,概要設定!$J$2:$J$51,0),2))","v":"さとう　じゅんいち"}]
[4,1,{"$f":"IF(AND($B13>=1,$B13<=17),INDEX(赤!$B$6:$E$39,MATCH($B13,赤!$B$6:$B$39,0),4),\"\")","v":"吉向　翔平"},"w",null,54,null,{"$f":"IF(AND($I13>=1,$I13<=17),INDEX(赤!$B$6:$E$39,MATCH($I13,赤!$B$6:$B$39,0),4),\"\")","v":"佐藤　循一"},8,null,null,null,{"$f":"IF($A13=\"\",\"\",$B13+$B13+5)","v":7},{"$f":"IF($A13=\"\",\"\",$I13+$I13+4)","v":20},{"$f":"IF($A13=\"\",\"\",$M13-1)","v":6},{"$f":"IF($A13=\"\",\"\",$N13)","v":20},{"$f":"IF($A13=\"\",\"\",$M13-1)","v":6},{"$f":"IF($A13=\"\",\"\",$N13+1)","v":21},{"$f":"IF(AND($B13>=1,$B13<=17),INDEX(赤!$B$6:$E$39,MATCH($B13,赤!$B$6:$B$39,0),2),\"\")","v":180},{"$f":"IF($A13=\"\",\"\",$I13+$I13+5)","v":21},{"$f":"IF($A13=\"\",\"\",$B13+$B13+4)","v":6},{"$f":"IF($A13=\"\",\"\",$T13-1)","v":20},{"$f":"IF($A13=\"\",\"\",$U13)","v":6},{"$f":"IF($A13=\"\",\"\",$T13-1)","v":20},{"$f":"IF($A13=\"\",\"\",$U13+1)","v":7},{"$f":"IF(AND($I13>=1,$I13<=17),INDEX(赤!$B$6:$E$39,MATCH($I13,赤!$B$6:$B$39,0),2),\"\")","v":180},null,null,"勝者は\"w\"半角小文字で入力して下さい。"]
[null,null,{"$f":"IF(ISERROR(INDEX(概要設定!$J$2:$K$51,MATCH($C15,概要設定!$J$2:$J$51,0),2)),\"\",INDEX(概要設定!$J$2:$K$51,MATCH($C15,概要設定!$J$2:$J$51,0),2))","v":""},null,null,null,null,{"$f":"IF(ISERROR(INDEX(概要設定!$J$2:$K$51,MATCH($H15,概要設定!$J$2:$J$51,0),2)),\"\",INDEX(概要設定!$J$2:$K$51,MATCH($H15,概要設定!$J$2:$J$51,0),2))","v":""}]
[null,"二節",{"$f":"IF(AND($B15>=1,$B15<=17),INDEX(赤!$B$6:$E$39,MATCH($B15,赤!$B$6:$B$39,0),4),\"\")","v":""},null,null,null,null,{"$f":"IF(AND($I15>=1,$I15<=17),INDEX(赤!$B$6:$E$39,MATCH($I15,赤!$B$6:$B$39,0),4),\"\")","v":""},null,null,null,null,{"$f":"IF($A15=\"\",\"\",$B15+$B15+5)","v":""},{"$f":"IF($A15=\"\",\"\",$I15+$I15+4)","v":""},{"$f":"IF($A15=\"\",\"\",$M15-1)","v":""},{"$f":"IF($A15=\"\",\"\",$N15)","v":""},{"$f":"IF($A15=\"\",\"\",$M15-1)","v":""},{"$f":"IF($A15=\"\",\"\",$N15+1)","v":""},{"$f":"IF(AND($B15>=1,$B15<=17),INDEX(赤!$B$6:$E$39,MATCH($B15,赤!$B$6:$B$39,0),2),\"\")","v":""},{"$f":"IF($A15=\"\",\"\",$I15+$I15+5)","v":""},{"$f":"IF($A15=\"\",\"\",$B15+$B15+4)","v":""},{"$f":"IF($A15=\"\",\"\",$T15-1)","v":""},{"$f":"IF($A15=\"\",\"\",$U15)","v":""},{"$f":"IF($A15=\"\",\"\",$T15-1)","v":""},{"$f":"IF($A15=\"\",\"\",$U15+1)","v":""},{"$f":"IF(AND($I15>=1,$I15<=17),INDEX(赤!$B$6:$E$39,MATCH($I15,赤!$B$6:$B$39,0),2),\"\")","v":""},null,null,"敗者側のスコアを入力すると相手側に”ｗ”が自動表示されます。"]
[null,null,{"$f":"IF(ISERROR(INDEX(概要設定!$J$2:$K$51,MATCH($C17,概要設定!$J$2:$J$51,0),2)),\"\",INDEX(概要設定!$J$2:$K$51,MATCH($C17,概要設定!$J$2:$J$51,0),2))","v":"やまだ　くにゆき"},null,null,null,null,{"$f":"IF(ISERROR(INDEX(概要設定!$J$2:$K$51,MATCH($H17,概要設定!$J$2:$J$51,0),2)),\"\",INDEX(概要設定!$J$2:$K$51,MATCH($H17,概要設定!$J$2:$J$51,0),2))","v":"みずた　よしひろ"}]
[5,3,{"$f":"IF(AND($B17>=1,$B17<=17),INDEX(赤!$B$6:$E$39,MATCH($B17,赤!$B$6:$B$39,0),4),\"\")","v":"山田　晋之"},"w",null,107,null,{"$f":"IF(AND($I17>=1,$I17<=17),INDEX(赤!$B$6:$E$39,MATCH($I17,赤!$B$6:$B$39,0),4),\"\")","v":"水田　賢宏"},4,null,null,null,{"$f":"IF($A17=\"\",\"\",$B17+$B17+5)","v":11},{"$f":"IF($A17=\"\",\"\",$I17+$I17+4)","v":12},{"$f":"IF($A17=\"\",\"\",$M17-1)","v":10},{"$f":"IF($A17=\"\",\"\",$N17)","v":12},{"$f":"IF($A17=\"\",\"\",$M17-1)","v":10},{"$f":"IF($A17=\"\",\"\",$N17+1)","v":13},{"$f":"IF(AND($B17>=1,$B17<=17),INDEX(赤!$B$6:$E$39,MATCH($B17,赤!$B$6:$B$39,0),2),\"\")","v":180},{"$f":"IF($A17=\"\",\"\",$I17+$I17+5)","v":13},{"$f":"IF($A17=\"\",\"\",$B17+$B17+4)","v":10},{"$f":"IF($A17=\"\",\"\",$T17-1)","v":12},{"$f":"IF($A17=\"\",\"\",$U17)","v":10},{"$f":"IF($A17=\"\",\"\",$T17-1)","v":12},{"$f":"IF($A17=\"\",\"\",$U17+1)","v":11},{"$f":"IF(AND($I17>=1,$I17<=17),INDEX(赤!$B$6:$E$39,MATCH($I17,赤!$B$6:$B$39,0),2),\"\")","v":180}]
[null,null,{"$f":"IF(ISERROR(INDEX(概要設定!$J$2:$K$51,MATCH($C19,概要設定!$J$2:$J$51,0),2)),\"\",INDEX(概要設定!$J$2:$K$51,MATCH($C19,概要設定!$J$2:$J$51,0),2))","v":"こんどう　たくま"},null,null,null,null,{"$f":"IF(ISERROR(INDEX(概要設定!$J$2:$K$51,MATCH($H19,概要設定!$J$2:$J$51,0),2)),\"\",INDEX(概要設定!$J$2:$K$51,MATCH($H19,概要設定!$J$2:$J$51,0),2))","v":"みねやま　たかし"}]
[6,2,{"$f":"IF(AND($B19>=1,$B19<=17),INDEX(赤!$B$6:$E$39,MATCH($B19,赤!$B$6:$B$39,0),4),\"\")","v":"近藤　拓馬"},"w",null,148,null,{"$f":"IF(AND($I19>=1,$I19<=17),INDEX(赤!$B$6:$E$39,MATCH($I19,赤!$B$6:$B$39,0),4),\"\")","v":"峯山　崇史"},5,null,null,null,{"$f":"IF($A19=\"\",\"\",$B19+$B19+5)","v":9},{"$f":"IF($A19=\"\",\"\",$I19+$I19+4)","v":14},{"$f":"IF($A19=\"\",\"\",$M19-1)","v":8},{"$f":"IF($A19=\"\",\"\",$N19)","v":14},{"$f":"IF($A19=\"\",\"\",$M19-1)","v":8},{"$f":"IF($A19=\"\",\"\",$N19+1)","v":15},{"$f":"IF(AND($B19>=1,$B19<=17),INDEX(赤!$B$6:$E$39,MATCH($B19,赤!$B$6:$B$39,0),2),\"\")","v":180},{"$f":"IF($A19=\"\",\"\",$I19+$I19+5)","v":15},{"$f":"IF($A19=\"\",\"\",$B19+$B19+4)","v":8},{"$f":"IF($A19=\"\",\"\",$T19-1)","v":14},{"$f":"IF($A19=\"\",\"\",$U19)","v":8},{"$f":"IF($A19=\"\",\"\",$T19-1)","v":14},{"$f":"IF($A19=\"\",\"\",$U19+1)","v":9},{"$f":"IF(AND($I19>=1,$I19<=17),INDEX(赤!$B$6:$E$39,MATCH($I19,赤!$B$6:$B$39,0),2),\"\")","v":180}]
[null,null,{"$f":"IF(ISERROR(INDEX(概要設定!$J$2:$K$51,MATCH($C21,概要設定!$J$2:$J$51,0),2)),\"\",INDEX(概要設定!$J$2:$K$51,MATCH($C21,概要設定!$J$2:$J$51,0),2))","v":"さとう　じゅんいち"},null,null,null,null,{"$f":"IF(ISERROR(INDEX(概要設定!$J$2:$K$51,MATCH($H21,概要設定!$J$2:$J$51,0),2)),\"\",INDEX(概要設定!$J$2:$K$51,MATCH($H21,概要設定!$J$2:$J$51,0),2))","v":"みやの　さおり"}]
[7,8,{"$f":"IF(AND($B21>=1,$B21<=17),INDEX(赤!$B$6:$E$39,MATCH($B21,赤!$B$6:$B$39,0),4),\"\")","v":"佐藤　循一"},37,null,"w",null,{"$f":"IF(AND($I21>=1,$I21<=17),INDEX(赤!$B$6:$E$39,MATCH($I21,赤!$B$6:$B$39,0),4),\"\")","v":"宮野　早織"},6,null,null,null,{"$f":"IF($A21=\"\",\"\",$B21+$B21+5)","v":21},{"$f":"IF($A21=\"\",\"\",$I21+$I21+4)","v":16},{"$f":"IF($A21=\"\",\"\",$M21-1)","v":20},{"$f":"IF($A21=\"\",\"\",$N21)","v":16},{"$f":"IF($A21=\"\",\"\",$M21-1)","v":20},{"$f":"IF($A21=\"\",\"\",$N21+1)","v":17},{"$f":"IF(AND($B21>=1,$B21<=17),INDEX(赤!$B$6:$E$39,MATCH($B21,赤!$B$6:$B$39,0),2),\"\")","v":180},{"$f":"IF($A21=\"\",\"\",$I21+$I21+5)","v":17},{"$f":"IF($A21=\"\",\"\",$B21+$B21+4)","v":20},{"$f":"IF($A21=\"\",\"\",$T21-1)","v":16},{"$f":"IF($A21=\"\",\"\",$U21)","v":20},{"$f":"IF($A21=\"\",\"\",$T21-1)","v":16},{"$f":"IF($A21=\"\",\"\",$U21+1)","v":21},{"$f":"IF(AND($I21>=1,$I21<=17),INDEX(赤!$B$6:$E$39,MATCH($I21,赤!$B$6:$B$39,0),2),\"\")","v":140}]
[null,null,{"$f":"IF(ISERROR(INDEX(概要設定!$J$2:$K$51,MATCH($C23,概要設定!$J$2:$J$51,0),2)),\"\",INDEX(概要設定!$J$2:$K$51,MATCH($C23,概要設定!$J$2:$J$51,0),2))","v":"きっこう　しょうへい"},null,null,null,null,{"$f":"IF(ISERROR(INDEX(概要設定!$J$2:$K$51,MATCH($H23,概要設定!$J$2:$J$51,0),2)),\"\",INDEX(概要設定!$J$2:$K$51,MATCH($H23,概要設定!$J$2:$J$51,0),2))","v":"いわもと　つよし"}]
[8,1,{"$f":"IF(AND($B23>=1,$B23<=17),INDEX(赤!$B$6:$E$39,MATCH($B23,赤!$B$6:$B$39,0),4),\"\")","v":"吉向　翔平"},"w",null,31,null,{"$f":"IF(AND($I23>=1,$I23<=17),INDEX(赤!$B$6:$E$39,MATCH($I23,赤!$B$6:$B$39,0),4),\"\")","v":"岩本　剛"},7,null,null,null,{"$f":"IF($A23=\"\",\"\",$B23+$B23+5)","v":7},{"$f":"IF($A23=\"\",\"\",$I23+$I23+4)","v":18},{"$f":"IF($A23=\"\",\"\",$M23-1)","v":6},{"$f":"IF($A23=\"\",\"\",$N23)","v":18},{"$f":"IF($A23=\"\",\"\",$M23-1)","v":6},{"$f":"IF($A23=\"\",\"\",$N23+1)","v":19},{"$f":"IF(AND($B23>=1,$B23<=17),INDEX(赤!$B$6:$E$39,MATCH($B23,赤!$B$6:$B$39,0),2),\"\")","v":180},{"$f":"IF($A23=\"\",\"\",$I23+$I23+5)","v":19},{"$f":"IF($A23=\"\",\"\",$B23+$B23+4)","v":6},{"$f":"IF($A23=\"\",\"\",$T23-1)","v":18},{"$f":"IF($A23=\"\",\"\",$U23)","v":6},{"$f":"IF($A23=\"\",\"\",$T23-1)","v":18},{"$f":"IF($A23=\"\",\"\",$U23+1)","v":7},{"$f":"IF(AND($I23>=1,$I23<=17),INDEX(赤!$B$6:$E$39,MATCH($I23,赤!$B$6:$B$39,0),2),\"\")","v":180}]
[null,null,{"$f":"IF(ISERROR(INDEX(概要設定!$J$2:$K$51,MATCH($C25,概要設定!$J$2:$J$51,0),2)),\"\",INDEX(概要設定!$J$2:$K$51,MATCH($C25,概要設定!$J$2:$J$51,0),2))","v":""},null,null,null,null,{"$f":"IF(ISERROR(INDEX(概要設定!$J$2:$K$51,MATCH($H25,概要設定!$J$2:$J$51,0),2)),\"\",INDEX(概要設定!$J$2:$K$51,MATCH($H25,概要設定!$J$2:$J$51,0),2))","v":""}]
[null,"三節",{"$f":"IF(AND($B25>=1,$B25<=17),INDEX(赤!$B$6:$E$39,MATCH($B25,赤!$B$6:$B$39,0),4),\"\")","v":""},null,null,null,null,{"$f":"IF(AND($I25>=1,$I25<=17),INDEX(赤!$B$6:$E$39,MATCH($I25,赤!$B$6:$B$39,0),4),\"\")","v":""},null,null,null,null,{"$f":"IF($A25=\"\",\"\",$B25+$B25+5)","v":""},{"$f":"IF($A25=\"\",\"\",$I25+$I25+4)","v":""},{"$f":"IF($A25=\"\",\"\",$M25-1)","v":""},{"$f":"IF($A25=\"\",\"\",$N25)","v":""},{"$f":"IF($A25=\"\",\"\",$M25-1)","v":""},{"$f":"IF($A25=\"\",\"\",$N25+1)","v":""},{"$f":"IF(AND($B25>=1,$B25<=17),INDEX(赤!$B$6:$E$39,MATCH($B25,赤!$B$6:$B$39,0),2),\"\")","v":""},{"$f":"IF($A25=\"\",\"\",$I25+$I25+5)","v":""},{"$f":"IF($A25=\"\",\"\",$B25+$B25+4)","v":""},{"$f":"IF($A25=\"\",\"\",$T25-1)","v":""},{"$f":"IF($A25=\"\",\"\",$U25)","v":""},{"$f":"IF($A25=\"\",\"\",$T25-1)","v":""},{"$f":"IF($A25=\"\",\"\",$U25+1)","v":""},{"$f":"IF(AND($I25>=1,$I25<=17),INDEX(赤!$B$6:$E$39,MATCH($I25,赤!$B$6:$B$39,0),2),\"\")","v":""}]
[null,null,{"$f":"IF(ISERROR(INDEX(概要設定!$J$2:$K$51,MATCH($C27,概要設定!$J$2:$J$51,0),2)),\"\",INDEX(概要設定!$J$2:$K$51,MATCH($C27,概要設定!$J$2:$J$51,0),2))","v":"こんどう　たくま"},null,null,null,null,{"$f":"IF(ISERROR(INDEX(概要設定!$J$2:$K$51,MATCH($H27,概要設定!$J$2:$J$51,0),2)),\"\",INDEX(概要設定!$J$2:$K$51,MATCH($H27,概要設定!$J$2:$J$51,0),2))","v":"やまだ　くにゆき"}]
[9,2,{"$f":"IF(AND($B27>=1,$B27<=17),INDEX(赤!$B$6:$E$39,MATCH($B27,赤!$B$6:$B$39,0),4),\"\")","v":"近藤　拓馬"},"w",null,163,null,{"$f":"IF(AND($I27>=1,$I27<=17),INDEX(赤!$B$6:$E$39,MATCH($I27,赤!$B$6:$B$39,0),4),\"\")","v":"山田　晋之"},3,null,null,null,{"$f":"IF($A27=\"\",\"\",$B27+$B27+5)","v":9},{"$f":"IF($A27=\"\",\"\",$I27+$I27+4)","v":10},{"$f":"IF($A27=\"\",\"\",$M27-1)","v":8},{"$f":"IF($A27=\"\",\"\",$N27)","v":10},{"$f":"IF($A27=\"\",\"\",$M27-1)","v":8},{"$f":"IF($A27=\"\",\"\",$N27+1)","v":11},{"$f":"IF(AND($B27>=1,$B27<=17),INDEX(赤!$B$6:$E$39,MATCH($B27,赤!$B$6:$B$39,0),2),\"\")","v":180},{"$f":"IF($A27=\"\",\"\",$I27+$I27+5)","v":11},{"$f":"IF($A27=\"\",\"\",$B27+$B27+4)","v":8},{"$f":"IF($A27=\"\",\"\",$T27-1)","v":10},{"$f":"IF($A27=\"\",\"\",$U27)","v":8},{"$f":"IF($A27=\"\",\"\",$T27-1)","v":10},{"$f":"IF($A27=\"\",\"\",$U27+1)","v":9},{"$f":"IF(AND($I27>=1,$I27<=17),INDEX(赤!$B$6:$E$39,MATCH($I27,赤!$B$6:$B$39,0),2),\"\")","v":180}]
[null,null,{"$f":"IF(ISERROR(INDEX(概要設定!$J$2:$K$51,MATCH($C29,概要設定!$J$2:$J$51,0),2)),\"\",INDEX(概要設定!$J$2:$K$51,MATCH($C29,概要設定!$J$2:$J$51,0),2))","v":"さとう　じゅんいち"},null,null,null,115,{"$f":"IF(ISERROR(INDEX(概要設定!$J$2:$K$51,MATCH($H29,概要設定!$J$2:$J$51,0),2)),\"\",INDEX(概要設定!$J$2:$K$51,MATCH($H29,概要設定!$J$2:$J$51,0),2))","v":"みずた　よしひろ"}]
[10,8,{"$f":"IF(AND($B29>=1,$B29<=17),INDEX(赤!$B$6:$E$39,MATCH($B29,赤!$B$6:$B$39,0),4),\"\")","v":"佐藤　循一"},123,null,"w",null,{"$f":"IF(AND($I29>=1,$I29<=17),INDEX(赤!$B$6:$E$39,MATCH($I29,赤!$B$6:$B$39,0),4),\"\")","v":"水田　賢宏"},4,null,null,null,{"$f":"IF($A29=\"\",\"\",$B29+$B29+5)","v":21},{"$f":"IF($A29=\"\",\"\",$I29+$I29+4)","v":12},{"$f":"IF($A29=\"\",\"\",$M29-1)","v":20},{"$f":"IF($A29=\"\",\"\",$N29)","v":12},{"$f":"IF($A29=\"\",\"\",$M29-1)","v":20},{"$f":"IF($A29=\"\",\"\",$N29+1)","v":13},{"$f":"IF(AND($B29>=1,$B29<=17),INDEX(赤!$B$6:$E$39,MATCH($B29,赤!$B$6:$B$39,0),2),\"\")","v":180},{"$f":"IF($A29=\"\",\"\",$I29+$I29+5)","v":13},{"$f":"IF($A29=\"\",\"\",$B29+$B29+4)","v":20},{"$f":"IF($A29=\"\",\"\",$T29-1)","v":12},{"$f":"IF($A29=\"\",\"\",$U29)","v":20},{"$f":"IF($A29=\"\",\"\",$T29-1)","v":12},{"$f":"IF($A29=\"\",\"\",$U29+1)","v":21},{"$f":"IF(AND($I29>=1,$I29<=17),INDEX(赤!$B$6:$E$39,MATCH($I29,赤!$B$6:$B$39,0),2),\"\")","v":180}]
[null,null,{"$f":"IF(ISERROR(INDEX(概要設定!$J$2:$K$51,MATCH($C31,概要設定!$J$2:$J$51,0),2)),\"\",INDEX(概要設定!$J$2:$K$51,MATCH($C31,概要設定!$J$2:$J$51,0),2))","v":"いわもと　つよし"},null,null,null,null,{"$f":"IF(ISERROR(INDEX(概要設定!$J$2:$K$51,MATCH($H31,概要設定!$J$2:$J$51,0),2)),\"\",INDEX(概要設定!$J$2:$K$51,MATCH($H31,概要設定!$J$2:$J$51,0),2))","v":"みねやま　たかし"}]
[11,7,{"$f":"IF(AND($B31>=1,$B31<=17),INDEX(赤!$B$6:$E$39,MATCH($B31,赤!$B$6:$B$39,0),4),\"\")","v":"岩本　剛"},"w",null,141,null,{"$f":"IF(AND($I31>=1,$I31<=17),INDEX(赤!$B$6:$E$39,MATCH($I31,赤!$B$6:$B$39,0),4),\"\")","v":"峯山　崇史"},5,null,null,null,{"$f":"IF($A31=\"\",\"\",$B31+$B31+5)","v":19},{"$f":"IF($A31=\"\",\"\",$I31+$I31+4)","v":14},{"$f":"IF($A31=\"\",\"\",$M31-1)","v":18},{"$f":"IF($A31=\"\",\"\",$N31)","v":14},{"$f":"IF($A31=\"\",\"\",$M31-1)","v":18},{"$f":"IF($A31=\"\",\"\",$N31+1)","v":15},{"$f":"IF(AND($B31>=1,$B31<=17),INDEX(赤!$B$6:$E$39,MATCH($B31,赤!$B$6:$B$39,0),2),\"\")","v":180},{"$f":"IF($A31=\"\",\"\",$I31+$I31+5)","v":15},{"$f":"IF($A31=\"\",\"\",$B31+$B31+4)","v":18},{"$f":"IF($A31=\"\",\"\",$T31-1)","v":14},{"$f":"IF($A31=\"\",\"\",$U31)","v":18},{"$f":"IF($A31=\"\",\"\",$T31-1)","v":14},{"$f":"IF($A31=\"\",\"\",$U31+1)","v":19},{"$f":"IF(AND($I31>=1,$I31<=17),INDEX(赤!$B$6:$E$39,MATCH($I31,赤!$B$6:$B$39,0),2),\"\")","v":180}]
[null,null,{"$f":"IF(ISERROR(INDEX(概要設定!$J$2:$K$51,MATCH($C33,概要設定!$J$2:$J$51,0),2)),\"\",INDEX(概要設定!$J$2:$K$51,MATCH($C33,概要設定!$J$2:$J$51,0),2))","v":"きっこう　しょうへい"},null,null,null,null,{"$f":"IF(ISERROR(INDEX(概要設定!$J$2:$K$51,MATCH($H33,概要設定!$J$2:$J$51,0),2)),\"\",INDEX(概要設定!$J$2:$K$51,MATCH($H33,概要設定!$J$2:$J$51,0),2))","v":"みやの　さおり"}]
[12,1,{"$f":"IF(AND($B33>=1,$B33<=17),INDEX(赤!$B$6:$E$39,MATCH($B33,赤!$B$6:$B$39,0),4),\"\")","v":"吉向　翔平"},138,null,"w",null,{"$f":"IF(AND($I33>=1,$I33<=17),INDEX(赤!$B$6:$E$39,MATCH($I33,赤!$B$6:$B$39,0),4),\"\")","v":"宮野　早織"},6,null,null,null,{"$f":"IF($A33=\"\",\"\",$B33+$B33+5)","v":7},{"$f":"IF($A33=\"\",\"\",$I33+$I33+4)","v":16},{"$f":"IF($A33=\"\",\"\",$M33-1)","v":6},{"$f":"IF($A33=\"\",\"\",$N33)","v":16},{"$f":"IF($A33=\"\",\"\",$M33-1)","v":6},{"$f":"IF($A33=\"\",\"\",$N33+1)","v":17},{"$f":"IF(AND($B33>=1,$B33<=17),INDEX(赤!$B$6:$E$39,MATCH($B33,赤!$B$6:$B$39,0),2),\"\")","v":180},{"$f":"IF($A33=\"\",\"\",$I33+$I33+5)","v":17},{"$f":"IF($A33=\"\",\"\",$B33+$B33+4)","v":6},{"$f":"IF($A33=\"\",\"\",$T33-1)","v":16},{"$f":"IF($A33=\"\",\"\",$U33)","v":6},{"$f":"IF($A33=\"\",\"\",$T33-1)","v":16},{"$f":"IF($A33=\"\",\"\",$U33+1)","v":7},{"$f":"IF(AND($I33>=1,$I33<=17),INDEX(赤!$B$6:$E$39,MATCH($I33,赤!$B$6:$B$39,0),2),\"\")","v":140}]
[null,null,{"$f":"IF(ISERROR(INDEX(概要設定!$J$2:$K$51,MATCH($C35,概要設定!$J$2:$J$51,0),2)),\"\",INDEX(概要設定!$J$2:$K$51,MATCH($C35,概要設定!$J$2:$J$51,0),2))","v":""},null,null,null,null,{"$f":"IF(ISERROR(INDEX(概要設定!$J$2:$K$51,MATCH($H35,概要設定!$J$2:$J$51,0),2)),\"\",INDEX(概要設定!$J$2:$K$51,MATCH($H35,概要設定!$J$2:$J$51,0),2))","v":""}]
[null,"四節",{"$f":"IF(AND($B35>=1,$B35<=17),INDEX(赤!$B$6:$E$39,MATCH($B35,赤!$B$6:$B$39,0),4),\"\")","v":""},null,null,null,null,{"$f":"IF(AND($I35>=1,$I35<=17),INDEX(赤!$B$6:$E$39,MATCH($I35,赤!$B$6:$B$39,0),4),\"\")","v":""},null,null,null,null,{"$f":"IF($A35=\"\",\"\",$B35+$B35+5)","v":""},{"$f":"IF($A35=\"\",\"\",$I35+$I35+4)","v":""},{"$f":"IF($A35=\"\",\"\",$M35-1)","v":""},{"$f":"IF($A35=\"\",\"\",$N35)","v":""},{"$f":"IF($A35=\"\",\"\",$M35-1)","v":""},{"$f":"IF($A35=\"\",\"\",$N35+1)","v":""},{"$f":"IF(AND($B35>=1,$B35<=17),INDEX(赤!$B$6:$E$39,MATCH($B35,赤!$B$6:$B$39,0),2),\"\")","v":""},{"$f":"IF($A35=\"\",\"\",$I35+$I35+5)","v":""},{"$f":"IF($A35=\"\",\"\",$B35+$B35+4)","v":""},{"$f":"IF($A35=\"\",\"\",$T35-1)","v":""},{"$f":"IF($A35=\"\",\"\",$U35)","v":""},{"$f":"IF($A35=\"\",\"\",$T35-1)","v":""},{"$f":"IF($A35=\"\",\"\",$U35+1)","v":""},{"$f":"IF(AND($I35>=1,$I35<=17),INDEX(赤!$B$6:$E$39,MATCH($I35,赤!$B$6:$B$39,0),2),\"\")","v":""}]
[null,null,{"$f":"IF(ISERROR(INDEX(概要設定!$J$2:$K$51,MATCH($C37,概要設定!$J$2:$J$51,0),2)),\"\",INDEX(概要設定!$J$2:$K$51,MATCH($C37,概要設定!$J$2:$J$51,0),2))","v":"さとう　じゅんいち"},null,null,null,null,{"$f":"IF(ISERROR(INDEX(概要設定!$J$2:$K$51,MATCH($H37,概要設定!$J$2:$J$51,0),2)),\"\",INDEX(概要設定!$J$2:$K$51,MATCH($H37,概要設定!$J$2:$J$51,0),2))","v":"こんどう　たくま"}]
[13,8,{"$f":"IF(AND($B37>=1,$B37<=17),INDEX(赤!$B$6:$E$39,MATCH($B37,赤!$B$6:$B$39,0),4),\"\")","v":"佐藤　循一"},33,null,"w",null,{"$f":"IF(AND($I37>=1,$I37<=17),INDEX(赤!$B$6:$E$39,MATCH($I37,赤!$B$6:$B$39,0),4),\"\")","v":"近藤　拓馬"},2,null,null,null,{"$f":"IF($A37=\"\",\"\",$B37+$B37+5)","v":21},{"$f":"IF($A37=\"\",\"\",$I37+$I37+4)","v":8},{"$f":"IF($A37=\"\",\"\",$M37-1)","v":20},{"$f":"IF($A37=\"\",\"\",$N37)","v":8},{"$f":"IF($A37=\"\",\"\",$M37-1)","v":20},{"$f":"IF($A37=\"\",\"\",$N37+1)","v":9},{"$f":"IF(AND($B37>=1,$B37<=17),INDEX(赤!$B$6:$E$39,MATCH($B37,赤!$B$6:$B$39,0),2),\"\")","v":180},{"$f":"IF($A37=\"\",\"\",$I37+$I37+5)","v":9},{"$f":"IF($A37=\"\",\"\",$B37+$B37+4)","v":20},{"$f":"IF($A37=\"\",\"\",$T37-1)","v":8},{"$f":"IF($A37=\"\",\"\",$U37)","v":20},{"$f":"IF($A37=\"\",\"\",$T37-1)","v":8},{"$f":"IF($A37=\"\",\"\",$U37+1)","v":21},{"$f":"IF(AND($I37>=1,$I37<=17),INDEX(赤!$B$6:$E$39,MATCH($I37,赤!$B$6:$B$39,0),2),\"\")","v":180}]
[null,null,{"$f":"IF(ISERROR(INDEX(概要設定!$J$2:$K$51,MATCH($C39,概要設定!$J$2:$J$51,0),2)),\"\",INDEX(概要設定!$J$2:$K$51,MATCH($C39,概要設定!$J$2:$J$51,0),2))","v":"いわもと　つよし"},null,null,null,null,{"$f":"IF(ISERROR(INDEX(概要設定!$J$2:$K$51,MATCH($H39,概要設定!$J$2:$J$51,0),2)),\"\",INDEX(概要設定!$J$2:$K$51,MATCH($H39,概要設定!$J$2:$J$51,0),2))","v":"やまだ　くにゆき"}]
[14,7,{"$f":"IF(AND($B39>=1,$B39<=17),INDEX(赤!$B$6:$E$39,MATCH($B39,赤!$B$6:$B$39,0),4),\"\")","v":"岩本　剛"},"w",null,34,null,{"$f":"IF(AND($I39>=1,$I39<=17),INDEX(赤!$B$6:$E$39,MATCH($I39,赤!$B$6:$B$39,0),4),\"\")","v":"山田　晋之"},3,null,null,null,{"$f":"IF($A39=\"\",\"\",$B39+$B39+5)","v":19},{"$f":"IF($A39=\"\",\"\",$I39+$I39+4)","v":10},{"$f":"IF($A39=\"\",\"\",$M39-1)","v":18},{"$f":"IF($A39=\"\",\"\",$N39)","v":10},{"$f":"IF($A39=\"\",\"\",$M39-1)","v":18},{"$f":"IF($A39=\"\",\"\",$N39+1)","v":11},{"$f":"IF(AND($B39>=1,$B39<=17),INDEX(赤!$B$6:$E$39,MATCH($B39,赤!$B$6:$B$39,0),2),\"\")","v":180},{"$f":"IF($A39=\"\",\"\",$I39+$I39+5)","v":11},{"$f":"IF($A39=\"\",\"\",$B39+$B39+4)","v":18},{"$f":"IF($A39=\"\",\"\",$T39-1)","v":10},{"$f":"IF($A39=\"\",\"\",$U39)","v":18},{"$f":"IF($A39=\"\",\"\",$T39-1)","v":10},{"$f":"IF($A39=\"\",\"\",$U39+1)","v":19},{"$f":"IF(AND($I39>=1,$I39<=17),INDEX(赤!$B$6:$E$39,MATCH($I39,赤!$B$6:$B$39,0),2),\"\")","v":180}]
[null,null,{"$f":"IF(ISERROR(INDEX(概要設定!$J$2:$K$51,MATCH($C41,概要設定!$J$2:$J$51,0),2)),\"\",INDEX(概要設定!$J$2:$K$51,MATCH($C41,概要設定!$J$2:$J$51,0),2))","v":"みやの　さおり"},null,null,null,null,{"$f":"IF(ISERROR(INDEX(概要設定!$J$2:$K$51,MATCH($H41,概要設定!$J$2:$J$51,0),2)),\"\",INDEX(概要設定!$J$2:$K$51,MATCH($H41,概要設定!$J$2:$J$51,0),2))","v":"みずた　よしひろ"}]
[15,6,{"$f":"IF(AND($B41>=1,$B41<=17),INDEX(赤!$B$6:$E$39,MATCH($B41,赤!$B$6:$B$39,0),4),\"\")","v":"宮野　早織"},"w",null,117,null,{"$f":"IF(AND($I41>=1,$I41<=17),INDEX(赤!$B$6:$E$39,MATCH($I41,赤!$B$6:$B$39,0),4),\"\")","v":"水田　賢宏"},4,null,null,null,{"$f":"IF($A41=\"\",\"\",$B41+$B41+5)","v":17},{"$f":"IF($A41=\"\",\"\",$I41+$I41+4)","v":12},{"$f":"IF($A41=\"\",\"\",$M41-1)","v":16},{"$f":"IF($A41=\"\",\"\",$N41)","v":12},{"$f":"IF($A41=\"\",\"\",$M41-1)","v":16},{"$f":"IF($A41=\"\",\"\",$N41+1)","v":13},{"$f":"IF(AND($B41>=1,$B41<=17),INDEX(赤!$B$6:$E$39,MATCH($B41,赤!$B$6:$B$39,0),2),\"\")","v":140},{"$f":"IF($A41=\"\",\"\",$I41+$I41+5)","v":13},{"$f":"IF($A41=\"\",\"\",$B41+$B41+4)","v":16},{"$f":"IF($A41=\"\",\"\",$T41-1)","v":12},{"$f":"IF($A41=\"\",\"\",$U41)","v":16},{"$f":"IF($A41=\"\",\"\",$T41-1)","v":12},{"$f":"IF($A41=\"\",\"\",$U41+1)","v":17},{"$f":"IF(AND($I41>=1,$I41<=17),INDEX(赤!$B$6:$E$39,MATCH($I41,赤!$B$6:$B$39,0),2),\"\")","v":180}]
[null,null,{"$f":"IF(ISERROR(INDEX(概要設定!$J$2:$K$51,MATCH($C43,概要設定!$J$2:$J$51,0),2)),\"\",INDEX(概要設定!$J$2:$K$51,MATCH($C43,概要設定!$J$2:$J$51,0),2))","v":"きっこう　しょうへい"},null,null,null,null,{"$f":"IF(ISERROR(INDEX(概要設定!$J$2:$K$51,MATCH($H43,概要設定!$J$2:$J$51,0),2)),\"\",INDEX(概要設定!$J$2:$K$51,MATCH($H43,概要設定!$J$2:$J$51,0),2))","v":"みねやま　たかし"}]
[16,1,{"$f":"IF(AND($B43>=1,$B43<=17),INDEX(赤!$B$6:$E$39,MATCH($B43,赤!$B$6:$B$39,0),4),\"\")","v":"吉向　翔平"},"w",null,140,null,{"$f":"IF(AND($I43>=1,$I43<=17),INDEX(赤!$B$6:$E$39,MATCH($I43,赤!$B$6:$B$39,0),4),\"\")","v":"峯山　崇史"},5,null,null,null,{"$f":"IF($A43=\"\",\"\",$B43+$B43+5)","v":7},{"$f":"IF($A43=\"\",\"\",$I43+$I43+4)","v":14},{"$f":"IF($A43=\"\",\"\",$M43-1)","v":6},{"$f":"IF($A43=\"\",\"\",$N43)","v":14},{"$f":"IF($A43=\"\",\"\",$M43-1)","v":6},{"$f":"IF($A43=\"\",\"\",$N43+1)","v":15},{"$f":"IF(AND($B43>=1,$B43<=17),INDEX(赤!$B$6:$E$39,MATCH($B43,赤!$B$6:$B$39,0),2),\"\")","v":180},{"$f":"IF($A43=\"\",\"\",$I43+$I43+5)","v":15},{"$f":"IF($A43=\"\",\"\",$B43+$B43+4)","v":6},{"$f":"IF($A43=\"\",\"\",$T43-1)","v":14},{"$f":"IF($A43=\"\",\"\",$U43)","v":6},{"$f":"IF($A43=\"\",\"\",$T43-1)","v":14},{"$f":"IF($A43=\"\",\"\",$U43+1)","v":7},{"$f":"IF(AND($I43>=1,$I43<=17),INDEX(赤!$B$6:$E$39,MATCH($I43,赤!$B$6:$B$39,0),2),\"\")","v":180}]
[null,null,{"$f":"IF(ISERROR(INDEX(概要設定!$J$2:$K$51,MATCH($C45,概要設定!$J$2:$J$51,0),2)),\"\",INDEX(概要設定!$J$2:$K$51,MATCH($C45,概要設定!$J$2:$J$51,0),2))","v":""},null,null,null,null,{"$f":"IF(ISERROR(INDEX(概要設定!$J$2:$K$51,MATCH($H45,概要設定!$J$2:$J$51,0),2)),\"\",INDEX(概要設定!$J$2:$K$51,MATCH($H45,概要設定!$J$2:$J$51,0),2))","v":""}]
[null,"五節",{"$f":"IF(AND($B45>=1,$B45<=17),INDEX(赤!$B$6:$E$39,MATCH($B45,赤!$B$6:$B$39,0),4),\"\")","v":""},null,null,null,null,{"$f":"IF(AND($I45>=1,$I45<=17),INDEX(赤!$B$6:$E$39,MATCH($I45,赤!$B$6:$B$39,0),4),\"\")","v":""},null,null,null,null,{"$f":"IF($A45=\"\",\"\",$B45+$B45+5)","v":""},{"$f":"IF($A45=\"\",\"\",$I45+$I45+4)","v":""},{"$f":"IF($A45=\"\",\"\",$M45-1)","v":""},{"$f":"IF($A45=\"\",\"\",$N45)","v":""},{"$f":"IF($A45=\"\",\"\",$M45-1)","v":""},{"$f":"IF($A45=\"\",\"\",$N45+1)","v":""},{"$f":"IF(AND($B45>=1,$B45<=17),INDEX(赤!$B$6:$E$39,MATCH($B45,赤!$B$6:$B$39,0),2),\"\")","v":""},{"$f":"IF($A45=\"\",\"\",$I45+$I45+5)","v":""},{"$f":"IF($A45=\"\",\"\",$B45+$B45+4)","v":""},{"$f":"IF($A45=\"\",\"\",$T45-1)","v":""},{"$f":"IF($A45=\"\",\"\",$U45)","v":""},{"$f":"IF($A45=\"\",\"\",$T45-1)","v":""},{"$f":"IF($A45=\"\",\"\",$U45+1)","v":""},{"$f":"IF(AND($I45>=1,$I45<=17),INDEX(赤!$B$6:$E$39,MATCH($I45,赤!$B$6:$B$39,0),2),\"\")","v":""}]
[null,null,{"$f":"IF(ISERROR(INDEX(概要設定!$J$2:$K$51,MATCH($C47,概要設定!$J$2:$J$51,0),2)),\"\",INDEX(概要設定!$J$2:$K$51,MATCH($C47,概要設定!$J$2:$J$51,0),2))","v":"いわもと　つよし"},null,null,null,null,{"$f":"IF(ISERROR(INDEX(概要設定!$J$2:$K$51,MATCH($H47,概要設定!$J$2:$J$51,0),2)),\"\",INDEX(概要設定!$J$2:$K$51,MATCH($H47,概要設定!$J$2:$J$51,0),2))","v":"さとう　じゅんいち"}]
[17,7,{"$f":"IF(AND($B47>=1,$B47<=17),INDEX(赤!$B$6:$E$39,MATCH($B47,赤!$B$6:$B$39,0),4),\"\")","v":"岩本　剛"},"w",null,67,null,{"$f":"IF(AND($I47>=1,$I47<=17),INDEX(赤!$B$6:$E$39,MATCH($I47,赤!$B$6:$B$39,0),4),\"\")","v":"佐藤　循一"},8,null,null,null,{"$f":"IF($A47=\"\",\"\",$B47+$B47+5)","v":19},{"$f":"IF($A47=\"\",\"\",$I47+$I47+4)","v":20},{"$f":"IF($A47=\"\",\"\",$M47-1)","v":18},{"$f":"IF($A47=\"\",\"\",$N47)","v":20},{"$f":"IF($A47=\"\",\"\",$M47-1)","v":18},{"$f":"IF($A47=\"\",\"\",$N47+1)","v":21},{"$f":"IF(AND($B47>=1,$B47<=17),INDEX(赤!$B$6:$E$39,MATCH($B47,赤!$B$6:$B$39,0),2),\"\")","v":180},{"$f":"IF($A47=\"\",\"\",$I47+$I47+5)","v":21},{"$f":"IF($A47=\"\",\"\",$B47+$B47+4)","v":18},{"$f":"IF($A47=\"\",\"\",$T47-1)","v":20},{"$f":"IF($A47=\"\",\"\",$U47)","v":18},{"$f":"IF($A47=\"\",\"\",$T47-1)","v":20},{"$f":"IF($A47=\"\",\"\",$U47+1)","v":19},{"$f":"IF(AND($I47>=1,$I47<=17),INDEX(赤!$B$6:$E$39,MATCH($I47,赤!$B$6:$B$39,0),2),\"\")","v":180}]
[null,null,{"$f":"IF(ISERROR(INDEX(概要設定!$J$2:$K$51,MATCH($C49,概要設定!$J$2:$J$51,0),2)),\"\",INDEX(概要設定!$J$2:$K$51,MATCH($C49,概要設定!$J$2:$J$51,0),2))","v":"みやの　さおり"},null,null,null,null,{"$f":"IF(ISERROR(INDEX(概要設定!$J$2:$K$51,MATCH($H49,概要設定!$J$2:$J$51,0),2)),\"\",INDEX(概要設定!$J$2:$K$51,MATCH($H49,概要設定!$J$2:$J$51,0),2))","v":"こんどう　たくま"}]
[18,6,{"$f":"IF(AND($B49>=1,$B49<=17),INDEX(赤!$B$6:$E$39,MATCH($B49,赤!$B$6:$B$39,0),4),\"\")","v":"宮野　早織"},121,null,"w",null,{"$f":"IF(AND($I49>=1,$I49<=17),INDEX(赤!$B$6:$E$39,MATCH($I49,赤!$B$6:$B$39,0),4),\"\")","v":"近藤　拓馬"},2,null,null,null,{"$f":"IF($A49=\"\",\"\",$B49+$B49+5)","v":17},{"$f":"IF($A49=\"\",\"\",$I49+$I49+4)","v":8},{"$f":"IF($A49=\"\",\"\",$M49-1)","v":16},{"$f":"IF($A49=\"\",\"\",$N49)","v":8},{"$f":"IF($A49=\"\",\"\",$M49-1)","v":16},{"$f":"IF($A49=\"\",\"\",$N49+1)","v":9},{"$f":"IF(AND($B49>=1,$B49<=17),INDEX(赤!$B$6:$E$39,MATCH($B49,赤!$B$6:$B$39,0),2),\"\")","v":140},{"$f":"IF($A49=\"\",\"\",$I49+$I49+5)","v":9},{"$f":"IF($A49=\"\",\"\",$B49+$B49+4)","v":16},{"$f":"IF($A49=\"\",\"\",$T49-1)","v":8},{"$f":"IF($A49=\"\",\"\",$U49)","v":16},{"$f":"IF($A49=\"\",\"\",$T49-1)","v":8},{"$f":"IF($A49=\"\",\"\",$U49+1)","v":17},{"$f":"IF(AND($I49>=1,$I49<=17),INDEX(赤!$B$6:$E$39,MATCH($I49,赤!$B$6:$B$39,0),2),\"\")","v":180}]
[null,null,{"$f":"IF(ISERROR(INDEX(概要設定!$J$2:$K$51,MATCH($C51,概要設定!$J$2:$J$51,0),2)),\"\",INDEX(概要設定!$J$2:$K$51,MATCH($C51,概要設定!$J$2:$J$51,0),2))","v":"みねやま　たかし"},null,null,null,null,{"$f":"IF(ISERROR(INDEX(概要設定!$J$2:$K$51,MATCH($H51,概要設定!$J$2:$J$51,0),2)),\"\",INDEX(概要設定!$J$2:$K$51,MATCH($H51,概要設定!$J$2:$J$51,0),2))","v":"やまだ　くにゆき"}]
[19,5,{"$f":"IF(AND($B51>=1,$B51<=17),INDEX(赤!$B$6:$E$39,MATCH($B51,赤!$B$6:$B$39,0),4),\"\")","v":"峯山　崇史"},111,null,"w",null,{"$f":"IF(AND($I51>=1,$I51<=17),INDEX(赤!$B$6:$E$39,MATCH($I51,赤!$B$6:$B$39,0),4),\"\")","v":"山田　晋之"},3,null,null,null,{"$f":"IF($A51=\"\",\"\",$B51+$B51+5)","v":15},{"$f":"IF($A51=\"\",\"\",$I51+$I51+4)","v":10},{"$f":"IF($A51=\"\",\"\",$M51-1)","v":14},{"$f":"IF($A51=\"\",\"\",$N51)","v":10},{"$f":"IF($A51=\"\",\"\",$M51-1)","v":14},{"$f":"IF($A51=\"\",\"\",$N51+1)","v":11},{"$f":"IF(AND($B51>=1,$B51<=17),INDEX(赤!$B$6:$E$39,MATCH($B51,赤!$B$6:$B$39,0),2),\"\")","v":180},{"$f":"IF($A51=\"\",\"\",$I51+$I51+5)","v":11},{"$f":"IF($A51=\"\",\"\",$B51+$B51+4)","v":14},{"$f":"IF($A51=\"\",\"\",$T51-1)","v":10},{"$f":"IF($A51=\"\",\"\",$U51)","v":14},{"$f":"IF($A51=\"\",\"\",$T51-1)","v":10},{"$f":"IF($A51=\"\",\"\",$U51+1)","v":15},{"$f":"IF(AND($I51>=1,$I51<=17),INDEX(赤!$B$6:$E$39,MATCH($I51,赤!$B$6:$B$39,0),2),\"\")","v":180}]
[null,null,{"$f":"IF(ISERROR(INDEX(概要設定!$J$2:$K$51,MATCH($C53,概要設定!$J$2:$J$51,0),2)),\"\",INDEX(概要設定!$J$2:$K$51,MATCH($C53,概要設定!$J$2:$J$51,0),2))","v":"きっこう　しょうへい"},null,null,null,null,{"$f":"IF(ISERROR(INDEX(概要設定!$J$2:$K$51,MATCH($H53,概要設定!$J$2:$J$51,0),2)),\"\",INDEX(概要設定!$J$2:$K$51,MATCH($H53,概要設定!$J$2:$J$51,0),2))","v":"みずた　よしひろ"}]
[20,1,{"$f":"IF(AND($B53>=1,$B53<=17),INDEX(赤!$B$6:$E$39,MATCH($B53,赤!$B$6:$B$39,0),4),\"\")","v":"吉向　翔平"},"w",null,100,null,{"$f":"IF(AND($I53>=1,$I53<=17),INDEX(赤!$B$6:$E$39,MATCH($I53,赤!$B$6:$B$39,0),4),\"\")","v":"水田　賢宏"},4,null,null,null,{"$f":"IF($A53=\"\",\"\",$B53+$B53+5)","v":7},{"$f":"IF($A53=\"\",\"\",$I53+$I53+4)","v":12},{"$f":"IF($A53=\"\",\"\",$M53-1)","v":6},{"$f":"IF($A53=\"\",\"\",$N53)","v":12},{"$f":"IF($A53=\"\",\"\",$M53-1)","v":6},{"$f":"IF($A53=\"\",\"\",$N53+1)","v":13},{"$f":"IF(AND($B53>=1,$B53<=17),INDEX(赤!$B$6:$E$39,MATCH($B53,赤!$B$6:$B$39,0),2),\"\")","v":180},{"$f":"IF($A53=\"\",\"\",$I53+$I53+5)","v":13},{"$f":"IF($A53=\"\",\"\",$B53+$B53+4)","v":6},{"$f":"IF($A53=\"\",\"\",$T53-1)","v":12},{"$f":"IF($A53=\"\",\"\",$U53)","v":6},{"$f":"IF($A53=\"\",\"\",$T53-1)","v":12},{"$f":"IF($A53=\"\",\"\",$U53+1)","v":7},{"$f":"IF(AND($I53>=1,$I53<=17),INDEX(赤!$B$6:$E$39,MATCH($I53,赤!$B$6:$B$39,0),2),\"\")","v":180}]
[null,null,{"$f":"IF(ISERROR(INDEX(概要設定!$J$2:$K$51,MATCH($C55,概要設定!$J$2:$J$51,0),2)),\"\",INDEX(概要設定!$J$2:$K$51,MATCH($C55,概要設定!$J$2:$J$51,0),2))","v":""},null,null,null,null,{"$f":"IF(ISERROR(INDEX(概要設定!$J$2:$K$51,MATCH($H55,概要設定!$J$2:$J$51,0),2)),\"\",INDEX(概要設定!$J$2:$K$51,MATCH($H55,概要設定!$J$2:$J$51,0),2))","v":""}]
[null,"六節",{"$f":"IF(AND($B55>=1,$B55<=17),INDEX(赤!$B$6:$E$39,MATCH($B55,赤!$B$6:$B$39,0),4),\"\")","v":""},null,null,null,null,{"$f":"IF(AND($I55>=1,$I55<=17),INDEX(赤!$B$6:$E$39,MATCH($I55,赤!$B$6:$B$39,0),4),\"\")","v":""},null,null,null,null,{"$f":"IF($A55=\"\",\"\",$B55+$B55+5)","v":""},{"$f":"IF($A55=\"\",\"\",$I55+$I55+4)","v":""},{"$f":"IF($A55=\"\",\"\",$M55-1)","v":""},{"$f":"IF($A55=\"\",\"\",$N55)","v":""},{"$f":"IF($A55=\"\",\"\",$M55-1)","v":""},{"$f":"IF($A55=\"\",\"\",$N55+1)","v":""},{"$f":"IF(AND($B55>=1,$B55<=17),INDEX(赤!$B$6:$E$39,MATCH($B55,赤!$B$6:$B$39,0),2),\"\")","v":""},{"$f":"IF($A55=\"\",\"\",$I55+$I55+5)","v":""},{"$f":"IF($A55=\"\",\"\",$B55+$B55+4)","v":""},{"$f":"IF($A55=\"\",\"\",$T55-1)","v":""},{"$f":"IF($A55=\"\",\"\",$U55)","v":""},{"$f":"IF($A55=\"\",\"\",$T55-1)","v":""},{"$f":"IF($A55=\"\",\"\",$U55+1)","v":""},{"$f":"IF(AND($I55>=1,$I55<=17),INDEX(赤!$B$6:$E$39,MATCH($I55,赤!$B$6:$B$39,0),2),\"\")","v":""}]
[null,null,{"$f":"IF(ISERROR(INDEX(概要設定!$J$2:$K$51,MATCH($C57,概要設定!$J$2:$J$51,0),2)),\"\",INDEX(概要設定!$J$2:$K$51,MATCH($C57,概要設定!$J$2:$J$51,0),2))","v":"みやの　さおり"},null,null,null,null,{"$f":"IF(ISERROR(INDEX(概要設定!$J$2:$K$51,MATCH($H57,概要設定!$J$2:$J$51,0),2)),\"\",INDEX(概要設定!$J$2:$K$51,MATCH($H57,概要設定!$J$2:$J$51,0),2))","v":"いわもと　つよし"}]
[21,6,{"$f":"IF(AND($B57>=1,$B57<=17),INDEX(赤!$B$6:$E$39,MATCH($B57,赤!$B$6:$B$39,0),4),\"\")","v":"宮野　早織"},43,null,"w",null,{"$f":"IF(AND($I57>=1,$I57<=17),INDEX(赤!$B$6:$E$39,MATCH($I57,赤!$B$6:$B$39,0),4),\"\")","v":"岩本　剛"},7,null,null,null,{"$f":"IF($A57=\"\",\"\",$B57+$B57+5)","v":17},{"$f":"IF($A57=\"\",\"\",$I57+$I57+4)","v":18},{"$f":"IF($A57=\"\",\"\",$M57-1)","v":16},{"$f":"IF($A57=\"\",\"\",$N57)","v":18},{"$f":"IF($A57=\"\",\"\",$M57-1)","v":16},{"$f":"IF($A57=\"\",\"\",$N57+1)","v":19},{"$f":"IF(AND($B57>=1,$B57<=17),INDEX(赤!$B$6:$E$39,MATCH($B57,赤!$B$6:$B$39,0),2),\"\")","v":140},{"$f":"IF($A57=\"\",\"\",$I57+$I57+5)","v":19},{"$f":"IF($A57=\"\",\"\",$B57+$B57+4)","v":16},{"$f":"IF($A57=\"\",\"\",$T57-1)","v":18},{"$f":"IF($A57=\"\",\"\",$U57)","v":16},{"$f":"IF($A57=\"\",\"\",$T57-1)","v":18},{"$f":"IF($A57=\"\",\"\",$U57+1)","v":17},{"$f":"IF(AND($I57>=1,$I57<=17),INDEX(赤!$B$6:$E$39,MATCH($I57,赤!$B$6:$B$39,0),2),\"\")","v":180}]
[null,null,{"$f":"IF(ISERROR(INDEX(概要設定!$J$2:$K$51,MATCH($C59,概要設定!$J$2:$J$51,0),2)),\"\",INDEX(概要設定!$J$2:$K$51,MATCH($C59,概要設定!$J$2:$J$51,0),2))","v":"みねやま　たかし"},null,null,null,null,{"$f":"IF(ISERROR(INDEX(概要設定!$J$2:$K$51,MATCH($H59,概要設定!$J$2:$J$51,0),2)),\"\",INDEX(概要設定!$J$2:$K$51,MATCH($H59,概要設定!$J$2:$J$51,0),2))","v":"さとう　じゅんいち"}]
[22,5,{"$f":"IF(AND($B59>=1,$B59<=17),INDEX(赤!$B$6:$E$39,MATCH($B59,赤!$B$6:$B$39,0),4),\"\")","v":"峯山　崇史"},"w",null,64,null,{"$f":"IF(AND($I59>=1,$I59<=17),INDEX(赤!$B$6:$E$39,MATCH($I59,赤!$B$6:$B$39,0),4),\"\")","v":"佐藤　循一"},8,null,null,null,{"$f":"IF($A59=\"\",\"\",$B59+$B59+5)","v":15},{"$f":"IF($A59=\"\",\"\",$I59+$I59+4)","v":20},{"$f":"IF($A59=\"\",\"\",$M59-1)","v":14},{"$f":"IF($A59=\"\",\"\",$N59)","v":20},{"$f":"IF($A59=\"\",\"\",$M59-1)","v":14},{"$f":"IF($A59=\"\",\"\",$N59+1)","v":21},{"$f":"IF(AND($B59>=1,$B59<=17),INDEX(赤!$B$6:$E$39,MATCH($B59,赤!$B$6:$B$39,0),2),\"\")","v":180},{"$f":"IF($A59=\"\",\"\",$I59+$I59+5)","v":21},{"$f":"IF($A59=\"\",\"\",$B59+$B59+4)","v":14},{"$f":"IF($A59=\"\",\"\",$T59-1)","v":20},{"$f":"IF($A59=\"\",\"\",$U59)","v":14},{"$f":"IF($A59=\"\",\"\",$T59-1)","v":20},{"$f":"IF($A59=\"\",\"\",$U59+1)","v":15},{"$f":"IF(AND($I59>=1,$I59<=17),INDEX(赤!$B$6:$E$39,MATCH($I59,赤!$B$6:$B$39,0),2),\"\")","v":180}]
[null,null,{"$f":"IF(ISERROR(INDEX(概要設定!$J$2:$K$51,MATCH($C61,概要設定!$J$2:$J$51,0),2)),\"\",INDEX(概要設定!$J$2:$K$51,MATCH($C61,概要設定!$J$2:$J$51,0),2))","v":"みずた　よしひろ"},null,null,null,null,{"$f":"IF(ISERROR(INDEX(概要設定!$J$2:$K$51,MATCH($H61,概要設定!$J$2:$J$51,0),2)),\"\",INDEX(概要設定!$J$2:$K$51,MATCH($H61,概要設定!$J$2:$J$51,0),2))","v":"こんどう　たくま"}]
[23,4,{"$f":"IF(AND($B61>=1,$B61<=17),INDEX(赤!$B$6:$E$39,MATCH($B61,赤!$B$6:$B$39,0),4),\"\")","v":"水田　賢宏"},61,null,"w",null,{"$f":"IF(AND($I61>=1,$I61<=17),INDEX(赤!$B$6:$E$39,MATCH($I61,赤!$B$6:$B$39,0),4),\"\")","v":"近藤　拓馬"},2,null,null,null,{"$f":"IF($A61=\"\",\"\",$B61+$B61+5)","v":13},{"$f":"IF($A61=\"\",\"\",$I61+$I61+4)","v":8},{"$f":"IF($A61=\"\",\"\",$M61-1)","v":12},{"$f":"IF($A61=\"\",\"\",$N61)","v":8},{"$f":"IF($A61=\"\",\"\",$M61-1)","v":12},{"$f":"IF($A61=\"\",\"\",$N61+1)","v":9},{"$f":"IF(AND($B61>=1,$B61<=17),INDEX(赤!$B$6:$E$39,MATCH($B61,赤!$B$6:$B$39,0),2),\"\")","v":180},{"$f":"IF($A61=\"\",\"\",$I61+$I61+5)","v":9},{"$f":"IF($A61=\"\",\"\",$B61+$B61+4)","v":12},{"$f":"IF($A61=\"\",\"\",$T61-1)","v":8},{"$f":"IF($A61=\"\",\"\",$U61)","v":12},{"$f":"IF($A61=\"\",\"\",$T61-1)","v":8},{"$f":"IF($A61=\"\",\"\",$U61+1)","v":13},{"$f":"IF(AND($I61>=1,$I61<=17),INDEX(赤!$B$6:$E$39,MATCH($I61,赤!$B$6:$B$39,0),2),\"\")","v":180}]
[null,null,{"$f":"IF(ISERROR(INDEX(概要設定!$J$2:$K$51,MATCH($C63,概要設定!$J$2:$J$51,0),2)),\"\",INDEX(概要設定!$J$2:$K$51,MATCH($C63,概要設定!$J$2:$J$51,0),2))","v":"きっこう　しょうへい"},null,null,null,null,{"$f":"IF(ISERROR(INDEX(概要設定!$J$2:$K$51,MATCH($H63,概要設定!$J$2:$J$51,0),2)),\"\",INDEX(概要設定!$J$2:$K$51,MATCH($H63,概要設定!$J$2:$J$51,0),2))","v":"やまだ　くにゆき"}]
[24,1,{"$f":"IF(AND($B63>=1,$B63<=17),INDEX(赤!$B$6:$E$39,MATCH($B63,赤!$B$6:$B$39,0),4),\"\")","v":"吉向　翔平"},"w",null,50,null,{"$f":"IF(AND($I63>=1,$I63<=17),INDEX(赤!$B$6:$E$39,MATCH($I63,赤!$B$6:$B$39,0),4),\"\")","v":"山田　晋之"},3,null,null,null,{"$f":"IF($A63=\"\",\"\",$B63+$B63+5)","v":7},{"$f":"IF($A63=\"\",\"\",$I63+$I63+4)","v":10},{"$f":"IF($A63=\"\",\"\",$M63-1)","v":6},{"$f":"IF($A63=\"\",\"\",$N63)","v":10},{"$f":"IF($A63=\"\",\"\",$M63-1)","v":6},{"$f":"IF($A63=\"\",\"\",$N63+1)","v":11},{"$f":"IF(AND($B63>=1,$B63<=17),INDEX(赤!$B$6:$E$39,MATCH($B63,赤!$B$6:$B$39,0),2),\"\")","v":180},{"$f":"IF($A63=\"\",\"\",$I63+$I63+5)","v":11},{"$f":"IF($A63=\"\",\"\",$B63+$B63+4)","v":6},{"$f":"IF($A63=\"\",\"\",$T63-1)","v":10},{"$f":"IF($A63=\"\",\"\",$U63)","v":6},{"$f":"IF($A63=\"\",\"\",$T63-1)","v":10},{"$f":"IF($A63=\"\",\"\",$U63+1)","v":7},{"$f":"IF(AND($I63>=1,$I63<=17),INDEX(赤!$B$6:$E$39,MATCH($I63,赤!$B$6:$B$39,0),2),\"\")","v":180}]
[null,null,{"$f":"IF(ISERROR(INDEX(概要設定!$J$2:$K$51,MATCH($C65,概要設定!$J$2:$J$51,0),2)),\"\",INDEX(概要設定!$J$2:$K$51,MATCH($C65,概要設定!$J$2:$J$51,0),2))","v":""},null,null,null,null,{"$f":"IF(ISERROR(INDEX(概要設定!$J$2:$K$51,MATCH($H65,概要設定!$J$2:$J$51,0),2)),\"\",INDEX(概要設定!$J$2:$K$51,MATCH($H65,概要設定!$J$2:$J$51,0),2))","v":""}]
[null,"七節",{"$f":"IF(AND($B65>=1,$B65<=17),INDEX(赤!$B$6:$E$39,MATCH($B65,赤!$B$6:$B$39,0),4),\"\")","v":""},null,null,null,null,{"$f":"IF(AND($I65>=1,$I65<=17),INDEX(赤!$B$6:$E$39,MATCH($I65,赤!$B$6:$B$39,0),4),\"\")","v":""},null,null,null,null,{"$f":"IF($A65=\"\",\"\",$B65+$B65+5)","v":""},{"$f":"IF($A65=\"\",\"\",$I65+$I65+4)","v":""},{"$f":"IF($A65=\"\",\"\",$M65-1)","v":""},{"$f":"IF($A65=\"\",\"\",$N65)","v":""},{"$f":"IF($A65=\"\",\"\",$M65-1)","v":""},{"$f":"IF($A65=\"\",\"\",$N65+1)","v":""},{"$f":"IF(AND($B65>=1,$B65<=17),INDEX(赤!$B$6:$E$39,MATCH($B65,赤!$B$6:$B$39,0),2),\"\")","v":""},{"$f":"IF($A65=\"\",\"\",$I65+$I65+5)","v":""},{"$f":"IF($A65=\"\",\"\",$B65+$B65+4)","v":""},{"$f":"IF($A65=\"\",\"\",$T65-1)","v":""},{"$f":"IF($A65=\"\",\"\",$U65)","v":""},{"$f":"IF($A65=\"\",\"\",$T65-1)","v":""},{"$f":"IF($A65=\"\",\"\",$U65+1)","v":""},{"$f":"IF(AND($I65>=1,$I65<=17),INDEX(赤!$B$6:$E$39,MATCH($I65,赤!$B$6:$B$39,0),2),\"\")","v":""}]
[null,null,{"$f":"IF(ISERROR(INDEX(概要設定!$J$2:$K$51,MATCH($C67,概要設定!$J$2:$J$51,0),2)),\"\",INDEX(概要設定!$J$2:$K$51,MATCH($C67,概要設定!$J$2:$J$51,0),2))","v":"みねやま　たかし"},null,null,null,null,{"$f":"IF(ISERROR(INDEX(概要設定!$J$2:$K$51,MATCH($H67,概要設定!$J$2:$J$51,0),2)),\"\",INDEX(概要設定!$J$2:$K$51,MATCH($H67,概要設定!$J$2:$J$51,0),2))","v":"みやの　さおり"}]
[25,5,{"$f":"IF(AND($B67>=1,$B67<=17),INDEX(赤!$B$6:$E$39,MATCH($B67,赤!$B$6:$B$39,0),4),\"\")","v":"峯山　崇史"},null,null,null,null,{"$f":"IF(AND($I67>=1,$I67<=17),INDEX(赤!$B$6:$E$39,MATCH($I67,赤!$B$6:$B$39,0),4),\"\")","v":"宮野　早織"},6,null,null,null,{"$f":"IF($A67=\"\",\"\",$B67+$B67+5)","v":15},{"$f":"IF($A67=\"\",\"\",$I67+$I67+4)","v":16},{"$f":"IF($A67=\"\",\"\",$M67-1)","v":14},{"$f":"IF($A67=\"\",\"\",$N67)","v":16},{"$f":"IF($A67=\"\",\"\",$M67-1)","v":14},{"$f":"IF($A67=\"\",\"\",$N67+1)","v":17},{"$f":"IF(AND($B67>=1,$B67<=17),INDEX(赤!$B$6:$E$39,MATCH($B67,赤!$B$6:$B$39,0),2),\"\")","v":180},{"$f":"IF($A67=\"\",\"\",$I67+$I67+5)","v":17},{"$f":"IF($A67=\"\",\"\",$B67+$B67+4)","v":14},{"$f":"IF($A67=\"\",\"\",$T67-1)","v":16},{"$f":"IF($A67=\"\",\"\",$U67)","v":14},{"$f":"IF($A67=\"\",\"\",$T67-1)","v":16},{"$f":"IF($A67=\"\",\"\",$U67+1)","v":15},{"$f":"IF(AND($I67>=1,$I67<=17),INDEX(赤!$B$6:$E$39,MATCH($I67,赤!$B$6:$B$39,0),2),\"\")","v":140}]
[null,null,{"$f":"IF(ISERROR(INDEX(概要設定!$J$2:$K$51,MATCH($C69,概要設定!$J$2:$J$51,0),2)),\"\",INDEX(概要設定!$J$2:$K$51,MATCH($C69,概要設定!$J$2:$J$51,0),2))","v":"みずた　よしひろ"},null,null,null,null,{"$f":"IF(ISERROR(INDEX(概要設定!$J$2:$K$51,MATCH($H69,概要設定!$J$2:$J$51,0),2)),\"\",INDEX(概要設定!$J$2:$K$51,MATCH($H69,概要設定!$J$2:$J$51,0),2))","v":"いわもと　つよし"}]
[26,4,{"$f":"IF(AND($B69>=1,$B69<=17),INDEX(赤!$B$6:$E$39,MATCH($B69,赤!$B$6:$B$39,0),4),\"\")","v":"水田　賢宏"},null,null,null,null,{"$f":"IF(AND($I69>=1,$I69<=17),INDEX(赤!$B$6:$E$39,MATCH($I69,赤!$B$6:$B$39,0),4),\"\")","v":"岩本　剛"},7,null,null,null,{"$f":"IF($A69=\"\",\"\",$B69+$B69+5)","v":13},{"$f":"IF($A69=\"\",\"\",$I69+$I69+4)","v":18},{"$f":"IF($A69=\"\",\"\",$M69-1)","v":12},{"$f":"IF($A69=\"\",\"\",$N69)","v":18},{"$f":"IF($A69=\"\",\"\",$M69-1)","v":12},{"$f":"IF($A69=\"\",\"\",$N69+1)","v":19},{"$f":"IF(AND($B69>=1,$B69<=17),INDEX(赤!$B$6:$E$39,MATCH($B69,赤!$B$6:$B$39,0),2),\"\")","v":180},{"$f":"IF($A69=\"\",\"\",$I69+$I69+5)","v":19},{"$f":"IF($A69=\"\",\"\",$B69+$B69+4)","v":12},{"$f":"IF($A69=\"\",\"\",$T69-1)","v":18},{"$f":"IF($A69=\"\",\"\",$U69)","v":12},{"$f":"IF($A69=\"\",\"\",$T69-1)","v":18},{"$f":"IF($A69=\"\",\"\",$U69+1)","v":13},{"$f":"IF(AND($I69>=1,$I69<=17),INDEX(赤!$B$6:$E$39,MATCH($I69,赤!$B$6:$B$39,0),2),\"\")","v":180}]
[null,null,{"$f":"IF(ISERROR(INDEX(概要設定!$J$2:$K$51,MATCH($C71,概要設定!$J$2:$J$51,0),2)),\"\",INDEX(概要設定!$J$2:$K$51,MATCH($C71,概要設定!$J$2:$J$51,0),2))","v":"やまだ　くにゆき"},null,null,null,null,{"$f":"IF(ISERROR(INDEX(概要設定!$J$2:$K$51,MATCH($H71,概要設定!$J$2:$J$51,0),2)),\"\",INDEX(概要設定!$J$2:$K$51,MATCH($H71,概要設定!$J$2:$J$51,0),2))","v":"さとう　じゅんいち"}]
[27,3,{"$f":"IF(AND($B71>=1,$B71<=17),INDEX(赤!$B$6:$E$39,MATCH($B71,赤!$B$6:$B$39,0),4),\"\")","v":"山田　晋之"},null,null,null,null,{"$f":"IF(AND($I71>=1,$I71<=17),INDEX(赤!$B$6:$E$39,MATCH($I71,赤!$B$6:$B$39,0),4),\"\")","v":"佐藤　循一"},8,null,null,null,{"$f":"IF($A71=\"\",\"\",$B71+$B71+5)","v":11},{"$f":"IF($A71=\"\",\"\",$I71+$I71+4)","v":20},{"$f":"IF($A71=\"\",\"\",$M71-1)","v":10},{"$f":"IF($A71=\"\",\"\",$N71)","v":20},{"$f":"IF($A71=\"\",\"\",$M71-1)","v":10},{"$f":"IF($A71=\"\",\"\",$N71+1)","v":21},{"$f":"IF(AND($B71>=1,$B71<=17),INDEX(赤!$B$6:$E$39,MATCH($B71,赤!$B$6:$B$39,0),2),\"\")","v":180},{"$f":"IF($A71=\"\",\"\",$I71+$I71+5)","v":21},{"$f":"IF($A71=\"\",\"\",$B71+$B71+4)","v":10},{"$f":"IF($A71=\"\",\"\",$T71-1)","v":20},{"$f":"IF($A71=\"\",\"\",$U71)","v":10},{"$f":"IF($A71=\"\",\"\",$T71-1)","v":20},{"$f":"IF($A71=\"\",\"\",$U71+1)","v":11},{"$f":"IF(AND($I71>=1,$I71<=17),INDEX(赤!$B$6:$E$39,MATCH($I71,赤!$B$6:$B$39,0),2),\"\")","v":180}]
[null,null,{"$f":"IF(ISERROR(INDEX(概要設定!$J$2:$K$51,MATCH($C73,概要設定!$J$2:$J$51,0),2)),\"\",INDEX(概要設定!$J$2:$K$51,MATCH($C73,概要設定!$J$2:$J$51,0),2))","v":"きっこう　しょうへい"},null,null,null,null,{"$f":"IF(ISERROR(INDEX(概要設定!$J$2:$K$51,MATCH($H73,概要設定!$J$2:$J$51,0),2)),\"\",INDEX(概要設定!$J$2:$K$51,MATCH($H73,概要設定!$J$2:$J$51,0),2))","v":"こんどう　たくま"}]
[28,1,{"$f":"IF(AND($B73>=1,$B73<=17),INDEX(赤!$B$6:$E$39,MATCH($B73,赤!$B$6:$B$39,0),4),\"\")","v":"吉向　翔平"},null,null,null,null,{"$f":"IF(AND($I73>=1,$I73<=17),INDEX(赤!$B$6:$E$39,MATCH($I73,赤!$B$6:$B$39,0),4),\"\")","v":"近藤　拓馬"},2,null,null,null,{"$f":"IF($A73=\"\",\"\",$B73+$B73+5)","v":7},{"$f":"IF($A73=\"\",\"\",$I73+$I73+4)","v":8},{"$f":"IF($A73=\"\",\"\",$M73-1)","v":6},{"$f":"IF($A73=\"\",\"\",$N73)","v":8},{"$f":"IF($A73=\"\",\"\",$M73-1)","v":6},{"$f":"IF($A73=\"\",\"\",$N73+1)","v":9},{"$f":"IF(AND($B73>=1,$B73<=17),INDEX(赤!$B$6:$E$39,MATCH($B73,赤!$B$6:$B$39,0),2),\"\")","v":180},{"$f":"IF($A73=\"\",\"\",$I73+$I73+5)","v":9},{"$f":"IF($A73=\"\",\"\",$B73+$B73+4)","v":6},{"$f":"IF($A73=\"\",\"\",$T73-1)","v":8},{"$f":"IF($A73=\"\",\"\",$U73)","v":6},{"$f":"IF($A73=\"\",\"\",$T73-1)","v":8},{"$f":"IF($A73=\"\",\"\",$U73+1)","v":7},{"$f":"IF(AND($I73>=1,$I73<=17),INDEX(赤!$B$6:$E$39,MATCH($I73,赤!$B$6:$B$39,0),2),\"\")","v":180}]
[null,null,{"$f":"IF(ISERROR(INDEX(概要設定!$J$2:$K$51,MATCH($C75,概要設定!$J$2:$J$51,0),2)),\"\",INDEX(概要設定!$J$2:$K$51,MATCH($C75,概要設定!$J$2:$J$51,0),2))","v":""},null,null,null,null,{"$f":"IF(ISERROR(INDEX(概要設定!$J$2:$K$51,MATCH($H75,概要設定!$J$2:$J$51,0),2)),\"\",INDEX(概要設定!$J$2:$K$51,MATCH($H75,概要設定!$J$2:$J$51,0),2))","v":""}]
[null,null,{"$f":"IF(AND($B75>=1,$B75<=17),INDEX(赤!$B$6:$E$39,MATCH($B75,赤!$B$6:$B$39,0),4),\"\")","v":""},null,null,null,null,{"$f":"IF(AND($I75>=1,$I75<=17),INDEX(赤!$B$6:$E$39,MATCH($I75,赤!$B$6:$B$39,0),4),\"\")","v":""},null,null,null,null,{"$f":"IF($A75=\"\",\"\",$B75+$B75+5)","v":""},{"$f":"IF($A75=\"\",\"\",$I75+$I75+4)","v":""},"","","","",{"$f":"IF(AND($B75>=1,$B75<=17),INDEX(赤!$B$6:$E$39,MATCH($B75,赤!$B$6:$B$39,0),2),\"\")","v":""},{"$f":"IF($A75=\"\",\"\",$I75+$I75+5)","v":""},{"$f":"IF($A75=\"\",\"\",$B75+$B75+4)","v":""},"","","","",{"$f":"IF(AND($I75>=1,$I75<=17),INDEX(赤!$B$6:$E$39,MATCH($I75,赤!$B$6:$B$39,0),2),\"\")","v":""}]
[null,null,{"$f":"IF(ISERROR(INDEX(概要設定!$J$2:$K$51,MATCH($C77,概要設定!$J$2:$J$51,0),2)),\"\",INDEX(概要設定!$J$2:$K$51,MATCH($C77,概要設定!$J$2:$J$51,0),2))","v":""},null,null,null,null,{"$f":"IF(ISERROR(INDEX(概要設定!$J$2:$K$51,MATCH($H77,概要設定!$J$2:$J$51,0),2)),\"\",INDEX(概要設定!$J$2:$K$51,MATCH($H77,概要設定!$J$2:$J$51,0),2))","v":""}]
[null,null,{"$f":"IF(AND($B77>=1,$B77<=17),INDEX(赤!$B$6:$E$39,MATCH($B77,赤!$B$6:$B$39,0),4),\"\")","v":""},null,null,null,null,{"$f":"IF(AND($I77>=1,$I77<=17),INDEX(赤!$B$6:$E$39,MATCH($I77,赤!$B$6:$B$39,0),4),\"\")","v":""},null,null,null,null,{"$f":"IF($A77=\"\",\"\",$B77+$B77+5)","v":""},{"$f":"IF($A77=\"\",\"\",$I77+$I77+4)","v":""},"","","","",{"$f":"IF(AND($B77>=1,$B77<=17),INDEX(赤!$B$6:$E$39,MATCH($B77,赤!$B$6:$B$39,0),2),\"\")","v":""},{"$f":"IF($A77=\"\",\"\",$I77+$I77+5)","v":""},{"$f":"IF($A77=\"\",\"\",$B77+$B77+4)","v":""},"","","","",{"$f":"IF(AND($I77>=1,$I77<=17),INDEX(赤!$B$6:$E$39,MATCH($I77,赤!$B$6:$B$39,0),2),\"\")","v":""}]
[null,null,{"$f":"IF(ISERROR(INDEX(概要設定!$J$2:$K$51,MATCH($C79,概要設定!$J$2:$J$51,0),2)),\"\",INDEX(概要設定!$J$2:$K$51,MATCH($C79,概要設定!$J$2:$J$51,0),2))","v":""},null,null,null,null,{"$f":"IF(ISERROR(INDEX(概要設定!$J$2:$K$51,MATCH($H79,概要設定!$J$2:$J$51,0),2)),\"\",INDEX(概要設定!$J$2:$K$51,MATCH($H79,概要設定!$J$2:$J$51,0),2))","v":""}]
[null,null,{"$f":"IF(AND($B79>=1,$B79<=17),INDEX(赤!$B$6:$E$39,MATCH($B79,赤!$B$6:$B$39,0),4),\"\")","v":""},null,null,null,null,{"$f":"IF(AND($I79>=1,$I79<=17),INDEX(赤!$B$6:$E$39,MATCH($I79,赤!$B$6:$B$39,0),4),\"\")","v":""},null,null,null,null,{"$f":"IF($A79=\"\",\"\",$B79+$B79+5)","v":""},{"$f":"IF($A79=\"\",\"\",$I79+$I79+4)","v":""},"","","","",{"$f":"IF(AND($B79>=1,$B79<=17),INDEX(赤!$B$6:$E$39,MATCH($B79,赤!$B$6:$B$39,0),2),\"\")","v":""},{"$f":"IF($A79=\"\",\"\",$I79+$I79+5)","v":""},{"$f":"IF($A79=\"\",\"\",$B79+$B79+4)","v":""},"","","","",{"$f":"IF(AND($I79>=1,$I79<=17),INDEX(赤!$B$6:$E$39,MATCH($I79,赤!$B$6:$B$39,0),2),\"\")","v":""}]
[null,null,{"$f":"IF(ISERROR(INDEX(概要設定!$J$2:$K$51,MATCH($C81,概要設定!$J$2:$J$51,0),2)),\"\",INDEX(概要設定!$J$2:$K$51,MATCH($C81,概要設定!$J$2:$J$51,0),2))","v":""},null,null,null,null,{"$f":"IF(ISERROR(INDEX(概要設定!$J$2:$K$51,MATCH($H81,概要設定!$J$2:$J$51,0),2)),\"\",INDEX(概要設定!$J$2:$K$51,MATCH($H81,概要設定!$J$2:$J$51,0),2))","v":""}]
[null,null,{"$f":"IF(AND($B81>=1,$B81<=17),INDEX(赤!$B$6:$E$39,MATCH($B81,赤!$B$6:$B$39,0),4),\"\")","v":""},null,null,null,null,{"$f":"IF(AND($I81>=1,$I81<=17),INDEX(赤!$B$6:$E$39,MATCH($I81,赤!$B$6:$B$39,0),4),\"\")","v":""},null,null,null,null,{"$f":"IF($A81=\"\",\"\",$B81+$B81+5)","v":""},{"$f":"IF($A81=\"\",\"\",$I81+$I81+4)","v":""},"","","","",{"$f":"IF(AND($B81>=1,$B81<=17),INDEX(赤!$B$6:$E$39,MATCH($B81,赤!$B$6:$B$39,0),2),\"\")","v":""},{"$f":"IF($A81=\"\",\"\",$I81+$I81+5)","v":""},{"$f":"IF($A81=\"\",\"\",$B81+$B81+4)","v":""},"","","","",{"$f":"IF(AND($I81>=1,$I81<=17),INDEX(赤!$B$6:$E$39,MATCH($I81,赤!$B$6:$B$39,0),2),\"\")","v":""}]
[null,null,{"$f":"IF(ISERROR(INDEX(概要設定!$J$2:$K$51,MATCH($C83,概要設定!$J$2:$J$51,0),2)),\"\",INDEX(概要設定!$J$2:$K$51,MATCH($C83,概要設定!$J$2:$J$51,0),2))","v":""},null,null,null,null,{"$f":"IF(ISERROR(INDEX(概要設定!$J$2:$K$51,MATCH($H83,概要設定!$J$2:$J$51,0),2)),\"\",INDEX(概要設定!$J$2:$K$51,MATCH($H83,概要設定!$J$2:$J$51,0),2))","v":""}]
[null,null,{"$f":"IF(AND($B83>=1,$B83<=17),INDEX(赤!$B$6:$E$39,MATCH($B83,赤!$B$6:$B$39,0),4),\"\")","v":""},null,null,null,null,{"$f":"IF(AND($I83>=1,$I83<=17),INDEX(赤!$B$6:$E$39,MATCH($I83,赤!$B$6:$B$39,0),4),\"\")","v":""},null,null,null,null,{"$f":"IF($A83=\"\",\"\",$B83+$B83+5)","v":""},{"$f":"IF($A83=\"\",\"\",$I83+$I83+4)","v":""},"","","","",{"$f":"IF(AND($B83>=1,$B83<=17),INDEX(赤!$B$6:$E$39,MATCH($B83,赤!$B$6:$B$39,0),2),\"\")","v":""},{"$f":"IF($A83=\"\",\"\",$I83+$I83+5)","v":""},{"$f":"IF($A83=\"\",\"\",$B83+$B83+4)","v":""},"","","","",{"$f":"IF(AND($I83>=1,$I83<=17),INDEX(赤!$B$6:$E$39,MATCH($I83,赤!$B$6:$B$39,0),2),\"\")","v":""}]
[null,null,{"$f":"IF(ISERROR(INDEX(概要設定!$J$2:$K$51,MATCH($C85,概要設定!$J$2:$J$51,0),2)),\"\",INDEX(概要設定!$J$2:$K$51,MATCH($C85,概要設定!$J$2:$J$51,0),2))","v":""},null,null,null,null,{"$f":"IF(ISERROR(INDEX(概要設定!$J$2:$K$51,MATCH($H85,概要設定!$J$2:$J$51,0),2)),\"\",INDEX(概要設定!$J$2:$K$51,MATCH($H85,概要設定!$J$2:$J$51,0),2))","v":""}]
[null,null,{"$f":"IF(AND($B85>=1,$B85<=17),INDEX(赤!$B$6:$E$39,MATCH($B85,赤!$B$6:$B$39,0),4),\"\")","v":""},null,null,null,null,{"$f":"IF(AND($I85>=1,$I85<=17),INDEX(赤!$B$6:$E$39,MATCH($I85,赤!$B$6:$B$39,0),4),\"\")","v":""},null,null,null,null,{"$f":"IF($A85=\"\",\"\",$B85+$B85+5)","v":""},{"$f":"IF($A85=\"\",\"\",$I85+$I85+4)","v":""},"","","","",{"$f":"IF(AND($B85>=1,$B85<=17),INDEX(赤!$B$6:$E$39,MATCH($B85,赤!$B$6:$B$39,0),2),\"\")","v":""},{"$f":"IF($A85=\"\",\"\",$I85+$I85+5)","v":""},{"$f":"IF($A85=\"\",\"\",$B85+$B85+4)","v":""},"","","","",{"$f":"IF(AND($I85>=1,$I85<=17),INDEX(赤!$B$6:$E$39,MATCH($I85,赤!$B$6:$B$39,0),2),\"\")","v":""}]
[null,null,{"$f":"IF(ISERROR(INDEX(概要設定!$J$2:$K$51,MATCH($C87,概要設定!$J$2:$J$51,0),2)),\"\",INDEX(概要設定!$J$2:$K$51,MATCH($C87,概要設定!$J$2:$J$51,0),2))","v":""},null,null,null,null,{"$f":"IF(ISERROR(INDEX(概要設定!$J$2:$K$51,MATCH($H87,概要設定!$J$2:$J$51,0),2)),\"\",INDEX(概要設定!$J$2:$K$51,MATCH($H87,概要設定!$J$2:$J$51,0),2))","v":""}]
[null,null,{"$f":"IF(AND($B87>=1,$B87<=17),INDEX(赤!$B$6:$E$39,MATCH($B87,赤!$B$6:$B$39,0),4),\"\")","v":""},null,null,null,null,{"$f":"IF(AND($I87>=1,$I87<=17),INDEX(赤!$B$6:$E$39,MATCH($I87,赤!$B$6:$B$39,0),4),\"\")","v":""},null,null,null,null,{"$f":"IF($A87=\"\",\"\",$B87+$B87+5)","v":""},{"$f":"IF($A87=\"\",\"\",$I87+$I87+4)","v":""},"","","","",{"$f":"IF(AND($B87>=1,$B87<=17),INDEX(赤!$B$6:$E$39,MATCH($B87,赤!$B$6:$B$39,0),2),\"\")","v":""},{"$f":"IF($A87=\"\",\"\",$I87+$I87+5)","v":""},{"$f":"IF($A87=\"\",\"\",$B87+$B87+4)","v":""},"","","","",{"$f":"IF(AND($I87>=1,$I87<=17),INDEX(赤!$B$6:$E$39,MATCH($I87,赤!$B$6:$B$39,0),2),\"\")","v":""}]
[null,null,{"$f":"IF(ISERROR(INDEX(概要設定!$J$2:$K$51,MATCH($C89,概要設定!$J$2:$J$51,0),2)),\"\",INDEX(概要設定!$J$2:$K$51,MATCH($C89,概要設定!$J$2:$J$51,0),2))","v":""},null,null,null,null,{"$f":"IF(ISERROR(INDEX(概要設定!$J$2:$K$51,MATCH($H89,概要設定!$J$2:$J$51,0),2)),\"\",INDEX(概要設定!$J$2:$K$51,MATCH($H89,概要設定!$J$2:$J$51,0),2))","v":""}]
[null,null,{"$f":"IF(AND($B89>=1,$B89<=17),INDEX(赤!$B$6:$E$39,MATCH($B89,赤!$B$6:$B$39,0),4),\"\")","v":""},null,null,null,null,{"$f":"IF(AND($I89>=1,$I89<=17),INDEX(赤!$B$6:$E$39,MATCH($I89,赤!$B$6:$B$39,0),4),\"\")","v":""},null,null,null,null,{"$f":"IF($A89=\"\",\"\",$B89+$B89+5)","v":""},{"$f":"IF($A89=\"\",\"\",$I89+$I89+4)","v":""},"","","","",{"$f":"IF(AND($B89>=1,$B89<=17),INDEX(赤!$B$6:$E$39,MATCH($B89,赤!$B$6:$B$39,0),2),\"\")","v":""},{"$f":"IF($A89=\"\",\"\",$I89+$I89+5)","v":""},{"$f":"IF($A89=\"\",\"\",$B89+$B89+4)","v":""},"","","","",{"$f":"IF(AND($I89>=1,$I89<=17),INDEX(赤!$B$6:$E$39,MATCH($I89,赤!$B$6:$B$39,0),2),\"\")","v":""}]
[null,null,{"$f":"IF(ISERROR(INDEX(概要設定!$J$2:$K$51,MATCH($C91,概要設定!$J$2:$J$51,0),2)),\"\",INDEX(概要設定!$J$2:$K$51,MATCH($C91,概要設定!$J$2:$J$51,0),2))","v":""},null,null,null,null,{"$f":"IF(ISERROR(INDEX(概要設定!$J$2:$K$51,MATCH($H91,概要設定!$J$2:$J$51,0),2)),\"\",INDEX(概要設定!$J$2:$K$51,MATCH($H91,概要設定!$J$2:$J$51,0),2))","v":""}]
[null,null,{"$f":"IF(AND($B91>=1,$B91<=17),INDEX(赤!$B$6:$E$39,MATCH($B91,赤!$B$6:$B$39,0),4),\"\")","v":""},null,null,null,null,{"$f":"IF(AND($I91>=1,$I91<=17),INDEX(赤!$B$6:$E$39,MATCH($I91,赤!$B$6:$B$39,0),4),\"\")","v":""},null,null,null,null,{"$f":"IF($A91=\"\",\"\",$B91+$B91+5)","v":""},{"$f":"IF($A91=\"\",\"\",$I91+$I91+4)","v":""},"","","","",{"$f":"IF(AND($B91>=1,$B91<=17),INDEX(赤!$B$6:$E$39,MATCH($B91,赤!$B$6:$B$39,0),2),\"\")","v":""},{"$f":"IF($A91=\"\",\"\",$I91+$I91+5)","v":""},{"$f":"IF($A91=\"\",\"\",$B91+$B91+4)","v":""},"","","","",{"$f":"IF(AND($I91>=1,$I91<=17),INDEX(赤!$B$6:$E$39,MATCH($I91,赤!$B$6:$B$39,0),2),\"\")","v":""}]
[null,null,{"$f":"IF(ISERROR(INDEX(概要設定!$J$2:$K$51,MATCH($C93,概要設定!$J$2:$J$51,0),2)),\"\",INDEX(概要設定!$J$2:$K$51,MATCH($C93,概要設定!$J$2:$J$51,0),2))","v":""},null,null,null,null,{"$f":"IF(ISERROR(INDEX(概要設定!$J$2:$K$51,MATCH($H93,概要設定!$J$2:$J$51,0),2)),\"\",INDEX(概要設定!$J$2:$K$51,MATCH($H93,概要設定!$J$2:$J$51,0),2))","v":""}]
[null,null,{"$f":"IF(AND($B93>=1,$B93<=17),INDEX(赤!$B$6:$E$39,MATCH($B93,赤!$B$6:$B$39,0),4),\"\")","v":""},null,null,null,null,{"$f":"IF(AND($I93>=1,$I93<=17),INDEX(赤!$B$6:$E$39,MATCH($I93,赤!$B$6:$B$39,0),4),\"\")","v":""},null,null,null,null,{"$f":"IF($A93=\"\",\"\",$B93+$B93+5)","v":""},{"$f":"IF($A93=\"\",\"\",$I93+$I93+4)","v":""},"","","","",{"$f":"IF(AND($B93>=1,$B93<=17),INDEX(赤!$B$6:$E$39,MATCH($B93,赤!$B$6:$B$39,0),2),\"\")","v":""},{"$f":"IF($A93=\"\",\"\",$I93+$I93+5)","v":""},{"$f":"IF($A93=\"\",\"\",$B93+$B93+4)","v":""},"","","","",{"$f":"IF(AND($I93>=1,$I93<=17),INDEX(赤!$B$6:$E$39,MATCH($I93,赤!$B$6:$B$39,0),2),\"\")","v":""}]
[null,null,{"$f":"IF(ISERROR(INDEX(概要設定!$J$2:$K$51,MATCH($C95,概要設定!$J$2:$J$51,0),2)),\"\",INDEX(概要設定!$J$2:$K$51,MATCH($C95,概要設定!$J$2:$J$51,0),2))","v":""},null,null,null,null,{"$f":"IF(ISERROR(INDEX(概要設定!$J$2:$K$51,MATCH($H95,概要設定!$J$2:$J$51,0),2)),\"\",INDEX(概要設定!$J$2:$K$51,MATCH($H95,概要設定!$J$2:$J$51,0),2))","v":""}]
[null,null,{"$f":"IF(AND($B95>=1,$B95<=17),INDEX(赤!$B$6:$E$39,MATCH($B95,赤!$B$6:$B$39,0),4),\"\")","v":""},null,null,null,null,{"$f":"IF(AND($I95>=1,$I95<=17),INDEX(赤!$B$6:$E$39,MATCH($I95,赤!$B$6:$B$39,0),4),\"\")","v":""},null,null,null,null,{"$f":"IF($A95=\"\",\"\",$B95+$B95+5)","v":""},{"$f":"IF($A95=\"\",\"\",$I95+$I95+4)","v":""},"","","","",{"$f":"IF(AND($B95>=1,$B95<=17),INDEX(赤!$B$6:$E$39,MATCH($B95,赤!$B$6:$B$39,0),2),\"\")","v":""},{"$f":"IF($A95=\"\",\"\",$I95+$I95+5)","v":""},{"$f":"IF($A95=\"\",\"\",$B95+$B95+4)","v":""},"","","","",{"$f":"IF(AND($I95>=1,$I95<=17),INDEX(赤!$B$6:$E$39,MATCH($I95,赤!$B$6:$B$39,0),2),\"\")","v":""}]
[null,null,{"$f":"IF(ISERROR(INDEX(概要設定!$J$2:$K$51,MATCH($C97,概要設定!$J$2:$J$51,0),2)),\"\",INDEX(概要設定!$J$2:$K$51,MATCH($C97,概要設定!$J$2:$J$51,0),2))","v":""},null,null,null,null,{"$f":"IF(ISERROR(INDEX(概要設定!$J$2:$K$51,MATCH($H97,概要設定!$J$2:$J$51,0),2)),\"\",INDEX(概要設定!$J$2:$K$51,MATCH($H97,概要設定!$J$2:$J$51,0),2))","v":""}]
[null,null,{"$f":"IF(AND($B97>=1,$B97<=17),INDEX(赤!$B$6:$E$39,MATCH($B97,赤!$B$6:$B$39,0),4),\"\")","v":""},null,null,null,null,{"$f":"IF(AND($I97>=1,$I97<=17),INDEX(赤!$B$6:$E$39,MATCH($I97,赤!$B$6:$B$39,0),4),\"\")","v":""},null,null,null,null,{"$f":"IF($A97=\"\",\"\",$B97+$B97+5)","v":""},{"$f":"IF($A97=\"\",\"\",$I97+$I97+4)","v":""},"","","","",{"$f":"IF(AND($B97>=1,$B97<=17),INDEX(赤!$B$6:$E$39,MATCH($B97,赤!$B$6:$B$39,0),2),\"\")","v":""},{"$f":"IF($A97=\"\",\"\",$I97+$I97+5)","v":""},{"$f":"IF($A97=\"\",\"\",$B97+$B97+4)","v":""},"","","","",{"$f":"IF(AND($I97>=1,$I97<=17),INDEX(赤!$B$6:$E$39,MATCH($I97,赤!$B$6:$B$39,0),2),\"\")","v":""}]
[null,null,{"$f":"IF(ISERROR(INDEX(概要設定!$J$2:$K$51,MATCH($C99,概要設定!$J$2:$J$51,0),2)),\"\",INDEX(概要設定!$J$2:$K$51,MATCH($C99,概要設定!$J$2:$J$51,0),2))","v":""},null,null,null,null,{"$f":"IF(ISERROR(INDEX(概要設定!$J$2:$K$51,MATCH($H99,概要設定!$J$2:$J$51,0),2)),\"\",INDEX(概要設定!$J$2:$K$51,MATCH($H99,概要設定!$J$2:$J$51,0),2))","v":""}]
[null,null,{"$f":"IF(AND($B99>=1,$B99<=17),INDEX(赤!$B$6:$E$39,MATCH($B99,赤!$B$6:$B$39,0),4),\"\")","v":""},null,null,null,null,{"$f":"IF(AND($I99>=1,$I99<=17),INDEX(赤!$B$6:$E$39,MATCH($I99,赤!$B$6:$B$39,0),4),\"\")","v":""},null,null,null,null,{"$f":"IF($A99=\"\",\"\",$B99+$B99+5)","v":""},{"$f":"IF($A99=\"\",\"\",$I99+$I99+4)","v":""},"","","","",{"$f":"IF(AND($B99>=1,$B99<=17),INDEX(赤!$B$6:$E$39,MATCH($B99,赤!$B$6:$B$39,0),2),\"\")","v":""},{"$f":"IF($A99=\"\",\"\",$I99+$I99+5)","v":""},{"$f":"IF($A99=\"\",\"\",$B99+$B99+4)","v":""},"","","","",{"$f":"IF(AND($I99>=1,$I99<=17),INDEX(赤!$B$6:$E$39,MATCH($I99,赤!$B$6:$B$39,0),2),\"\")","v":""}]
[null,null,{"$f":"IF(ISERROR(INDEX(概要設定!$J$2:$K$51,MATCH($C101,概要設定!$J$2:$J$51,0),2)),\"\",INDEX(概要設定!$J$2:$K$51,MATCH($C101,概要設定!$J$2:$J$51,0),2))","v":""},null,null,null,null,{"$f":"IF(ISERROR(INDEX(概要設定!$J$2:$K$51,MATCH($H101,概要設定!$J$2:$J$51,0),2)),\"\",INDEX(概要設定!$J$2:$K$51,MATCH($H101,概要設定!$J$2:$J$51,0),2))","v":""}]
[null,null,{"$f":"IF(AND($B101>=1,$B101<=17),INDEX(赤!$B$6:$E$39,MATCH($B101,赤!$B$6:$B$39,0),4),\"\")","v":""},null,null,null,null,{"$f":"IF(AND($I101>=1,$I101<=17),INDEX(赤!$B$6:$E$39,MATCH($I101,赤!$B$6:$B$39,0),4),\"\")","v":""},null,null,null,null,{"$f":"IF($A101=\"\",\"\",$B101+$B101+5)","v":""},{"$f":"IF($A101=\"\",\"\",$I101+$I101+4)","v":""},"","","","",{"$f":"IF(AND($B101>=1,$B101<=17),INDEX(赤!$B$6:$E$39,MATCH($B101,赤!$B$6:$B$39,0),2),\"\")","v":""},{"$f":"IF($A101=\"\",\"\",$I101+$I101+5)","v":""},{"$f":"IF($A101=\"\",\"\",$B101+$B101+4)","v":""},"","","","",{"$f":"IF(AND($I101>=1,$I101<=17),INDEX(赤!$B$6:$E$39,MATCH($I101,赤!$B$6:$B$39,0),2),\"\")","v":""}]
[null,null,{"$f":"IF(ISERROR(INDEX(概要設定!$J$2:$K$51,MATCH($C103,概要設定!$J$2:$J$51,0),2)),\"\",INDEX(概要設定!$J$2:$K$51,MATCH($C103,概要設定!$J$2:$J$51,0),2))","v":""},null,null,null,null,{"$f":"IF(ISERROR(INDEX(概要設定!$J$2:$K$51,MATCH($H103,概要設定!$J$2:$J$51,0),2)),\"\",INDEX(概要設定!$J$2:$K$51,MATCH($H103,概要設定!$J$2:$J$51,0),2))","v":""}]
[null,null,{"$f":"IF(AND($B103>=1,$B103<=17),INDEX(赤!$B$6:$E$39,MATCH($B103,赤!$B$6:$B$39,0),4),\"\")","v":""},null,null,null,null,{"$f":"IF(AND($I103>=1,$I103<=17),INDEX(赤!$B$6:$E$39,MATCH($I103,赤!$B$6:$B$39,0),4),\"\")","v":""},null,null,null,null,{"$f":"IF($A103=\"\",\"\",$B103+$B103+5)","v":""},{"$f":"IF($A103=\"\",\"\",$I103+$I103+4)","v":""},"","","","",{"$f":"IF(AND($B103>=1,$B103<=17),INDEX(赤!$B$6:$E$39,MATCH($B103,赤!$B$6:$B$39,0),2),\"\")","v":""},{"$f":"IF($A103=\"\",\"\",$I103+$I103+5)","v":""},{"$f":"IF($A103=\"\",\"\",$B103+$B103+4)","v":""},"","","","",{"$f":"IF(AND($I103>=1,$I103<=17),INDEX(赤!$B$6:$E$39,MATCH($I103,赤!$B$6:$B$39,0),2),\"\")","v":""}]
[null,null,{"$f":"IF(ISERROR(INDEX(概要設定!$J$2:$K$51,MATCH($C105,概要設定!$J$2:$J$51,0),2)),\"\",INDEX(概要設定!$J$2:$K$51,MATCH($C105,概要設定!$J$2:$J$51,0),2))","v":""},null,null,null,null,{"$f":"IF(ISERROR(INDEX(概要設定!$J$2:$K$51,MATCH($H105,概要設定!$J$2:$J$51,0),2)),\"\",INDEX(概要設定!$J$2:$K$51,MATCH($H105,概要設定!$J$2:$J$51,0),2))","v":""}]
[null,null,{"$f":"IF(AND($B105>=1,$B105<=17),INDEX(赤!$B$6:$E$39,MATCH($B105,赤!$B$6:$B$39,0),4),\"\")","v":""},null,null,null,null,{"$f":"IF(AND($I105>=1,$I105<=17),INDEX(赤!$B$6:$E$39,MATCH($I105,赤!$B$6:$B$39,0),4),\"\")","v":""},null,null,null,null,{"$f":"IF($A105=\"\",\"\",$B105+$B105+5)","v":""},{"$f":"IF($A105=\"\",\"\",$I105+$I105+4)","v":""},"","","","",{"$f":"IF(AND($B105>=1,$B105<=17),INDEX(赤!$B$6:$E$39,MATCH($B105,赤!$B$6:$B$39,0),2),\"\")","v":""},{"$f":"IF($A105=\"\",\"\",$I105+$I105+5)","v":""},{"$f":"IF($A105=\"\",\"\",$B105+$B105+4)","v":""},"","","","",{"$f":"IF(AND($I105>=1,$I105<=17),INDEX(赤!$B$6:$E$39,MATCH($I105,赤!$B$6:$B$39,0),2),\"\")","v":""}]
[null,null,{"$f":"IF(ISERROR(INDEX(概要設定!$J$2:$K$51,MATCH($C107,概要設定!$J$2:$J$51,0),2)),\"\",INDEX(概要設定!$J$2:$K$51,MATCH($C107,概要設定!$J$2:$J$51,0),2))","v":""},null,null,null,null,{"$f":"IF(ISERROR(INDEX(概要設定!$J$2:$K$51,MATCH($H107,概要設定!$J$2:$J$51,0),2)),\"\",INDEX(概要設定!$J$2:$K$51,MATCH($H107,概要設定!$J$2:$J$51,0),2))","v":""}]
[null,null,{"$f":"IF(AND($B107>=1,$B107<=17),INDEX(赤!$B$6:$E$39,MATCH($B107,赤!$B$6:$B$39,0),4),\"\")","v":""},null,null,null,null,{"$f":"IF(AND($I107>=1,$I107<=17),INDEX(赤!$B$6:$E$39,MATCH($I107,赤!$B$6:$B$39,0),4),\"\")","v":""},null,null,null,null,{"$f":"IF($A107=\"\",\"\",$B107+$B107+5)","v":""},{"$f":"IF($A107=\"\",\"\",$I107+$I107+4)","v":""},"","","","",{"$f":"IF(AND($B107>=1,$B107<=17),INDEX(赤!$B$6:$E$39,MATCH($B107,赤!$B$6:$B$39,0),2),\"\")","v":""},{"$f":"IF($A107=\"\",\"\",$I107+$I107+5)","v":""},{"$f":"IF($A107=\"\",\"\",$B107+$B107+4)","v":""},"","","","",{"$f":"IF(AND($I107>=1,$I107<=17),INDEX(赤!$B$6:$E$39,MATCH($I107,赤!$B$6:$B$39,0),2),\"\")","v":""}]
[null,null,{"$f":"IF(ISERROR(INDEX(概要設定!$J$2:$K$51,MATCH($C109,概要設定!$J$2:$J$51,0),2)),\"\",INDEX(概要設定!$J$2:$K$51,MATCH($C109,概要設定!$J$2:$J$51,0),2))","v":""},null,null,null,null,{"$f":"IF(ISERROR(INDEX(概要設定!$J$2:$K$51,MATCH($H109,概要設定!$J$2:$J$51,0),2)),\"\",INDEX(概要設定!$J$2:$K$51,MATCH($H109,概要設定!$J$2:$J$51,0),2))","v":""}]
[null,null,{"$f":"IF(AND($B109>=1,$B109<=17),INDEX(赤!$B$6:$E$39,MATCH($B109,赤!$B$6:$B$39,0),4),\"\")","v":""},null,null,null,null,{"$f":"IF(AND($I109>=1,$I109<=17),INDEX(赤!$B$6:$E$39,MATCH($I109,赤!$B$6:$B$39,0),4),\"\")","v":""},null,null,null,null,{"$f":"IF($A109=\"\",\"\",$B109+$B109+5)","v":""},{"$f":"IF($A109=\"\",\"\",$I109+$I109+4)","v":""},"","","","",{"$f":"IF(AND($B109>=1,$B109<=17),INDEX(赤!$B$6:$E$39,MATCH($B109,赤!$B$6:$B$39,0),2),\"\")","v":""},{"$f":"IF($A109=\"\",\"\",$I109+$I109+5)","v":""},{"$f":"IF($A109=\"\",\"\",$B109+$B109+4)","v":""},"","","","",{"$f":"IF(AND($I109>=1,$I109<=17),INDEX(赤!$B$6:$E$39,MATCH($I109,赤!$B$6:$B$39,0),2),\"\")","v":""}]
[null,null,{"$f":"IF(ISERROR(INDEX(概要設定!$J$2:$K$51,MATCH($C111,概要設定!$J$2:$J$51,0),2)),\"\",INDEX(概要設定!$J$2:$K$51,MATCH($C111,概要設定!$J$2:$J$51,0),2))","v":""},null,null,null,null,{"$f":"IF(ISERROR(INDEX(概要設定!$J$2:$K$51,MATCH($H111,概要設定!$J$2:$J$51,0),2)),\"\",INDEX(概要設定!$J$2:$K$51,MATCH($H111,概要設定!$J$2:$J$51,0),2))","v":""}]
[null,null,{"$f":"IF(AND($B111>=1,$B111<=17),INDEX(赤!$B$6:$E$39,MATCH($B111,赤!$B$6:$B$39,0),4),\"\")","v":""},null,null,null,null,{"$f":"IF(AND($I111>=1,$I111<=17),INDEX(赤!$B$6:$E$39,MATCH($I111,赤!$B$6:$B$39,0),4),\"\")","v":""},null,null,null,null,{"$f":"IF($A111=\"\",\"\",$B111+$B111+5)","v":""},{"$f":"IF($A111=\"\",\"\",$I111+$I111+4)","v":""},"","","","",{"$f":"IF(AND($B111>=1,$B111<=17),INDEX(赤!$B$6:$E$39,MATCH($B111,赤!$B$6:$B$39,0),2),\"\")","v":""},{"$f":"IF($A111=\"\",\"\",$I111+$I111+5)","v":""},{"$f":"IF($A111=\"\",\"\",$B111+$B111+4)","v":""},"","","","",{"$f":"IF(AND($I111>=1,$I111<=17),INDEX(赤!$B$6:$E$39,MATCH($I111,赤!$B$6:$B$39,0),2),\"\")","v":""}]
[null,null,{"$f":"IF(ISERROR(INDEX(概要設定!$J$2:$K$51,MATCH($C113,概要設定!$J$2:$J$51,0),2)),\"\",INDEX(概要設定!$J$2:$K$51,MATCH($C113,概要設定!$J$2:$J$51,0),2))","v":""},null,null,null,null,{"$f":"IF(ISERROR(INDEX(概要設定!$J$2:$K$51,MATCH($H113,概要設定!$J$2:$J$51,0),2)),\"\",INDEX(概要設定!$J$2:$K$51,MATCH($H113,概要設定!$J$2:$J$51,0),2))","v":""}]
[null,null,{"$f":"IF(AND($B113>=1,$B113<=17),INDEX(赤!$B$6:$E$39,MATCH($B113,赤!$B$6:$B$39,0),4),\"\")","v":""},null,null,null,null,{"$f":"IF(AND($I113>=1,$I113<=17),INDEX(赤!$B$6:$E$39,MATCH($I113,赤!$B$6:$B$39,0),4),\"\")","v":""},null,null,null,null,{"$f":"IF($A113=\"\",\"\",$B113+$B113+5)","v":""},{"$f":"IF($A113=\"\",\"\",$I113+$I113+4)","v":""},"","","","",{"$f":"IF(AND($B113>=1,$B113<=17),INDEX(赤!$B$6:$E$39,MATCH($B113,赤!$B$6:$B$39,0),2),\"\")","v":""},{"$f":"IF($A113=\"\",\"\",$I113+$I113+5)","v":""},{"$f":"IF($A113=\"\",\"\",$B113+$B113+4)","v":""},"","","","",{"$f":"IF(AND($I113>=1,$I113<=17),INDEX(赤!$B$6:$E$39,MATCH($I113,赤!$B$6:$B$39,0),2),\"\")","v":""}]
[null,null,{"$f":"IF(ISERROR(INDEX(概要設定!$J$2:$K$51,MATCH($C115,概要設定!$J$2:$J$51,0),2)),\"\",INDEX(概要設定!$J$2:$K$51,MATCH($C115,概要設定!$J$2:$J$51,0),2))","v":""},null,null,null,null,{"$f":"IF(ISERROR(INDEX(概要設定!$J$2:$K$51,MATCH($H115,概要設定!$J$2:$J$51,0),2)),\"\",INDEX(概要設定!$J$2:$K$51,MATCH($H115,概要設定!$J$2:$J$51,0),2))","v":""}]
[null,null,{"$f":"IF(AND($B115>=1,$B115<=17),INDEX(赤!$B$6:$E$39,MATCH($B115,赤!$B$6:$B$39,0),4),\"\")","v":""},null,null,null,null,{"$f":"IF(AND($I115>=1,$I115<=17),INDEX(赤!$B$6:$E$39,MATCH($I115,赤!$B$6:$B$39,0),4),\"\")","v":""},null,null,null,null,{"$f":"IF($A115=\"\",\"\",$B115+$B115+5)","v":""},{"$f":"IF($A115=\"\",\"\",$I115+$I115+4)","v":""},"","","","",{"$f":"IF(AND($B115>=1,$B115<=17),INDEX(赤!$B$6:$E$39,MATCH($B115,赤!$B$6:$B$39,0),2),\"\")","v":""},{"$f":"IF($A115=\"\",\"\",$I115+$I115+5)","v":""},{"$f":"IF($A115=\"\",\"\",$B115+$B115+4)","v":""},"","","","",{"$f":"IF(AND($I115>=1,$I115<=17),INDEX(赤!$B$6:$E$39,MATCH($I115,赤!$B$6:$B$39,0),2),\"\")","v":""}]
[null,null,{"$f":"IF(ISERROR(INDEX(概要設定!$J$2:$K$51,MATCH($C117,概要設定!$J$2:$J$51,0),2)),\"\",INDEX(概要設定!$J$2:$K$51,MATCH($C117,概要設定!$J$2:$J$51,0),2))","v":""},null,null,null,null,{"$f":"IF(ISERROR(INDEX(概要設定!$J$2:$K$51,MATCH($H117,概要設定!$J$2:$J$51,0),2)),\"\",INDEX(概要設定!$J$2:$K$51,MATCH($H117,概要設定!$J$2:$J$51,0),2))","v":""}]
[null,null,{"$f":"IF(AND($B117>=1,$B117<=17),INDEX(赤!$B$6:$E$39,MATCH($B117,赤!$B$6:$B$39,0),4),\"\")","v":""},null,null,null,null,{"$f":"IF(AND($I117>=1,$I117<=17),INDEX(赤!$B$6:$E$39,MATCH($I117,赤!$B$6:$B$39,0),4),\"\")","v":""},null,null,null,null,{"$f":"IF($A117=\"\",\"\",$B117+$B117+5)","v":""},{"$f":"IF($A117=\"\",\"\",$I117+$I117+4)","v":""},"","","","",{"$f":"IF(AND($B117>=1,$B117<=17),INDEX(赤!$B$6:$E$39,MATCH($B117,赤!$B$6:$B$39,0),2),\"\")","v":""},{"$f":"IF($A117=\"\",\"\",$I117+$I117+5)","v":""},{"$f":"IF($A117=\"\",\"\",$B117+$B117+4)","v":""},"","","","",{"$f":"IF(AND($I117>=1,$I117<=17),INDEX(赤!$B$6:$E$39,MATCH($I117,赤!$B$6:$B$39,0),2),\"\")","v":""}]
[null,null,{"$f":"IF(ISERROR(INDEX(概要設定!$J$2:$K$51,MATCH($C119,概要設定!$J$2:$J$51,0),2)),\"\",INDEX(概要設定!$J$2:$K$51,MATCH($C119,概要設定!$J$2:$J$51,0),2))","v":""},null,null,null,null,{"$f":"IF(ISERROR(INDEX(概要設定!$J$2:$K$51,MATCH($H119,概要設定!$J$2:$J$51,0),2)),\"\",INDEX(概要設定!$J$2:$K$51,MATCH($H119,概要設定!$J$2:$J$51,0),2))","v":""}]
[null,null,{"$f":"IF(AND($B119>=1,$B119<=17),INDEX(赤!$B$6:$E$39,MATCH($B119,赤!$B$6:$B$39,0),4),\"\")","v":""},null,null,null,null,{"$f":"IF(AND($I119>=1,$I119<=17),INDEX(赤!$B$6:$E$39,MATCH($I119,赤!$B$6:$B$39,0),4),\"\")","v":""},null,null,null,null,{"$f":"IF($A119=\"\",\"\",$B119+$B119+5)","v":""},{"$f":"IF($A119=\"\",\"\",$I119+$I119+4)","v":""},"","","","",{"$f":"IF(AND($B119>=1,$B119<=17),INDEX(赤!$B$6:$E$39,MATCH($B119,赤!$B$6:$B$39,0),2),\"\")","v":""},{"$f":"IF($A119=\"\",\"\",$I119+$I119+5)","v":""},{"$f":"IF($A119=\"\",\"\",$B119+$B119+4)","v":""},"","","","",{"$f":"IF(AND($I119>=1,$I119<=17),INDEX(赤!$B$6:$E$39,MATCH($I119,赤!$B$6:$B$39,0),2),\"\")","v":""}]
[null,null,{"$f":"IF(ISERROR(INDEX(概要設定!$J$2:$K$51,MATCH($C121,概要設定!$J$2:$J$51,0),2)),\"\",INDEX(概要設定!$J$2:$K$51,MATCH($C121,概要設定!$J$2:$J$51,0),2))","v":""},null,null,null,null,{"$f":"IF(ISERROR(INDEX(概要設定!$J$2:$K$51,MATCH($H121,概要設定!$J$2:$J$51,0),2)),\"\",INDEX(概要設定!$J$2:$K$51,MATCH($H121,概要設定!$J$2:$J$51,0),2))","v":""}]
[null,null,{"$f":"IF(AND($B121>=1,$B121<=17),INDEX(赤!$B$6:$E$39,MATCH($B121,赤!$B$6:$B$39,0),4),\"\")","v":""},null,null,null,null,{"$f":"IF(AND($I121>=1,$I121<=17),INDEX(赤!$B$6:$E$39,MATCH($I121,赤!$B$6:$B$39,0),4),\"\")","v":""},null,null,null,null,{"$f":"IF($A121=\"\",\"\",$B121+$B121+5)","v":""},{"$f":"IF($A121=\"\",\"\",$I121+$I121+4)","v":""},"","","","",{"$f":"IF(AND($B121>=1,$B121<=17),INDEX(赤!$B$6:$E$39,MATCH($B121,赤!$B$6:$B$39,0),2),\"\")","v":""},{"$f":"IF($A121=\"\",\"\",$I121+$I121+5)","v":""},{"$f":"IF($A121=\"\",\"\",$B121+$B121+4)","v":""},"","","","",{"$f":"IF(AND($I121>=1,$I121<=17),INDEX(赤!$B$6:$E$39,MATCH($I121,赤!$B$6:$B$39,0),2),\"\")","v":""}]
[null,null,{"$f":"IF(ISERROR(INDEX(概要設定!$J$2:$K$51,MATCH($C123,概要設定!$J$2:$J$51,0),2)),\"\",INDEX(概要設定!$J$2:$K$51,MATCH($C123,概要設定!$J$2:$J$51,0),2))","v":""},null,null,null,null,{"$f":"IF(ISERROR(INDEX(概要設定!$J$2:$K$51,MATCH($H123,概要設定!$J$2:$J$51,0),2)),\"\",INDEX(概要設定!$J$2:$K$51,MATCH($H123,概要設定!$J$2:$J$51,0),2))","v":""}]
[null,null,{"$f":"IF(AND($B123>=1,$B123<=17),INDEX(赤!$B$6:$E$39,MATCH($B123,赤!$B$6:$B$39,0),4),\"\")","v":""},null,null,null,null,{"$f":"IF(AND($I123>=1,$I123<=17),INDEX(赤!$B$6:$E$39,MATCH($I123,赤!$B$6:$B$39,0),4),\"\")","v":""},null,null,null,null,{"$f":"IF($A123=\"\",\"\",$B123+$B123+5)","v":""},{"$f":"IF($A123=\"\",\"\",$I123+$I123+4)","v":""},"","","","",{"$f":"IF(AND($B123>=1,$B123<=17),INDEX(赤!$B$6:$E$39,MATCH($B123,赤!$B$6:$B$39,0),2),\"\")","v":""},{"$f":"IF($A123=\"\",\"\",$I123+$I123+5)","v":""},{"$f":"IF($A123=\"\",\"\",$B123+$B123+4)","v":""},"","","","",{"$f":"IF(AND($I123>=1,$I123<=17),INDEX(赤!$B$6:$E$39,MATCH($I123,赤!$B$6:$B$39,0),2),\"\")","v":""}]
[null,null,{"$f":"IF(ISERROR(INDEX(概要設定!$J$2:$K$51,MATCH($C125,概要設定!$J$2:$J$51,0),2)),\"\",INDEX(概要設定!$J$2:$K$51,MATCH($C125,概要設定!$J$2:$J$51,0),2))","v":""},null,null,null,null,{"$f":"IF(ISERROR(INDEX(概要設定!$J$2:$K$51,MATCH($H125,概要設定!$J$2:$J$51,0),2)),\"\",INDEX(概要設定!$J$2:$K$51,MATCH($H125,概要設定!$J$2:$J$51,0),2))","v":""}]
[null,null,{"$f":"IF(AND($B125>=1,$B125<=17),INDEX(赤!$B$6:$E$39,MATCH($B125,赤!$B$6:$B$39,0),4),\"\")","v":""},null,null,null,null,{"$f":"IF(AND($I125>=1,$I125<=17),INDEX(赤!$B$6:$E$39,MATCH($I125,赤!$B$6:$B$39,0),4),\"\")","v":""},null,null,null,null,{"$f":"IF($A125=\"\",\"\",$B125+$B125+5)","v":""},{"$f":"IF($A125=\"\",\"\",$I125+$I125+4)","v":""},"","","","",{"$f":"IF(AND($B125>=1,$B125<=17),INDEX(赤!$B$6:$E$39,MATCH($B125,赤!$B$6:$B$39,0),2),\"\")","v":""},{"$f":"IF($A125=\"\",\"\",$I125+$I125+5)","v":""},{"$f":"IF($A125=\"\",\"\",$B125+$B125+4)","v":""},"","","","",{"$f":"IF(AND($I125>=1,$I125<=17),INDEX(赤!$B$6:$E$39,MATCH($I125,赤!$B$6:$B$39,0),2),\"\")","v":""}]
[null,null,{"$f":"IF(ISERROR(INDEX(概要設定!$J$2:$K$51,MATCH($C127,概要設定!$J$2:$J$51,0),2)),\"\",INDEX(概要設定!$J$2:$K$51,MATCH($C127,概要設定!$J$2:$J$51,0),2))","v":""},null,null,null,null,{"$f":"IF(ISERROR(INDEX(概要設定!$J$2:$K$51,MATCH($H127,概要設定!$J$2:$J$51,0),2)),\"\",INDEX(概要設定!$J$2:$K$51,MATCH($H127,概要設定!$J$2:$J$51,0),2))","v":""}]
[null,null,{"$f":"IF(AND($B127>=1,$B127<=17),INDEX(赤!$B$6:$E$39,MATCH($B127,赤!$B$6:$B$39,0),4),\"\")","v":""},null,null,null,null,{"$f":"IF(AND($I127>=1,$I127<=17),INDEX(赤!$B$6:$E$39,MATCH($I127,赤!$B$6:$B$39,0),4),\"\")","v":""},null,null,null,null,{"$f":"IF($A127=\"\",\"\",$B127+$B127+5)","v":""},{"$f":"IF($A127=\"\",\"\",$I127+$I127+4)","v":""},"","","","",{"$f":"IF(AND($B127>=1,$B127<=17),INDEX(赤!$B$6:$E$39,MATCH($B127,赤!$B$6:$B$39,0),2),\"\")","v":""},{"$f":"IF($A127=\"\",\"\",$I127+$I127+5)","v":""},{"$f":"IF($A127=\"\",\"\",$B127+$B127+4)","v":""},"","","","",{"$f":"IF(AND($I127>=1,$I127<=17),INDEX(赤!$B$6:$E$39,MATCH($I127,赤!$B$6:$B$39,0),2),\"\")","v":""}]
[null,null,{"$f":"IF(ISERROR(INDEX(概要設定!$J$2:$K$51,MATCH($C129,概要設定!$J$2:$J$51,0),2)),\"\",INDEX(概要設定!$J$2:$K$51,MATCH($C129,概要設定!$J$2:$J$51,0),2))","v":""},null,null,null,null,{"$f":"IF(ISERROR(INDEX(概要設定!$J$2:$K$51,MATCH($H129,概要設定!$J$2:$J$51,0),2)),\"\",INDEX(概要設定!$J$2:$K$51,MATCH($H129,概要設定!$J$2:$J$51,0),2))","v":""}]
[null,null,{"$f":"IF(AND($B129>=1,$B129<=17),INDEX(赤!$B$6:$E$39,MATCH($B129,赤!$B$6:$B$39,0),4),\"\")","v":""},null,null,null,null,{"$f":"IF(AND($I129>=1,$I129<=17),INDEX(赤!$B$6:$E$39,MATCH($I129,赤!$B$6:$B$39,0),4),\"\")","v":""},null,null,null,null,{"$f":"IF($A129=\"\",\"\",$B129+$B129+5)","v":""},{"$f":"IF($A129=\"\",\"\",$I129+$I129+4)","v":""},"","","","",{"$f":"IF(AND($B129>=1,$B129<=17),INDEX(赤!$B$6:$E$39,MATCH($B129,赤!$B$6:$B$39,0),2),\"\")","v":""},{"$f":"IF($A129=\"\",\"\",$I129+$I129+5)","v":""},{"$f":"IF($A129=\"\",\"\",$B129+$B129+4)","v":""},"","","","",{"$f":"IF(AND($I129>=1,$I129<=17),INDEX(赤!$B$6:$E$39,MATCH($I129,赤!$B$6:$B$39,0),2),\"\")","v":""}]
[null,null,{"$f":"IF(ISERROR(INDEX(概要設定!$J$2:$K$51,MATCH($C131,概要設定!$J$2:$J$51,0),2)),\"\",INDEX(概要設定!$J$2:$K$51,MATCH($C131,概要設定!$J$2:$J$51,0),2))","v":""},null,null,null,null,{"$f":"IF(ISERROR(INDEX(概要設定!$J$2:$K$51,MATCH($H131,概要設定!$J$2:$J$51,0),2)),\"\",INDEX(概要設定!$J$2:$K$51,MATCH($H131,概要設定!$J$2:$J$51,0),2))","v":""}]
[null,null,{"$f":"IF(AND($B131>=1,$B131<=17),INDEX(赤!$B$6:$E$39,MATCH($B131,赤!$B$6:$B$39,0),4),\"\")","v":""},null,null,null,null,{"$f":"IF(AND($I131>=1,$I131<=17),INDEX(赤!$B$6:$E$39,MATCH($I131,赤!$B$6:$B$39,0),4),\"\")","v":""},null,null,null,null,{"$f":"IF($A131=\"\",\"\",$B131+$B131+5)","v":""},{"$f":"IF($A131=\"\",\"\",$I131+$I131+4)","v":""},"","","","",{"$f":"IF(AND($B131>=1,$B131<=17),INDEX(赤!$B$6:$E$39,MATCH($B131,赤!$B$6:$B$39,0),2),\"\")","v":""},{"$f":"IF($A131=\"\",\"\",$I131+$I131+5)","v":""},{"$f":"IF($A131=\"\",\"\",$B131+$B131+4)","v":""},"","","","",{"$f":"IF(AND($I131>=1,$I131<=17),INDEX(赤!$B$6:$E$39,MATCH($I131,赤!$B$6:$B$39,0),2),\"\")","v":""}]
[null,null,{"$f":"IF(ISERROR(INDEX(概要設定!$J$2:$K$51,MATCH($C133,概要設定!$J$2:$J$51,0),2)),\"\",INDEX(概要設定!$J$2:$K$51,MATCH($C133,概要設定!$J$2:$J$51,0),2))","v":""},null,null,null,null,{"$f":"IF(ISERROR(INDEX(概要設定!$J$2:$K$51,MATCH($H133,概要設定!$J$2:$J$51,0),2)),\"\",INDEX(概要設定!$J$2:$K$51,MATCH($H133,概要設定!$J$2:$J$51,0),2))","v":""}]
[null,null,{"$f":"IF(AND($B133>=1,$B133<=17),INDEX(赤!$B$6:$E$39,MATCH($B133,赤!$B$6:$B$39,0),4),\"\")","v":""},null,null,null,null,{"$f":"IF(AND($I133>=1,$I133<=17),INDEX(赤!$B$6:$E$39,MATCH($I133,赤!$B$6:$B$39,0),4),\"\")","v":""},null,null,null,null,{"$f":"IF($A133=\"\",\"\",$B133+$B133+5)","v":""},{"$f":"IF($A133=\"\",\"\",$I133+$I133+4)","v":""},"","","","",{"$f":"IF(AND($B133>=1,$B133<=17),INDEX(赤!$B$6:$E$39,MATCH($B133,赤!$B$6:$B$39,0),2),\"\")","v":""},{"$f":"IF($A133=\"\",\"\",$I133+$I133+5)","v":""},{"$f":"IF($A133=\"\",\"\",$B133+$B133+4)","v":""},"","","","",{"$f":"IF(AND($I133>=1,$I133<=17),INDEX(赤!$B$6:$E$39,MATCH($I133,赤!$B$6:$B$39,0),2),\"\")","v":""}]
[null,null,{"$f":"IF(ISERROR(INDEX(概要設定!$J$2:$K$51,MATCH($C135,概要設定!$J$2:$J$51,0),2)),\"\",INDEX(概要設定!$J$2:$K$51,MATCH($C135,概要設定!$J$2:$J$51,0),2))","v":""},null,null,null,null,{"$f":"IF(ISERROR(INDEX(概要設定!$J$2:$K$51,MATCH($H135,概要設定!$J$2:$J$51,0),2)),\"\",INDEX(概要設定!$J$2:$K$51,MATCH($H135,概要設定!$J$2:$J$51,0),2))","v":""}]
[null,null,{"$f":"IF(AND($B135>=1,$B135<=17),INDEX(赤!$B$6:$E$39,MATCH($B135,赤!$B$6:$B$39,0),4),\"\")","v":""},null,null,null,null,{"$f":"IF(AND($I135>=1,$I135<=17),INDEX(赤!$B$6:$E$39,MATCH($I135,赤!$B$6:$B$39,0),4),\"\")","v":""},null,null,null,null,{"$f":"IF($A135=\"\",\"\",$B135+$B135+5)","v":""},{"$f":"IF($A135=\"\",\"\",$I135+$I135+4)","v":""},"","","","",{"$f":"IF(AND($B135>=1,$B135<=17),INDEX(赤!$B$6:$E$39,MATCH($B135,赤!$B$6:$B$39,0),2),\"\")","v":""},{"$f":"IF($A135=\"\",\"\",$I135+$I135+5)","v":""},{"$f":"IF($A135=\"\",\"\",$B135+$B135+4)","v":""},"","","","",{"$f":"IF(AND($I135>=1,$I135<=17),INDEX(赤!$B$6:$E$39,MATCH($I135,赤!$B$6:$B$39,0),2),\"\")","v":""}]
[null,null,{"$f":"IF(ISERROR(INDEX(概要設定!$J$2:$K$51,MATCH($C137,概要設定!$J$2:$J$51,0),2)),\"\",INDEX(概要設定!$J$2:$K$51,MATCH($C137,概要設定!$J$2:$J$51,0),2))","v":""},null,null,null,null,{"$f":"IF(ISERROR(INDEX(概要設定!$J$2:$K$51,MATCH($H137,概要設定!$J$2:$J$51,0),2)),\"\",INDEX(概要設定!$J$2:$K$51,MATCH($H137,概要設定!$J$2:$J$51,0),2))","v":""}]
[null,null,{"$f":"IF(AND($B137>=1,$B137<=17),INDEX(赤!$B$6:$E$39,MATCH($B137,赤!$B$6:$B$39,0),4),\"\")","v":""},null,null,null,null,{"$f":"IF(AND($I137>=1,$I137<=17),INDEX(赤!$B$6:$E$39,MATCH($I137,赤!$B$6:$B$39,0),4),\"\")","v":""},null,null,null,null,{"$f":"IF($A137=\"\",\"\",$B137+$B137+5)","v":""},{"$f":"IF($A137=\"\",\"\",$I137+$I137+4)","v":""},{"$f":"IF($A137=\"\",\"\",$M137-1)","v":""},{"$f":"IF($A137=\"\",\"\",$N137)","v":""},{"$f":"IF($A137=\"\",\"\",$M137-1)","v":""},{"$f":"IF($A137=\"\",\"\",$N137+1)","v":""},{"$f":"IF(AND($B137>=1,$B137<=17),INDEX(赤!$B$6:$E$39,MATCH($B137,赤!$B$6:$B$39,0),2),\"\")","v":""},{"$f":"IF($A137=\"\",\"\",$I137+$I137+5)","v":""},{"$f":"IF($A137=\"\",\"\",$B137+$B137+4)","v":""},{"$f":"IF($A137=\"\",\"\",$T137-1)","v":""},{"$f":"IF($A137=\"\",\"\",$U137)","v":""},{"$f":"IF($A137=\"\",\"\",$T137-1)","v":""},{"$f":"IF($A137=\"\",\"\",$U137+1)","v":""},{"$f":"IF(AND($I137>=1,$I137<=17),INDEX(赤!$B$6:$E$39,MATCH($I137,赤!$B$6:$B$39,0),2),\"\")","v":""}]
[null,null,{"$f":"IF(ISERROR(INDEX(概要設定!$J$2:$K$51,MATCH($C139,概要設定!$J$2:$J$51,0),2)),\"\",INDEX(概要設定!$J$2:$K$51,MATCH($C139,概要設定!$J$2:$J$51,0),2))","v":""},null,null,null,null,{"$f":"IF(ISERROR(INDEX(概要設定!$J$2:$K$51,MATCH($H139,概要設定!$J$2:$J$51,0),2)),\"\",INDEX(概要設定!$J$2:$K$51,MATCH($H139,概要設定!$J$2:$J$51,0),2))","v":""}]
[null,null,{"$f":"IF(AND($B139>=1,$B139<=17),INDEX(赤!$B$6:$E$39,MATCH($B139,赤!$B$6:$B$39,0),4),\"\")","v":""},null,null,null,null,{"$f":"IF(AND($I139>=1,$I139<=17),INDEX(赤!$B$6:$E$39,MATCH($I139,赤!$B$6:$B$39,0),4),\"\")","v":""},null,null,null,null,{"$f":"IF($A139=\"\",\"\",$B139+$B139+5)","v":""},{"$f":"IF($A139=\"\",\"\",$I139+$I139+4)","v":""},"","","","",{"$f":"IF(AND($B139>=1,$B139<=17),INDEX(赤!$B$6:$E$39,MATCH($B139,赤!$B$6:$B$39,0),2),\"\")","v":""},{"$f":"IF($A139=\"\",\"\",$I139+$I139+5)","v":""},{"$f":"IF($A139=\"\",\"\",$B139+$B139+4)","v":""},"","","","",{"$f":"IF(AND($I139>=1,$I139<=17),INDEX(赤!$B$6:$E$39,MATCH($I139,赤!$B$6:$B$39,0),2),\"\")","v":""}]
[null,null,{"$f":"IF(ISERROR(INDEX(概要設定!$J$2:$K$51,MATCH($C141,概要設定!$J$2:$J$51,0),2)),\"\",INDEX(概要設定!$J$2:$K$51,MATCH($C141,概要設定!$J$2:$J$51,0),2))","v":""},null,null,null,null,{"$f":"IF(ISERROR(INDEX(概要設定!$J$2:$K$51,MATCH($H141,概要設定!$J$2:$J$51,0),2)),\"\",INDEX(概要設定!$J$2:$K$51,MATCH($H141,概要設定!$J$2:$J$51,0),2))","v":""}]
[null,null,{"$f":"IF(AND($B141>=1,$B141<=17),INDEX(赤!$B$6:$E$39,MATCH($B141,赤!$B$6:$B$39,0),4),\"\")","v":""},null,null,null,null,{"$f":"IF(AND($I141>=1,$I141<=17),INDEX(赤!$B$6:$E$39,MATCH($I141,赤!$B$6:$B$39,0),4),\"\")","v":""},null,null,null,null,{"$f":"IF($A141=\"\",\"\",$B141+$B141+5)","v":""},{"$f":"IF($A141=\"\",\"\",$I141+$I141+4)","v":""},"","","","",{"$f":"IF(AND($B141>=1,$B141<=17),INDEX(赤!$B$6:$E$39,MATCH($B141,赤!$B$6:$B$39,0),2),\"\")","v":""},{"$f":"IF($A141=\"\",\"\",$I141+$I141+5)","v":""},{"$f":"IF($A141=\"\",\"\",$B141+$B141+4)","v":""},"","","","",{"$f":"IF(AND($I141>=1,$I141<=17),INDEX(赤!$B$6:$E$39,MATCH($I141,赤!$B$6:$B$39,0),2),\"\")","v":""}]
[null,null,{"$f":"IF(ISERROR(INDEX(概要設定!$J$2:$K$51,MATCH($C143,概要設定!$J$2:$J$51,0),2)),\"\",INDEX(概要設定!$J$2:$K$51,MATCH($C143,概要設定!$J$2:$J$51,0),2))","v":""},null,null,null,null,{"$f":"IF(ISERROR(INDEX(概要設定!$J$2:$K$51,MATCH($H143,概要設定!$J$2:$J$51,0),2)),\"\",INDEX(概要設定!$J$2:$K$51,MATCH($H143,概要設定!$J$2:$J$51,0),2))","v":""}]
[null,null,{"$f":"IF(AND($B143>=1,$B143<=17),INDEX(赤!$B$6:$E$39,MATCH($B143,赤!$B$6:$B$39,0),4),\"\")","v":""},null,null,null,null,{"$f":"IF(AND($I143>=1,$I143<=17),INDEX(赤!$B$6:$E$39,MATCH($I143,赤!$B$6:$B$39,0),4),\"\")","v":""},null,null,null,null,{"$f":"IF($A143=\"\",\"\",$B143+$B143+5)","v":""},{"$f":"IF($A143=\"\",\"\",$I143+$I143+4)","v":""},"","","","",{"$f":"IF(AND($B143>=1,$B143<=17),INDEX(赤!$B$6:$E$39,MATCH($B143,赤!$B$6:$B$39,0),2),\"\")","v":""},{"$f":"IF($A143=\"\",\"\",$I143+$I143+5)","v":""},{"$f":"IF($A143=\"\",\"\",$B143+$B143+4)","v":""},"","","","",{"$f":"IF(AND($I143>=1,$I143<=17),INDEX(赤!$B$6:$E$39,MATCH($I143,赤!$B$6:$B$39,0),2),\"\")","v":""}]
[null,null,{"$f":"IF(ISERROR(INDEX(概要設定!$J$2:$K$51,MATCH($C145,概要設定!$J$2:$J$51,0),2)),\"\",INDEX(概要設定!$J$2:$K$51,MATCH($C145,概要設定!$J$2:$J$51,0),2))","v":""},null,null,null,null,{"$f":"IF(ISERROR(INDEX(概要設定!$J$2:$K$51,MATCH($H145,概要設定!$J$2:$J$51,0),2)),\"\",INDEX(概要設定!$J$2:$K$51,MATCH($H145,概要設定!$J$2:$J$51,0),2))","v":""}]
[null,null,{"$f":"IF(AND($B145>=1,$B145<=17),INDEX(赤!$B$6:$E$39,MATCH($B145,赤!$B$6:$B$39,0),4),\"\")","v":""},null,null,null,null,{"$f":"IF(AND($I145>=1,$I145<=17),INDEX(赤!$B$6:$E$39,MATCH($I145,赤!$B$6:$B$39,0),4),\"\")","v":""},null,null,null,null,{"$f":"IF($A145=\"\",\"\",$B145+$B145+5)","v":""},{"$f":"IF($A145=\"\",\"\",$I145+$I145+4)","v":""},"","","","",{"$f":"IF(AND($B145>=1,$B145<=17),INDEX(赤!$B$6:$E$39,MATCH($B145,赤!$B$6:$B$39,0),2),\"\")","v":""},{"$f":"IF($A145=\"\",\"\",$I145+$I145+5)","v":""},{"$f":"IF($A145=\"\",\"\",$B145+$B145+4)","v":""},"","","","",{"$f":"IF(AND($I145>=1,$I145<=17),INDEX(赤!$B$6:$E$39,MATCH($I145,赤!$B$6:$B$39,0),2),\"\")","v":""}]
[null,null,{"$f":"IF(ISERROR(INDEX(概要設定!$J$2:$K$51,MATCH($C147,概要設定!$J$2:$J$51,0),2)),\"\",INDEX(概要設定!$J$2:$K$51,MATCH($C147,概要設定!$J$2:$J$51,0),2))","v":""},null,null,null,null,{"$f":"IF(ISERROR(INDEX(概要設定!$J$2:$K$51,MATCH($H147,概要設定!$J$2:$J$51,0),2)),\"\",INDEX(概要設定!$J$2:$K$51,MATCH($H147,概要設定!$J$2:$J$51,0),2))","v":""}]
[null,null,{"$f":"IF(AND($B147>=1,$B147<=17),INDEX(赤!$B$6:$E$39,MATCH($B147,赤!$B$6:$B$39,0),4),\"\")","v":""},null,null,null,null,{"$f":"IF(AND($I147>=1,$I147<=17),INDEX(赤!$B$6:$E$39,MATCH($I147,赤!$B$6:$B$39,0),4),\"\")","v":""},null,null,null,null,{"$f":"IF($A147=\"\",\"\",$B147+$B147+5)","v":""},{"$f":"IF($A147=\"\",\"\",$I147+$I147+4)","v":""},"","","","",{"$f":"IF(AND($B147>=1,$B147<=17),INDEX(赤!$B$6:$E$39,MATCH($B147,赤!$B$6:$B$39,0),2),\"\")","v":""},{"$f":"IF($A147=\"\",\"\",$I147+$I147+5)","v":""},{"$f":"IF($A147=\"\",\"\",$B147+$B147+4)","v":""},"","","","",{"$f":"IF(AND($I147>=1,$I147<=17),INDEX(赤!$B$6:$E$39,MATCH($I147,赤!$B$6:$B$39,0),2),\"\")","v":""}]
[null,null,{"$f":"IF(ISERROR(INDEX(概要設定!$J$2:$K$51,MATCH($C149,概要設定!$J$2:$J$51,0),2)),\"\",INDEX(概要設定!$J$2:$K$51,MATCH($C149,概要設定!$J$2:$J$51,0),2))","v":""},null,null,null,null,{"$f":"IF(ISERROR(INDEX(概要設定!$J$2:$K$51,MATCH($H149,概要設定!$J$2:$J$51,0),2)),\"\",INDEX(概要設定!$J$2:$K$51,MATCH($H149,概要設定!$J$2:$J$51,0),2))","v":""}]
[null,null,{"$f":"IF(AND($B149>=1,$B149<=17),INDEX(赤!$B$6:$E$39,MATCH($B149,赤!$B$6:$B$39,0),4),\"\")","v":""},null,null,null,null,{"$f":"IF(AND($I149>=1,$I149<=17),INDEX(赤!$B$6:$E$39,MATCH($I149,赤!$B$6:$B$39,0),4),\"\")","v":""},null,null,null,null,{"$f":"IF($A149=\"\",\"\",$B149+$B149+5)","v":""},{"$f":"IF($A149=\"\",\"\",$I149+$I149+4)","v":""},"","","","",{"$f":"IF(AND($B149>=1,$B149<=17),INDEX(赤!$B$6:$E$39,MATCH($B149,赤!$B$6:$B$39,0),2),\"\")","v":""},{"$f":"IF($A149=\"\",\"\",$I149+$I149+5)","v":""},{"$f":"IF($A149=\"\",\"\",$B149+$B149+4)","v":""},"","","","",{"$f":"IF(AND($I149>=1,$I149<=17),INDEX(赤!$B$6:$E$39,MATCH($I149,赤!$B$6:$B$39,0),2),\"\")","v":""}]
[null,null,{"$f":"IF(ISERROR(INDEX(概要設定!$J$2:$K$51,MATCH($C151,概要設定!$J$2:$J$51,0),2)),\"\",INDEX(概要設定!$J$2:$K$51,MATCH($C151,概要設定!$J$2:$J$51,0),2))","v":""},null,null,null,null,{"$f":"IF(ISERROR(INDEX(概要設定!$J$2:$K$51,MATCH($H151,概要設定!$J$2:$J$51,0),2)),\"\",INDEX(概要設定!$J$2:$K$51,MATCH($H151,概要設定!$J$2:$J$51,0),2))","v":""}]
[null,null,{"$f":"IF(AND($B151>=1,$B151<=17),INDEX(赤!$B$6:$E$39,MATCH($B151,赤!$B$6:$B$39,0),4),\"\")","v":""},null,null,null,null,{"$f":"IF(AND($I151>=1,$I151<=17),INDEX(赤!$B$6:$E$39,MATCH($I151,赤!$B$6:$B$39,0),4),\"\")","v":""},null,null,null,null,{"$f":"IF($A151=\"\",\"\",$B151+$B151+5)","v":""},{"$f":"IF($A151=\"\",\"\",$I151+$I151+4)","v":""},"","","","",{"$f":"IF(AND($B151>=1,$B151<=17),INDEX(赤!$B$6:$E$39,MATCH($B151,赤!$B$6:$B$39,0),2),\"\")","v":""},{"$f":"IF($A151=\"\",\"\",$I151+$I151+5)","v":""},{"$f":"IF($A151=\"\",\"\",$B151+$B151+4)","v":""},"","","","",{"$f":"IF(AND($I151>=1,$I151<=17),INDEX(赤!$B$6:$E$39,MATCH($I151,赤!$B$6:$B$39,0),2),\"\")","v":""}]
[null,null,{"$f":"IF(ISERROR(INDEX(概要設定!$J$2:$K$51,MATCH($C153,概要設定!$J$2:$J$51,0),2)),\"\",INDEX(概要設定!$J$2:$K$51,MATCH($C153,概要設定!$J$2:$J$51,0),2))","v":""},null,null,null,null,{"$f":"IF(ISERROR(INDEX(概要設定!$J$2:$K$51,MATCH($H153,概要設定!$J$2:$J$51,0),2)),\"\",INDEX(概要設定!$J$2:$K$51,MATCH($H153,概要設定!$J$2:$J$51,0),2))","v":""}]
[null,null,{"$f":"IF(AND($B153>=1,$B153<=17),INDEX(赤!$B$6:$E$39,MATCH($B153,赤!$B$6:$B$39,0),4),\"\")","v":""},null,null,null,null,{"$f":"IF(AND($I153>=1,$I153<=17),INDEX(赤!$B$6:$E$39,MATCH($I153,赤!$B$6:$B$39,0),4),\"\")","v":""},null,null,null,null,{"$f":"IF($A153=\"\",\"\",$B153+$B153+5)","v":""},{"$f":"IF($A153=\"\",\"\",$I153+$I153+4)","v":""},"","","","",{"$f":"IF(AND($B153>=1,$B153<=17),INDEX(赤!$B$6:$E$39,MATCH($B153,赤!$B$6:$B$39,0),2),\"\")","v":""},{"$f":"IF($A153=\"\",\"\",$I153+$I153+5)","v":""},{"$f":"IF($A153=\"\",\"\",$B153+$B153+4)","v":""},"","","","",{"$f":"IF(AND($I153>=1,$I153<=17),INDEX(赤!$B$6:$E$39,MATCH($I153,赤!$B$6:$B$39,0),2),\"\")","v":""}]
[null,null,{"$f":"IF(ISERROR(INDEX(概要設定!$J$2:$K$51,MATCH($C155,概要設定!$J$2:$J$51,0),2)),\"\",INDEX(概要設定!$J$2:$K$51,MATCH($C155,概要設定!$J$2:$J$51,0),2))","v":""},null,null,null,null,{"$f":"IF(ISERROR(INDEX(概要設定!$J$2:$K$51,MATCH($H155,概要設定!$J$2:$J$51,0),2)),\"\",INDEX(概要設定!$J$2:$K$51,MATCH($H155,概要設定!$J$2:$J$51,0),2))","v":""}]
[null,null,{"$f":"IF(AND($B155>=1,$B155<=17),INDEX(赤!$B$6:$E$39,MATCH($B155,赤!$B$6:$B$39,0),4),\"\")","v":""},null,null,null,null,{"$f":"IF(AND($I155>=1,$I155<=17),INDEX(赤!$B$6:$E$39,MATCH($I155,赤!$B$6:$B$39,0),4),\"\")","v":""},null,null,null,null,{"$f":"IF($A155=\"\",\"\",$B155+$B155+5)","v":""},{"$f":"IF($A155=\"\",\"\",$I155+$I155+4)","v":""},"","","","",{"$f":"IF(AND($B155>=1,$B155<=17),INDEX(赤!$B$6:$E$39,MATCH($B155,赤!$B$6:$B$39,0),2),\"\")","v":""},{"$f":"IF($A155=\"\",\"\",$I155+$I155+5)","v":""},{"$f":"IF($A155=\"\",\"\",$B155+$B155+4)","v":""},"","","","",{"$f":"IF(AND($I155>=1,$I155<=17),INDEX(赤!$B$6:$E$39,MATCH($I155,赤!$B$6:$B$39,0),2),\"\")","v":""}]
[null,null,{"$f":"IF(ISERROR(INDEX(概要設定!$J$2:$K$51,MATCH($C157,概要設定!$J$2:$J$51,0),2)),\"\",INDEX(概要設定!$J$2:$K$51,MATCH($C157,概要設定!$J$2:$J$51,0),2))","v":""},null,null,null,null,{"$f":"IF(ISERROR(INDEX(概要設定!$J$2:$K$51,MATCH($H157,概要設定!$J$2:$J$51,0),2)),\"\",INDEX(概要設定!$J$2:$K$51,MATCH($H157,概要設定!$J$2:$J$51,0),2))","v":""}]
[null,null,{"$f":"IF(AND($B157>=1,$B157<=17),INDEX(赤!$B$6:$E$39,MATCH($B157,赤!$B$6:$B$39,0),4),\"\")","v":""},null,null,null,null,{"$f":"IF(AND($I157>=1,$I157<=17),INDEX(赤!$B$6:$E$39,MATCH($I157,赤!$B$6:$B$39,0),4),\"\")","v":""},null,null,null,null,{"$f":"IF($A157=\"\",\"\",$B157+$B157+5)","v":""},{"$f":"IF($A157=\"\",\"\",$I157+$I157+4)","v":""},"","","","",{"$f":"IF(AND($B157>=1,$B157<=17),INDEX(赤!$B$6:$E$39,MATCH($B157,赤!$B$6:$B$39,0),2),\"\")","v":""},{"$f":"IF($A157=\"\",\"\",$I157+$I157+5)","v":""},{"$f":"IF($A157=\"\",\"\",$B157+$B157+4)","v":""},"","","","",{"$f":"IF(AND($I157>=1,$I157<=17),INDEX(赤!$B$6:$E$39,MATCH($I157,赤!$B$6:$B$39,0),2),\"\")","v":""}]
[null,null,{"$f":"IF(ISERROR(INDEX(概要設定!$J$2:$K$51,MATCH($C159,概要設定!$J$2:$J$51,0),2)),\"\",INDEX(概要設定!$J$2:$K$51,MATCH($C159,概要設定!$J$2:$J$51,0),2))","v":""},null,null,null,null,{"$f":"IF(ISERROR(INDEX(概要設定!$J$2:$K$51,MATCH($H159,概要設定!$J$2:$J$51,0),2)),\"\",INDEX(概要設定!$J$2:$K$51,MATCH($H159,概要設定!$J$2:$J$51,0),2))","v":""}]
[null,null,{"$f":"IF(AND($B159>=1,$B159<=17),INDEX(赤!$B$6:$E$39,MATCH($B159,赤!$B$6:$B$39,0),4),\"\")","v":""},null,null,null,null,{"$f":"IF(AND($I159>=1,$I159<=17),INDEX(赤!$B$6:$E$39,MATCH($I159,赤!$B$6:$B$39,0),4),\"\")","v":""},null,null,null,null,{"$f":"IF($A159=\"\",\"\",$B159+$B159+5)","v":""},{"$f":"IF($A159=\"\",\"\",$I159+$I159+4)","v":""},"","","","",{"$f":"IF(AND($B159>=1,$B159<=17),INDEX(赤!$B$6:$E$39,MATCH($B159,赤!$B$6:$B$39,0),2),\"\")","v":""},{"$f":"IF($A159=\"\",\"\",$I159+$I159+5)","v":""},{"$f":"IF($A159=\"\",\"\",$B159+$B159+4)","v":""},"","","","",{"$f":"IF(AND($I159>=1,$I159<=17),INDEX(赤!$B$6:$E$39,MATCH($I159,赤!$B$6:$B$39,0),2),\"\")","v":""}]
[null,null,{"$f":"IF(ISERROR(INDEX(概要設定!$J$2:$K$51,MATCH($C161,概要設定!$J$2:$J$51,0),2)),\"\",INDEX(概要設定!$J$2:$K$51,MATCH($C161,概要設定!$J$2:$J$51,0),2))","v":""},null,null,null,null,{"$f":"IF(ISERROR(INDEX(概要設定!$J$2:$K$51,MATCH($H161,概要設定!$J$2:$J$51,0),2)),\"\",INDEX(概要設定!$J$2:$K$51,MATCH($H161,概要設定!$J$2:$J$51,0),2))","v":""}]
[null,null,{"$f":"IF(AND($B161>=1,$B161<=17),INDEX(赤!$B$6:$E$39,MATCH($B161,赤!$B$6:$B$39,0),4),\"\")","v":""},null,null,null,null,{"$f":"IF(AND($I161>=1,$I161<=17),INDEX(赤!$B$6:$E$39,MATCH($I161,赤!$B$6:$B$39,0),4),\"\")","v":""},null,null,null,null,{"$f":"IF($A161=\"\",\"\",$B161+$B161+5)","v":""},{"$f":"IF($A161=\"\",\"\",$I161+$I161+4)","v":""},"","","","",{"$f":"IF(AND($B161>=1,$B161<=17),INDEX(赤!$B$6:$E$39,MATCH($B161,赤!$B$6:$B$39,0),2),\"\")","v":""},{"$f":"IF($A161=\"\",\"\",$I161+$I161+5)","v":""},{"$f":"IF($A161=\"\",\"\",$B161+$B161+4)","v":""},"","","","",{"$f":"IF(AND($I161>=1,$I161<=17),INDEX(赤!$B$6:$E$39,MATCH($I161,赤!$B$6:$B$39,0),2),\"\")","v":""}]
[null,null,{"$f":"IF(ISERROR(INDEX(概要設定!$J$2:$K$51,MATCH($C163,概要設定!$J$2:$J$51,0),2)),\"\",INDEX(概要設定!$J$2:$K$51,MATCH($C163,概要設定!$J$2:$J$51,0),2))","v":""},null,null,null,null,{"$f":"IF(ISERROR(INDEX(概要設定!$J$2:$K$51,MATCH($H163,概要設定!$J$2:$J$51,0),2)),\"\",INDEX(概要設定!$J$2:$K$51,MATCH($H163,概要設定!$J$2:$J$51,0),2))","v":""}]
[null,null,{"$f":"IF(AND($B163>=1,$B163<=17),INDEX(赤!$B$6:$E$39,MATCH($B163,赤!$B$6:$B$39,0),4),\"\")","v":""},null,null,null,null,{"$f":"IF(AND($I163>=1,$I163<=17),INDEX(赤!$B$6:$E$39,MATCH($I163,赤!$B$6:$B$39,0),4),\"\")","v":""},null,null,null,null,{"$f":"IF($A163=\"\",\"\",$B163+$B163+5)","v":""},{"$f":"IF($A163=\"\",\"\",$I163+$I163+4)","v":""},"","","","",{"$f":"IF(AND($B163>=1,$B163<=17),INDEX(赤!$B$6:$E$39,MATCH($B163,赤!$B$6:$B$39,0),2),\"\")","v":""},{"$f":"IF($A163=\"\",\"\",$I163+$I163+5)","v":""},{"$f":"IF($A163=\"\",\"\",$B163+$B163+4)","v":""},"","","","",{"$f":"IF(AND($I163>=1,$I163<=17),INDEX(赤!$B$6:$E$39,MATCH($I163,赤!$B$6:$B$39,0),2),\"\")","v":""}]
[null,null,{"$f":"IF(ISERROR(INDEX(概要設定!$J$2:$K$51,MATCH($C165,概要設定!$J$2:$J$51,0),2)),\"\",INDEX(概要設定!$J$2:$K$51,MATCH($C165,概要設定!$J$2:$J$51,0),2))","v":""},null,null,null,null,{"$f":"IF(ISERROR(INDEX(概要設定!$J$2:$K$51,MATCH($H165,概要設定!$J$2:$J$51,0),2)),\"\",INDEX(概要設定!$J$2:$K$51,MATCH($H165,概要設定!$J$2:$J$51,0),2))","v":""}]
[null,null,{"$f":"IF(AND($B165>=1,$B165<=17),INDEX(赤!$B$6:$E$39,MATCH($B165,赤!$B$6:$B$39,0),4),\"\")","v":""},null,null,null,null,{"$f":"IF(AND($I165>=1,$I165<=17),INDEX(赤!$B$6:$E$39,MATCH($I165,赤!$B$6:$B$39,0),4),\"\")","v":""},null,null,null,null,{"$f":"IF($A165=\"\",\"\",$B165+$B165+5)","v":""},{"$f":"IF($A165=\"\",\"\",$I165+$I165+4)","v":""},"","","","",{"$f":"IF(AND($B165>=1,$B165<=17),INDEX(赤!$B$6:$E$39,MATCH($B165,赤!$B$6:$B$39,0),2),\"\")","v":""},{"$f":"IF($A165=\"\",\"\",$I165+$I165+5)","v":""},{"$f":"IF($A165=\"\",\"\",$B165+$B165+4)","v":""},"","","","",{"$f":"IF(AND($I165>=1,$I165<=17),INDEX(赤!$B$6:$E$39,MATCH($I165,赤!$B$6:$B$39,0),2),\"\")","v":""}]
[null,null,{"$f":"IF(ISERROR(INDEX(概要設定!$J$2:$K$51,MATCH($C167,概要設定!$J$2:$J$51,0),2)),\"\",INDEX(概要設定!$J$2:$K$51,MATCH($C167,概要設定!$J$2:$J$51,0),2))","v":""},null,null,null,null,{"$f":"IF(ISERROR(INDEX(概要設定!$J$2:$K$51,MATCH($H167,概要設定!$J$2:$J$51,0),2)),\"\",INDEX(概要設定!$J$2:$K$51,MATCH($H167,概要設定!$J$2:$J$51,0),2))","v":""}]
[null,null,{"$f":"IF(AND($B167>=1,$B167<=17),INDEX(赤!$B$6:$E$39,MATCH($B167,赤!$B$6:$B$39,0),4),\"\")","v":""},null,null,null,null,{"$f":"IF(AND($I167>=1,$I167<=17),INDEX(赤!$B$6:$E$39,MATCH($I167,赤!$B$6:$B$39,0),4),\"\")","v":""},null,null,null,null,{"$f":"IF($A167=\"\",\"\",$B167+$B167+5)","v":""},{"$f":"IF($A167=\"\",\"\",$I167+$I167+4)","v":""},"","","","",{"$f":"IF(AND($B167>=1,$B167<=17),INDEX(赤!$B$6:$E$39,MATCH($B167,赤!$B$6:$B$39,0),2),\"\")","v":""},{"$f":"IF($A167=\"\",\"\",$I167+$I167+5)","v":""},{"$f":"IF($A167=\"\",\"\",$B167+$B167+4)","v":""},"","","","",{"$f":"IF(AND($I167>=1,$I167<=17),INDEX(赤!$B$6:$E$39,MATCH($I167,赤!$B$6:$B$39,0),2),\"\")","v":""}]
[null,null,{"$f":"IF(ISERROR(INDEX(概要設定!$J$2:$K$51,MATCH($C169,概要設定!$J$2:$J$51,0),2)),\"\",INDEX(概要設定!$J$2:$K$51,MATCH($C169,概要設定!$J$2:$J$51,0),2))","v":""},null,null,null,null,{"$f":"IF(ISERROR(INDEX(概要設定!$J$2:$K$51,MATCH($H169,概要設定!$J$2:$J$51,0),2)),\"\",INDEX(概要設定!$J$2:$K$51,MATCH($H169,概要設定!$J$2:$J$51,0),2))","v":""}]
[null,null,{"$f":"IF(AND($B169>=1,$B169<=17),INDEX(赤!$B$6:$E$39,MATCH($B169,赤!$B$6:$B$39,0),4),\"\")","v":""},null,null,null,null,{"$f":"IF(AND($I169>=1,$I169<=17),INDEX(赤!$B$6:$E$39,MATCH($I169,赤!$B$6:$B$39,0),4),\"\")","v":""},null,null,null,null,{"$f":"IF($A169=\"\",\"\",$B169+$B169+5)","v":""},{"$f":"IF($A169=\"\",\"\",$I169+$I169+4)","v":""},"","","","",{"$f":"IF(AND($B169>=1,$B169<=17),INDEX(赤!$B$6:$E$39,MATCH($B169,赤!$B$6:$B$39,0),2),\"\")","v":""},{"$f":"IF($A169=\"\",\"\",$I169+$I169+5)","v":""},{"$f":"IF($A169=\"\",\"\",$B169+$B169+4)","v":""},"","","","",{"$f":"IF(AND($I169>=1,$I169<=17),INDEX(赤!$B$6:$E$39,MATCH($I169,赤!$B$6:$B$39,0),2),\"\")","v":""}]
[null,null,{"$f":"IF(ISERROR(INDEX(概要設定!$J$2:$K$51,MATCH($C171,概要設定!$J$2:$J$51,0),2)),\"\",INDEX(概要設定!$J$2:$K$51,MATCH($C171,概要設定!$J$2:$J$51,0),2))","v":""},null,null,null,null,{"$f":"IF(ISERROR(INDEX(概要設定!$J$2:$K$51,MATCH($H171,概要設定!$J$2:$J$51,0),2)),\"\",INDEX(概要設定!$J$2:$K$51,MATCH($H171,概要設定!$J$2:$J$51,0),2))","v":""}]
[null,null,{"$f":"IF(AND($B171>=1,$B171<=17),INDEX(赤!$B$6:$E$39,MATCH($B171,赤!$B$6:$B$39,0),4),\"\")","v":""},null,null,null,null,{"$f":"IF(AND($I171>=1,$I171<=17),INDEX(赤!$B$6:$E$39,MATCH($I171,赤!$B$6:$B$39,0),4),\"\")","v":""},null,null,null,null,{"$f":"IF($A171=\"\",\"\",$B171+$B171+5)","v":""},{"$f":"IF($A171=\"\",\"\",$I171+$I171+4)","v":""},"","","","",{"$f":"IF(AND($B171>=1,$B171<=17),INDEX(赤!$B$6:$E$39,MATCH($B171,赤!$B$6:$B$39,0),2),\"\")","v":""},{"$f":"IF($A171=\"\",\"\",$I171+$I171+5)","v":""},{"$f":"IF($A171=\"\",\"\",$B171+$B171+4)","v":""},"","","","",{"$f":"IF(AND($I171>=1,$I171<=17),INDEX(赤!$B$6:$E$39,MATCH($I171,赤!$B$6:$B$39,0),2),\"\")","v":""}]
[null,null,{"$f":"IF(ISERROR(INDEX(概要設定!$J$2:$K$51,MATCH($C173,概要設定!$J$2:$J$51,0),2)),\"\",INDEX(概要設定!$J$2:$K$51,MATCH($C173,概要設定!$J$2:$J$51,0),2))","v":""},null,null,null,null,{"$f":"IF(ISERROR(INDEX(概要設定!$J$2:$K$51,MATCH($H173,概要設定!$J$2:$J$51,0),2)),\"\",INDEX(概要設定!$J$2:$K$51,MATCH($H173,概要設定!$J$2:$J$51,0),2))","v":""}]
[null,null,{"$f":"IF(AND($B173>=1,$B173<=17),INDEX(赤!$B$6:$E$39,MATCH($B173,赤!$B$6:$B$39,0),4),\"\")","v":""},null,null,null,null,{"$f":"IF(AND($I173>=1,$I173<=17),INDEX(赤!$B$6:$E$39,MATCH($I173,赤!$B$6:$B$39,0),4),\"\")","v":""},null,null,null,null,{"$f":"IF($A173=\"\",\"\",$B173+$B173+5)","v":""},{"$f":"IF($A173=\"\",\"\",$I173+$I173+4)","v":""},"","","","",{"$f":"IF(AND($B173>=1,$B173<=17),INDEX(赤!$B$6:$E$39,MATCH($B173,赤!$B$6:$B$39,0),2),\"\")","v":""},{"$f":"IF($A173=\"\",\"\",$I173+$I173+5)","v":""},{"$f":"IF($A173=\"\",\"\",$B173+$B173+4)","v":""},"","","","",{"$f":"IF(AND($I173>=1,$I173<=17),INDEX(赤!$B$6:$E$39,MATCH($I173,赤!$B$6:$B$39,0),2),\"\")","v":""}]
[null,null,{"$f":"IF(ISERROR(INDEX(概要設定!$J$2:$K$51,MATCH($C175,概要設定!$J$2:$J$51,0),2)),\"\",INDEX(概要設定!$J$2:$K$51,MATCH($C175,概要設定!$J$2:$J$51,0),2))","v":""},null,null,null,null,{"$f":"IF(ISERROR(INDEX(概要設定!$J$2:$K$51,MATCH($H175,概要設定!$J$2:$J$51,0),2)),\"\",INDEX(概要設定!$J$2:$K$51,MATCH($H175,概要設定!$J$2:$J$51,0),2))","v":""}]
[null,null,{"$f":"IF(AND($B175>=1,$B175<=17),INDEX(赤!$B$6:$E$39,MATCH($B175,赤!$B$6:$B$39,0),4),\"\")","v":""},null,null,null,null,{"$f":"IF(AND($I175>=1,$I175<=17),INDEX(赤!$B$6:$E$39,MATCH($I175,赤!$B$6:$B$39,0),4),\"\")","v":""},null,null,null,null,{"$f":"IF($A175=\"\",\"\",$B175+$B175+5)","v":""},{"$f":"IF($A175=\"\",\"\",$I175+$I175+4)","v":""},"","","","",{"$f":"IF(AND($B175>=1,$B175<=17),INDEX(赤!$B$6:$E$39,MATCH($B175,赤!$B$6:$B$39,0),2),\"\")","v":""},{"$f":"IF($A175=\"\",\"\",$I175+$I175+5)","v":""},{"$f":"IF($A175=\"\",\"\",$B175+$B175+4)","v":""},"","","","",{"$f":"IF(AND($I175>=1,$I175<=17),INDEX(赤!$B$6:$E$39,MATCH($I175,赤!$B$6:$B$39,0),2),\"\")","v":""}]
[null,null,{"$f":"IF(ISERROR(INDEX(概要設定!$J$2:$K$51,MATCH($C177,概要設定!$J$2:$J$51,0),2)),\"\",INDEX(概要設定!$J$2:$K$51,MATCH($C177,概要設定!$J$2:$J$51,0),2))","v":""},null,null,null,null,{"$f":"IF(ISERROR(INDEX(概要設定!$J$2:$K$51,MATCH($H177,概要設定!$J$2:$J$51,0),2)),\"\",INDEX(概要設定!$J$2:$K$51,MATCH($H177,概要設定!$J$2:$J$51,0),2))","v":""}]
[null,null,{"$f":"IF(AND($B177>=1,$B177<=17),INDEX(赤!$B$6:$E$39,MATCH($B177,赤!$B$6:$B$39,0),4),\"\")","v":""},null,null,null,null,{"$f":"IF(AND($I177>=1,$I177<=17),INDEX(赤!$B$6:$E$39,MATCH($I177,赤!$B$6:$B$39,0),4),\"\")","v":""},null,null,null,null,{"$f":"IF($A177=\"\",\"\",$B177+$B177+5)","v":""},{"$f":"IF($A177=\"\",\"\",$I177+$I177+4)","v":""},"","","","",{"$f":"IF(AND($B177>=1,$B177<=17),INDEX(赤!$B$6:$E$39,MATCH($B177,赤!$B$6:$B$39,0),2),\"\")","v":""},{"$f":"IF($A177=\"\",\"\",$I177+$I177+5)","v":""},{"$f":"IF($A177=\"\",\"\",$B177+$B177+4)","v":""},"","","","",{"$f":"IF(AND($I177>=1,$I177<=17),INDEX(赤!$B$6:$E$39,MATCH($I177,赤!$B$6:$B$39,0),2),\"\")","v":""}]
[null,null,{"$f":"IF(ISERROR(INDEX(概要設定!$J$2:$K$51,MATCH($C179,概要設定!$J$2:$J$51,0),2)),\"\",INDEX(概要設定!$J$2:$K$51,MATCH($C179,概要設定!$J$2:$J$51,0),2))","v":""},null,null,null,null,{"$f":"IF(ISERROR(INDEX(概要設定!$J$2:$K$51,MATCH($H179,概要設定!$J$2:$J$51,0),2)),\"\",INDEX(概要設定!$J$2:$K$51,MATCH($H179,概要設定!$J$2:$J$51,0),2))","v":""}]
[null,null,{"$f":"IF(AND($B179>=1,$B179<=17),INDEX(赤!$B$6:$E$39,MATCH($B179,赤!$B$6:$B$39,0),4),\"\")","v":""},null,null,null,null,{"$f":"IF(AND($I179>=1,$I179<=17),INDEX(赤!$B$6:$E$39,MATCH($I179,赤!$B$6:$B$39,0),4),\"\")","v":""},null,null,null,null,{"$f":"IF($A179=\"\",\"\",$B179+$B179+5)","v":""},{"$f":"IF($A179=\"\",\"\",$I179+$I179+4)","v":""},"","","","",{"$f":"IF(AND($B179>=1,$B179<=17),INDEX(赤!$B$6:$E$39,MATCH($B179,赤!$B$6:$B$39,0),2),\"\")","v":""},{"$f":"IF($A179=\"\",\"\",$I179+$I179+5)","v":""},{"$f":"IF($A179=\"\",\"\",$B179+$B179+4)","v":""},"","","","",{"$f":"IF(AND($I179>=1,$I179<=17),INDEX(赤!$B$6:$E$39,MATCH($I179,赤!$B$6:$B$39,0),2),\"\")","v":""}]
[null,null,{"$f":"IF(ISERROR(INDEX(概要設定!$J$2:$K$51,MATCH($C181,概要設定!$J$2:$J$51,0),2)),\"\",INDEX(概要設定!$J$2:$K$51,MATCH($C181,概要設定!$J$2:$J$51,0),2))","v":""},null,null,null,null,{"$f":"IF(ISERROR(INDEX(概要設定!$J$2:$K$51,MATCH($H181,概要設定!$J$2:$J$51,0),2)),\"\",INDEX(概要設定!$J$2:$K$51,MATCH($H181,概要設定!$J$2:$J$51,0),2))","v":""}]
[null,null,{"$f":"IF(AND($B181>=1,$B181<=17),INDEX(赤!$B$6:$E$39,MATCH($B181,赤!$B$6:$B$39,0),4),\"\")","v":""},null,null,null,null,{"$f":"IF(AND($I181>=1,$I181<=17),INDEX(赤!$B$6:$E$39,MATCH($I181,赤!$B$6:$B$39,0),4),\"\")","v":""},null,null,null,null,{"$f":"IF($A181=\"\",\"\",$B181+$B181+5)","v":""},{"$f":"IF($A181=\"\",\"\",$I181+$I181+4)","v":""},"","","","",{"$f":"IF(AND($B181>=1,$B181<=17),INDEX(赤!$B$6:$E$39,MATCH($B181,赤!$B$6:$B$39,0),2),\"\")","v":""},{"$f":"IF($A181=\"\",\"\",$I181+$I181+5)","v":""},{"$f":"IF($A181=\"\",\"\",$B181+$B181+4)","v":""},"","","","",{"$f":"IF(AND($I181>=1,$I181<=17),INDEX(赤!$B$6:$E$39,MATCH($I181,赤!$B$6:$B$39,0),2),\"\")","v":""}]
[null,null,{"$f":"IF(ISERROR(INDEX(概要設定!$J$2:$K$51,MATCH($C183,概要設定!$J$2:$J$51,0),2)),\"\",INDEX(概要設定!$J$2:$K$51,MATCH($C183,概要設定!$J$2:$J$51,0),2))","v":""},null,null,null,null,{"$f":"IF(ISERROR(INDEX(概要設定!$J$2:$K$51,MATCH($H183,概要設定!$J$2:$J$51,0),2)),\"\",INDEX(概要設定!$J$2:$K$51,MATCH($H183,概要設定!$J$2:$J$51,0),2))","v":""}]
[null,null,{"$f":"IF(AND($B183>=1,$B183<=17),INDEX(赤!$B$6:$E$39,MATCH($B183,赤!$B$6:$B$39,0),4),\"\")","v":""},null,null,null,null,{"$f":"IF(AND($I183>=1,$I183<=17),INDEX(赤!$B$6:$E$39,MATCH($I183,赤!$B$6:$B$39,0),4),\"\")","v":""},null,null,null,null,{"$f":"IF($A183=\"\",\"\",$B183+$B183+5)","v":""},{"$f":"IF($A183=\"\",\"\",$I183+$I183+4)","v":""},"","","","",{"$f":"IF(AND($B183>=1,$B183<=17),INDEX(赤!$B$6:$E$39,MATCH($B183,赤!$B$6:$B$39,0),2),\"\")","v":""},{"$f":"IF($A183=\"\",\"\",$I183+$I183+5)","v":""},{"$f":"IF($A183=\"\",\"\",$B183+$B183+4)","v":""},"","","","",{"$f":"IF(AND($I183>=1,$I183<=17),INDEX(赤!$B$6:$E$39,MATCH($I183,赤!$B$6:$B$39,0),2),\"\")","v":""}]
[null,null,{"$f":"IF(ISERROR(INDEX(概要設定!$J$2:$K$51,MATCH($C185,概要設定!$J$2:$J$51,0),2)),\"\",INDEX(概要設定!$J$2:$K$51,MATCH($C185,概要設定!$J$2:$J$51,0),2))","v":""},null,null,null,null,{"$f":"IF(ISERROR(INDEX(概要設定!$J$2:$K$51,MATCH($H185,概要設定!$J$2:$J$51,0),2)),\"\",INDEX(概要設定!$J$2:$K$51,MATCH($H185,概要設定!$J$2:$J$51,0),2))","v":""}]
[null,null,{"$f":"IF(AND($B185>=1,$B185<=17),INDEX(赤!$B$6:$E$39,MATCH($B185,赤!$B$6:$B$39,0),4),\"\")","v":""},null,null,null,null,{"$f":"IF(AND($I185>=1,$I185<=17),INDEX(赤!$B$6:$E$39,MATCH($I185,赤!$B$6:$B$39,0),4),\"\")","v":""},null,null,null,null,{"$f":"IF($A185=\"\",\"\",$B185+$B185+5)","v":""},{"$f":"IF($A185=\"\",\"\",$I185+$I185+4)","v":""},"","","","",{"$f":"IF(AND($B185>=1,$B185<=17),INDEX(赤!$B$6:$E$39,MATCH($B185,赤!$B$6:$B$39,0),2),\"\")","v":""},{"$f":"IF($A185=\"\",\"\",$I185+$I185+5)","v":""},{"$f":"IF($A185=\"\",\"\",$B185+$B185+4)","v":""},"","","","",{"$f":"IF(AND($I185>=1,$I185<=17),INDEX(赤!$B$6:$E$39,MATCH($I185,赤!$B$6:$B$39,0),2),\"\")","v":""}]
[null,null,{"$f":"IF(ISERROR(INDEX(概要設定!$J$2:$K$51,MATCH($C187,概要設定!$J$2:$J$51,0),2)),\"\",INDEX(概要設定!$J$2:$K$51,MATCH($C187,概要設定!$J$2:$J$51,0),2))","v":""},null,null,null,null,{"$f":"IF(ISERROR(INDEX(概要設定!$J$2:$K$51,MATCH($H187,概要設定!$J$2:$J$51,0),2)),\"\",INDEX(概要設定!$J$2:$K$51,MATCH($H187,概要設定!$J$2:$J$51,0),2))","v":""}]
[null,null,{"$f":"IF(AND($B187>=1,$B187<=17),INDEX(赤!$B$6:$E$39,MATCH($B187,赤!$B$6:$B$39,0),4),\"\")","v":""},null,null,null,null,{"$f":"IF(AND($I187>=1,$I187<=17),INDEX(赤!$B$6:$E$39,MATCH($I187,赤!$B$6:$B$39,0),4),\"\")","v":""},null,null,null,null,{"$f":"IF($A187=\"\",\"\",$B187+$B187+5)","v":""},{"$f":"IF($A187=\"\",\"\",$I187+$I187+4)","v":""},"","","","",{"$f":"IF(AND($B187>=1,$B187<=17),INDEX(赤!$B$6:$E$39,MATCH($B187,赤!$B$6:$B$39,0),2),\"\")","v":""},{"$f":"IF($A187=\"\",\"\",$I187+$I187+5)","v":""},{"$f":"IF($A187=\"\",\"\",$B187+$B187+4)","v":""},"","","","",{"$f":"IF(AND($I187>=1,$I187<=17),INDEX(赤!$B$6:$E$39,MATCH($I187,赤!$B$6:$B$39,0),2),\"\")","v":""}]
[null,null,{"$f":"IF(ISERROR(INDEX(概要設定!$J$2:$K$51,MATCH($C189,概要設定!$J$2:$J$51,0),2)),\"\",INDEX(概要設定!$J$2:$K$51,MATCH($C189,概要設定!$J$2:$J$51,0),2))","v":""},null,null,null,null,{"$f":"IF(ISERROR(INDEX(概要設定!$J$2:$K$51,MATCH($H189,概要設定!$J$2:$J$51,0),2)),\"\",INDEX(概要設定!$J$2:$K$51,MATCH($H189,概要設定!$J$2:$J$51,0),2))","v":""}]
[null,null,{"$f":"IF(AND($B189>=1,$B189<=17),INDEX(赤!$B$6:$E$39,MATCH($B189,赤!$B$6:$B$39,0),4),\"\")","v":""},null,null,null,null,{"$f":"IF(AND($I189>=1,$I189<=17),INDEX(赤!$B$6:$E$39,MATCH($I189,赤!$B$6:$B$39,0),4),\"\")","v":""},null,null,null,null,{"$f":"IF($A189=\"\",\"\",$B189+$B189+5)","v":""},{"$f":"IF($A189=\"\",\"\",$I189+$I189+4)","v":""},"","","","",{"$f":"IF(AND($B189>=1,$B189<=17),INDEX(赤!$B$6:$E$39,MATCH($B189,赤!$B$6:$B$39,0),2),\"\")","v":""},{"$f":"IF($A189=\"\",\"\",$I189+$I189+5)","v":""},{"$f":"IF($A189=\"\",\"\",$B189+$B189+4)","v":""},"","","","",{"$f":"IF(AND($I189>=1,$I189<=17),INDEX(赤!$B$6:$E$39,MATCH($I189,赤!$B$6:$B$39,0),2),\"\")","v":""}]
[null,null,{"$f":"IF(ISERROR(INDEX(概要設定!$J$2:$K$51,MATCH($C191,概要設定!$J$2:$J$51,0),2)),\"\",INDEX(概要設定!$J$2:$K$51,MATCH($C191,概要設定!$J$2:$J$51,0),2))","v":""},null,null,null,null,{"$f":"IF(ISERROR(INDEX(概要設定!$J$2:$K$51,MATCH($H191,概要設定!$J$2:$J$51,0),2)),\"\",INDEX(概要設定!$J$2:$K$51,MATCH($H191,概要設定!$J$2:$J$51,0),2))","v":""}]
[null,null,{"$f":"IF(AND($B191>=1,$B191<=17),INDEX(赤!$B$6:$E$39,MATCH($B191,赤!$B$6:$B$39,0),4),\"\")","v":""},null,null,null,null,{"$f":"IF(AND($I191>=1,$I191<=17),INDEX(赤!$B$6:$E$39,MATCH($I191,赤!$B$6:$B$39,0),4),\"\")","v":""},null,null,null,null,{"$f":"IF($A191=\"\",\"\",$B191+$B191+5)","v":""},{"$f":"IF($A191=\"\",\"\",$I191+$I191+4)","v":""},"","","","",{"$f":"IF(AND($B191>=1,$B191<=17),INDEX(赤!$B$6:$E$39,MATCH($B191,赤!$B$6:$B$39,0),2),\"\")","v":""},{"$f":"IF($A191=\"\",\"\",$I191+$I191+5)","v":""},{"$f":"IF($A191=\"\",\"\",$B191+$B191+4)","v":""},"","","","",{"$f":"IF(AND($I191>=1,$I191<=17),INDEX(赤!$B$6:$E$39,MATCH($I191,赤!$B$6:$B$39,0),2),\"\")","v":""}]
[null,null,{"$f":"IF(ISERROR(INDEX(概要設定!$J$2:$K$51,MATCH($C193,概要設定!$J$2:$J$51,0),2)),\"\",INDEX(概要設定!$J$2:$K$51,MATCH($C193,概要設定!$J$2:$J$51,0),2))","v":""},null,null,null,null,{"$f":"IF(ISERROR(INDEX(概要設定!$J$2:$K$51,MATCH($H193,概要設定!$J$2:$J$51,0),2)),\"\",INDEX(概要設定!$J$2:$K$51,MATCH($H193,概要設定!$J$2:$J$51,0),2))","v":""}]
[null,null,{"$f":"IF(AND($B193>=1,$B193<=17),INDEX(赤!$B$6:$E$39,MATCH($B193,赤!$B$6:$B$39,0),4),\"\")","v":""},null,null,null,null,{"$f":"IF(AND($I193>=1,$I193<=17),INDEX(赤!$B$6:$E$39,MATCH($I193,赤!$B$6:$B$39,0),4),\"\")","v":""},null,null,null,null,{"$f":"IF($A193=\"\",\"\",$B193+$B193+5)","v":""},{"$f":"IF($A193=\"\",\"\",$I193+$I193+4)","v":""},"","","","",{"$f":"IF(AND($B193>=1,$B193<=17),INDEX(赤!$B$6:$E$39,MATCH($B193,赤!$B$6:$B$39,0),2),\"\")","v":""},{"$f":"IF($A193=\"\",\"\",$I193+$I193+5)","v":""},{"$f":"IF($A193=\"\",\"\",$B193+$B193+4)","v":""},"","","","",{"$f":"IF(AND($I193>=1,$I193<=17),INDEX(赤!$B$6:$E$39,MATCH($I193,赤!$B$6:$B$39,0),2),\"\")","v":""}]
[null,null,{"$f":"IF(ISERROR(INDEX(概要設定!$J$2:$K$51,MATCH($C195,概要設定!$J$2:$J$51,0),2)),\"\",INDEX(概要設定!$J$2:$K$51,MATCH($C195,概要設定!$J$2:$J$51,0),2))","v":""},null,null,null,null,{"$f":"IF(ISERROR(INDEX(概要設定!$J$2:$K$51,MATCH($H195,概要設定!$J$2:$J$51,0),2)),\"\",INDEX(概要設定!$J$2:$K$51,MATCH($H195,概要設定!$J$2:$J$51,0),2))","v":""}]
[null,null,{"$f":"IF(AND($B195>=1,$B195<=17),INDEX(赤!$B$6:$E$39,MATCH($B195,赤!$B$6:$B$39,0),4),\"\")","v":""},null,null,null,null,{"$f":"IF(AND($I195>=1,$I195<=17),INDEX(赤!$B$6:$E$39,MATCH($I195,赤!$B$6:$B$39,0),4),\"\")","v":""},null,null,null,null,{"$f":"IF($A195=\"\",\"\",$B195+$B195+5)","v":""},{"$f":"IF($A195=\"\",\"\",$I195+$I195+4)","v":""},"","","","",{"$f":"IF(AND($B195>=1,$B195<=17),INDEX(赤!$B$6:$E$39,MATCH($B195,赤!$B$6:$B$39,0),2),\"\")","v":""},{"$f":"IF($A195=\"\",\"\",$I195+$I195+5)","v":""},{"$f":"IF($A195=\"\",\"\",$B195+$B195+4)","v":""},"","","","",{"$f":"IF(AND($I195>=1,$I195<=17),INDEX(赤!$B$6:$E$39,MATCH($I195,赤!$B$6:$B$39,0),2),\"\")","v":""}]
[null,null,{"$f":"IF(ISERROR(INDEX(概要設定!$J$2:$K$51,MATCH($C197,概要設定!$J$2:$J$51,0),2)),\"\",INDEX(概要設定!$J$2:$K$51,MATCH($C197,概要設定!$J$2:$J$51,0),2))","v":""},null,null,null,null,{"$f":"IF(ISERROR(INDEX(概要設定!$J$2:$K$51,MATCH($H197,概要設定!$J$2:$J$51,0),2)),\"\",INDEX(概要設定!$J$2:$K$51,MATCH($H197,概要設定!$J$2:$J$51,0),2))","v":""}]
[null,null,{"$f":"IF(AND($B197>=1,$B197<=17),INDEX(赤!$B$6:$E$39,MATCH($B197,赤!$B$6:$B$39,0),4),\"\")","v":""},null,null,null,null,{"$f":"IF(AND($I197>=1,$I197<=17),INDEX(赤!$B$6:$E$39,MATCH($I197,赤!$B$6:$B$39,0),4),\"\")","v":""},null,null,null,null,{"$f":"IF($A197=\"\",\"\",$B197+$B197+5)","v":""},{"$f":"IF($A197=\"\",\"\",$I197+$I197+4)","v":""},"","","","",{"$f":"IF(AND($B197>=1,$B197<=17),INDEX(赤!$B$6:$E$39,MATCH($B197,赤!$B$6:$B$39,0),2),\"\")","v":""},{"$f":"IF($A197=\"\",\"\",$I197+$I197+5)","v":""},{"$f":"IF($A197=\"\",\"\",$B197+$B197+4)","v":""},"","","","",{"$f":"IF(AND($I197>=1,$I197<=17),INDEX(赤!$B$6:$E$39,MATCH($I197,赤!$B$6:$B$39,0),2),\"\")","v":""}]
[null,null,{"$f":"IF(ISERROR(INDEX(概要設定!$J$2:$K$51,MATCH($C199,概要設定!$J$2:$J$51,0),2)),\"\",INDEX(概要設定!$J$2:$K$51,MATCH($C199,概要設定!$J$2:$J$51,0),2))","v":""},null,null,null,null,{"$f":"IF(ISERROR(INDEX(概要設定!$J$2:$K$51,MATCH($H199,概要設定!$J$2:$J$51,0),2)),\"\",INDEX(概要設定!$J$2:$K$51,MATCH($H199,概要設定!$J$2:$J$51,0),2))","v":""}]
[null,null,{"$f":"IF(AND($B199>=1,$B199<=17),INDEX(赤!$B$6:$E$39,MATCH($B199,赤!$B$6:$B$39,0),4),\"\")","v":""},null,null,null,null,{"$f":"IF(AND($I199>=1,$I199<=17),INDEX(赤!$B$6:$E$39,MATCH($I199,赤!$B$6:$B$39,0),4),\"\")","v":""},null,null,null,null,{"$f":"IF($A199=\"\",\"\",$B199+$B199+5)","v":""},{"$f":"IF($A199=\"\",\"\",$I199+$I199+4)","v":""},"","","","",{"$f":"IF(AND($B199>=1,$B199<=17),INDEX(赤!$B$6:$E$39,MATCH($B199,赤!$B$6:$B$39,0),2),\"\")","v":""},{"$f":"IF($A199=\"\",\"\",$I199+$I199+5)","v":""},{"$f":"IF($A199=\"\",\"\",$B199+$B199+4)","v":""},"","","","",{"$f":"IF(AND($I199>=1,$I199<=17),INDEX(赤!$B$6:$E$39,MATCH($I199,赤!$B$6:$B$39,0),2),\"\")","v":""}]
[null,null,{"$f":"IF(ISERROR(INDEX(概要設定!$J$2:$K$51,MATCH($C201,概要設定!$J$2:$J$51,0),2)),\"\",INDEX(概要設定!$J$2:$K$51,MATCH($C201,概要設定!$J$2:$J$51,0),2))","v":""},null,null,null,null,{"$f":"IF(ISERROR(INDEX(概要設定!$J$2:$K$51,MATCH($H201,概要設定!$J$2:$J$51,0),2)),\"\",INDEX(概要設定!$J$2:$K$51,MATCH($H201,概要設定!$J$2:$J$51,0),2))","v":""}]
[null,null,{"$f":"IF(AND($B201>=1,$B201<=17),INDEX(赤!$B$6:$E$39,MATCH($B201,赤!$B$6:$B$39,0),4),\"\")","v":""},null,null,null,null,{"$f":"IF(AND($I201>=1,$I201<=17),INDEX(赤!$B$6:$E$39,MATCH($I201,赤!$B$6:$B$39,0),4),\"\")","v":""},null,null,null,null,{"$f":"IF($A201=\"\",\"\",$B201+$B201+5)","v":""},{"$f":"IF($A201=\"\",\"\",$I201+$I201+4)","v":""},{"$f":"IF($A201=\"\",\"\",$M201-1)","v":""},{"$f":"IF($A201=\"\",\"\",$N201)","v":""},{"$f":"IF($A201=\"\",\"\",$M201-1)","v":""},{"$f":"IF($A201=\"\",\"\",$N201+1)","v":""},{"$f":"IF(AND($B201>=1,$B201<=17),INDEX(赤!$B$6:$E$39,MATCH($B201,赤!$B$6:$B$39,0),2),\"\")","v":""},{"$f":"IF($A201=\"\",\"\",$I201+$I201+5)","v":""},{"$f":"IF($A201=\"\",\"\",$B201+$B201+4)","v":""},{"$f":"IF($A201=\"\",\"\",$T201-1)","v":""},{"$f":"IF($A201=\"\",\"\",$U201)","v":""},{"$f":"IF($A201=\"\",\"\",$T201-1)","v":""},{"$f":"IF($A201=\"\",\"\",$U201+1)","v":""},{"$f":"IF(AND($I201>=1,$I201<=17),INDEX(赤!$B$6:$E$39,MATCH($I201,赤!$B$6:$B$39,0),2),\"\")","v":""}]
[null,null,{"$f":"IF(ISERROR(INDEX(概要設定!$J$2:$K$51,MATCH($C203,概要設定!$J$2:$J$51,0),2)),\"\",INDEX(概要設定!$J$2:$K$51,MATCH($C203,概要設定!$J$2:$J$51,0),2))","v":""},null,null,null,null,{"$f":"IF(ISERROR(INDEX(概要設定!$J$2:$K$51,MATCH($H203,概要設定!$J$2:$J$51,0),2)),\"\",INDEX(概要設定!$J$2:$K$51,MATCH($H203,概要設定!$J$2:$J$51,0),2))","v":""}]
[null,null,{"$f":"IF(AND($B203>=1,$B203<=17),INDEX(赤!$B$6:$E$39,MATCH($B203,赤!$B$6:$B$39,0),4),\"\")","v":""},null,null,null,null,{"$f":"IF(AND($I203>=1,$I203<=17),INDEX(赤!$B$6:$E$39,MATCH($I203,赤!$B$6:$B$39,0),4),\"\")","v":""},null,null,null,null,{"$f":"IF($A203=\"\",\"\",$B203+$B203+5)","v":""},{"$f":"IF($A203=\"\",\"\",$I203+$I203+4)","v":""},"","","","",{"$f":"IF(AND($B203>=1,$B203<=17),INDEX(赤!$B$6:$E$39,MATCH($B203,赤!$B$6:$B$39,0),2),\"\")","v":""},{"$f":"IF($A203=\"\",\"\",$I203+$I203+5)","v":""},{"$f":"IF($A203=\"\",\"\",$B203+$B203+4)","v":""},"","","","",{"$f":"IF(AND($I203>=1,$I203<=17),INDEX(赤!$B$6:$E$39,MATCH($I203,赤!$B$6:$B$39,0),2),\"\")","v":""}]
[null,null,{"$f":"IF(ISERROR(INDEX(概要設定!$J$2:$K$51,MATCH($C205,概要設定!$J$2:$J$51,0),2)),\"\",INDEX(概要設定!$J$2:$K$51,MATCH($C205,概要設定!$J$2:$J$51,0),2))","v":""},null,null,null,null,{"$f":"IF(ISERROR(INDEX(概要設定!$J$2:$K$51,MATCH($H205,概要設定!$J$2:$J$51,0),2)),\"\",INDEX(概要設定!$J$2:$K$51,MATCH($H205,概要設定!$J$2:$J$51,0),2))","v":""}]
[null,null,{"$f":"IF(AND($B205>=1,$B205<=17),INDEX(赤!$B$6:$E$39,MATCH($B205,赤!$B$6:$B$39,0),4),\"\")","v":""},null,null,null,null,{"$f":"IF(AND($I205>=1,$I205<=17),INDEX(赤!$B$6:$E$39,MATCH($I205,赤!$B$6:$B$39,0),4),\"\")","v":""},null,null,null,null,{"$f":"IF($A205=\"\",\"\",$B205+$B205+5)","v":""},{"$f":"IF($A205=\"\",\"\",$I205+$I205+4)","v":""},"","","","",{"$f":"IF(AND($B205>=1,$B205<=17),INDEX(赤!$B$6:$E$39,MATCH($B205,赤!$B$6:$B$39,0),2),\"\")","v":""},{"$f":"IF($A205=\"\",\"\",$I205+$I205+5)","v":""},{"$f":"IF($A205=\"\",\"\",$B205+$B205+4)","v":""},"","","","",{"$f":"IF(AND($I205>=1,$I205<=17),INDEX(赤!$B$6:$E$39,MATCH($I205,赤!$B$6:$B$39,0),2),\"\")","v":""}]
[null,null,{"$f":"IF(ISERROR(INDEX(概要設定!$J$2:$K$51,MATCH($C207,概要設定!$J$2:$J$51,0),2)),\"\",INDEX(概要設定!$J$2:$K$51,MATCH($C207,概要設定!$J$2:$J$51,0),2))","v":""},null,null,null,null,{"$f":"IF(ISERROR(INDEX(概要設定!$J$2:$K$51,MATCH($H207,概要設定!$J$2:$J$51,0),2)),\"\",INDEX(概要設定!$J$2:$K$51,MATCH($H207,概要設定!$J$2:$J$51,0),2))","v":""}]
[null,null,{"$f":"IF(AND($B207>=1,$B207<=17),INDEX(赤!$B$6:$E$39,MATCH($B207,赤!$B$6:$B$39,0),4),\"\")","v":""},null,null,null,null,{"$f":"IF(AND($I207>=1,$I207<=17),INDEX(赤!$B$6:$E$39,MATCH($I207,赤!$B$6:$B$39,0),4),\"\")","v":""},null,null,null,null,{"$f":"IF($A207=\"\",\"\",$B207+$B207+5)","v":""},{"$f":"IF($A207=\"\",\"\",$I207+$I207+4)","v":""},"","","","",{"$f":"IF(AND($B207>=1,$B207<=17),INDEX(赤!$B$6:$E$39,MATCH($B207,赤!$B$6:$B$39,0),2),\"\")","v":""},{"$f":"IF($A207=\"\",\"\",$I207+$I207+5)","v":""},{"$f":"IF($A207=\"\",\"\",$B207+$B207+4)","v":""},"","","","",{"$f":"IF(AND($I207>=1,$I207<=17),INDEX(赤!$B$6:$E$39,MATCH($I207,赤!$B$6:$B$39,0),2),\"\")","v":""}]
[null,null,{"$f":"IF(ISERROR(INDEX(概要設定!$J$2:$K$51,MATCH($C209,概要設定!$J$2:$J$51,0),2)),\"\",INDEX(概要設定!$J$2:$K$51,MATCH($C209,概要設定!$J$2:$J$51,0),2))","v":""},null,null,null,null,{"$f":"IF(ISERROR(INDEX(概要設定!$J$2:$K$51,MATCH($H209,概要設定!$J$2:$J$51,0),2)),\"\",INDEX(概要設定!$J$2:$K$51,MATCH($H209,概要設定!$J$2:$J$51,0),2))","v":""}]
[null,null,{"$f":"IF(AND($B209>=1,$B209<=17),INDEX(赤!$B$6:$E$39,MATCH($B209,赤!$B$6:$B$39,0),4),\"\")","v":""},null,null,null,null,{"$f":"IF(AND($I209>=1,$I209<=17),INDEX(赤!$B$6:$E$39,MATCH($I209,赤!$B$6:$B$39,0),4),\"\")","v":""},null,null,null,null,{"$f":"IF($A209=\"\",\"\",$B209+$B209+5)","v":""},{"$f":"IF($A209=\"\",\"\",$I209+$I209+4)","v":""},"","","","",{"$f":"IF(AND($B209>=1,$B209<=17),INDEX(赤!$B$6:$E$39,MATCH($B209,赤!$B$6:$B$39,0),2),\"\")","v":""},{"$f":"IF($A209=\"\",\"\",$I209+$I209+5)","v":""},{"$f":"IF($A209=\"\",\"\",$B209+$B209+4)","v":""},"","","","",{"$f":"IF(AND($I209>=1,$I209<=17),INDEX(赤!$B$6:$E$39,MATCH($I209,赤!$B$6:$B$39,0),2),\"\")","v":""}]
[null,null,{"$f":"IF(ISERROR(INDEX(概要設定!$J$2:$K$51,MATCH($C211,概要設定!$J$2:$J$51,0),2)),\"\",INDEX(概要設定!$J$2:$K$51,MATCH($C211,概要設定!$J$2:$J$51,0),2))","v":""},null,null,null,null,{"$f":"IF(ISERROR(INDEX(概要設定!$J$2:$K$51,MATCH($H211,概要設定!$J$2:$J$51,0),2)),\"\",INDEX(概要設定!$J$2:$K$51,MATCH($H211,概要設定!$J$2:$J$51,0),2))","v":""}]
[null,null,{"$f":"IF(AND($B211>=1,$B211<=17),INDEX(赤!$B$6:$E$39,MATCH($B211,赤!$B$6:$B$39,0),4),\"\")","v":""},null,null,null,null,{"$f":"IF(AND($I211>=1,$I211<=17),INDEX(赤!$B$6:$E$39,MATCH($I211,赤!$B$6:$B$39,0),4),\"\")","v":""},null,null,null,null,{"$f":"IF($A211=\"\",\"\",$B211+$B211+5)","v":""},{"$f":"IF($A211=\"\",\"\",$I211+$I211+4)","v":""},"","","","",{"$f":"IF(AND($B211>=1,$B211<=17),INDEX(赤!$B$6:$E$39,MATCH($B211,赤!$B$6:$B$39,0),2),\"\")","v":""},{"$f":"IF($A211=\"\",\"\",$I211+$I211+5)","v":""},{"$f":"IF($A211=\"\",\"\",$B211+$B211+4)","v":""},"","","","",{"$f":"IF(AND($I211>=1,$I211<=17),INDEX(赤!$B$6:$E$39,MATCH($I211,赤!$B$6:$B$39,0),2),\"\")","v":""}]
[null,null,{"$f":"IF(ISERROR(INDEX(概要設定!$J$2:$K$51,MATCH($C213,概要設定!$J$2:$J$51,0),2)),\"\",INDEX(概要設定!$J$2:$K$51,MATCH($C213,概要設定!$J$2:$J$51,0),2))","v":""},null,null,null,null,{"$f":"IF(ISERROR(INDEX(概要設定!$J$2:$K$51,MATCH($H213,概要設定!$J$2:$J$51,0),2)),\"\",INDEX(概要設定!$J$2:$K$51,MATCH($H213,概要設定!$J$2:$J$51,0),2))","v":""}]
[null,null,{"$f":"IF(AND($B213>=1,$B213<=17),INDEX(赤!$B$6:$E$39,MATCH($B213,赤!$B$6:$B$39,0),4),\"\")","v":""},null,null,null,null,{"$f":"IF(AND($I213>=1,$I213<=17),INDEX(赤!$B$6:$E$39,MATCH($I213,赤!$B$6:$B$39,0),4),\"\")","v":""},null,null,null,null,{"$f":"IF($A213=\"\",\"\",$B213+$B213+5)","v":""},{"$f":"IF($A213=\"\",\"\",$I213+$I213+4)","v":""},"","","","",{"$f":"IF(AND($B213>=1,$B213<=17),INDEX(赤!$B$6:$E$39,MATCH($B213,赤!$B$6:$B$39,0),2),\"\")","v":""},{"$f":"IF($A213=\"\",\"\",$I213+$I213+5)","v":""},{"$f":"IF($A213=\"\",\"\",$B213+$B213+4)","v":""},"","","","",{"$f":"IF(AND($I213>=1,$I213<=17),INDEX(赤!$B$6:$E$39,MATCH($I213,赤!$B$6:$B$39,0),2),\"\")","v":""}]
[null,null,{"$f":"IF(ISERROR(INDEX(概要設定!$J$2:$K$51,MATCH($C215,概要設定!$J$2:$J$51,0),2)),\"\",INDEX(概要設定!$J$2:$K$51,MATCH($C215,概要設定!$J$2:$J$51,0),2))","v":""},null,null,null,null,{"$f":"IF(ISERROR(INDEX(概要設定!$J$2:$K$51,MATCH($H215,概要設定!$J$2:$J$51,0),2)),\"\",INDEX(概要設定!$J$2:$K$51,MATCH($H215,概要設定!$J$2:$J$51,0),2))","v":""}]
[null,null,{"$f":"IF(AND($B215>=1,$B215<=17),INDEX(赤!$B$6:$E$39,MATCH($B215,赤!$B$6:$B$39,0),4),\"\")","v":""},null,null,null,null,{"$f":"IF(AND($I215>=1,$I215<=17),INDEX(赤!$B$6:$E$39,MATCH($I215,赤!$B$6:$B$39,0),4),\"\")","v":""},null,null,null,null,{"$f":"IF($A215=\"\",\"\",$B215+$B215+5)","v":""},{"$f":"IF($A215=\"\",\"\",$I215+$I215+4)","v":""},"","","","",{"$f":"IF(AND($B215>=1,$B215<=17),INDEX(赤!$B$6:$E$39,MATCH($B215,赤!$B$6:$B$39,0),2),\"\")","v":""},{"$f":"IF($A215=\"\",\"\",$I215+$I215+5)","v":""},{"$f":"IF($A215=\"\",\"\",$B215+$B215+4)","v":""},"","","","",{"$f":"IF(AND($I215>=1,$I215<=17),INDEX(赤!$B$6:$E$39,MATCH($I215,赤!$B$6:$B$39,0),2),\"\")","v":""}]
[null,null,{"$f":"IF(ISERROR(INDEX(概要設定!$J$2:$K$51,MATCH($C217,概要設定!$J$2:$J$51,0),2)),\"\",INDEX(概要設定!$J$2:$K$51,MATCH($C217,概要設定!$J$2:$J$51,0),2))","v":""},null,null,null,null,{"$f":"IF(ISERROR(INDEX(概要設定!$J$2:$K$51,MATCH($H217,概要設定!$J$2:$J$51,0),2)),\"\",INDEX(概要設定!$J$2:$K$51,MATCH($H217,概要設定!$J$2:$J$51,0),2))","v":""}]
[null,null,{"$f":"IF(AND($B217>=1,$B217<=17),INDEX(赤!$B$6:$E$39,MATCH($B217,赤!$B$6:$B$39,0),4),\"\")","v":""},null,null,null,null,{"$f":"IF(AND($I217>=1,$I217<=17),INDEX(赤!$B$6:$E$39,MATCH($I217,赤!$B$6:$B$39,0),4),\"\")","v":""},null,null,null,null,{"$f":"IF($A217=\"\",\"\",$B217+$B217+5)","v":""},{"$f":"IF($A217=\"\",\"\",$I217+$I217+4)","v":""},"","","","",{"$f":"IF(AND($B217>=1,$B217<=17),INDEX(赤!$B$6:$E$39,MATCH($B217,赤!$B$6:$B$39,0),2),\"\")","v":""},{"$f":"IF($A217=\"\",\"\",$I217+$I217+5)","v":""},{"$f":"IF($A217=\"\",\"\",$B217+$B217+4)","v":""},"","","","",{"$f":"IF(AND($I217>=1,$I217<=17),INDEX(赤!$B$6:$E$39,MATCH($I217,赤!$B$6:$B$39,0),2),\"\")","v":""}]
[null,null,{"$f":"IF(ISERROR(INDEX(概要設定!$J$2:$K$51,MATCH($C219,概要設定!$J$2:$J$51,0),2)),\"\",INDEX(概要設定!$J$2:$K$51,MATCH($C219,概要設定!$J$2:$J$51,0),2))","v":""},null,null,null,null,{"$f":"IF(ISERROR(INDEX(概要設定!$J$2:$K$51,MATCH($H219,概要設定!$J$2:$J$51,0),2)),\"\",INDEX(概要設定!$J$2:$K$51,MATCH($H219,概要設定!$J$2:$J$51,0),2))","v":""}]
[null,null,{"$f":"IF(AND($B219>=1,$B219<=17),INDEX(赤!$B$6:$E$39,MATCH($B219,赤!$B$6:$B$39,0),4),\"\")","v":""},null,null,null,null,{"$f":"IF(AND($I219>=1,$I219<=17),INDEX(赤!$B$6:$E$39,MATCH($I219,赤!$B$6:$B$39,0),4),\"\")","v":""},null,null,null,null,{"$f":"IF($A219=\"\",\"\",$B219+$B219+5)","v":""},{"$f":"IF($A219=\"\",\"\",$I219+$I219+4)","v":""},"","","","",{"$f":"IF(AND($B219>=1,$B219<=17),INDEX(赤!$B$6:$E$39,MATCH($B219,赤!$B$6:$B$39,0),2),\"\")","v":""},{"$f":"IF($A219=\"\",\"\",$I219+$I219+5)","v":""},{"$f":"IF($A219=\"\",\"\",$B219+$B219+4)","v":""},"","","","",{"$f":"IF(AND($I219>=1,$I219<=17),INDEX(赤!$B$6:$E$39,MATCH($I219,赤!$B$6:$B$39,0),2),\"\")","v":""}]
[null,null,{"$f":"IF(ISERROR(INDEX(概要設定!$J$2:$K$51,MATCH($C221,概要設定!$J$2:$J$51,0),2)),\"\",INDEX(概要設定!$J$2:$K$51,MATCH($C221,概要設定!$J$2:$J$51,0),2))","v":""},null,null,null,null,{"$f":"IF(ISERROR(INDEX(概要設定!$J$2:$K$51,MATCH($H221,概要設定!$J$2:$J$51,0),2)),\"\",INDEX(概要設定!$J$2:$K$51,MATCH($H221,概要設定!$J$2:$J$51,0),2))","v":""}]
[null,null,{"$f":"IF(AND($B221>=1,$B221<=17),INDEX(赤!$B$6:$E$39,MATCH($B221,赤!$B$6:$B$39,0),4),\"\")","v":""},null,null,null,null,{"$f":"IF(AND($I221>=1,$I221<=17),INDEX(赤!$B$6:$E$39,MATCH($I221,赤!$B$6:$B$39,0),4),\"\")","v":""},null,null,null,null,{"$f":"IF($A221=\"\",\"\",$B221+$B221+5)","v":""},{"$f":"IF($A221=\"\",\"\",$I221+$I221+4)","v":""},"","","","",{"$f":"IF(AND($B221>=1,$B221<=17),INDEX(赤!$B$6:$E$39,MATCH($B221,赤!$B$6:$B$39,0),2),\"\")","v":""},{"$f":"IF($A221=\"\",\"\",$I221+$I221+5)","v":""},{"$f":"IF($A221=\"\",\"\",$B221+$B221+4)","v":""},"","","","",{"$f":"IF(AND($I221>=1,$I221<=17),INDEX(赤!$B$6:$E$39,MATCH($I221,赤!$B$6:$B$39,0),2),\"\")","v":""}]
[null,null,{"$f":"IF(ISERROR(INDEX(概要設定!$J$2:$K$51,MATCH($C223,概要設定!$J$2:$J$51,0),2)),\"\",INDEX(概要設定!$J$2:$K$51,MATCH($C223,概要設定!$J$2:$J$51,0),2))","v":""},null,null,null,null,{"$f":"IF(ISERROR(INDEX(概要設定!$J$2:$K$51,MATCH($H223,概要設定!$J$2:$J$51,0),2)),\"\",INDEX(概要設定!$J$2:$K$51,MATCH($H223,概要設定!$J$2:$J$51,0),2))","v":""}]
[null,null,{"$f":"IF(AND($B223>=1,$B223<=17),INDEX(赤!$B$6:$E$39,MATCH($B223,赤!$B$6:$B$39,0),4),\"\")","v":""},null,null,null,null,{"$f":"IF(AND($I223>=1,$I223<=17),INDEX(赤!$B$6:$E$39,MATCH($I223,赤!$B$6:$B$39,0),4),\"\")","v":""},null,null,null,null,{"$f":"IF($A223=\"\",\"\",$B223+$B223+5)","v":""},{"$f":"IF($A223=\"\",\"\",$I223+$I223+4)","v":""},"","","","",{"$f":"IF(AND($B223>=1,$B223<=17),INDEX(赤!$B$6:$E$39,MATCH($B223,赤!$B$6:$B$39,0),2),\"\")","v":""},{"$f":"IF($A223=\"\",\"\",$I223+$I223+5)","v":""},{"$f":"IF($A223=\"\",\"\",$B223+$B223+4)","v":""},"","","","",{"$f":"IF(AND($I223>=1,$I223<=17),INDEX(赤!$B$6:$E$39,MATCH($I223,赤!$B$6:$B$39,0),2),\"\")","v":""}]
[null,null,{"$f":"IF(ISERROR(INDEX(概要設定!$J$2:$K$51,MATCH($C225,概要設定!$J$2:$J$51,0),2)),\"\",INDEX(概要設定!$J$2:$K$51,MATCH($C225,概要設定!$J$2:$J$51,0),2))","v":""},null,null,null,null,{"$f":"IF(ISERROR(INDEX(概要設定!$J$2:$K$51,MATCH($H225,概要設定!$J$2:$J$51,0),2)),\"\",INDEX(概要設定!$J$2:$K$51,MATCH($H225,概要設定!$J$2:$J$51,0),2))","v":""}]
[null,null,{"$f":"IF(AND($B225>=1,$B225<=17),INDEX(赤!$B$6:$E$39,MATCH($B225,赤!$B$6:$B$39,0),4),\"\")","v":""},null,null,null,null,{"$f":"IF(AND($I225>=1,$I225<=17),INDEX(赤!$B$6:$E$39,MATCH($I225,赤!$B$6:$B$39,0),4),\"\")","v":""},null,null,null,null,{"$f":"IF($A225=\"\",\"\",$B225+$B225+5)","v":""},{"$f":"IF($A225=\"\",\"\",$I225+$I225+4)","v":""},"","","","",{"$f":"IF(AND($B225>=1,$B225<=17),INDEX(赤!$B$6:$E$39,MATCH($B225,赤!$B$6:$B$39,0),2),\"\")","v":""},{"$f":"IF($A225=\"\",\"\",$I225+$I225+5)","v":""},{"$f":"IF($A225=\"\",\"\",$B225+$B225+4)","v":""},"","","","",{"$f":"IF(AND($I225>=1,$I225<=17),INDEX(赤!$B$6:$E$39,MATCH($I225,赤!$B$6:$B$39,0),2),\"\")","v":""}]
[null,null,{"$f":"IF(ISERROR(INDEX(概要設定!$J$2:$K$51,MATCH($C227,概要設定!$J$2:$J$51,0),2)),\"\",INDEX(概要設定!$J$2:$K$51,MATCH($C227,概要設定!$J$2:$J$51,0),2))","v":""},null,null,null,null,{"$f":"IF(ISERROR(INDEX(概要設定!$J$2:$K$51,MATCH($H227,概要設定!$J$2:$J$51,0),2)),\"\",INDEX(概要設定!$J$2:$K$51,MATCH($H227,概要設定!$J$2:$J$51,0),2))","v":""}]
[null,null,{"$f":"IF(AND($B227>=1,$B227<=17),INDEX(赤!$B$6:$E$39,MATCH($B227,赤!$B$6:$B$39,0),4),\"\")","v":""},null,null,null,null,{"$f":"IF(AND($I227>=1,$I227<=17),INDEX(赤!$B$6:$E$39,MATCH($I227,赤!$B$6:$B$39,0),4),\"\")","v":""},null,null,null,null,{"$f":"IF($A227=\"\",\"\",$B227+$B227+5)","v":""},{"$f":"IF($A227=\"\",\"\",$I227+$I227+4)","v":""},"","","","",{"$f":"IF(AND($B227>=1,$B227<=17),INDEX(赤!$B$6:$E$39,MATCH($B227,赤!$B$6:$B$39,0),2),\"\")","v":""},{"$f":"IF($A227=\"\",\"\",$I227+$I227+5)","v":""},{"$f":"IF($A227=\"\",\"\",$B227+$B227+4)","v":""},"","","","",{"$f":"IF(AND($I227>=1,$I227<=17),INDEX(赤!$B$6:$E$39,MATCH($I227,赤!$B$6:$B$39,0),2),\"\")","v":""}]
[null,null,{"$f":"IF(ISERROR(INDEX(概要設定!$J$2:$K$51,MATCH($C229,概要設定!$J$2:$J$51,0),2)),\"\",INDEX(概要設定!$J$2:$K$51,MATCH($C229,概要設定!$J$2:$J$51,0),2))","v":""},null,null,null,null,{"$f":"IF(ISERROR(INDEX(概要設定!$J$2:$K$51,MATCH($H229,概要設定!$J$2:$J$51,0),2)),\"\",INDEX(概要設定!$J$2:$K$51,MATCH($H229,概要設定!$J$2:$J$51,0),2))","v":""}]
[null,null,{"$f":"IF(AND($B229>=1,$B229<=17),INDEX(赤!$B$6:$E$39,MATCH($B229,赤!$B$6:$B$39,0),4),\"\")","v":""},null,null,null,null,{"$f":"IF(AND($I229>=1,$I229<=17),INDEX(赤!$B$6:$E$39,MATCH($I229,赤!$B$6:$B$39,0),4),\"\")","v":""},null,null,null,null,{"$f":"IF($A229=\"\",\"\",$B229+$B229+5)","v":""},{"$f":"IF($A229=\"\",\"\",$I229+$I229+4)","v":""},"","","","",{"$f":"IF(AND($B229>=1,$B229<=17),INDEX(赤!$B$6:$E$39,MATCH($B229,赤!$B$6:$B$39,0),2),\"\")","v":""},{"$f":"IF($A229=\"\",\"\",$I229+$I229+5)","v":""},{"$f":"IF($A229=\"\",\"\",$B229+$B229+4)","v":""},"","","","",{"$f":"IF(AND($I229>=1,$I229<=17),INDEX(赤!$B$6:$E$39,MATCH($I229,赤!$B$6:$B$39,0),2),\"\")","v":""}]
[null,null,{"$f":"IF(ISERROR(INDEX(概要設定!$J$2:$K$51,MATCH($C231,概要設定!$J$2:$J$51,0),2)),\"\",INDEX(概要設定!$J$2:$K$51,MATCH($C231,概要設定!$J$2:$J$51,0),2))","v":""},null,null,null,null,{"$f":"IF(ISERROR(INDEX(概要設定!$J$2:$K$51,MATCH($H231,概要設定!$J$2:$J$51,0),2)),\"\",INDEX(概要設定!$J$2:$K$51,MATCH($H231,概要設定!$J$2:$J$51,0),2))","v":""}]
[null,null,{"$f":"IF(AND($B231>=1,$B231<=17),INDEX(赤!$B$6:$E$39,MATCH($B231,赤!$B$6:$B$39,0),4),\"\")","v":""},null,null,null,null,{"$f":"IF(AND($I231>=1,$I231<=17),INDEX(赤!$B$6:$E$39,MATCH($I231,赤!$B$6:$B$39,0),4),\"\")","v":""},null,null,null,null,{"$f":"IF($A231=\"\",\"\",$B231+$B231+5)","v":""},{"$f":"IF($A231=\"\",\"\",$I231+$I231+4)","v":""},"","","","",{"$f":"IF(AND($B231>=1,$B231<=17),INDEX(赤!$B$6:$E$39,MATCH($B231,赤!$B$6:$B$39,0),2),\"\")","v":""},{"$f":"IF($A231=\"\",\"\",$I231+$I231+5)","v":""},{"$f":"IF($A231=\"\",\"\",$B231+$B231+4)","v":""},"","","","",{"$f":"IF(AND($I231>=1,$I231<=17),INDEX(赤!$B$6:$E$39,MATCH($I231,赤!$B$6:$B$39,0),2),\"\")","v":""}]
[null,null,{"$f":"IF(ISERROR(INDEX(概要設定!$J$2:$K$51,MATCH($C233,概要設定!$J$2:$J$51,0),2)),\"\",INDEX(概要設定!$J$2:$K$51,MATCH($C233,概要設定!$J$2:$J$51,0),2))","v":""},null,null,null,null,{"$f":"IF(ISERROR(INDEX(概要設定!$J$2:$K$51,MATCH($H233,概要設定!$J$2:$J$51,0),2)),\"\",INDEX(概要設定!$J$2:$K$51,MATCH($H233,概要設定!$J$2:$J$51,0),2))","v":""}]
[null,null,{"$f":"IF(AND($B233>=1,$B233<=17),INDEX(赤!$B$6:$E$39,MATCH($B233,赤!$B$6:$B$39,0),4),\"\")","v":""},null,null,null,null,{"$f":"IF(AND($I233>=1,$I233<=17),INDEX(赤!$B$6:$E$39,MATCH($I233,赤!$B$6:$B$39,0),4),\"\")","v":""},null,null,null,null,{"$f":"IF($A233=\"\",\"\",$B233+$B233+5)","v":""},{"$f":"IF($A233=\"\",\"\",$I233+$I233+4)","v":""},"","","","",{"$f":"IF(AND($B233>=1,$B233<=17),INDEX(赤!$B$6:$E$39,MATCH($B233,赤!$B$6:$B$39,0),2),\"\")","v":""},{"$f":"IF($A233=\"\",\"\",$I233+$I233+5)","v":""},{"$f":"IF($A233=\"\",\"\",$B233+$B233+4)","v":""},"","","","",{"$f":"IF(AND($I233>=1,$I233<=17),INDEX(赤!$B$6:$E$39,MATCH($I233,赤!$B$6:$B$39,0),2),\"\")","v":""}]
[null,null,{"$f":"IF(ISERROR(INDEX(概要設定!$J$2:$K$51,MATCH($C235,概要設定!$J$2:$J$51,0),2)),\"\",INDEX(概要設定!$J$2:$K$51,MATCH($C235,概要設定!$J$2:$J$51,0),2))","v":""},null,null,null,null,{"$f":"IF(ISERROR(INDEX(概要設定!$J$2:$K$51,MATCH($H235,概要設定!$J$2:$J$51,0),2)),\"\",INDEX(概要設定!$J$2:$K$51,MATCH($H235,概要設定!$J$2:$J$51,0),2))","v":""}]
[null,null,{"$f":"IF(AND($B235>=1,$B235<=17),INDEX(赤!$B$6:$E$39,MATCH($B235,赤!$B$6:$B$39,0),4),\"\")","v":""},null,null,null,null,{"$f":"IF(AND($I235>=1,$I235<=17),INDEX(赤!$B$6:$E$39,MATCH($I235,赤!$B$6:$B$39,0),4),\"\")","v":""},null,null,null,null,{"$f":"IF($A235=\"\",\"\",$B235+$B235+5)","v":""},{"$f":"IF($A235=\"\",\"\",$I235+$I235+4)","v":""},"","","","",{"$f":"IF(AND($B235>=1,$B235<=17),INDEX(赤!$B$6:$E$39,MATCH($B235,赤!$B$6:$B$39,0),2),\"\")","v":""},{"$f":"IF($A235=\"\",\"\",$I235+$I235+5)","v":""},{"$f":"IF($A235=\"\",\"\",$B235+$B235+4)","v":""},"","","","",{"$f":"IF(AND($I235>=1,$I235<=17),INDEX(赤!$B$6:$E$39,MATCH($I235,赤!$B$6:$B$39,0),2),\"\")","v":""}]
[null,null,{"$f":"IF(ISERROR(INDEX(概要設定!$J$2:$K$51,MATCH($C237,概要設定!$J$2:$J$51,0),2)),\"\",INDEX(概要設定!$J$2:$K$51,MATCH($C237,概要設定!$J$2:$J$51,0),2))","v":""},null,null,null,null,{"$f":"IF(ISERROR(INDEX(概要設定!$J$2:$K$51,MATCH($H237,概要設定!$J$2:$J$51,0),2)),\"\",INDEX(概要設定!$J$2:$K$51,MATCH($H237,概要設定!$J$2:$J$51,0),2))","v":""}]
[null,null,{"$f":"IF(AND($B237>=1,$B237<=17),INDEX(赤!$B$6:$E$39,MATCH($B237,赤!$B$6:$B$39,0),4),\"\")","v":""},null,null,null,null,{"$f":"IF(AND($I237>=1,$I237<=17),INDEX(赤!$B$6:$E$39,MATCH($I237,赤!$B$6:$B$39,0),4),\"\")","v":""},null,null,null,null,{"$f":"IF($A237=\"\",\"\",$B237+$B237+5)","v":""},{"$f":"IF($A237=\"\",\"\",$I237+$I237+4)","v":""},"","","","",{"$f":"IF(AND($B237>=1,$B237<=17),INDEX(赤!$B$6:$E$39,MATCH($B237,赤!$B$6:$B$39,0),2),\"\")","v":""},{"$f":"IF($A237=\"\",\"\",$I237+$I237+5)","v":""},{"$f":"IF($A237=\"\",\"\",$B237+$B237+4)","v":""},"","","","",{"$f":"IF(AND($I237>=1,$I237<=17),INDEX(赤!$B$6:$E$39,MATCH($I237,赤!$B$6:$B$39,0),2),\"\")","v":""}]
[null,null,{"$f":"IF(ISERROR(INDEX(概要設定!$J$2:$K$51,MATCH($C239,概要設定!$J$2:$J$51,0),2)),\"\",INDEX(概要設定!$J$2:$K$51,MATCH($C239,概要設定!$J$2:$J$51,0),2))","v":""},null,null,null,null,{"$f":"IF(ISERROR(INDEX(概要設定!$J$2:$K$51,MATCH($H239,概要設定!$J$2:$J$51,0),2)),\"\",INDEX(概要設定!$J$2:$K$51,MATCH($H239,概要設定!$J$2:$J$51,0),2))","v":""}]
[null,null,{"$f":"IF(AND($B239>=1,$B239<=17),INDEX(赤!$B$6:$E$39,MATCH($B239,赤!$B$6:$B$39,0),4),\"\")","v":""},null,null,null,null,{"$f":"IF(AND($I239>=1,$I239<=17),INDEX(赤!$B$6:$E$39,MATCH($I239,赤!$B$6:$B$39,0),4),\"\")","v":""},null,null,null,null,{"$f":"IF($A239=\"\",\"\",$B239+$B239+5)","v":""},{"$f":"IF($A239=\"\",\"\",$I239+$I239+4)","v":""},"","","","",{"$f":"IF(AND($B239>=1,$B239<=17),INDEX(赤!$B$6:$E$39,MATCH($B239,赤!$B$6:$B$39,0),2),\"\")","v":""},{"$f":"IF($A239=\"\",\"\",$I239+$I239+5)","v":""},{"$f":"IF($A239=\"\",\"\",$B239+$B239+4)","v":""},"","","","",{"$f":"IF(AND($I239>=1,$I239<=17),INDEX(赤!$B$6:$E$39,MATCH($I239,赤!$B$6:$B$39,0),2),\"\")","v":""}]
[null,null,{"$f":"IF(ISERROR(INDEX(概要設定!$J$2:$K$51,MATCH($C241,概要設定!$J$2:$J$51,0),2)),\"\",INDEX(概要設定!$J$2:$K$51,MATCH($C241,概要設定!$J$2:$J$51,0),2))","v":""},null,null,null,null,{"$f":"IF(ISERROR(INDEX(概要設定!$J$2:$K$51,MATCH($H241,概要設定!$J$2:$J$51,0),2)),\"\",INDEX(概要設定!$J$2:$K$51,MATCH($H241,概要設定!$J$2:$J$51,0),2))","v":""}]
[null,null,{"$f":"IF(AND($B241>=1,$B241<=17),INDEX(赤!$B$6:$E$39,MATCH($B241,赤!$B$6:$B$39,0),4),\"\")","v":""},null,null,null,null,{"$f":"IF(AND($I241>=1,$I241<=17),INDEX(赤!$B$6:$E$39,MATCH($I241,赤!$B$6:$B$39,0),4),\"\")","v":""},null,null,null,null,{"$f":"IF($A241=\"\",\"\",$B241+$B241+5)","v":""},{"$f":"IF($A241=\"\",\"\",$I241+$I241+4)","v":""},"","","","",{"$f":"IF(AND($B241>=1,$B241<=17),INDEX(赤!$B$6:$E$39,MATCH($B241,赤!$B$6:$B$39,0),2),\"\")","v":""},{"$f":"IF($A241=\"\",\"\",$I241+$I241+5)","v":""},{"$f":"IF($A241=\"\",\"\",$B241+$B241+4)","v":""},"","","","",{"$f":"IF(AND($I241>=1,$I241<=17),INDEX(赤!$B$6:$E$39,MATCH($I241,赤!$B$6:$B$39,0),2),\"\")","v":""}]
[null,null,{"$f":"IF(ISERROR(INDEX(概要設定!$J$2:$K$51,MATCH($C243,概要設定!$J$2:$J$51,0),2)),\"\",INDEX(概要設定!$J$2:$K$51,MATCH($C243,概要設定!$J$2:$J$51,0),2))","v":""},null,null,null,null,{"$f":"IF(ISERROR(INDEX(概要設定!$J$2:$K$51,MATCH($H243,概要設定!$J$2:$J$51,0),2)),\"\",INDEX(概要設定!$J$2:$K$51,MATCH($H243,概要設定!$J$2:$J$51,0),2))","v":""}]
[null,null,{"$f":"IF(AND($B243>=1,$B243<=17),INDEX(赤!$B$6:$E$39,MATCH($B243,赤!$B$6:$B$39,0),4),\"\")","v":""},null,null,null,null,{"$f":"IF(AND($I243>=1,$I243<=17),INDEX(赤!$B$6:$E$39,MATCH($I243,赤!$B$6:$B$39,0),4),\"\")","v":""},null,null,null,null,{"$f":"IF($A243=\"\",\"\",$B243+$B243+5)","v":""},{"$f":"IF($A243=\"\",\"\",$I243+$I243+4)","v":""},"","","","",{"$f":"IF(AND($B243>=1,$B243<=17),INDEX(赤!$B$6:$E$39,MATCH($B243,赤!$B$6:$B$39,0),2),\"\")","v":""},{"$f":"IF($A243=\"\",\"\",$I243+$I243+5)","v":""},{"$f":"IF($A243=\"\",\"\",$B243+$B243+4)","v":""},"","","","",{"$f":"IF(AND($I243>=1,$I243<=17),INDEX(赤!$B$6:$E$39,MATCH($I243,赤!$B$6:$B$39,0),2),\"\")","v":""}]
[null,null,{"$f":"IF(ISERROR(INDEX(概要設定!$J$2:$K$51,MATCH($C245,概要設定!$J$2:$J$51,0),2)),\"\",INDEX(概要設定!$J$2:$K$51,MATCH($C245,概要設定!$J$2:$J$51,0),2))","v":""},null,null,null,null,{"$f":"IF(ISERROR(INDEX(概要設定!$J$2:$K$51,MATCH($H245,概要設定!$J$2:$J$51,0),2)),\"\",INDEX(概要設定!$J$2:$K$51,MATCH($H245,概要設定!$J$2:$J$51,0),2))","v":""}]
[null,null,{"$f":"IF(AND($B245>=1,$B245<=17),INDEX(赤!$B$6:$E$39,MATCH($B245,赤!$B$6:$B$39,0),4),\"\")","v":""},null,null,null,null,{"$f":"IF(AND($I245>=1,$I245<=17),INDEX(赤!$B$6:$E$39,MATCH($I245,赤!$B$6:$B$39,0),4),\"\")","v":""},null,null,null,null,{"$f":"IF($A245=\"\",\"\",$B245+$B245+5)","v":""},{"$f":"IF($A245=\"\",\"\",$I245+$I245+4)","v":""},"","","","",{"$f":"IF(AND($B245>=1,$B245<=17),INDEX(赤!$B$6:$E$39,MATCH($B245,赤!$B$6:$B$39,0),2),\"\")","v":""},{"$f":"IF($A245=\"\",\"\",$I245+$I245+5)","v":""},{"$f":"IF($A245=\"\",\"\",$B245+$B245+4)","v":""},"","","","",{"$f":"IF(AND($I245>=1,$I245<=17),INDEX(赤!$B$6:$E$39,MATCH($I245,赤!$B$6:$B$39,0),2),\"\")","v":""}]
[null,null,{"$f":"IF(ISERROR(INDEX(概要設定!$J$2:$K$51,MATCH($C247,概要設定!$J$2:$J$51,0),2)),\"\",INDEX(概要設定!$J$2:$K$51,MATCH($C247,概要設定!$J$2:$J$51,0),2))","v":""},null,null,null,null,{"$f":"IF(ISERROR(INDEX(概要設定!$J$2:$K$51,MATCH($H247,概要設定!$J$2:$J$51,0),2)),\"\",INDEX(概要設定!$J$2:$K$51,MATCH($H247,概要設定!$J$2:$J$51,0),2))","v":""}]
[null,null,{"$f":"IF(AND($B247>=1,$B247<=17),INDEX(赤!$B$6:$E$39,MATCH($B247,赤!$B$6:$B$39,0),4),\"\")","v":""},null,null,null,null,{"$f":"IF(AND($I247>=1,$I247<=17),INDEX(赤!$B$6:$E$39,MATCH($I247,赤!$B$6:$B$39,0),4),\"\")","v":""},null,null,null,null,{"$f":"IF($A247=\"\",\"\",$B247+$B247+5)","v":""},{"$f":"IF($A247=\"\",\"\",$I247+$I247+4)","v":""},"","","","",{"$f":"IF(AND($B247>=1,$B247<=17),INDEX(赤!$B$6:$E$39,MATCH($B247,赤!$B$6:$B$39,0),2),\"\")","v":""},{"$f":"IF($A247=\"\",\"\",$I247+$I247+5)","v":""},{"$f":"IF($A247=\"\",\"\",$B247+$B247+4)","v":""},"","","","",{"$f":"IF(AND($I247>=1,$I247<=17),INDEX(赤!$B$6:$E$39,MATCH($I247,赤!$B$6:$B$39,0),2),\"\")","v":""}]
[null,null,{"$f":"IF(ISERROR(INDEX(概要設定!$J$2:$K$51,MATCH($C249,概要設定!$J$2:$J$51,0),2)),\"\",INDEX(概要設定!$J$2:$K$51,MATCH($C249,概要設定!$J$2:$J$51,0),2))","v":""},null,null,null,null,{"$f":"IF(ISERROR(INDEX(概要設定!$J$2:$K$51,MATCH($H249,概要設定!$J$2:$J$51,0),2)),\"\",INDEX(概要設定!$J$2:$K$51,MATCH($H249,概要設定!$J$2:$J$51,0),2))","v":""}]
[null,null,{"$f":"IF(AND($B249>=1,$B249<=17),INDEX(赤!$B$6:$E$39,MATCH($B249,赤!$B$6:$B$39,0),4),\"\")","v":""},null,null,null,null,{"$f":"IF(AND($I249>=1,$I249<=17),INDEX(赤!$B$6:$E$39,MATCH($I249,赤!$B$6:$B$39,0),4),\"\")","v":""},null,null,null,null,{"$f":"IF($A249=\"\",\"\",$B249+$B249+5)","v":""},{"$f":"IF($A249=\"\",\"\",$I249+$I249+4)","v":""},"","","","",{"$f":"IF(AND($B249>=1,$B249<=17),INDEX(赤!$B$6:$E$39,MATCH($B249,赤!$B$6:$B$39,0),2),\"\")","v":""},{"$f":"IF($A249=\"\",\"\",$I249+$I249+5)","v":""},{"$f":"IF($A249=\"\",\"\",$B249+$B249+4)","v":""},"","","","",{"$f":"IF(AND($I249>=1,$I249<=17),INDEX(赤!$B$6:$E$39,MATCH($I249,赤!$B$6:$B$39,0),2),\"\")","v":""}]
[null,null,{"$f":"IF(ISERROR(INDEX(概要設定!$J$2:$K$51,MATCH($C251,概要設定!$J$2:$J$51,0),2)),\"\",INDEX(概要設定!$J$2:$K$51,MATCH($C251,概要設定!$J$2:$J$51,0),2))","v":""},null,null,null,null,{"$f":"IF(ISERROR(INDEX(概要設定!$J$2:$K$51,MATCH($H251,概要設定!$J$2:$J$51,0),2)),\"\",INDEX(概要設定!$J$2:$K$51,MATCH($H251,概要設定!$J$2:$J$51,0),2))","v":""}]
[null,null,{"$f":"IF(AND($B251>=1,$B251<=17),INDEX(赤!$B$6:$E$39,MATCH($B251,赤!$B$6:$B$39,0),4),\"\")","v":""},null,null,null,null,{"$f":"IF(AND($I251>=1,$I251<=17),INDEX(赤!$B$6:$E$39,MATCH($I251,赤!$B$6:$B$39,0),4),\"\")","v":""},null,null,null,null,{"$f":"IF($A251=\"\",\"\",$B251+$B251+5)","v":""},{"$f":"IF($A251=\"\",\"\",$I251+$I251+4)","v":""},"","","","",{"$f":"IF(AND($B251>=1,$B251<=17),INDEX(赤!$B$6:$E$39,MATCH($B251,赤!$B$6:$B$39,0),2),\"\")","v":""},{"$f":"IF($A251=\"\",\"\",$I251+$I251+5)","v":""},{"$f":"IF($A251=\"\",\"\",$B251+$B251+4)","v":""},"","","","",{"$f":"IF(AND($I251>=1,$I251<=17),INDEX(赤!$B$6:$E$39,MATCH($I251,赤!$B$6:$B$39,0),2),\"\")","v":""}]
[null,null,{"$f":"IF(ISERROR(INDEX(概要設定!$J$2:$K$51,MATCH($C253,概要設定!$J$2:$J$51,0),2)),\"\",INDEX(概要設定!$J$2:$K$51,MATCH($C253,概要設定!$J$2:$J$51,0),2))","v":""},null,null,null,null,{"$f":"IF(ISERROR(INDEX(概要設定!$J$2:$K$51,MATCH($H253,概要設定!$J$2:$J$51,0),2)),\"\",INDEX(概要設定!$J$2:$K$51,MATCH($H253,概要設定!$J$2:$J$51,0),2))","v":""}]
[null,null,{"$f":"IF(AND($B253>=1,$B253<=17),INDEX(赤!$B$6:$E$39,MATCH($B253,赤!$B$6:$B$39,0),4),\"\")","v":""},null,null,null,null,{"$f":"IF(AND($I253>=1,$I253<=17),INDEX(赤!$B$6:$E$39,MATCH($I253,赤!$B$6:$B$39,0),4),\"\")","v":""},null,null,null,null,{"$f":"IF($A253=\"\",\"\",$B253+$B253+5)","v":""},{"$f":"IF($A253=\"\",\"\",$I253+$I253+4)","v":""},"","","","",{"$f":"IF(AND($B253>=1,$B253<=17),INDEX(赤!$B$6:$E$39,MATCH($B253,赤!$B$6:$B$39,0),2),\"\")","v":""},{"$f":"IF($A253=\"\",\"\",$I253+$I253+5)","v":""},{"$f":"IF($A253=\"\",\"\",$B253+$B253+4)","v":""},"","","","",{"$f":"IF(AND($I253>=1,$I253<=17),INDEX(赤!$B$6:$E$39,MATCH($I253,赤!$B$6:$B$39,0),2),\"\")","v":""}]
[null,null,{"$f":"IF(ISERROR(INDEX(概要設定!$J$2:$K$51,MATCH($C255,概要設定!$J$2:$J$51,0),2)),\"\",INDEX(概要設定!$J$2:$K$51,MATCH($C255,概要設定!$J$2:$J$51,0),2))","v":""},null,null,null,null,{"$f":"IF(ISERROR(INDEX(概要設定!$J$2:$K$51,MATCH($H255,概要設定!$J$2:$J$51,0),2)),\"\",INDEX(概要設定!$J$2:$K$51,MATCH($H255,概要設定!$J$2:$J$51,0),2))","v":""}]
[null,null,{"$f":"IF(AND($B255>=1,$B255<=17),INDEX(赤!$B$6:$E$39,MATCH($B255,赤!$B$6:$B$39,0),4),\"\")","v":""},null,null,null,null,{"$f":"IF(AND($I255>=1,$I255<=17),INDEX(赤!$B$6:$E$39,MATCH($I255,赤!$B$6:$B$39,0),4),\"\")","v":""},null,null,null,null,{"$f":"IF($A255=\"\",\"\",$B255+$B255+5)","v":""},{"$f":"IF($A255=\"\",\"\",$I255+$I255+4)","v":""},"","","","",{"$f":"IF(AND($B255>=1,$B255<=17),INDEX(赤!$B$6:$E$39,MATCH($B255,赤!$B$6:$B$39,0),2),\"\")","v":""},{"$f":"IF($A255=\"\",\"\",$I255+$I255+5)","v":""},{"$f":"IF($A255=\"\",\"\",$B255+$B255+4)","v":""},"","","","",{"$f":"IF(AND($I255>=1,$I255<=17),INDEX(赤!$B$6:$E$39,MATCH($I255,赤!$B$6:$B$39,0),2),\"\")","v":""}]
[null,null,{"$f":"IF(ISERROR(INDEX(概要設定!$J$2:$K$51,MATCH($C257,概要設定!$J$2:$J$51,0),2)),\"\",INDEX(概要設定!$J$2:$K$51,MATCH($C257,概要設定!$J$2:$J$51,0),2))","v":""},null,null,null,null,{"$f":"IF(ISERROR(INDEX(概要設定!$J$2:$K$51,MATCH($H257,概要設定!$J$2:$J$51,0),2)),\"\",INDEX(概要設定!$J$2:$K$51,MATCH($H257,概要設定!$J$2:$J$51,0),2))","v":""}]
[null,null,{"$f":"IF(AND($B257>=1,$B257<=17),INDEX(赤!$B$6:$E$39,MATCH($B257,赤!$B$6:$B$39,0),4),\"\")","v":""},null,null,null,null,{"$f":"IF(AND($I257>=1,$I257<=17),INDEX(赤!$B$6:$E$39,MATCH($I257,赤!$B$6:$B$39,0),4),\"\")","v":""},null,null,null,null,{"$f":"IF($A257=\"\",\"\",$B257+$B257+5)","v":""},{"$f":"IF($A257=\"\",\"\",$I257+$I257+4)","v":""},"","","","",{"$f":"IF(AND($B257>=1,$B257<=17),INDEX(赤!$B$6:$E$39,MATCH($B257,赤!$B$6:$B$39,0),2),\"\")","v":""},{"$f":"IF($A257=\"\",\"\",$I257+$I257+5)","v":""},{"$f":"IF($A257=\"\",\"\",$B257+$B257+4)","v":""},"","","","",{"$f":"IF(AND($I257>=1,$I257<=17),INDEX(赤!$B$6:$E$39,MATCH($I257,赤!$B$6:$B$39,0),2),\"\")","v":""}]
[null,null,{"$f":"IF(ISERROR(INDEX(概要設定!$J$2:$K$51,MATCH($C259,概要設定!$J$2:$J$51,0),2)),\"\",INDEX(概要設定!$J$2:$K$51,MATCH($C259,概要設定!$J$2:$J$51,0),2))","v":""},null,null,null,null,{"$f":"IF(ISERROR(INDEX(概要設定!$J$2:$K$51,MATCH($H259,概要設定!$J$2:$J$51,0),2)),\"\",INDEX(概要設定!$J$2:$K$51,MATCH($H259,概要設定!$J$2:$J$51,0),2))","v":""}]
[null,null,{"$f":"IF(AND($B259>=1,$B259<=17),INDEX(赤!$B$6:$E$39,MATCH($B259,赤!$B$6:$B$39,0),4),\"\")","v":""},null,null,null,null,{"$f":"IF(AND($I259>=1,$I259<=17),INDEX(赤!$B$6:$E$39,MATCH($I259,赤!$B$6:$B$39,0),4),\"\")","v":""},null,null,null,null,{"$f":"IF($A259=\"\",\"\",$B259+$B259+5)","v":""},{"$f":"IF($A259=\"\",\"\",$I259+$I259+4)","v":""},"","","","",{"$f":"IF(AND($B259>=1,$B259<=17),INDEX(赤!$B$6:$E$39,MATCH($B259,赤!$B$6:$B$39,0),2),\"\")","v":""},{"$f":"IF($A259=\"\",\"\",$I259+$I259+5)","v":""},{"$f":"IF($A259=\"\",\"\",$B259+$B259+4)","v":""},"","","","",{"$f":"IF(AND($I259>=1,$I259<=17),INDEX(赤!$B$6:$E$39,MATCH($I259,赤!$B$6:$B$39,0),2),\"\")","v":""}]
[null,null,{"$f":"IF(ISERROR(INDEX(概要設定!$J$2:$K$51,MATCH($C261,概要設定!$J$2:$J$51,0),2)),\"\",INDEX(概要設定!$J$2:$K$51,MATCH($C261,概要設定!$J$2:$J$51,0),2))","v":""},null,null,null,null,{"$f":"IF(ISERROR(INDEX(概要設定!$J$2:$K$51,MATCH($H261,概要設定!$J$2:$J$51,0),2)),\"\",INDEX(概要設定!$J$2:$K$51,MATCH($H261,概要設定!$J$2:$J$51,0),2))","v":""}]
[null,null,{"$f":"IF(AND($B261>=1,$B261<=17),INDEX(赤!$B$6:$E$39,MATCH($B261,赤!$B$6:$B$39,0),4),\"\")","v":""},null,null,null,null,{"$f":"IF(AND($I261>=1,$I261<=17),INDEX(赤!$B$6:$E$39,MATCH($I261,赤!$B$6:$B$39,0),4),\"\")","v":""},null,null,null,null,{"$f":"IF($A261=\"\",\"\",$B261+$B261+5)","v":""},{"$f":"IF($A261=\"\",\"\",$I261+$I261+4)","v":""},"","","","",{"$f":"IF(AND($B261>=1,$B261<=17),INDEX(赤!$B$6:$E$39,MATCH($B261,赤!$B$6:$B$39,0),2),\"\")","v":""},{"$f":"IF($A261=\"\",\"\",$I261+$I261+5)","v":""},{"$f":"IF($A261=\"\",\"\",$B261+$B261+4)","v":""},"","","","",{"$f":"IF(AND($I261>=1,$I261<=17),INDEX(赤!$B$6:$E$39,MATCH($I261,赤!$B$6:$B$39,0),2),\"\")","v":""}]
[null,null,{"$f":"IF(ISERROR(INDEX(概要設定!$J$2:$K$51,MATCH($C263,概要設定!$J$2:$J$51,0),2)),\"\",INDEX(概要設定!$J$2:$K$51,MATCH($C263,概要設定!$J$2:$J$51,0),2))","v":""},null,null,null,null,{"$f":"IF(ISERROR(INDEX(概要設定!$J$2:$K$51,MATCH($H263,概要設定!$J$2:$J$51,0),2)),\"\",INDEX(概要設定!$J$2:$K$51,MATCH($H263,概要設定!$J$2:$J$51,0),2))","v":""}]
[null,null,{"$f":"IF(AND($B263>=1,$B263<=17),INDEX(赤!$B$6:$E$39,MATCH($B263,赤!$B$6:$B$39,0),4),\"\")","v":""},null,null,null,null,{"$f":"IF(AND($I263>=1,$I263<=17),INDEX(赤!$B$6:$E$39,MATCH($I263,赤!$B$6:$B$39,0),4),\"\")","v":""},null,null,null,null,{"$f":"IF($A263=\"\",\"\",$B263+$B263+5)","v":""},{"$f":"IF($A263=\"\",\"\",$I263+$I263+4)","v":""},"","","","",{"$f":"IF(AND($B263>=1,$B263<=17),INDEX(赤!$B$6:$E$39,MATCH($B263,赤!$B$6:$B$39,0),2),\"\")","v":""},{"$f":"IF($A263=\"\",\"\",$I263+$I263+5)","v":""},{"$f":"IF($A263=\"\",\"\",$B263+$B263+4)","v":""},"","","","",{"$f":"IF(AND($I263>=1,$I263<=17),INDEX(赤!$B$6:$E$39,MATCH($I263,赤!$B$6:$B$39,0),2),\"\")","v":""}]
[null,null,{"$f":"IF(ISERROR(INDEX(概要設定!$J$2:$K$51,MATCH($C265,概要設定!$J$2:$J$51,0),2)),\"\",INDEX(概要設定!$J$2:$K$51,MATCH($C265,概要設定!$J$2:$J$51,0),2))","v":""},null,null,null,null,{"$f":"IF(ISERROR(INDEX(概要設定!$J$2:$K$51,MATCH($H265,概要設定!$J$2:$J$51,0),2)),\"\",INDEX(概要設定!$J$2:$K$51,MATCH($H265,概要設定!$J$2:$J$51,0),2))","v":""}]
[null,null,{"$f":"IF(AND($B265>=1,$B265<=17),INDEX(赤!$B$6:$E$39,MATCH($B265,赤!$B$6:$B$39,0),4),\"\")","v":""},null,null,null,null,{"$f":"IF(AND($I265>=1,$I265<=17),INDEX(赤!$B$6:$E$39,MATCH($I265,赤!$B$6:$B$39,0),4),\"\")","v":""},null,null,null,null,{"$f":"IF($A265=\"\",\"\",$B265+$B265+5)","v":""},{"$f":"IF($A265=\"\",\"\",$I265+$I265+4)","v":""},{"$f":"IF($A265=\"\",\"\",$M265-1)","v":""},{"$f":"IF($A265=\"\",\"\",$N265)","v":""},{"$f":"IF($A265=\"\",\"\",$M265-1)","v":""},{"$f":"IF($A265=\"\",\"\",$N265+1)","v":""},{"$f":"IF(AND($B265>=1,$B265<=17),INDEX(赤!$B$6:$E$39,MATCH($B265,赤!$B$6:$B$39,0),2),\"\")","v":""},{"$f":"IF($A265=\"\",\"\",$I265+$I265+5)","v":""},{"$f":"IF($A265=\"\",\"\",$B265+$B265+4)","v":""},{"$f":"IF($A265=\"\",\"\",$T265-1)","v":""},{"$f":"IF($A265=\"\",\"\",$U265)","v":""},{"$f":"IF($A265=\"\",\"\",$T265-1)","v":""},{"$f":"IF($A265=\"\",\"\",$U265+1)","v":""},{"$f":"IF(AND($I265>=1,$I265<=17),INDEX(赤!$B$6:$E$39,MATCH($I265,赤!$B$6:$B$39,0),2),\"\")","v":""}]
[null,null,{"$f":"IF(ISERROR(INDEX(概要設定!$J$2:$K$51,MATCH($C267,概要設定!$J$2:$J$51,0),2)),\"\",INDEX(概要設定!$J$2:$K$51,MATCH($C267,概要設定!$J$2:$J$51,0),2))","v":""},null,null,null,null,{"$f":"IF(ISERROR(INDEX(概要設定!$J$2:$K$51,MATCH($H267,概要設定!$J$2:$J$51,0),2)),\"\",INDEX(概要設定!$J$2:$K$51,MATCH($H267,概要設定!$J$2:$J$51,0),2))","v":""}]
[null,null,{"$f":"IF(AND($B267>=1,$B267<=17),INDEX(赤!$B$6:$E$39,MATCH($B267,赤!$B$6:$B$39,0),4),\"\")","v":""},null,null,null,null,{"$f":"IF(AND($I267>=1,$I267<=17),INDEX(赤!$B$6:$E$39,MATCH($I267,赤!$B$6:$B$39,0),4),\"\")","v":""},null,null,null,null,{"$f":"IF($A267=\"\",\"\",$B267+$B267+5)","v":""},{"$f":"IF($A267=\"\",\"\",$I267+$I267+4)","v":""},"","","","",{"$f":"IF(AND($B267>=1,$B267<=17),INDEX(赤!$B$6:$E$39,MATCH($B267,赤!$B$6:$B$39,0),2),\"\")","v":""},{"$f":"IF($A267=\"\",\"\",$I267+$I267+5)","v":""},{"$f":"IF($A267=\"\",\"\",$B267+$B267+4)","v":""},"","","","",{"$f":"IF(AND($I267>=1,$I267<=17),INDEX(赤!$B$6:$E$39,MATCH($I267,赤!$B$6:$B$39,0),2),\"\")","v":""}]
[null,null,{"$f":"IF(ISERROR(INDEX(概要設定!$J$2:$K$51,MATCH($C269,概要設定!$J$2:$J$51,0),2)),\"\",INDEX(概要設定!$J$2:$K$51,MATCH($C269,概要設定!$J$2:$J$51,0),2))","v":""},null,null,null,null,{"$f":"IF(ISERROR(INDEX(概要設定!$J$2:$K$51,MATCH($H269,概要設定!$J$2:$J$51,0),2)),\"\",INDEX(概要設定!$J$2:$K$51,MATCH($H269,概要設定!$J$2:$J$51,0),2))","v":""}]
[null,null,{"$f":"IF(AND($B269>=1,$B269<=17),INDEX(赤!$B$6:$E$39,MATCH($B269,赤!$B$6:$B$39,0),4),\"\")","v":""},null,null,null,null,{"$f":"IF(AND($I269>=1,$I269<=17),INDEX(赤!$B$6:$E$39,MATCH($I269,赤!$B$6:$B$39,0),4),\"\")","v":""},null,null,null,null,{"$f":"IF($A269=\"\",\"\",$B269+$B269+5)","v":""},{"$f":"IF($A269=\"\",\"\",$I269+$I269+4)","v":""},"","","","",{"$f":"IF(AND($B269>=1,$B269<=17),INDEX(赤!$B$6:$E$39,MATCH($B269,赤!$B$6:$B$39,0),2),\"\")","v":""},{"$f":"IF($A269=\"\",\"\",$I269+$I269+5)","v":""},{"$f":"IF($A269=\"\",\"\",$B269+$B269+4)","v":""},"","","","",{"$f":"IF(AND($I269>=1,$I269<=17),INDEX(赤!$B$6:$E$39,MATCH($I269,赤!$B$6:$B$39,0),2),\"\")","v":""}]
[null,null,{"$f":"IF(ISERROR(INDEX(概要設定!$J$2:$K$51,MATCH($C271,概要設定!$J$2:$J$51,0),2)),\"\",INDEX(概要設定!$J$2:$K$51,MATCH($C271,概要設定!$J$2:$J$51,0),2))","v":""},null,null,null,null,{"$f":"IF(ISERROR(INDEX(概要設定!$J$2:$K$51,MATCH($H271,概要設定!$J$2:$J$51,0),2)),\"\",INDEX(概要設定!$J$2:$K$51,MATCH($H271,概要設定!$J$2:$J$51,0),2))","v":""}]
[null,null,{"$f":"IF(AND($B271>=1,$B271<=17),INDEX(赤!$B$6:$E$39,MATCH($B271,赤!$B$6:$B$39,0),4),\"\")","v":""},null,null,null,null,{"$f":"IF(AND($I271>=1,$I271<=17),INDEX(赤!$B$6:$E$39,MATCH($I271,赤!$B$6:$B$39,0),4),\"\")","v":""},null,null,null,null,{"$f":"IF($A271=\"\",\"\",$B271+$B271+5)","v":""},{"$f":"IF($A271=\"\",\"\",$I271+$I271+4)","v":""},"","","","",{"$f":"IF(AND($B271>=1,$B271<=17),INDEX(赤!$B$6:$E$39,MATCH($B271,赤!$B$6:$B$39,0),2),\"\")","v":""},{"$f":"IF($A271=\"\",\"\",$I271+$I271+5)","v":""},{"$f":"IF($A271=\"\",\"\",$B271+$B271+4)","v":""},"","","","",{"$f":"IF(AND($I271>=1,$I271<=17),INDEX(赤!$B$6:$E$39,MATCH($I271,赤!$B$6:$B$39,0),2),\"\")","v":""}]
[null,null,{"$f":"IF(ISERROR(INDEX(概要設定!$J$2:$K$51,MATCH($C273,概要設定!$J$2:$J$51,0),2)),\"\",INDEX(概要設定!$J$2:$K$51,MATCH($C273,概要設定!$J$2:$J$51,0),2))","v":""},null,null,null,null,{"$f":"IF(ISERROR(INDEX(概要設定!$J$2:$K$51,MATCH($H273,概要設定!$J$2:$J$51,0),2)),\"\",INDEX(概要設定!$J$2:$K$51,MATCH($H273,概要設定!$J$2:$J$51,0),2))","v":""}]
[null,null,{"$f":"IF(AND($B273>=1,$B273<=17),INDEX(赤!$B$6:$E$39,MATCH($B273,赤!$B$6:$B$39,0),4),\"\")","v":""},null,null,null,null,{"$f":"IF(AND($I273>=1,$I273<=17),INDEX(赤!$B$6:$E$39,MATCH($I273,赤!$B$6:$B$39,0),4),\"\")","v":""},null,null,null,null,{"$f":"IF($A273=\"\",\"\",$B273+$B273+5)","v":""},{"$f":"IF($A273=\"\",\"\",$I273+$I273+4)","v":""},"","","","",{"$f":"IF(AND($B273>=1,$B273<=17),INDEX(赤!$B$6:$E$39,MATCH($B273,赤!$B$6:$B$39,0),2),\"\")","v":""},{"$f":"IF($A273=\"\",\"\",$I273+$I273+5)","v":""},{"$f":"IF($A273=\"\",\"\",$B273+$B273+4)","v":""},"","","","",{"$f":"IF(AND($I273>=1,$I273<=17),INDEX(赤!$B$6:$E$39,MATCH($I273,赤!$B$6:$B$39,0),2),\"\")","v":""}]
[null,null,{"$f":"IF(ISERROR(INDEX(概要設定!$J$2:$K$51,MATCH($C275,概要設定!$J$2:$J$51,0),2)),\"\",INDEX(概要設定!$J$2:$K$51,MATCH($C275,概要設定!$J$2:$J$51,0),2))","v":""},null,null,null,null,{"$f":"IF(ISERROR(INDEX(概要設定!$J$2:$K$51,MATCH($H275,概要設定!$J$2:$J$51,0),2)),\"\",INDEX(概要設定!$J$2:$K$51,MATCH($H275,概要設定!$J$2:$J$51,0),2))","v":""}]
[null,null,{"$f":"IF(AND($B275>=1,$B275<=17),INDEX(赤!$B$6:$E$39,MATCH($B275,赤!$B$6:$B$39,0),4),\"\")","v":""},null,null,null,null,{"$f":"IF(AND($I275>=1,$I275<=17),INDEX(赤!$B$6:$E$39,MATCH($I275,赤!$B$6:$B$39,0),4),\"\")","v":""},null,null,null,null,{"$f":"IF($A275=\"\",\"\",$B275+$B275+5)","v":""},{"$f":"IF($A275=\"\",\"\",$I275+$I275+4)","v":""},"","","","",{"$f":"IF(AND($B275>=1,$B275<=17),INDEX(赤!$B$6:$E$39,MATCH($B275,赤!$B$6:$B$39,0),2),\"\")","v":""},{"$f":"IF($A275=\"\",\"\",$I275+$I275+5)","v":""},{"$f":"IF($A275=\"\",\"\",$B275+$B275+4)","v":""},"","","","",{"$f":"IF(AND($I275>=1,$I275<=17),INDEX(赤!$B$6:$E$39,MATCH($I275,赤!$B$6:$B$39,0),2),\"\")","v":""}]
[null,null,{"$f":"IF(ISERROR(INDEX(概要設定!$J$2:$K$51,MATCH($C277,概要設定!$J$2:$J$51,0),2)),\"\",INDEX(概要設定!$J$2:$K$51,MATCH($C277,概要設定!$J$2:$J$51,0),2))","v":""},null,null,null,null,{"$f":"IF(ISERROR(INDEX(概要設定!$J$2:$K$51,MATCH($H277,概要設定!$J$2:$J$51,0),2)),\"\",INDEX(概要設定!$J$2:$K$51,MATCH($H277,概要設定!$J$2:$J$51,0),2))","v":""}]
[null,null,{"$f":"IF(AND($B277>=1,$B277<=17),INDEX(赤!$B$6:$E$39,MATCH($B277,赤!$B$6:$B$39,0),4),\"\")","v":""},null,null,null,null,{"$f":"IF(AND($I277>=1,$I277<=17),INDEX(赤!$B$6:$E$39,MATCH($I277,赤!$B$6:$B$39,0),4),\"\")","v":""},null,null,null,null,{"$f":"IF($A277=\"\",\"\",$B277+$B277+5)","v":""},{"$f":"IF($A277=\"\",\"\",$I277+$I277+4)","v":""},"","","","",{"$f":"IF(AND($B277>=1,$B277<=17),INDEX(赤!$B$6:$E$39,MATCH($B277,赤!$B$6:$B$39,0),2),\"\")","v":""},{"$f":"IF($A277=\"\",\"\",$I277+$I277+5)","v":""},{"$f":"IF($A277=\"\",\"\",$B277+$B277+4)","v":""},"","","","",{"$f":"IF(AND($I277>=1,$I277<=17),INDEX(赤!$B$6:$E$39,MATCH($I277,赤!$B$6:$B$39,0),2),\"\")","v":""}]
[null,null,{"$f":"IF(ISERROR(INDEX(概要設定!$J$2:$K$51,MATCH($C279,概要設定!$J$2:$J$51,0),2)),\"\",INDEX(概要設定!$J$2:$K$51,MATCH($C279,概要設定!$J$2:$J$51,0),2))","v":""},null,null,null,null,{"$f":"IF(ISERROR(INDEX(概要設定!$J$2:$K$51,MATCH($H279,概要設定!$J$2:$J$51,0),2)),\"\",INDEX(概要設定!$J$2:$K$51,MATCH($H279,概要設定!$J$2:$J$51,0),2))","v":""}]
[null,null,{"$f":"IF(AND($B279>=1,$B279<=17),INDEX(赤!$B$6:$E$39,MATCH($B279,赤!$B$6:$B$39,0),4),\"\")","v":""},null,null,null,null,{"$f":"IF(AND($I279>=1,$I279<=17),INDEX(赤!$B$6:$E$39,MATCH($I279,赤!$B$6:$B$39,0),4),\"\")","v":""},null,null,null,null,{"$f":"IF($A279=\"\",\"\",$B279+$B279+5)","v":""},{"$f":"IF($A279=\"\",\"\",$I279+$I279+4)","v":""},"","","","",{"$f":"IF(AND($B279>=1,$B279<=17),INDEX(赤!$B$6:$E$39,MATCH($B279,赤!$B$6:$B$39,0),2),\"\")","v":""},{"$f":"IF($A279=\"\",\"\",$I279+$I279+5)","v":""},{"$f":"IF($A279=\"\",\"\",$B279+$B279+4)","v":""},"","","","",{"$f":"IF(AND($I279>=1,$I279<=17),INDEX(赤!$B$6:$E$39,MATCH($I279,赤!$B$6:$B$39,0),2),\"\")","v":""}]
[null,null,{"$f":"IF(ISERROR(INDEX(概要設定!$J$2:$K$51,MATCH($C281,概要設定!$J$2:$J$51,0),2)),\"\",INDEX(概要設定!$J$2:$K$51,MATCH($C281,概要設定!$J$2:$J$51,0),2))","v":""},null,null,null,null,{"$f":"IF(ISERROR(INDEX(概要設定!$J$2:$K$51,MATCH($H281,概要設定!$J$2:$J$51,0),2)),\"\",INDEX(概要設定!$J$2:$K$51,MATCH($H281,概要設定!$J$2:$J$51,0),2))","v":""}]
[null,null,{"$f":"IF(AND($B281>=1,$B281<=17),INDEX(赤!$B$6:$E$39,MATCH($B281,赤!$B$6:$B$39,0),4),\"\")","v":""},null,null,null,null,{"$f":"IF(AND($I281>=1,$I281<=17),INDEX(赤!$B$6:$E$39,MATCH($I281,赤!$B$6:$B$39,0),4),\"\")","v":""},null,null,null,null,{"$f":"IF($A281=\"\",\"\",$B281+$B281+5)","v":""},{"$f":"IF($A281=\"\",\"\",$I281+$I281+4)","v":""},"","","","",{"$f":"IF(AND($B281>=1,$B281<=17),INDEX(赤!$B$6:$E$39,MATCH($B281,赤!$B$6:$B$39,0),2),\"\")","v":""},{"$f":"IF($A281=\"\",\"\",$I281+$I281+5)","v":""},{"$f":"IF($A281=\"\",\"\",$B281+$B281+4)","v":""},"","","","",{"$f":"IF(AND($I281>=1,$I281<=17),INDEX(赤!$B$6:$E$39,MATCH($I281,赤!$B$6:$B$39,0),2),\"\")","v":""}]
[null,null,{"$f":"IF(ISERROR(INDEX(概要設定!$J$2:$K$51,MATCH($C283,概要設定!$J$2:$J$51,0),2)),\"\",INDEX(概要設定!$J$2:$K$51,MATCH($C283,概要設定!$J$2:$J$51,0),2))","v":""},null,null,null,null,{"$f":"IF(ISERROR(INDEX(概要設定!$J$2:$K$51,MATCH($H283,概要設定!$J$2:$J$51,0),2)),\"\",INDEX(概要設定!$J$2:$K$51,MATCH($H283,概要設定!$J$2:$J$51,0),2))","v":""}]
[null,null,{"$f":"IF(AND($B283>=1,$B283<=17),INDEX(赤!$B$6:$E$39,MATCH($B283,赤!$B$6:$B$39,0),4),\"\")","v":""},null,null,null,null,{"$f":"IF(AND($I283>=1,$I283<=17),INDEX(赤!$B$6:$E$39,MATCH($I283,赤!$B$6:$B$39,0),4),\"\")","v":""},null,null,null,null,{"$f":"IF($A283=\"\",\"\",$B283+$B283+5)","v":""},{"$f":"IF($A283=\"\",\"\",$I283+$I283+4)","v":""},"","","","",{"$f":"IF(AND($B283>=1,$B283<=17),INDEX(赤!$B$6:$E$39,MATCH($B283,赤!$B$6:$B$39,0),2),\"\")","v":""},{"$f":"IF($A283=\"\",\"\",$I283+$I283+5)","v":""},{"$f":"IF($A283=\"\",\"\",$B283+$B283+4)","v":""},"","","","",{"$f":"IF(AND($I283>=1,$I283<=17),INDEX(赤!$B$6:$E$39,MATCH($I283,赤!$B$6:$B$39,0),2),\"\")","v":""}]
[null,null,{"$f":"IF(ISERROR(INDEX(概要設定!$J$2:$K$51,MATCH($C285,概要設定!$J$2:$J$51,0),2)),\"\",INDEX(概要設定!$J$2:$K$51,MATCH($C285,概要設定!$J$2:$J$51,0),2))","v":""},null,null,null,null,{"$f":"IF(ISERROR(INDEX(概要設定!$J$2:$K$51,MATCH($H285,概要設定!$J$2:$J$51,0),2)),\"\",INDEX(概要設定!$J$2:$K$51,MATCH($H285,概要設定!$J$2:$J$51,0),2))","v":""}]
[null,null,{"$f":"IF(AND($B285>=1,$B285<=17),INDEX(赤!$B$6:$E$39,MATCH($B285,赤!$B$6:$B$39,0),4),\"\")","v":""},null,null,null,null,{"$f":"IF(AND($I285>=1,$I285<=17),INDEX(赤!$B$6:$E$39,MATCH($I285,赤!$B$6:$B$39,0),4),\"\")","v":""},null,null,null,null,{"$f":"IF($A285=\"\",\"\",$B285+$B285+5)","v":""},{"$f":"IF($A285=\"\",\"\",$I285+$I285+4)","v":""},"","","","",{"$f":"IF(AND($B285>=1,$B285<=17),INDEX(赤!$B$6:$E$39,MATCH($B285,赤!$B$6:$B$39,0),2),\"\")","v":""},{"$f":"IF($A285=\"\",\"\",$I285+$I285+5)","v":""},{"$f":"IF($A285=\"\",\"\",$B285+$B285+4)","v":""},"","","","",{"$f":"IF(AND($I285>=1,$I285<=17),INDEX(赤!$B$6:$E$39,MATCH($I285,赤!$B$6:$B$39,0),2),\"\")","v":""}]
[null,null,{"$f":"IF(ISERROR(INDEX(概要設定!$J$2:$K$51,MATCH($C287,概要設定!$J$2:$J$51,0),2)),\"\",INDEX(概要設定!$J$2:$K$51,MATCH($C287,概要設定!$J$2:$J$51,0),2))","v":""},null,null,null,null,{"$f":"IF(ISERROR(INDEX(概要設定!$J$2:$K$51,MATCH($H287,概要設定!$J$2:$J$51,0),2)),\"\",INDEX(概要設定!$J$2:$K$51,MATCH($H287,概要設定!$J$2:$J$51,0),2))","v":""}]
[null,null,{"$f":"IF(AND($B287>=1,$B287<=17),INDEX(赤!$B$6:$E$39,MATCH($B287,赤!$B$6:$B$39,0),4),\"\")","v":""},null,null,null,null,{"$f":"IF(AND($I287>=1,$I287<=17),INDEX(赤!$B$6:$E$39,MATCH($I287,赤!$B$6:$B$39,0),4),\"\")","v":""},null,null,null,null,{"$f":"IF($A287=\"\",\"\",$B287+$B287+5)","v":""},{"$f":"IF($A287=\"\",\"\",$I287+$I287+4)","v":""},"","","","",{"$f":"IF(AND($B287>=1,$B287<=17),INDEX(赤!$B$6:$E$39,MATCH($B287,赤!$B$6:$B$39,0),2),\"\")","v":""},{"$f":"IF($A287=\"\",\"\",$I287+$I287+5)","v":""},{"$f":"IF($A287=\"\",\"\",$B287+$B287+4)","v":""},"","","","",{"$f":"IF(AND($I287>=1,$I287<=17),INDEX(赤!$B$6:$E$39,MATCH($I287,赤!$B$6:$B$39,0),2),\"\")","v":""}]
[null,null,{"$f":"IF(ISERROR(INDEX(概要設定!$J$2:$K$51,MATCH($C289,概要設定!$J$2:$J$51,0),2)),\"\",INDEX(概要設定!$J$2:$K$51,MATCH($C289,概要設定!$J$2:$J$51,0),2))","v":""},null,null,null,null,{"$f":"IF(ISERROR(INDEX(概要設定!$J$2:$K$51,MATCH($H289,概要設定!$J$2:$J$51,0),2)),\"\",INDEX(概要設定!$J$2:$K$51,MATCH($H289,概要設定!$J$2:$J$51,0),2))","v":""}]
[null,null,{"$f":"IF(AND($B289>=1,$B289<=17),INDEX(赤!$B$6:$E$39,MATCH($B289,赤!$B$6:$B$39,0),4),\"\")","v":""},null,null,null,null,{"$f":"IF(AND($I289>=1,$I289<=17),INDEX(赤!$B$6:$E$39,MATCH($I289,赤!$B$6:$B$39,0),4),\"\")","v":""},null,null,null,null,{"$f":"IF($A289=\"\",\"\",$B289+$B289+5)","v":""},{"$f":"IF($A289=\"\",\"\",$I289+$I289+4)","v":""},"","","","",{"$f":"IF(AND($B289>=1,$B289<=17),INDEX(赤!$B$6:$E$39,MATCH($B289,赤!$B$6:$B$39,0),2),\"\")","v":""},{"$f":"IF($A289=\"\",\"\",$I289+$I289+5)","v":""},{"$f":"IF($A289=\"\",\"\",$B289+$B289+4)","v":""},"","","","",{"$f":"IF(AND($I289>=1,$I289<=17),INDEX(赤!$B$6:$E$39,MATCH($I289,赤!$B$6:$B$39,0),2),\"\")","v":""}]
[null,null,{"$f":"IF(ISERROR(INDEX(概要設定!$J$2:$K$51,MATCH($C291,概要設定!$J$2:$J$51,0),2)),\"\",INDEX(概要設定!$J$2:$K$51,MATCH($C291,概要設定!$J$2:$J$51,0),2))","v":""},null,null,null,null,{"$f":"IF(ISERROR(INDEX(概要設定!$J$2:$K$51,MATCH($H291,概要設定!$J$2:$J$51,0),2)),\"\",INDEX(概要設定!$J$2:$K$51,MATCH($H291,概要設定!$J$2:$J$51,0),2))","v":""}]
[null,null,{"$f":"IF(AND($B291>=1,$B291<=17),INDEX(赤!$B$6:$E$39,MATCH($B291,赤!$B$6:$B$39,0),4),\"\")","v":""},null,null,null,null,{"$f":"IF(AND($I291>=1,$I291<=17),INDEX(赤!$B$6:$E$39,MATCH($I291,赤!$B$6:$B$39,0),4),\"\")","v":""},null,null,null,null,{"$f":"IF($A291=\"\",\"\",$B291+$B291+5)","v":""},{"$f":"IF($A291=\"\",\"\",$I291+$I291+4)","v":""},"","","","",{"$f":"IF(AND($B291>=1,$B291<=17),INDEX(赤!$B$6:$E$39,MATCH($B291,赤!$B$6:$B$39,0),2),\"\")","v":""},{"$f":"IF($A291=\"\",\"\",$I291+$I291+5)","v":""},{"$f":"IF($A291=\"\",\"\",$B291+$B291+4)","v":""},"","","","",{"$f":"IF(AND($I291>=1,$I291<=17),INDEX(赤!$B$6:$E$39,MATCH($I291,赤!$B$6:$B$39,0),2),\"\")","v":""}]
[null,null,{"$f":"IF(ISERROR(INDEX(概要設定!$J$2:$K$51,MATCH($C293,概要設定!$J$2:$J$51,0),2)),\"\",INDEX(概要設定!$J$2:$K$51,MATCH($C293,概要設定!$J$2:$J$51,0),2))","v":""},null,null,null,null,{"$f":"IF(ISERROR(INDEX(概要設定!$J$2:$K$51,MATCH($H293,概要設定!$J$2:$J$51,0),2)),\"\",INDEX(概要設定!$J$2:$K$51,MATCH($H293,概要設定!$J$2:$J$51,0),2))","v":""}]
[null,null,{"$f":"IF(AND($B293>=1,$B293<=17),INDEX(赤!$B$6:$E$39,MATCH($B293,赤!$B$6:$B$39,0),4),\"\")","v":""},null,null,null,null,{"$f":"IF(AND($I293>=1,$I293<=17),INDEX(赤!$B$6:$E$39,MATCH($I293,赤!$B$6:$B$39,0),4),\"\")","v":""},null,null,null,null,{"$f":"IF($A293=\"\",\"\",$B293+$B293+5)","v":""},{"$f":"IF($A293=\"\",\"\",$I293+$I293+4)","v":""},"","","","",{"$f":"IF(AND($B293>=1,$B293<=17),INDEX(赤!$B$6:$E$39,MATCH($B293,赤!$B$6:$B$39,0),2),\"\")","v":""},{"$f":"IF($A293=\"\",\"\",$I293+$I293+5)","v":""},{"$f":"IF($A293=\"\",\"\",$B293+$B293+4)","v":""},"","","","",{"$f":"IF(AND($I293>=1,$I293<=17),INDEX(赤!$B$6:$E$39,MATCH($I293,赤!$B$6:$B$39,0),2),\"\")","v":""}]
[null,null,{"$f":"IF(ISERROR(INDEX(概要設定!$J$2:$K$51,MATCH($C295,概要設定!$J$2:$J$51,0),2)),\"\",INDEX(概要設定!$J$2:$K$51,MATCH($C295,概要設定!$J$2:$J$51,0),2))","v":""},null,null,null,null,{"$f":"IF(ISERROR(INDEX(概要設定!$J$2:$K$51,MATCH($H295,概要設定!$J$2:$J$51,0),2)),\"\",INDEX(概要設定!$J$2:$K$51,MATCH($H295,概要設定!$J$2:$J$51,0),2))","v":""}]
[null,null,{"$f":"IF(AND($B295>=1,$B295<=17),INDEX(赤!$B$6:$E$39,MATCH($B295,赤!$B$6:$B$39,0),4),\"\")","v":""},null,null,null,null,{"$f":"IF(AND($I295>=1,$I295<=17),INDEX(赤!$B$6:$E$39,MATCH($I295,赤!$B$6:$B$39,0),4),\"\")","v":""},null,null,null,null,{"$f":"IF($A295=\"\",\"\",$B295+$B295+5)","v":""},{"$f":"IF($A295=\"\",\"\",$I295+$I295+4)","v":""},"","","","",{"$f":"IF(AND($B295>=1,$B295<=17),INDEX(赤!$B$6:$E$39,MATCH($B295,赤!$B$6:$B$39,0),2),\"\")","v":""},{"$f":"IF($A295=\"\",\"\",$I295+$I295+5)","v":""},{"$f":"IF($A295=\"\",\"\",$B295+$B295+4)","v":""},"","","","",{"$f":"IF(AND($I295>=1,$I295<=17),INDEX(赤!$B$6:$E$39,MATCH($I295,赤!$B$6:$B$39,0),2),\"\")","v":""}]
[null,null,{"$f":"IF(ISERROR(INDEX(概要設定!$J$2:$K$51,MATCH($C297,概要設定!$J$2:$J$51,0),2)),\"\",INDEX(概要設定!$J$2:$K$51,MATCH($C297,概要設定!$J$2:$J$51,0),2))","v":""},null,null,null,null,{"$f":"IF(ISERROR(INDEX(概要設定!$J$2:$K$51,MATCH($H297,概要設定!$J$2:$J$51,0),2)),\"\",INDEX(概要設定!$J$2:$K$51,MATCH($H297,概要設定!$J$2:$J$51,0),2))","v":""}]
[null,null,{"$f":"IF(AND($B297>=1,$B297<=17),INDEX(赤!$B$6:$E$39,MATCH($B297,赤!$B$6:$B$39,0),4),\"\")","v":""},null,null,null,null,{"$f":"IF(AND($I297>=1,$I297<=17),INDEX(赤!$B$6:$E$39,MATCH($I297,赤!$B$6:$B$39,0),4),\"\")","v":""},null,null,null,null,{"$f":"IF($A297=\"\",\"\",$B297+$B297+5)","v":""},{"$f":"IF($A297=\"\",\"\",$I297+$I297+4)","v":""},"","","","",{"$f":"IF(AND($B297>=1,$B297<=17),INDEX(赤!$B$6:$E$39,MATCH($B297,赤!$B$6:$B$39,0),2),\"\")","v":""},{"$f":"IF($A297=\"\",\"\",$I297+$I297+5)","v":""},{"$f":"IF($A297=\"\",\"\",$B297+$B297+4)","v":""},"","","","",{"$f":"IF(AND($I297>=1,$I297<=17),INDEX(赤!$B$6:$E$39,MATCH($I297,赤!$B$6:$B$39,0),2),\"\")","v":""}]
[null,null,{"$f":"IF(ISERROR(INDEX(概要設定!$J$2:$K$51,MATCH($C299,概要設定!$J$2:$J$51,0),2)),\"\",INDEX(概要設定!$J$2:$K$51,MATCH($C299,概要設定!$J$2:$J$51,0),2))","v":""},null,null,null,null,{"$f":"IF(ISERROR(INDEX(概要設定!$J$2:$K$51,MATCH($H299,概要設定!$J$2:$J$51,0),2)),\"\",INDEX(概要設定!$J$2:$K$51,MATCH($H299,概要設定!$J$2:$J$51,0),2))","v":""}]
[null,null,{"$f":"IF(AND($B299>=1,$B299<=17),INDEX(赤!$B$6:$E$39,MATCH($B299,赤!$B$6:$B$39,0),4),\"\")","v":""},null,null,null,null,{"$f":"IF(AND($I299>=1,$I299<=17),INDEX(赤!$B$6:$E$39,MATCH($I299,赤!$B$6:$B$39,0),4),\"\")","v":""},null,null,null,null,{"$f":"IF($A299=\"\",\"\",$B299+$B299+5)","v":""},{"$f":"IF($A299=\"\",\"\",$I299+$I299+4)","v":""},"","","","",{"$f":"IF(AND($B299>=1,$B299<=17),INDEX(赤!$B$6:$E$39,MATCH($B299,赤!$B$6:$B$39,0),2),\"\")","v":""},{"$f":"IF($A299=\"\",\"\",$I299+$I299+5)","v":""},{"$f":"IF($A299=\"\",\"\",$B299+$B299+4)","v":""},"","","","",{"$f":"IF(AND($I299>=1,$I299<=17),INDEX(赤!$B$6:$E$39,MATCH($I299,赤!$B$6:$B$39,0),2),\"\")","v":""}]
[null,null,{"$f":"IF(ISERROR(INDEX(概要設定!$J$2:$K$51,MATCH($C301,概要設定!$J$2:$J$51,0),2)),\"\",INDEX(概要設定!$J$2:$K$51,MATCH($C301,概要設定!$J$2:$J$51,0),2))","v":""},null,null,null,null,{"$f":"IF(ISERROR(INDEX(概要設定!$J$2:$K$51,MATCH($H301,概要設定!$J$2:$J$51,0),2)),\"\",INDEX(概要設定!$J$2:$K$51,MATCH($H301,概要設定!$J$2:$J$51,0),2))","v":""}]
[null,null,{"$f":"IF(AND($B301>=1,$B301<=17),INDEX(赤!$B$6:$E$39,MATCH($B301,赤!$B$6:$B$39,0),4),\"\")","v":""},null,null,null,null,{"$f":"IF(AND($I301>=1,$I301<=17),INDEX(赤!$B$6:$E$39,MATCH($I301,赤!$B$6:$B$39,0),4),\"\")","v":""},null,null,null,null,{"$f":"IF($A301=\"\",\"\",$B301+$B301+5)","v":""},{"$f":"IF($A301=\"\",\"\",$I301+$I301+4)","v":""},"","","","",{"$f":"IF(AND($B301>=1,$B301<=17),INDEX(赤!$B$6:$E$39,MATCH($B301,赤!$B$6:$B$39,0),2),\"\")","v":""},{"$f":"IF($A301=\"\",\"\",$I301+$I301+5)","v":""},{"$f":"IF($A301=\"\",\"\",$B301+$B301+4)","v":""},"","","","",{"$f":"IF(AND($I301>=1,$I301<=17),INDEX(赤!$B$6:$E$39,MATCH($I301,赤!$B$6:$B$39,0),2),\"\")","v":""}]
[null,null,{"$f":"IF(ISERROR(INDEX(概要設定!$J$2:$K$51,MATCH($C303,概要設定!$J$2:$J$51,0),2)),\"\",INDEX(概要設定!$J$2:$K$51,MATCH($C303,概要設定!$J$2:$J$51,0),2))","v":""},null,null,null,null,{"$f":"IF(ISERROR(INDEX(概要設定!$J$2:$K$51,MATCH($H303,概要設定!$J$2:$J$51,0),2)),\"\",INDEX(概要設定!$J$2:$K$51,MATCH($H303,概要設定!$J$2:$J$51,0),2))","v":""}]
[null,null,{"$f":"IF(AND($B303>=1,$B303<=17),INDEX(赤!$B$6:$E$39,MATCH($B303,赤!$B$6:$B$39,0),4),\"\")","v":""},null,null,null,null,{"$f":"IF(AND($I303>=1,$I303<=17),INDEX(赤!$B$6:$E$39,MATCH($I303,赤!$B$6:$B$39,0),4),\"\")","v":""},null,null,null,null,{"$f":"IF($A303=\"\",\"\",$B303+$B303+5)","v":""},{"$f":"IF($A303=\"\",\"\",$I303+$I303+4)","v":""},"","","","",{"$f":"IF(AND($B303>=1,$B303<=17),INDEX(赤!$B$6:$E$39,MATCH($B303,赤!$B$6:$B$39,0),2),\"\")","v":""},{"$f":"IF($A303=\"\",\"\",$I303+$I303+5)","v":""},{"$f":"IF($A303=\"\",\"\",$B303+$B303+4)","v":""},"","","","",{"$f":"IF(AND($I303>=1,$I303<=17),INDEX(赤!$B$6:$E$39,MATCH($I303,赤!$B$6:$B$39,0),2),\"\")","v":""}]
[null,null,{"$f":"IF(ISERROR(INDEX(概要設定!$J$2:$K$51,MATCH($C305,概要設定!$J$2:$J$51,0),2)),\"\",INDEX(概要設定!$J$2:$K$51,MATCH($C305,概要設定!$J$2:$J$51,0),2))","v":""},null,null,null,null,{"$f":"IF(ISERROR(INDEX(概要設定!$J$2:$K$51,MATCH($H305,概要設定!$J$2:$J$51,0),2)),\"\",INDEX(概要設定!$J$2:$K$51,MATCH($H305,概要設定!$J$2:$J$51,0),2))","v":""}]
[null,null,{"$f":"IF(AND($B305>=1,$B305<=17),INDEX(赤!$B$6:$E$39,MATCH($B305,赤!$B$6:$B$39,0),4),\"\")","v":""},null,null,null,null,{"$f":"IF(AND($I305>=1,$I305<=17),INDEX(赤!$B$6:$E$39,MATCH($I305,赤!$B$6:$B$39,0),4),\"\")","v":""},null,null,null,null,{"$f":"IF($A305=\"\",\"\",$B305+$B305+5)","v":""},{"$f":"IF($A305=\"\",\"\",$I305+$I305+4)","v":""},"","","","",{"$f":"IF(AND($B305>=1,$B305<=17),INDEX(赤!$B$6:$E$39,MATCH($B305,赤!$B$6:$B$39,0),2),\"\")","v":""},{"$f":"IF($A305=\"\",\"\",$I305+$I305+5)","v":""},{"$f":"IF($A305=\"\",\"\",$B305+$B305+4)","v":""},"","","","",{"$f":"IF(AND($I305>=1,$I305<=17),INDEX(赤!$B$6:$E$39,MATCH($I305,赤!$B$6:$B$39,0),2),\"\")","v":""}]
[null,null,{"$f":"IF(ISERROR(INDEX(概要設定!$J$2:$K$51,MATCH($C307,概要設定!$J$2:$J$51,0),2)),\"\",INDEX(概要設定!$J$2:$K$51,MATCH($C307,概要設定!$J$2:$J$51,0),2))","v":""},null,null,null,null,{"$f":"IF(ISERROR(INDEX(概要設定!$J$2:$K$51,MATCH($H307,概要設定!$J$2:$J$51,0),2)),\"\",INDEX(概要設定!$J$2:$K$51,MATCH($H307,概要設定!$J$2:$J$51,0),2))","v":""}]
[null,null,{"$f":"IF(AND($B307>=1,$B307<=17),INDEX(赤!$B$6:$E$39,MATCH($B307,赤!$B$6:$B$39,0),4),\"\")","v":""},null,null,null,null,{"$f":"IF(AND($I307>=1,$I307<=17),INDEX(赤!$B$6:$E$39,MATCH($I307,赤!$B$6:$B$39,0),4),\"\")","v":""},null,null,null,null,{"$f":"IF($A307=\"\",\"\",$B307+$B307+5)","v":""},{"$f":"IF($A307=\"\",\"\",$I307+$I307+4)","v":""},"","","","",{"$f":"IF(AND($B307>=1,$B307<=17),INDEX(赤!$B$6:$E$39,MATCH($B307,赤!$B$6:$B$39,0),2),\"\")","v":""},{"$f":"IF($A307=\"\",\"\",$I307+$I307+5)","v":""},{"$f":"IF($A307=\"\",\"\",$B307+$B307+4)","v":""},"","","","",{"$f":"IF(AND($I307>=1,$I307<=17),INDEX(赤!$B$6:$E$39,MATCH($I307,赤!$B$6:$B$39,0),2),\"\")","v":""}]
[null,null,{"$f":"IF(ISERROR(INDEX(概要設定!$J$2:$K$51,MATCH($C309,概要設定!$J$2:$J$51,0),2)),\"\",INDEX(概要設定!$J$2:$K$51,MATCH($C309,概要設定!$J$2:$J$51,0),2))","v":""},null,null,null,null,{"$f":"IF(ISERROR(INDEX(概要設定!$J$2:$K$51,MATCH($H309,概要設定!$J$2:$J$51,0),2)),\"\",INDEX(概要設定!$J$2:$K$51,MATCH($H309,概要設定!$J$2:$J$51,0),2))","v":""}]
[null,null,{"$f":"IF(AND($B309>=1,$B309<=17),INDEX(赤!$B$6:$E$39,MATCH($B309,赤!$B$6:$B$39,0),4),\"\")","v":""},null,null,null,null,{"$f":"IF(AND($I309>=1,$I309<=17),INDEX(赤!$B$6:$E$39,MATCH($I309,赤!$B$6:$B$39,0),4),\"\")","v":""},null,null,null,null,{"$f":"IF($A309=\"\",\"\",$B309+$B309+5)","v":""},{"$f":"IF($A309=\"\",\"\",$I309+$I309+4)","v":""},"","","","",{"$f":"IF(AND($B309>=1,$B309<=17),INDEX(赤!$B$6:$E$39,MATCH($B309,赤!$B$6:$B$39,0),2),\"\")","v":""},{"$f":"IF($A309=\"\",\"\",$I309+$I309+5)","v":""},{"$f":"IF($A309=\"\",\"\",$B309+$B309+4)","v":""},"","","","",{"$f":"IF(AND($I309>=1,$I309<=17),INDEX(赤!$B$6:$E$39,MATCH($I309,赤!$B$6:$B$39,0),2),\"\")","v":""}]
[null,null,{"$f":"IF(ISERROR(INDEX(概要設定!$J$2:$K$51,MATCH($C311,概要設定!$J$2:$J$51,0),2)),\"\",INDEX(概要設定!$J$2:$K$51,MATCH($C311,概要設定!$J$2:$J$51,0),2))","v":""},null,null,null,null,{"$f":"IF(ISERROR(INDEX(概要設定!$J$2:$K$51,MATCH($H311,概要設定!$J$2:$J$51,0),2)),\"\",INDEX(概要設定!$J$2:$K$51,MATCH($H311,概要設定!$J$2:$J$51,0),2))","v":""}]
[null,null,{"$f":"IF(AND($B311>=1,$B311<=17),INDEX(赤!$B$6:$E$39,MATCH($B311,赤!$B$6:$B$39,0),4),\"\")","v":""},null,null,null,null,{"$f":"IF(AND($I311>=1,$I311<=17),INDEX(赤!$B$6:$E$39,MATCH($I311,赤!$B$6:$B$39,0),4),\"\")","v":""},null,null,null,null,{"$f":"IF($A311=\"\",\"\",$B311+$B311+5)","v":""},{"$f":"IF($A311=\"\",\"\",$I311+$I311+4)","v":""},"","","","",{"$f":"IF(AND($B311>=1,$B311<=17),INDEX(赤!$B$6:$E$39,MATCH($B311,赤!$B$6:$B$39,0),2),\"\")","v":""},{"$f":"IF($A311=\"\",\"\",$I311+$I311+5)","v":""},{"$f":"IF($A311=\"\",\"\",$B311+$B311+4)","v":""},"","","","",{"$f":"IF(AND($I311>=1,$I311<=17),INDEX(赤!$B$6:$E$39,MATCH($I311,赤!$B$6:$B$39,0),2),\"\")","v":""}]
[null,null,{"$f":"IF(ISERROR(INDEX(概要設定!$J$2:$K$51,MATCH($C313,概要設定!$J$2:$J$51,0),2)),\"\",INDEX(概要設定!$J$2:$K$51,MATCH($C313,概要設定!$J$2:$J$51,0),2))","v":""},null,null,null,null,{"$f":"IF(ISERROR(INDEX(概要設定!$J$2:$K$51,MATCH($H313,概要設定!$J$2:$J$51,0),2)),\"\",INDEX(概要設定!$J$2:$K$51,MATCH($H313,概要設定!$J$2:$J$51,0),2))","v":""}]
[null,null,{"$f":"IF(AND($B313>=1,$B313<=17),INDEX(赤!$B$6:$E$39,MATCH($B313,赤!$B$6:$B$39,0),4),\"\")","v":""},null,null,null,null,{"$f":"IF(AND($I313>=1,$I313<=17),INDEX(赤!$B$6:$E$39,MATCH($I313,赤!$B$6:$B$39,0),4),\"\")","v":""},null,null,null,null,{"$f":"IF($A313=\"\",\"\",$B313+$B313+5)","v":""},{"$f":"IF($A313=\"\",\"\",$I313+$I313+4)","v":""},"","","","",{"$f":"IF(AND($B313>=1,$B313<=17),INDEX(赤!$B$6:$E$39,MATCH($B313,赤!$B$6:$B$39,0),2),\"\")","v":""},{"$f":"IF($A313=\"\",\"\",$I313+$I313+5)","v":""},{"$f":"IF($A313=\"\",\"\",$B313+$B313+4)","v":""},"","","","",{"$f":"IF(AND($I313>=1,$I313<=17),INDEX(赤!$B$6:$E$39,MATCH($I313,赤!$B$6:$B$39,0),2),\"\")","v":""}]
[null,null,{"$f":"IF(ISERROR(INDEX(概要設定!$J$2:$K$51,MATCH($C315,概要設定!$J$2:$J$51,0),2)),\"\",INDEX(概要設定!$J$2:$K$51,MATCH($C315,概要設定!$J$2:$J$51,0),2))","v":""},null,null,null,null,{"$f":"IF(ISERROR(INDEX(概要設定!$J$2:$K$51,MATCH($H315,概要設定!$J$2:$J$51,0),2)),\"\",INDEX(概要設定!$J$2:$K$51,MATCH($H315,概要設定!$J$2:$J$51,0),2))","v":""}]
[null,null,{"$f":"IF(AND($B315>=1,$B315<=17),INDEX(赤!$B$6:$E$39,MATCH($B315,赤!$B$6:$B$39,0),4),\"\")","v":""},null,null,null,null,{"$f":"IF(AND($I315>=1,$I315<=17),INDEX(赤!$B$6:$E$39,MATCH($I315,赤!$B$6:$B$39,0),4),\"\")","v":""},null,null,null,null,{"$f":"IF($A315=\"\",\"\",$B315+$B315+5)","v":""},{"$f":"IF($A315=\"\",\"\",$I315+$I315+4)","v":""},"","","","",{"$f":"IF(AND($B315>=1,$B315<=17),INDEX(赤!$B$6:$E$39,MATCH($B315,赤!$B$6:$B$39,0),2),\"\")","v":""},{"$f":"IF($A315=\"\",\"\",$I315+$I315+5)","v":""},{"$f":"IF($A315=\"\",\"\",$B315+$B315+4)","v":""},"","","","",{"$f":"IF(AND($I315>=1,$I315<=17),INDEX(赤!$B$6:$E$39,MATCH($I315,赤!$B$6:$B$39,0),2),\"\")","v":""}]
[null,null,{"$f":"IF(ISERROR(INDEX(概要設定!$J$2:$K$51,MATCH($C317,概要設定!$J$2:$J$51,0),2)),\"\",INDEX(概要設定!$J$2:$K$51,MATCH($C317,概要設定!$J$2:$J$51,0),2))","v":""},null,null,null,null,{"$f":"IF(ISERROR(INDEX(概要設定!$J$2:$K$51,MATCH($H317,概要設定!$J$2:$J$51,0),2)),\"\",INDEX(概要設定!$J$2:$K$51,MATCH($H317,概要設定!$J$2:$J$51,0),2))","v":""}]
[null,null,{"$f":"IF(AND($B317>=1,$B317<=17),INDEX(赤!$B$6:$E$39,MATCH($B317,赤!$B$6:$B$39,0),4),\"\")","v":""},null,null,null,null,{"$f":"IF(AND($I317>=1,$I317<=17),INDEX(赤!$B$6:$E$39,MATCH($I317,赤!$B$6:$B$39,0),4),\"\")","v":""},null,null,null,null,{"$f":"IF($A317=\"\",\"\",$B317+$B317+5)","v":""},{"$f":"IF($A317=\"\",\"\",$I317+$I317+4)","v":""},"","","","",{"$f":"IF(AND($B317>=1,$B317<=17),INDEX(赤!$B$6:$E$39,MATCH($B317,赤!$B$6:$B$39,0),2),\"\")","v":""},{"$f":"IF($A317=\"\",\"\",$I317+$I317+5)","v":""},{"$f":"IF($A317=\"\",\"\",$B317+$B317+4)","v":""},"","","","",{"$f":"IF(AND($I317>=1,$I317<=17),INDEX(赤!$B$6:$E$39,MATCH($I317,赤!$B$6:$B$39,0),2),\"\")","v":""}]
[null,null,{"$f":"IF(ISERROR(INDEX(概要設定!$J$2:$K$51,MATCH($C319,概要設定!$J$2:$J$51,0),2)),\"\",INDEX(概要設定!$J$2:$K$51,MATCH($C319,概要設定!$J$2:$J$51,0),2))","v":""},null,null,null,null,{"$f":"IF(ISERROR(INDEX(概要設定!$J$2:$K$51,MATCH($H319,概要設定!$J$2:$J$51,0),2)),\"\",INDEX(概要設定!$J$2:$K$51,MATCH($H319,概要設定!$J$2:$J$51,0),2))","v":""}]
[null,null,{"$f":"IF(AND($B319>=1,$B319<=17),INDEX(赤!$B$6:$E$39,MATCH($B319,赤!$B$6:$B$39,0),4),\"\")","v":""},null,null,null,null,{"$f":"IF(AND($I319>=1,$I319<=17),INDEX(赤!$B$6:$E$39,MATCH($I319,赤!$B$6:$B$39,0),4),\"\")","v":""},null,null,null,null,{"$f":"IF($A319=\"\",\"\",$B319+$B319+5)","v":""},{"$f":"IF($A319=\"\",\"\",$I319+$I319+4)","v":""},"","","","",{"$f":"IF(AND($B319>=1,$B319<=17),INDEX(赤!$B$6:$E$39,MATCH($B319,赤!$B$6:$B$39,0),2),\"\")","v":""},{"$f":"IF($A319=\"\",\"\",$I319+$I319+5)","v":""},{"$f":"IF($A319=\"\",\"\",$B319+$B319+4)","v":""},"","","","",{"$f":"IF(AND($I319>=1,$I319<=17),INDEX(赤!$B$6:$E$39,MATCH($I319,赤!$B$6:$B$39,0),2),\"\")","v":""}]
[null,null,{"$f":"IF(ISERROR(INDEX(概要設定!$J$2:$K$51,MATCH($C321,概要設定!$J$2:$J$51,0),2)),\"\",INDEX(概要設定!$J$2:$K$51,MATCH($C321,概要設定!$J$2:$J$51,0),2))","v":""},null,null,null,null,{"$f":"IF(ISERROR(INDEX(概要設定!$J$2:$K$51,MATCH($H321,概要設定!$J$2:$J$51,0),2)),\"\",INDEX(概要設定!$J$2:$K$51,MATCH($H321,概要設定!$J$2:$J$51,0),2))","v":""}]
[null,null,{"$f":"IF(AND($B321>=1,$B321<=17),INDEX(赤!$B$6:$E$39,MATCH($B321,赤!$B$6:$B$39,0),4),\"\")","v":""},null,null,null,null,{"$f":"IF(AND($I321>=1,$I321<=17),INDEX(赤!$B$6:$E$39,MATCH($I321,赤!$B$6:$B$39,0),4),\"\")","v":""},null,null,null,null,{"$f":"IF($A321=\"\",\"\",$B321+$B321+5)","v":""},{"$f":"IF($A321=\"\",\"\",$I321+$I321+4)","v":""},"","","","",{"$f":"IF(AND($B321>=1,$B321<=17),INDEX(赤!$B$6:$E$39,MATCH($B321,赤!$B$6:$B$39,0),2),\"\")","v":""},{"$f":"IF($A321=\"\",\"\",$I321+$I321+5)","v":""},{"$f":"IF($A321=\"\",\"\",$B321+$B321+4)","v":""},"","","","",{"$f":"IF(AND($I321>=1,$I321<=17),INDEX(赤!$B$6:$E$39,MATCH($I321,赤!$B$6:$B$39,0),2),\"\")","v":""}]
[null,null,{"$f":"IF(ISERROR(INDEX(概要設定!$J$2:$K$51,MATCH($C323,概要設定!$J$2:$J$51,0),2)),\"\",INDEX(概要設定!$J$2:$K$51,MATCH($C323,概要設定!$J$2:$J$51,0),2))","v":""},null,null,null,null,{"$f":"IF(ISERROR(INDEX(概要設定!$J$2:$K$51,MATCH($H323,概要設定!$J$2:$J$51,0),2)),\"\",INDEX(概要設定!$J$2:$K$51,MATCH($H323,概要設定!$J$2:$J$51,0),2))","v":""}]
[null,null,{"$f":"IF(AND($B323>=1,$B323<=17),INDEX(赤!$B$6:$E$39,MATCH($B323,赤!$B$6:$B$39,0),4),\"\")","v":""},null,null,null,null,{"$f":"IF(AND($I323>=1,$I323<=17),INDEX(赤!$B$6:$E$39,MATCH($I323,赤!$B$6:$B$39,0),4),\"\")","v":""},null,null,null,null,{"$f":"IF($A323=\"\",\"\",$B323+$B323+5)","v":""},{"$f":"IF($A323=\"\",\"\",$I323+$I323+4)","v":""},"","","","",{"$f":"IF(AND($B323>=1,$B323<=17),INDEX(赤!$B$6:$E$39,MATCH($B323,赤!$B$6:$B$39,0),2),\"\")","v":""},{"$f":"IF($A323=\"\",\"\",$I323+$I323+5)","v":""},{"$f":"IF($A323=\"\",\"\",$B323+$B323+4)","v":""},"","","","",{"$f":"IF(AND($I323>=1,$I323<=17),INDEX(赤!$B$6:$E$39,MATCH($I323,赤!$B$6:$B$39,0),2),\"\")","v":""}]
[null,null,{"$f":"IF(ISERROR(INDEX(概要設定!$J$2:$K$51,MATCH($C325,概要設定!$J$2:$J$51,0),2)),\"\",INDEX(概要設定!$J$2:$K$51,MATCH($C325,概要設定!$J$2:$J$51,0),2))","v":""},null,null,null,null,{"$f":"IF(ISERROR(INDEX(概要設定!$J$2:$K$51,MATCH($H325,概要設定!$J$2:$J$51,0),2)),\"\",INDEX(概要設定!$J$2:$K$51,MATCH($H325,概要設定!$J$2:$J$51,0),2))","v":""}]
[null,null,{"$f":"IF(AND($B325>=1,$B325<=17),INDEX(赤!$B$6:$E$39,MATCH($B325,赤!$B$6:$B$39,0),4),\"\")","v":""},null,null,null,null,{"$f":"IF(AND($I325>=1,$I325<=17),INDEX(赤!$B$6:$E$39,MATCH($I325,赤!$B$6:$B$39,0),4),\"\")","v":""},null,null,null,null,{"$f":"IF($A325=\"\",\"\",$B325+$B325+5)","v":""},{"$f":"IF($A325=\"\",\"\",$I325+$I325+4)","v":""},"","","","",{"$f":"IF(AND($B325>=1,$B325<=17),INDEX(赤!$B$6:$E$39,MATCH($B325,赤!$B$6:$B$39,0),2),\"\")","v":""},{"$f":"IF($A325=\"\",\"\",$I325+$I325+5)","v":""},{"$f":"IF($A325=\"\",\"\",$B325+$B325+4)","v":""},"","","","",{"$f":"IF(AND($I325>=1,$I325<=17),INDEX(赤!$B$6:$E$39,MATCH($I325,赤!$B$6:$B$39,0),2),\"\")","v":""}]
[null,null,{"$f":"IF(ISERROR(INDEX(概要設定!$J$2:$K$51,MATCH($C327,概要設定!$J$2:$J$51,0),2)),\"\",INDEX(概要設定!$J$2:$K$51,MATCH($C327,概要設定!$J$2:$J$51,0),2))","v":""},null,null,null,null,{"$f":"IF(ISERROR(INDEX(概要設定!$J$2:$K$51,MATCH($H327,概要設定!$J$2:$J$51,0),2)),\"\",INDEX(概要設定!$J$2:$K$51,MATCH($H327,概要設定!$J$2:$J$51,0),2))","v":""}]
[null,null,{"$f":"IF(AND($B327>=1,$B327<=17),INDEX(赤!$B$6:$E$39,MATCH($B327,赤!$B$6:$B$39,0),4),\"\")","v":""},null,null,null,null,{"$f":"IF(AND($I327>=1,$I327<=17),INDEX(赤!$B$6:$E$39,MATCH($I327,赤!$B$6:$B$39,0),4),\"\")","v":""},null,null,null,null,{"$f":"IF($A327=\"\",\"\",$B327+$B327+5)","v":""},{"$f":"IF($A327=\"\",\"\",$I327+$I327+4)","v":""},"","","","",{"$f":"IF(AND($B327>=1,$B327<=17),INDEX(赤!$B$6:$E$39,MATCH($B327,赤!$B$6:$B$39,0),2),\"\")","v":""},{"$f":"IF($A327=\"\",\"\",$I327+$I327+5)","v":""},{"$f":"IF($A327=\"\",\"\",$B327+$B327+4)","v":""},"","","","",{"$f":"IF(AND($I327>=1,$I327<=17),INDEX(赤!$B$6:$E$39,MATCH($I327,赤!$B$6:$B$39,0),2),\"\")","v":""}]
[null,null,{"$f":"IF(ISERROR(INDEX(概要設定!$J$2:$K$51,MATCH($C329,概要設定!$J$2:$J$51,0),2)),\"\",INDEX(概要設定!$J$2:$K$51,MATCH($C329,概要設定!$J$2:$J$51,0),2))","v":""},null,null,null,null,{"$f":"IF(ISERROR(INDEX(概要設定!$J$2:$K$51,MATCH($H329,概要設定!$J$2:$J$51,0),2)),\"\",INDEX(概要設定!$J$2:$K$51,MATCH($H329,概要設定!$J$2:$J$51,0),2))","v":""}]
[null,null,{"$f":"IF(AND($B329>=1,$B329<=17),INDEX(赤!$B$6:$E$39,MATCH($B329,赤!$B$6:$B$39,0),4),\"\")","v":""},null,null,null,null,{"$f":"IF(AND($I329>=1,$I329<=17),INDEX(赤!$B$6:$E$39,MATCH($I329,赤!$B$6:$B$39,0),4),\"\")","v":""},null,null,null,null,{"$f":"IF($A329=\"\",\"\",$B329+$B329+5)","v":""},{"$f":"IF($A329=\"\",\"\",$I329+$I329+4)","v":""},{"$f":"IF($A329=\"\",\"\",$M329-1)","v":""},{"$f":"IF($A329=\"\",\"\",$N329)","v":""},{"$f":"IF($A329=\"\",\"\",$M329-1)","v":""},{"$f":"IF($A329=\"\",\"\",$N329+1)","v":""},{"$f":"IF(AND($B329>=1,$B329<=17),INDEX(赤!$B$6:$E$39,MATCH($B329,赤!$B$6:$B$39,0),2),\"\")","v":""},{"$f":"IF($A329=\"\",\"\",$I329+$I329+5)","v":""},{"$f":"IF($A329=\"\",\"\",$B329+$B329+4)","v":""},{"$f":"IF($A329=\"\",\"\",$T329-1)","v":""},{"$f":"IF($A329=\"\",\"\",$U329)","v":""},{"$f":"IF($A329=\"\",\"\",$T329-1)","v":""},{"$f":"IF($A329=\"\",\"\",$U329+1)","v":""},{"$f":"IF(AND($I329>=1,$I329<=17),INDEX(赤!$B$6:$E$39,MATCH($I329,赤!$B$6:$B$39,0),2),\"\")","v":""}]

{"sheet":"赤ラベル","index":5,"n_rows":55,"n_cols":15,"rows_kept":55,"cut":false,"hidden":false,"merged":[]}
[]
[null,"赤組 4 - 5　持ち点：180","第1節　(1)　持ち点：180",null,null,"赤組 3 - 6　持ち点：180","第1節　(2)　持ち点：140",null,null,"赤組 2 - 7　持ち点：180","第1節　(3)　持ち点：180",null,null,"赤組 1 - 8　持ち点：180","第1節　(4)　持ち点：180"]
[null,"水田　賢宏","峯山　崇史",null,null,"山田　晋之","宮野　早織",null,null,"近藤　拓馬","岩本　剛",null,null,"吉向　翔平","佐藤　循一"]
[null,"みずた　よしひろ","みねやま　たかし",null,null,"やまだ　くにゆき","みやの　さおり",null,null,"こんどう　たくま","いわもと　つよし",null,null,"きっこう　しょうへい","さとう　じゅんいち"]
[]
[null,"HR","HR",null,null,"HR","HR",null,null,"HR","HR",null,null,"HR","HR"]
[null,"レフリー",null,null,null,"レフリー",null,null,null,"レフリー",null,null,null,"レフリー"]
[]
[]
[null,"赤組 3 - 4　持ち点：180","第2節　(5)　持ち点：180",null,null,"赤組 2 - 5　持ち点：180","第2節　(6)　持ち点：180",null,null,"赤組 8 - 6　持ち点：180","第2節　(7)　持ち点：140",null,null,"赤組 1 - 7　持ち点：180","第2節　(8)　持ち点：180"]
[null,"山田　晋之","水田　賢宏",null,null,"近藤　拓馬","峯山　崇史",null,null,"佐藤　循一","宮野　早織",null,null,"吉向　翔平","岩本　剛"]
[null,"やまだ　くにゆき","みずた　よしひろ",null,null,"こんどう　たくま","みねやま　たかし",null,null,"さとう　じゅんいち","みやの　さおり",null,null,"きっこう　しょうへい","いわもと　つよし"]
[]
[null,"HR","HR",null,null,"HR","HR",null,null,"HR","HR",null,null,"HR","HR"]
[null,"レフリー",null,null,null,"レフリー",null,null,null,"レフリー",null,null,null,"レフリー"]
[]
[]
[null,"赤組 2 - 3　持ち点：180","第3節　(9)　持ち点：180",null,null,"赤組 8 - 4　持ち点：180","第3節　(10)　持ち点：180",null,null,"赤組 7 - 5　持ち点：180","第3節　(11)　持ち点：180",null,null,"赤組 1 - 6　持ち点：180","第3節　(12)　持ち点：140"]
[null,"近藤　拓馬","山田　晋之",null,null,"佐藤　循一","水田　賢宏",null,null,"岩本　剛","峯山　崇史",null,null,"吉向　翔平","宮野　早織"]
[null,"こんどう　たくま","やまだ　くにゆき",null,null,"さとう　じゅんいち","みずた　よしひろ",null,null,"いわもと　つよし","みねやま　たかし",null,null,"きっこう　しょうへい","みやの　さおり"]
[]
[null,"HR","HR",null,null,"HR","HR",null,null,"HR","HR",null,null,"HR","HR"]
[null,"レフリー",null,null,null,"レフリー",null,null,null,"レフリー",null,null,null,"レフリー"]
[]
[]
[null,"赤組 8 - 2　持ち点：180","第4節　(13)　持ち点：180",null,null,"赤組 7 - 3　持ち点：180","第4節　(14)　持ち点：180",null,null,"赤組 6 - 4　持ち点：140","第4節　(15)　持ち点：180",null,null,"赤組 1 - 5　持ち点：180","第4節　(16)　持ち点：180"]
[null,"佐藤　循一","近藤　拓馬",null,null,"岩本　剛","山田　晋之",null,null,"宮野　早織","水田　賢宏",null,null,"吉向　翔平","峯山　崇史"]
[null,"さとう　じゅんいち","こんどう　たくま",null,null,"いわもと　つよし","やまだ　くにゆき",null,null,"みやの　さおり","みずた　よしひろ",null,null,"きっこう　しょうへい","みねやま　たかし"]
[]
[null,"HR","HR",null,null,"HR","HR",null,null,"HR","HR",null,null,"HR","HR"]
[null,"レフリー",null,null,null,"レフリー",null,null,null,"レフリー",null,null,null,"レフリー"]
[]
[]
[null,"赤組 7 - 8　持ち点：180","第5節　(17)　持ち点：180",null,null,"赤組 6 - 2　持ち点：140","第5節　(18)　持ち点：180",null,null,"赤組 5 - 3　持ち点：180","第5節　(19)　持ち点：180",null,null,"赤組 1 - 4　持ち点：180","第5節　(20)　持ち点：180"]
[null,"岩本　剛","佐藤　循一",null,null,"宮野　早織","近藤　拓馬",null,null,"峯山　崇史","山田　晋之",null,null,"吉向　翔平","水田　賢宏"]
[null,"いわもと　つよし","さとう　じゅんいち",null,null,"みやの　さおり","こんどう　たくま",null,null,"みねやま　たかし","やまだ　くにゆき",null,null,"きっこう　しょうへい","みずた　よしひろ"]
[]
[null,"HR","HR",null,null,"HR","HR",null,null,"HR","HR",null,null,"HR","HR"]
[null,"レフリー",null,null,null,"レフリー",null,null,null,"レフリー",null,null,null,"レフリー"]
[]
[]
[null,"赤組 6 - 7　持ち点：140","第6節　(21)　持ち点：180",null,null,"赤組 5 - 8　持ち点：180","第6節　(22)　持ち点：180",null,null,"赤組 4 - 2　持ち点：180","第6節　(23)　持ち点：180",null,null,"赤組 1 - 3　持ち点：180","第6節　(24)　持ち点：180"]
[null,"宮野　早織","岩本　剛",null,null,"峯山　崇史","佐藤　循一",null,null,"水田　賢宏","近藤　拓馬",null,null,"吉向　翔平","山田　晋之"]
[null,"みやの　さおり","いわもと　つよし",null,null,"みねやま　たかし","さとう　じゅんいち",null,null,"みずた　よしひろ","こんどう　たくま",null,null,"きっこう　しょうへい","やまだ　くにゆき"]
[]
[null,"HR","HR",null,null,"HR","HR",null,null,"HR","HR",null,null,"HR","HR"]
[null,"レフリー",null,null,null,"レフリー",null,null,null,"レフリー",null,null,null,"レフリー"]
[]
[]
[null,"赤組 5 - 6　持ち点：180","第7節　(25)　持ち点：140",null,null,"赤組 4 - 7　持ち点：180","第7節　(26)　持ち点：180",null,null,"赤組 3 - 8　持ち点：180","第7節　(27)　持ち点：180",null,null,"赤組 1 - 2　持ち点：180","第7節　(28)　持ち点：180"]
[null,"峯山　崇史","宮野　早織",null,null,"水田　賢宏","岩本　剛",null,null,"山田　晋之","佐藤　循一",null,null,"吉向　翔平","近藤　拓馬"]
[null,"みねやま　たかし","みやの　さおり",null,null,"みずた　よしひろ","いわもと　つよし",null,null,"やまだ　くにゆき","さとう　じゅんいち",null,null,"きっこう　しょうへい","こんどう　たくま"]
[]
[null,"HR","HR",null,null,"HR","HR",null,null,"HR","HR",null,null,"HR","HR"]
[null,"レフリー",null,null,null,"レフリー",null,null,null,"レフリー",null,null,null,"レフリー"]

{"sheet":"黒","index":6,"n_rows":43,"n_cols":51,"rows_kept":43,"cut":false,"hidden":false,"merged":[[1,12,1,14],[0,15,0,20],[1,21,1,24],[1,40,1,44],[3,1,4,1],[3,5,3,6],[3,7,3,8],[3,9,3,10],[3,11,3,12],[3,13,3,14],[3,27,3,28],[3,29,3,30],[3,31,3,32],[3,33,3,34],[3,35,3,36],[3,37,3,38],[3,15,3,16],[3,17,3,18],[3,19,3,20],[3,21,3,22],[3,23,3,24],[3,25,3,26],[4,29,4,30],[4,31,4,32],[4,35,4,36],[4,37,4,38],[6,5,6,6],[6,7,6,8],[6,9,6,10],[6,11,6,12],[4,17,4,18],[4,19,4,20],[4,21,4,22],[4,23,4,24],[4,25,4,26],[4,27,4,28],[4,5,4,6],[4,7,4,8],[4,9,4,10],[4,11,4,12],[4,13,4,14],[4,15,4,16],[6,37,6,38],[6,25,6,26],[6,27,6,28],[6,29,6,30],[6,35,6,36],[8,11,8,12],[8,13,8,14],[8,15,8,16],[8,17,8,18],[8,19,8,20],[4,33,4,34],[6,31,6,32],[6,33,6,34],[6,13,6,14],[6,15,6,16],[6,17,6,18],[6,19,6,20],[6,21,6,22],[6,23,6,24],[8,33,8,34],[8,35,8,36],[8,37,8,38],[10,5,10,6],[10,7,10,8],[10,9,10,10],[10,11,10,12],[10,13,10,14],[10,15,10,16],[8,21,8,22],[8,23,8,24],[8,25,8,26],[8,27,8,28],[8,29,8,30],[8,31,8,32],[10,29,10,30],[10,31,10,32],[10,33,10,34],[10,35,10,36],[10,37,10,38],[10,25,10,26],[10,27,10,28],[8,5,8,6],[8,7,8,8],[8,9,8,10],[12,5,12,6],[12,7,12,8],[12,9,12,10],[12,11,12,12],[10,17,10,18],[10,19,10,20],[10,21,10,22],[10,23,10,24],[12,37,12,38],[12,27,12,28],[12,29,12,30],[12,31,12,32],[12,33,12,34],[12,35,12,36],[14,9,14,10],[14,11,14,12],[14,13,14,14],[14,15,14,16],[14,17,14,18],[14,19,14,20],[12,25,12,26],[12,13,12,14],[12,15,12,16],[12,17,12,18],[12,19,12,20],[12,21,12,22],[12,23,12,24],[14,33,14,34],[14,35,14,36],[14,37,14,38],[16,5,16,6],[16,7,16,8],[16,9,16,10],[16,11,16,12],[16,13,16,14],[16,15,16,16],[14,21,14,22],[14,23,14,24],[14,25,14,26],[14,27,14,28],[14,29,14,30],[14,31,14,32],[16,29,16,30],[16,31,16,32],[16,33,16,34],[16,35,16,36],[16,37,16,38],[16,25,16,26],[16,27,16,28],[14,5,14,6],[14,7,14,8],[18,5,18,6],[18,7,18,8],[18,9,18,10],[18,11,18,12],[16,17,16,18],[16,19,16,20],[16,21,16,22],[16,23,16,24],[18,37,18,38],[18,27,18,28],[18,29,18,30],[18,31,18,32],[18,33,18,34],[18,35,18,36],[20,9,20,10],[20,11,20,12],[20,13,20,14],[20,15,20,16],[20,17,20,18],[20,19,20,20],[18,25,18,26],[18,13,18,14],[18,15,18,16],[18,17,18,18],[18,19,18,20],[18,21,18,22],[18,23,18,24],[20,33,20,34],[20,35,20,36],[20,37,20,38],[22,5,22,6],[22,7,22,8],[22,9,22,10],[22,11,22,12],[22,13,22,14],[22,15,22,16],[20,21,20,22],[20,23,20,24],[20,25,20,26],[20,27,20,28],[20,29,20,30],[20,31,20,32],[22,29,22,30],[22,31,22,32],[22,33,22,34],[22,35,22,36],[22,37,22,38],[22,25,22,26],[22,27,22,28],[20,5,20,6],[20,7,20,8],[24,5,24,6],[24,7,24,8],[24,9,24,10],[24,11,24,12],[22,17,22,18],[22,19,22,20],[22,21,22,22],[22,23,22,24],[24,37,24,38],[24,27,24,28],[24,29,24,30],[24,31,24,32],[24,33,24,34],[24,35,24,36],[26,9,26,10],[26,11,26,12],[26,13,26,14],[26,15,26,16],[26,17,26,18],[26,19,26,20],[24,25,24,26],[24,13,24,14],[24,15,24,16],[24,17,24,18],[24,19,24,20],[24,21,24,22],[24,23,24,24],[26,33,26,34],[26,35,26,36],[26,37,26,38],[28,5,28,6],[28,7,28,8],[28,9,28,10],[28,11,28,12],[28,13,28,14],[28,15,28,16],[26,21,26,22],[26,23,26,24],[26,25,26,26],[26,27,26,28],[26,29,26,30],[26,31,26,32],[28,29,28,30],[28,31,28,32],[28,33,28,34],[28,35,28,36],[28,37,28,38],[28,25,28,26],[28,27,28,28],[26,5,26,6],[26,7,26,8],[30,5,30,6],[30,7,30,8],[30,9,30,10],[30,11,30,12],[28,17,28,18],[28,19,28,20],[28,21,28,22],[28,23,28,24],[30,37,30,38],[30,27,30,28],[30,29,30,30],[30,31,30,32],[30,33,30,34],[30,35,30,36],[32,9,32,10],[32,11,32,12],[32,13,32,14],[32,15,32,16],[32,17,32,18],[32,19,32,20],[30,25,30,26],[30,13,30,14],[30,15,30,16],[30,17,30,18],[30,19,30,20],[30,21,30,22],[30,23,30,24],[32,33,32,34],[32,35,32,36],[32,37,32,38],[34,5,34,6],[34,7,34,8],[34,9,34,10],[34,11,34,12],[34,13,34,14],[34,15,34,16],[32,21,32,22],[32,23,32,24],[32,25,32,26],[32,27,32,28],[32,29,32,30],[32,31,32,32],[34,29,34,30],[34,31,34,32],[34,33,34,34],[34,35,34,36],[34,37,34,38],[34,25,34,26],[34,27,34,28],[32,5,32,6],[32,7,32,8],[34,17,34,18],[34,19,34,20],[34,21,34,22],[34,23,34,24],[36,37,36,38],[36,27,36,28],[36,29,36,30],[36,31,36,32],[36,33,36,34],[36,35,36,36],[36,25,36,26],[36,13,36,14],[36,15,36,16],[36,17,36,18],[36,19,36,20],[36,21,36,22],[36,23,36,24],[36,5,36,6],[36,7,36,8],[36,9,36,10],[36,11,36,12],[38,33,38,34],[38,35,38,36],[38,37,38,38],[39,4,39,44],[42,7,42,8],[42,11,42,12],[42,15,42,16],[38,21,38,22],[38,23,38,24],[38,25,38,26],[38,27,38,28],[38,29,38,30],[38,31,38,32],[38,5,38,6],[38,7,38,8],[38,9,38,10],[38,11,38,12],[38,13,38,14],[38,15,38,16],[38,17,38,18],[38,19,38,20],[42,19,42,20]]}
[null,null,null,null,{"$f":"概要設定!B2","v":2016},"年",null,null,{"$f":"概要設定!D2","v":9},"月",null,"例会",null,null,null,{"$f":"概要設定!B4","v":"和奈対抗戦"}]
[null,null,null,null,"黒組",null,null,null,null,null,{"$f":"概要設定!B6","v":180},"点",{"$f":"概要設定!D6","v":"コールショット"},null,null,null,null,null,null,"開催日：",null,{"$f":"E1&\"/\"&I1&\"/\"&概要設定!F2","v":"2016/9/11"},null,null,null,null,null,null,null,null,null,null,null,null,null,null,null,null,null,"会場：",{"$f":"概要設定!B8","v":"トップガン"}]
[]
[null,"No","ハンデ","ハンデ","No.",1,null,2,null,3,null,4,null,5,null,6,null,7,null,8,null,9,null,10,null,11,null,12,null,13,null,14,null,15,null,16,null,17,null,null,null,"H・C",null,null,null,"ABC","ABC優劣","A","B","C"]
[null,null,"点数","変更",null,{"$f":"IF($E7=\"\",\"\",$E7)","v":"白戸　玲人"},null,{"$f":"IF($E9=\"\",\"\",$E9)","v":"斉藤　裕児"},null,{"$f":"IF($E11=\"\",\"\",$E11)","v":"山田　晃司"},null,{"$f":"IF($E13=\"\",\"\",$E13)","v":"斉藤　大輔"},null,{"$f":"IF($E15=\"\",\"\",$E15)","v":"植田　慎也"},null,{"$f":"IF($E17=\"\",\"\",$E17)","v":"鷲尾　隆杜"},null,{"$f":"IF($E19=\"\",\"\",$E19)","v":"長谷川　進"},null,{"$f":"IF($E21=\"\",\"\",$E21)","v":"白戸　恭子"},null,{"$f":"IF($E23=\"\",\"\",$E23)","v":""},null,{"$f":"IF($E25=\"\",\"\",$E25)","v":""},null,{"$f":"IF($E27=\"\",\"\",$E27)","v":""},null,{"$f":"IF($E29=\"\",\"\",$E29)","v":""},null,{"$f":"IF($E31=\"\",\"\",$E31)","v":""},null,{"$f":"IF($E33=\"\",\"\",$E33)","v":""},null,{"$f":"IF($E35=\"\",\"\",$E35)","v":""},null,{"$f":"IF($E37=\"\",\"\",$E37)","v":""},null,{"$f":"IF($E39=\"\",\"\",$E39)","v":""},null,"W","L","TP","LP","R_POINT","R","HR","ABC+HR","HR","HR","HR","HR"]
[null,null,{"$f":"IF($E7=\"\",\"\",INDEX(概要設定!$J$2:$L$51,MATCH($E7, 概要設定!$J$2:$J$51,0),3))","v":0},null,{"$f":"IF(ISERROR(INDEX(概要設定!$J$2:$K$51,MATCH($E7,概要設定!$J$2:$J$51,0),2)),\"\",INDEX(概要設定!$J$2:$K$51,MATCH($E7,概要設定!$J$2:$J$51,0),2))","v":"しらと　れいにん"},null,null,null,null,null,null,null,null,null,114,null,null,null,null,null,null,null,null,null,null,null,null,null,null,null,null,null,null,null,null,null,null,null,null,null,null,{"$f":"IF($E7=\"\",\"\",INT((SUM($F7:$AM7)+($C7*$AN7))))","v":860},null,null,null,{"$f":"IF($E7=\"\",\"\",IF($AV6=\"A\",\"A\",IF($AW6=\"B\",\"B\",IF($AX6=\"C\",\"C\",\"\"))))","v":""},{"$f":"IF($AT7=\"\",\"\",IF($AT7=0,0,IF($AT6=\"A\",9000,IF($AT6=\"B\",8000,IF($AT6=\"C\",7000,0)))))","v":0},{"$f":"IF($E7=\"\",\"\",IF(COUNTIF($F6:$AM6,\"A\")=0,\"\",\"A\"))","v":""},{"$f":"IF($E7=\"\",\"\",IF(COUNTIF($F6:$AM6,\"B\")=0,\"\",\"B\"))","v":""},{"$f":"IF($E7=\"\",\"\",IF(COUNTIF($F6:$AM6,\"C\")=0,\"\",\"C\"))","v":""}]
[null,1,{"$f":"IF($E7=\"\",\"\",IF($D7<>\"\",$D7,IF($C6<>\"-\",概要設定!$B$6,INDEX(概要設定!$N$2:$O$6,MATCH(概要設定!$B$6, 概要設定!$N$2:$N$6,0),2))))","v":180},null,"白戸　玲人",null,null,null,null,92,null,"w",null,"w",null,"w",null,"w",null,48,null,null,null,null,null,null,null,null,null,null,null,null,null,null,null,null,null,null,null,{"$f":"IF($E7=\"\",\"\",COUNTIF($F7:$AL7,\"w\"))","v":4},{"$f":"IF($E7=\"\",\"\",COUNTIF($F7:$AL7,\">=0\"))","v":2},{"$f":"IF($E7=\"\",\"\",INT((SUM($F7:$AM7)+($C7*$AN7))*$K$2/$C7))","v":860},{"$f":"IF($E7=\"\",\"\",SUM(F$7:F$39))","v":376},{"$f":"IF($E7=\"\",\"\",$AN7*100000000+$AP7*10000-$AQ7+$AU7*0.0001)","v":408599624.01139998},{"$f":"IF($E7=\"\",\"\",RANK($AR7,$AR$7:$AR$39)+COUNTIF($AR$7:$AR7,$AR7)-1)","v":3},{"$f":"IF($E7=\"\",\"\",IF($AV6=\"A\",$AV7,IF($AW6=\"B\",$AW7,IF($AX6=\"C\",$AX7,$AY7))))","v":114},{"$f":"IF($AT7=\"\",\"\",$AT7+$AU6)","v":114},{"$f":"IF($E7=\"\",\"\",IF(COUNTIF($F6:$AM6,\"A\")=0,\"\",MAX(IF($F6:$AL6=\"A\",$G6:$AM6))))","v":""},{"$f":"IF($E7=\"\",\"\",IF(COUNTIF($F6:$AM6,\"B\")=0,\"\",MAX(IF($F6:$AL6=\"B\",$G6:$AM6))))","v":""},{"$f":"IF($E7=\"\",\"\",IF(COUNTIF($F6:$AM6,\"C\")=0,\"\",MAX(IF($F6:$AL6=\"C\",$G6:$AM6))))","v":""},{"$f":"IF($E7=\"\",\"\",MAX($F6:$AM6))","v":114}]
[null,null,{"$f":"IF($E9=\"\",\"\",INDEX(概要設定!$J$2:$L$51,MATCH($E9, 概要設定!$J$2:$J$51,0),3))","v":0},null,{"$f":"IF(ISERROR(INDEX(概要設定!$J$2:$K$51,MATCH($E9,概要設定!$J$2:$J$51,0),2)),\"\",INDEX(概要設定!$J$2:$K$51,MATCH($E9,概要設定!$J$2:$J$51,0),2))","v":"さいとう　ゆうじ"},null,null,null,null,null,null,null,null,null,null,null,109,null,null,null,null,null,null,null,null,null,null,null,null,null,null,null,null,null,null,null,null,null,null,null,null,{"$f":"IF($E9=\"\",\"\",INT((SUM($F9:$AM9)+($C9*$AN9))))","v":817},null,null,null,{"$f":"IF($E9=\"\",\"\",IF($AV8=\"A\",\"A\",IF($AW8=\"B\",\"B\",IF($AX8=\"C\",\"C\",\"\"))))","v":""},{"$f":"IF($AT9=\"\",\"\",IF($AT9=0,0,IF($AT8=\"A\",9000,IF($AT8=\"B\",8000,IF($AT8=\"C\",7000,0)))))","v":0},{"$f":"IF($E9=\"\",\"\",IF(COUNTIF($F8:$AM8,\"A\")=0,\"\",\"A\"))","v":""},{"$f":"IF($E9=\"\",\"\",IF(COUNTIF($F8:$AM8,\"B\")=0,\"\",\"B\"))","v":""},{"$f":"IF($E9=\"\",\"\",IF(COUNTIF($F8:$AM8,\"C\")=0,\"\",\"C\"))","v":""}]
[null,2,{"$f":"IF($E9=\"\",\"\",IF($D9<>\"\",$D9,IF($C8<>\"-\",概要設定!$B$6,INDEX(概要設定!$N$2:$O$6,MATCH(概要設定!$B$6, 概要設定!$N$2:$N$6,0),2))))","v":180},null,"斉藤　裕児",null,null,null,null,163,null,101,null,"w",null,"w",null,"w",null,13,null,null,null,null,null,null,null,null,null,null,null,null,null,null,null,null,null,null,null,{"$f":"IF($E9=\"\",\"\",COUNTIF($F9:$AL9,\"w\"))","v":3},{"$f":"IF($E9=\"\",\"\",COUNTIF($F9:$AL9,\">=0\"))","v":3},{"$f":"IF($E9=\"\",\"\",INT((SUM($F9:$AM9)+($C9*$AN9))*$K$2/$C9))","v":817},{"$f":"IF($E9=\"\",\"\",SUM(H$7:H$39))","v":166},{"$f":"IF($E9=\"\",\"\",$AN9*100000000+$AP9*10000-$AQ9+$AU9*0.0001)","v":308169834.01090002},{"$f":"IF($E9=\"\",\"\",RANK($AR9,$AR$7:$AR$39)+COUNTIF($AR$7:$AR9,$AR9)-1)","v":4},{"$f":"IF($E9=\"\",\"\",IF($AV8=\"A\",$AV9,IF($AW8=\"B\",$AW9,IF($AX8=\"C\",$AX9,$AY9))))","v":109},109,{"$f":"IF($E9=\"\",\"\",IF(COUNTIF($F8:$AM8,\"A\")=0,\"\",MAX(IF($F8:$AL8=\"A\",$G8:$AM8))))","v":""},{"$f":"IF($E9=\"\",\"\",IF(COUNTIF($F8:$AM8,\"B\")=0,\"\",MAX(IF($F8:$AL8=\"B\",$G8:$AM8))))","v":""},{"$f":"IF($E9=\"\",\"\",IF(COUNTIF($F8:$AM8,\"C\")=0,\"\",MAX(IF($F8:$AL8=\"C\",$G8:$AM8))))","v":""},{"$f":"IF($E9=\"\",\"\",MAX($F8:$AM8))","v":109}]
[null,null,{"$f":"IF($E11=\"\",\"\",INDEX(概要設定!$J$2:$L$51,MATCH($E11, 概要設定!$J$2:$J$51,0),3))","v":0},null,{"$f":"IF(ISERROR(INDEX(概要設定!$J$2:$K$51,MATCH($E11,概要設定!$J$2:$J$51,0),2)),\"\",INDEX(概要設定!$J$2:$K$51,MATCH($E11,概要設定!$J$2:$J$51,0),2))","v":"やまだ　こうじ"},null,null,null,null,null,null,null,null,null,151,null,null,null,null,null,null,null,null,null,null,null,null,null,null,null,null,null,null,null,null,null,null,null,null,null,null,{"$f":"IF($E11=\"\",\"\",INT((SUM($F11:$AM11)+($C11*$AN11))))","v":1064},null,null,null,{"$f":"IF($E11=\"\",\"\",IF($AV10=\"A\",\"A\",IF($AW10=\"B\",\"B\",IF($AX10=\"C\",\"C\",\"\"))))","v":""},{"$f":"IF($AT11=\"\",\"\",IF($AT11=0,0,IF($AT10=\"A\",9000,IF($AT10=\"B\",8000,IF($AT10=\"C\",7000,0)))))","v":0},{"$f":"IF($E11=\"\",\"\",IF(COUNTIF($F10:$AM10,\"A\")=0,\"\",\"A\"))","v":""},{"$f":"IF($E11=\"\",\"\",IF(COUNTIF($F10:$AM10,\"B\")=0,\"\",\"B\"))","v":""},{"$f":"IF($E11=\"\",\"\",IF(COUNTIF($F10:$AM10,\"C\")=0,\"\",\"C\"))","v":""}]
[null,3,{"$f":"IF($E11=\"\",\"\",IF($D11<>\"\",$D11,IF($C10<>\"-\",概要設定!$B$6,INDEX(概要設定!$N$2:$O$6,MATCH(概要設定!$B$6, 概要設定!$N$2:$N$6,0),2))))","v":180},null,"山田　晃司","w",null,"w",null,null,null,"w",null,164,null,"w",null,"w",null,null,null,null,null,null,null,null,null,null,null,null,null,null,null,null,null,null,null,null,null,{"$f":"IF($E11=\"\",\"\",COUNTIF($F11:$AL11,\"w\"))","v":5},{"$f":"IF($E11=\"\",\"\",COUNTIF($F11:$AL11,\">=0\"))","v":1},{"$f":"IF($E11=\"\",\"\",INT((SUM($F11:$AM11)+($C11*$AN11))*$K$2/$C11))","v":1064},{"$f":"IF($E11=\"\",\"\",SUM(J$7:J$39))","v":671},{"$f":"IF($E11=\"\",\"\",$AN11*100000000+$AP11*10000-$AQ11+$AU11*0.0001)","v":510639329.0151},{"$f":"IF($E11=\"\",\"\",RANK($AR11,$AR$7:$AR$39)+COUNTIF($AR$7:$AR11,$AR11)-1)","v":2},{"$f":"IF($E11=\"\",\"\",IF($AV10=\"A\",$AV11,IF($AW10=\"B\",$AW11,IF($AX10=\"C\",$AX11,$AY11))))","v":151},151,{"$f":"IF($E11=\"\",\"\",IF(COUNTIF($F10:$AM10,\"A\")=0,\"\",MAX(IF($F10:$AL10=\"A\",$G10:$AM10))))","v":""},{"$f":"IF($E11=\"\",\"\",IF(COUNTIF($F10:$AM10,\"B\")=0,\"\",MAX(IF($F10:$AL10=\"B\",$G10:$AM10))))","v":""},{"$f":"IF($E11=\"\",\"\",IF(COUNTIF($F10:$AM10,\"C\")=0,\"\",MAX(IF($F10:$AL10=\"C\",$G10:$AM10))))","v":""},{"$f":"IF($E11=\"\",\"\",MAX($F10:$AM10))","v":151}]
[null,null,{"$f":"IF($E13=\"\",\"\",INDEX(概要設定!$J$2:$L$51,MATCH($E13, 概要設定!$J$2:$J$51,0),3))","v":0},null,{"$f":"IF(ISERROR(INDEX(概要設定!$J$2:$K$51,MATCH($E13,概要設定!$J$2:$J$51,0),2)),\"\",INDEX(概要設定!$J$2:$K$51,MATCH($E13,概要設定!$J$2:$J$51,0),2))","v":"さいとう　だいすけ"},null,null,null,null,null,null,null,null,null,null,null,null,null,null,null,null,null,null,null,null,null,null,null,null,null,null,null,null,null,null,null,null,null,null,null,null,{"$f":"IF($E13=\"\",\"\",INT((SUM($F13:$AM13)+($C13*$AN13))))","v":828},null,null,null,{"$f":"IF($E13=\"\",\"\",IF($AV12=\"A\",\"A\",IF($AW12=\"B\",\"B\",IF($AX12=\"C\",\"C\",\"\"))))","v":""},{"$f":"IF($AT13=\"\",\"\",IF($AT13=0,0,IF($AT12=\"A\",9000,IF($AT12=\"B\",8000,IF($AT12=\"C\",7000,0)))))","v":0},{"$f":"IF($E13=\"\",\"\",IF(COUNTIF($F12:$AM12,\"A\")=0,\"\",\"A\"))","v":""},{"$f":"IF($E13=\"\",\"\",IF(COUNTIF($F12:$AM12,\"B\")=0,\"\",\"B\"))","v":""},{"$f":"IF($E13=\"\",\"\",IF(COUNTIF($F12:$AM12,\"C\")=0,\"\",\"C\"))","v":""}]
[null,4,{"$f":"IF($E13=\"\",\"\",IF($D13<>\"\",$D13,IF($C12<>\"-\",概要設定!$B$6,INDEX(概要設定!$N$2:$O$6,MATCH(概要設定!$B$6, 概要設定!$N$2:$N$6,0),2))))","v":180},null,"斉藤　大輔",81,null,"w",null,160,null,null,null,163,null,140,null,null,null,104,null,null,null,null,null,null,null,null,null,null,null,null,null,null,null,null,null,null,null,{"$f":"IF($E13=\"\",\"\",COUNTIF($F13:$AL13,\"w\"))","v":1},{"$f":"IF($E13=\"\",\"\",COUNTIF($F13:$AL13,\">=0\"))","v":5},{"$f":"IF($E13=\"\",\"\",INT((SUM($F13:$AM13)+($C13*$AN13))*$K$2/$C13))","v":828},{"$f":"IF($E13=\"\",\"\",SUM(L$7:L$39))","v":101},{"$f":"IF($E13=\"\",\"\",$AN13*100000000+$AP13*10000-$AQ13+$AU13*0.0001)","v":108279899},{"$f":"IF($E13=\"\",\"\",RANK($AR13,$AR$7:$AR$39)+COUNTIF($AR$7:$AR13,$AR13)-1)","v":6},{"$f":"IF($E13=\"\",\"\",IF($AV12=\"A\",$AV13,IF($AW12=\"B\",$AW13,IF($AX12=\"C\",$AX13,$AY13))))","v":0},0,{"$f":"IF($E13=\"\",\"\",IF(COUNTIF($F12:$AM12,\"A\")=0,\"\",MAX(IF($F12:$AL12=\"A\",$G12:$AM12))))","v":""},{"$f":"IF($E13=\"\",\"\",IF(COUNTIF($F12:$AM12,\"B\")=0,\"\",MAX(IF($F12:$AL12=\"B\",$G12:$AM12))))","v":""},{"$f":"IF($E13=\"\",\"\",IF(COUNTIF($F12:$AM12,\"C\")=0,\"\",MAX(IF($F12:$AL12=\"C\",$G12:$AM12))))","v":""},{"$f":"IF($E13=\"\",\"\",MAX($F12:$AM12))","v":0}]
[null,null,{"$f":"IF($E15=\"\",\"\",INDEX(概要設定!$J$2:$L$51,MATCH($E15, 概要設定!$J$2:$J$51,0),3))","v":0},null,{"$f":"IF(ISERROR(INDEX(概要設定!$J$2:$K$51,MATCH($E15,概要設定!$J$2:$J$51,0),2)),\"\",INDEX(概要設定!$J$2:$K$51,MATCH($E15,概要設定!$J$2:$J$51,0),2))","v":"うえだ　しんや"},null,null,null,null,null,null,null,null,null,null,null,null,null,null,null,null,null,null,null,null,null,null,null,null,null,null,null,null,null,null,null,null,null,null,null,null,{"$f":"IF($E15=\"\",\"\",INT((SUM($F15:$AM15)+($C15*$AN15))))","v":789},null,null,null,{"$f":"IF($E15=\"\",\"\",IF($AV14=\"A\",\"A\",IF($AW14=\"B\",\"B\",IF($AX14=\"C\",\"C\",\"\"))))","v":""},{"$f":"IF($AT15=\"\",\"\",IF($AT15=0,0,IF($AT14=\"A\",9000,IF($AT14=\"B\",8000,IF($AT14=\"C\",7000,0)))))","v":0},{"$f":"IF($E15=\"\",\"\",IF(COUNTIF($F14:$AM14,\"A\")=0,\"\",\"A\"))","v":""},{"$f":"IF($E15=\"\",\"\",IF(COUNTIF($F14:$AM14,\"B\")=0,\"\",\"B\"))","v":""},{"$f":"IF($E15=\"\",\"\",IF(COUNTIF($F14:$AM14,\"C\")=0,\"\",\"C\"))","v":""}]
[null,5,{"$f":"IF($E15=\"\",\"\",IF($D15<>\"\",$D15,IF($C14<>\"-\",概要設定!$B$6,INDEX(概要設定!$N$2:$O$6,MATCH(概要設定!$B$6, 概要設定!$N$2:$N$6,0),2))))","v":180},null,"植田　慎也",116,null,28,null,"w",null,"w",null,null,null,null,null,"w",null,105,null,null,null,null,null,null,null,null,null,null,null,null,null,null,null,null,null,null,null,{"$f":"IF($E15=\"\",\"\",COUNTIF($F15:$AL15,\"w\"))","v":3},{"$f":"IF($E15=\"\",\"\",COUNTIF($F15:$AL15,\">=0\"))","v":3},{"$f":"IF($E15=\"\",\"\",INT((SUM($F15:$AM15)+($C15*$AN15))*$K$2/$C15))","v":789},{"$f":"IF($E15=\"\",\"\",SUM(N$7:N$39))","v":424},{"$f":"IF($E15=\"\",\"\",$AN15*100000000+$AP15*10000-$AQ15+$AU15*0.0001)","v":307889576},{"$f":"IF($E15=\"\",\"\",RANK($AR15,$AR$7:$AR$39)+COUNTIF($AR$7:$AR15,$AR15)-1)","v":5},{"$f":"IF($E15=\"\",\"\",IF($AV14=\"A\",$AV15,IF($AW14=\"B\",$AW15,IF($AX14=\"C\",$AX15,$AY15))))","v":0},0,{"$f":"IF($E15=\"\",\"\",IF(COUNTIF($F14:$AM14,\"A\")=0,\"\",MAX(IF($F14:$AL14=\"A\",$G14:$AM14))))","v":""},{"$f":"IF($E15=\"\",\"\",IF(COUNTIF($F14:$AM14,\"B\")=0,\"\",MAX(IF($F14:$AL14=\"B\",$G14:$AM14))))","v":""},{"$f":"IF($E15=\"\",\"\",IF(COUNTIF($F14:$AM14,\"C\")=0,\"\",MAX(IF($F14:$AL14=\"C\",$G14:$AM14))))","v":""},{"$f":"IF($E15=\"\",\"\",MAX($F14:$AM14))","v":0}]
[null,null,{"$f":"IF($E17=\"\",\"\",INDEX(概要設定!$J$2:$L$51,MATCH($E17, 概要設定!$J$2:$J$51,0),3))","v":0},null,{"$f":"IF(ISERROR(INDEX(概要設定!$J$2:$K$51,MATCH($E17,概要設定!$J$2:$J$51,0),2)),\"\",INDEX(概要設定!$J$2:$K$51,MATCH($E17,概要設定!$J$2:$J$51,0),2))","v":"わしお　りゅうと"},null,null,null,null,null,null,null,null,null,null,null,null,null,null,null,null,null,null,null,null,null,null,null,null,null,null,null,null,null,null,null,null,null,null,null,null,{"$f":"IF($E17=\"\",\"\",INT((SUM($F17:$AM17)+($C17*$AN17))))","v":625},null,null,null,{"$f":"IF($E17=\"\",\"\",IF($AV16=\"A\",\"A\",IF($AW16=\"B\",\"B\",IF($AX16=\"C\",\"C\",\"\"))))","v":""},{"$f":"IF($AT17=\"\",\"\",IF($AT17=0,0,IF($AT16=\"A\",9000,IF($AT16=\"B\",8000,IF($AT16=\"C\",7000,0)))))","v":0},{"$f":"IF($E17=\"\",\"\",IF(COUNTIF($F16:$AM16,\"A\")=0,\"\",\"A\"))","v":""},{"$f":"IF($E17=\"\",\"\",IF(COUNTIF($F16:$AM16,\"B\")=0,\"\",\"B\"))","v":""},{"$f":"IF($E17=\"\",\"\",IF(COUNTIF($F16:$AM16,\"C\")=0,\"\",\"C\"))","v":""}]
[null,6,{"$f":"IF($E17=\"\",\"\",IF($D17<>\"\",$D17,IF($C16<>\"-\",概要設定!$B$6,INDEX(概要設定!$N$2:$O$6,MATCH(概要設定!$B$6, 概要設定!$N$2:$N$6,0),2))))","v":180},null,"鷲尾　隆杜",141,null,112,null,93,null,"w",null,null,null,null,null,67,null,32,null,null,null,null,null,null,null,null,null,null,null,null,null,null,null,null,null,null,null,{"$f":"IF($E17=\"\",\"\",COUNTIF($F17:$AL17,\"w\"))","v":1},{"$f":"IF($E17=\"\",\"\",COUNTIF($F17:$AL17,\">=0\"))","v":5},{"$f":"IF($E17=\"\",\"\",INT((SUM($F17:$AM17)+($C17*$AN17))*$K$2/$C17))","v":625},{"$f":"IF($E17=\"\",\"\",SUM(P$7:P$39))","v":140},{"$f":"IF($E17=\"\",\"\",$AN17*100000000+$AP17*10000-$AQ17+$AU17*0.0001)","v":106249860},{"$f":"IF($E17=\"\",\"\",RANK($AR17,$AR$7:$AR$39)+COUNTIF($AR$7:$AR17,$AR17)-1)","v":7},{"$f":"IF($E17=\"\",\"\",IF($AV16=\"A\",$AV17,IF($AW16=\"B\",$AW17,IF($AX16=\"C\",$AX17,$AY17))))","v":0},0,{"$f":"IF($E17=\"\",\"\",IF(COUNTIF($F16:$AM16,\"A\")=0,\"\",MAX(IF($F16:$AL16=\"A\",$G16:$AM16))))","v":""},{"$f":"IF($E17=\"\",\"\",IF(COUNTIF($F16:$AM16,\"B\")=0,\"\",MAX(IF($F16:$AL16=\"B\",$G16:$AM16))))","v":""},{"$f":"IF($E17=\"\",\"\",IF(COUNTIF($F16:$AM16,\"C\")=0,\"\",MAX(IF($F16:$AL16=\"C\",$G16:$AM16))))","v":""},{"$f":"IF($E17=\"\",\"\",MAX($F16:$AM16))","v":0}]
[null,null,{"$f":"IF($E19=\"\",\"\",INDEX(概要設定!$J$2:$L$51,MATCH($E19, 概要設定!$J$2:$J$51,0),3))","v":0},null,{"$f":"IF(ISERROR(INDEX(概要設定!$J$2:$K$51,MATCH($E19,概要設定!$J$2:$J$51,0),2)),\"\",INDEX(概要設定!$J$2:$K$51,MATCH($E19,概要設定!$J$2:$J$51,0),2))","v":"はせがわ　すすむ"},null,null,null,null,null,null,null,null,null,null,null,null,null,null,null,null,null,null,null,null,null,null,null,null,null,null,null,null,null,null,null,null,null,null,null,null,{"$f":"IF($E19=\"\",\"\",INT((SUM($F19:$AM19)+($C19*$AN19))))","v":526},null,null,null,{"$f":"IF($E19=\"\",\"\",IF($AV18=\"A\",\"A\",IF($AW18=\"B\",\"B\",IF($AX18=\"C\",\"C\",\"\"))))","v":""},{"$f":"IF($AT19=\"\",\"\",IF($AT19=0,0,IF($AT18=\"A\",9000,IF($AT18=\"B\",8000,IF($AT18=\"C\",7000,0)))))","v":0},{"$f":"IF($E19=\"\",\"\",IF(COUNTIF($F18:$AM18,\"A\")=0,\"\",\"A\"))","v":""},{"$f":"IF($E19=\"\",\"\",IF(COUNTIF($F18:$AM18,\"B\")=0,\"\",\"B\"))","v":""},{"$f":"IF($E19=\"\",\"\",IF(COUNTIF($F18:$AM18,\"C\")=0,\"\",\"C\"))","v":""}]
[null,7,{"$f":"IF($E19=\"\",\"\",IF($D19<>\"\",$D19,IF($C18<>\"-\",概要設定!$B$6,INDEX(概要設定!$N$2:$O$6,MATCH(概要設定!$B$6, 概要設定!$N$2:$N$6,0),2))))","v":180},null,"長谷川　進",38,null,26,null,163,null,null,null,97,null,"w",null,null,null,22,null,null,null,null,null,null,null,null,null,null,null,null,null,null,null,null,null,null,null,{"$f":"IF($E19=\"\",\"\",COUNTIF($F19:$AL19,\"w\"))","v":1},{"$f":"IF($E19=\"\",\"\",COUNTIF($F19:$AL19,\">=0\"))","v":5},{"$f":"IF($E19=\"\",\"\",INT((SUM($F19:$AM19)+($C19*$AN19))*$K$2/$C19))","v":526},{"$f":"IF($E19=\"\",\"\",SUM(R$7:R$39))","v":67},{"$f":"IF($E19=\"\",\"\",$AN19*100000000+$AP19*10000-$AQ19+$AU19*0.0001)","v":105259933},{"$f":"IF($E19=\"\",\"\",RANK($AR19,$AR$7:$AR$39)+COUNTIF($AR$7:$AR19,$AR19)-1)","v":8},{"$f":"IF($E19=\"\",\"\",IF($AV18=\"A\",$AV19,IF($AW18=\"B\",$AW19,IF($AX18=\"C\",$AX19,$AY19))))","v":0},0,{"$f":"IF($E19=\"\",\"\",IF(COUNTIF($F18:$AM18,\"A\")=0,\"\",MAX(IF($F18:$AL18=\"A\",$G18:$AM18))))","v":""},{"$f":"IF($E19=\"\",\"\",IF(COUNTIF($F18:$AM18,\"B\")=0,\"\",MAX(IF($F18:$AL18=\"B\",$G18:$AM18))))","v":""},{"$f":"IF($E19=\"\",\"\",IF(COUNTIF($F18:$AM18,\"C\")=0,\"\",MAX(IF($F18:$AL18=\"C\",$G18:$AM18))))","v":""},{"$f":"IF($E19=\"\",\"\",MAX($F18:$AM18))","v":0}]
[null,null,{"$f":"IF($E21=\"\",\"\",INDEX(概要設定!$J$2:$L$51,MATCH($E21, 概要設定!$J$2:$J$51,0),3))","v":"-"},null,{"$f":"IF(ISERROR(INDEX(概要設定!$J$2:$K$51,MATCH($E21,概要設定!$J$2:$J$51,0),2)),\"\",INDEX(概要設定!$J$2:$K$51,MATCH($E21,概要設定!$J$2:$J$51,0),2))","v":"しらと　きょうこ"},null,103,null,null,null,null,null,null,null,null,null,null,null,null,null,null,null,null,null,null,null,null,null,null,null,null,null,null,null,null,null,null,null,null,null,null,{"$f":"IF($E21=\"\",\"\",INT((SUM($F21:$AM21)+($C21*$AN21))))","v":840},null,null,null,{"$f":"IF($E21=\"\",\"\",IF($AV20=\"A\",\"A\",IF($AW20=\"B\",\"B\",IF($AX20=\"C\",\"C\",\"\"))))","v":""},{"$f":"IF($AT21=\"\",\"\",IF($AT21=0,0,IF($AT20=\"A\",9000,IF($AT20=\"B\",8000,IF($AT20=\"C\",7000,0)))))","v":0},{"$f":"IF($E21=\"\",\"\",IF(COUNTIF($F20:$AM20,\"A\")=0,\"\",\"A\"))","v":""},{"$f":"IF($E21=\"\",\"\",IF(COUNTIF($F20:$AM20,\"B\")=0,\"\",\"B\"))","v":""},{"$f":"IF($E21=\"\",\"\",IF(COUNTIF($F20:$AM20,\"C\")=0,\"\",\"C\"))","v":""}]
[null,8,{"$f":"IF($E21=\"\",\"\",IF($D21<>\"\",$D21,IF($C20<>\"-\",概要設定!$B$6,INDEX(概要設定!$N$2:$O$6,MATCH(概要設定!$B$6, 概要設定!$N$2:$N$6,0),2))))","v":140},null,"白戸　恭子","w",null,"w",null,null,null,"w",null,"w",null,"w",null,"w",null,null,null,null,null,null,null,null,null,null,null,null,null,null,null,null,null,null,null,null,null,{"$f":"IF($E21=\"\",\"\",COUNTIF($F21:$AL21,\"w\"))","v":6},{"$f":"IF($E21=\"\",\"\",COUNTIF($F21:$AL21,\">=0\"))","v":0},{"$f":"IF($E21=\"\",\"\",INT((SUM($F21:$AM21)+($C21*$AN21))*$K$2/$C21))","v":1080},{"$f":"IF($E21=\"\",\"\",SUM(T$7:T$39))","v":324},{"$f":"IF($E21=\"\",\"\",$AN21*100000000+$AP21*10000-$AQ21+$AU21*0.0001)","v":610799676.01030004},{"$f":"IF($E21=\"\",\"\",RANK($AR21,$AR$7:$AR$39)+COUNTIF($AR$7:$AR21,$AR21)-1)","v":1},{"$f":"IF($E21=\"\",\"\",IF($AV20=\"A\",$AV21,IF($AW20=\"B\",$AW21,IF($AX20=\"C\",$AX21,$AY21))))","v":103},103,{"$f":"IF($E21=\"\",\"\",IF(COUNTIF($F20:$AM20,\"A\")=0,\"\",MAX(IF($F20:$AL20=\"A\",$G20:$AM20))))","v":""},{"$f":"IF($E21=\"\",\"\",IF(COUNTIF($F20:$AM20,\"B\")=0,\"\",MAX(IF($F20:$AL20=\"B\",$G20:$AM20))))","v":""},{"$f":"IF($E21=\"\",\"\",IF(COUNTIF($F20:$AM20,\"C\")=0,\"\",MAX(IF($F20:$AL20=\"C\",$G20:$AM20))))","v":""},{"$f":"IF($E21=\"\",\"\",MAX($F20:$AM20))","v":103}]
[null,null,{"$f":"IF($E23=\"\",\"\",INDEX(概要設定!$J$2:$L$51,MATCH($E23, 概要設定!$J$2:$J$51,0),3))","v":""},null,{"$f":"IF(ISERROR(INDEX(概要設定!$J$2:$K$51,MATCH($E23,概要設定!$J$2:$J$51,0),2)),\"\",INDEX(概要設定!$J$2:$K$51,MATCH($E23,概要設定!$J$2:$J$51,0),2))","v":""},null,null,null,null,null,null,null,null,null,null,null,null,null,null,null,null,null,null,null,null,null,null,null,null,null,null,null,null,null,null,null,null,null,null,null,null,{"$f":"IF($E23=\"\",\"\",INT((SUM($F23:$AM23)+($C23*$AN23))))","v":""},null,null,null,{"$f":"IF($E23=\"\",\"\",IF($AV22=\"A\",\"A\",IF($AW22=\"B\",\"B\",IF($AX22=\"C\",\"C\",\"\"))))","v":""},{"$f":"IF($AT23=\"\",\"\",IF($AT23=0,0,IF($AT22=\"A\",9000,IF($AT22=\"B\",8000,IF($AT22=\"C\",7000,0)))))","v":""},{"$f":"IF($E23=\"\",\"\",IF(COUNTIF($F22:$AM22,\"A\")=0,\"\",\"A\"))","v":""},{"$f":"IF($E23=\"\",\"\",IF(COUNTIF($F22:$AM22,\"B\")=0,\"\",\"B\"))","v":""},{"$f":"IF($E23=\"\",\"\",IF(COUNTIF($F22:$AM22,\"C\")=0,\"\",\"C\"))","v":""}]
[null,9,{"$f":"IF($E23=\"\",\"\",IF($D23<>\"\",$D23,IF($C22<>\"-\",概要設定!$B$6,INDEX(概要設定!$N$2:$O$6,MATCH(概要設定!$B$6, 概要設定!$N$2:$N$6,0),2))))","v":""},null,null,null,null,null,null,null,null,null,null,null,null,null,null,null,null,null,null,null,null,null,null,null,null,null,null,null,null,null,null,null,null,null,null,null,null,{"$f":"IF($E23=\"\",\"\",COUNTIF($F23:$AL23,\"w\"))","v":""},{"$f":"IF($E23=\"\",\"\",COUNTIF($F23:$AL23,\">=0\"))","v":""},{"$f":"IF($E23=\"\",\"\",INT((SUM($F23:$AM23)+($C23*$AN23))*$K$2/$C23))","v":""},{"$f":"IF($E23=\"\",\"\",SUM(V$7:V$39))","v":""},{"$f":"IF($E23=\"\",\"\",$AN23*100000000+$AP23*10000-$AQ23+$AU23*0.0001)","v":""},{"$f":"IF($E23=\"\",\"\",RANK($AR23,$AR$7:$AR$39)+COUNTIF($AR$7:$AR23,$AR23)-1)","v":""},{"$f":"IF($E23=\"\",\"\",IF($AV22=\"A\",$AV23,IF($AW22=\"B\",$AW23,IF($AX22=\"C\",$AX23,$AY23))))","v":""},"",{"$f":"IF($E23=\"\",\"\",IF(COUNTIF($F22:$AM22,\"A\")=0,\"\",MAX(IF($F22:$AL22=\"A\",$G22:$AM22))))","v":""},{"$f":"IF($E23=\"\",\"\",IF(COUNTIF($F22:$AM22,\"B\")=0,\"\",MAX(IF($F22:$AL22=\"B\",$G22:$AM22))))","v":""},{"$f":"IF($E23=\"\",\"\",IF(COUNTIF($F22:$AM22,\"C\")=0,\"\",MAX(IF($F22:$AL22=\"C\",$G22:$AM22))))","v":""},{"$f":"IF($E23=\"\",\"\",MAX($F22:$AM22))","v":""}]
[null,null,{"$f":"IF($E25=\"\",\"\",INDEX(概要設定!$J$2:$L$51,MATCH($E25, 概要設定!$J$2:$J$51,0),3))","v":""},null,{"$f":"IF(ISERROR(INDEX(概要設定!$J$2:$K$51,MATCH($E25,概要設定!$J$2:$J$51,0),2)),\"\",INDEX(概要設定!$J$2:$K$51,MATCH($E25,概要設定!$J$2:$J$51,0),2))","v":""},null,null,null,null,null,null,null,null,null,null,null,null,null,null,null,null,null,null,null,null,null,null,null,null,null,null,null,null,null,null,null,null,null,null,null,null,{"$f":"IF($E25=\"\",\"\",INT((SUM($F25:$AM25)+($C25*$AN25))))","v":""},null,null,null,{"$f":"IF($E25=\"\",\"\",IF($AV24=\"A\",\"A\",IF($AW24=\"B\",\"B\",IF($AX24=\"C\",\"C\",\"\"))))","v":""},{"$f":"IF($AT25=\"\",\"\",IF($AT25=0,0,IF($AT24=\"A\",9000,IF($AT24=\"B\",8000,IF($AT24=\"C\",7000,0)))))","v":""},{"$f":"IF($E25=\"\",\"\",IF(COUNTIF($F24:$AM24,\"A\")=0,\"\",\"A\"))","v":""},{"$f":"IF($E25=\"\",\"\",IF(COUNTIF($F24:$AM24,\"B\")=0,\"\",\"B\"))","v":""},{"$f":"IF($E25=\"\",\"\",IF(COUNTIF($F24:$AM24,\"C\")=0,\"\",\"C\"))","v":""}]
[null,10,{"$f":"IF($E25=\"\",\"\",IF($D25<>\"\",$D25,IF($C24<>\"-\",概要設定!$B$6,INDEX(概要設定!$N$2:$O$6,MATCH(概要設定!$B$6, 概要設定!$N$2:$N$6,0),2))))","v":""},null,null,null,null,null,null,null,null,null,null,null,null,null,null,null,null,null,null,null,null,null,null,null,null,null,null,null,null,null,null,null,null,null,null,null,null,{"$f":"IF($E25=\"\",\"\",COUNTIF($F25:$AL25,\"w\"))","v":""},{"$f":"IF($E25=\"\",\"\",COUNTIF($F25:$AL25,\">=0\"))","v":""},{"$f":"IF($E25=\"\",\"\",INT((SUM($F25:$AM25)+($C25*$AN25))*$K$2/$C25))","v":""},{"$f":"IF($E25=\"\",\"\",SUM(X$7:X$39))","v":""},{"$f":"IF($E25=\"\",\"\",$AN25*100000000+$AP25*10000-$AQ25+$AU25*0.0001)","v":""},{"$f":"IF($E25=\"\",\"\",RANK($AR25,$AR$7:$AR$39)+COUNTIF($AR$7:$AR25,$AR25)-1)","v":""},{"$f":"IF($E25=\"\",\"\",IF($AV24=\"A\",$AV25,IF($AW24=\"B\",$AW25,IF($AX24=\"C\",$AX25,$AY25))))","v":""},"",{"$f":"IF($E25=\"\",\"\",IF(COUNTIF($F24:$AM24,\"A\")=0,\"\",MAX(IF($F24:$AL24=\"A\",$G24:$AM24))))","v":""},{"$f":"IF($E25=\"\",\"\",IF(COUNTIF($F24:$AM24,\"B\")=0,\"\",MAX(IF($F24:$AL24=\"B\",$G24:$AM24))))","v":""},{"$f":"IF($E25=\"\",\"\",IF(COUNTIF($F24:$AM24,\"C\")=0,\"\",MAX(IF($F24:$AL24=\"C\",$G24:$AM24))))","v":""},{"$f":"IF($E25=\"\",\"\",MAX($F24:$AM24))","v":""}]
[null,null,{"$f":"IF($E27=\"\",\"\",INDEX(概要設定!$J$2:$L$51,MATCH($E27, 概要設定!$J$2:$J$51,0),3))","v":""},null,{"$f":"IF(ISERROR(INDEX(概要設定!$J$2:$K$51,MATCH($E27,概要設定!$J$2:$J$51,0),2)),\"\",INDEX(概要設定!$J$2:$K$51,MATCH($E27,概要設定!$J$2:$J$51,0),2))","v":""},null,null,null,null,null,null,null,null,null,null,null,null,null,null,null,null,null,null,null,null,null,null,null,null,null,null,null,null,null,null,null,null,null,null,null,null,{"$f":"IF($E27=\"\",\"\",INT((SUM($F27:$AM27)+($C27*$AN27))))","v":""},null,null,null,{"$f":"IF($E27=\"\",\"\",IF($AV26=\"A\",\"A\",IF($AW26=\"B\",\"B\",IF($AX26=\"C\",\"C\",\"\"))))","v":""},{"$f":"IF($AT27=\"\",\"\",IF($AT27=0,0,IF($AT26=\"A\",9000,IF($AT26=\"B\",8000,IF($AT26=\"C\",7000,0)))))","v":""},{"$f":"IF($E27=\"\",\"\",IF(COUNTIF($F26:$AM26,\"A\")=0,\"\",\"A\"))","v":""},{"$f":"IF($E27=\"\",\"\",IF(COUNTIF($F26:$AM26,\"B\")=0,\"\",\"B\"))","v":""},{"$f":"IF($E27=\"\",\"\",IF(COUNTIF($F26:$AM26,\"C\")=0,\"\",\"C\"))","v":""}]
[null,11,{"$f":"IF($E27=\"\",\"\",IF($D27<>\"\",$D27,IF($C26<>\"-\",概要設定!$B$6,INDEX(概要設定!$N$2:$O$6,MATCH(概要設定!$B$6, 概要設定!$N$2:$N$6,0),2))))","v":""},null,null,null,null,null,null,null,null,null,null,null,null,null,null,null,null,null,null,null,null,null,null,null,null,null,null,null,null,null,null,null,null,null,null,null,null,{"$f":"IF($E27=\"\",\"\",COUNTIF($F27:$AL27,\"w\"))","v":""},{"$f":"IF($E27=\"\",\"\",COUNTIF($F27:$AL27,\">=0\"))","v":""},{"$f":"IF($E27=\"\",\"\",INT((SUM($F27:$AM27)+($C27*$AN27))*$K$2/$C27))","v":""},{"$f":"IF($E27=\"\",\"\",SUM(Z$7:Z$39))","v":""},{"$f":"IF($E27=\"\",\"\",$AN27*100000000+$AP27*10000-$AQ27+$AU27*0.0001)","v":""},{"$f":"IF($E27=\"\",\"\",RANK($AR27,$AR$7:$AR$39)+COUNTIF($AR$7:$AR27,$AR27)-1)","v":""},{"$f":"IF($E27=\"\",\"\",IF($AV26=\"A\",$AV27,IF($AW26=\"B\",$AW27,IF($AX26=\"C\",$AX27,$AY27))))","v":""},"",{"$f":"IF($E27=\"\",\"\",IF(COUNTIF($F26:$AM26,\"A\")=0,\"\",MAX(IF($F26:$AL26=\"A\",$G26:$AM26))))","v":""},{"$f":"IF($E27=\"\",\"\",IF(COUNTIF($F26:$AM26,\"B\")=0,\"\",MAX(IF($F26:$AL26=\"B\",$G26:$AM26))))","v":""},{"$f":"IF($E27=\"\",\"\",IF(COUNTIF($F26:$AM26,\"C\")=0,\"\",MAX(IF($F26:$AL26=\"C\",$G26:$AM26))))","v":""},{"$f":"IF($E27=\"\",\"\",MAX($F26:$AM26))","v":""}]
[null,null,{"$f":"IF($E29=\"\",\"\",INDEX(概要設定!$J$2:$L$51,MATCH($E29, 概要設定!$J$2:$J$51,0),3))","v":""},null,{"$f":"IF(ISERROR(INDEX(概要設定!$J$2:$K$51,MATCH($E29,概要設定!$J$2:$J$51,0),2)),\"\",INDEX(概要設定!$J$2:$K$51,MATCH($E29,概要設定!$J$2:$J$51,0),2))","v":""},null,null,null,null,null,null,null,null,null,null,null,null,null,null,null,null,null,null,null,null,null,null,null,null,null,null,null,null,null,null,null,null,null,null,null,null,{"$f":"IF($E29=\"\",\"\",INT((SUM($F29:$AM29)+($C29*$AN29))))","v":""},null,null,null,{"$f":"IF($E29=\"\",\"\",IF($AV28=\"A\",\"A\",IF($AW28=\"B\",\"B\",IF($AX28=\"C\",\"C\",\"\"))))","v":""},{"$f":"IF($AT29=\"\",\"\",IF($AT29=0,0,IF($AT28=\"A\",9000,IF($AT28=\"B\",8000,IF($AT28=\"C\",7000,0)))))","v":""},{"$f":"IF($E29=\"\",\"\",IF(COUNTIF($F28:$AM28,\"A\")=0,\"\",\"A\"))","v":""},{"$f":"IF($E29=\"\",\"\",IF(COUNTIF($F28:$AM28,\"B\")=0,\"\",\"B\"))","v":""},{"$f":"IF($E29=\"\",\"\",IF(COUNTIF($F28:$AM28,\"C\")=0,\"\",\"C\"))","v":""}]
[null,12,{"$f":"IF($E29=\"\",\"\",IF($D29<>\"\",$D29,IF($C28<>\"-\",概要設定!$B$6,INDEX(概要設定!$N$2:$O$6,MATCH(概要設定!$B$6, 概要設定!$N$2:$N$6,0),2))))","v":""},null,null,null,null,null,null,null,null,null,null,null,null,null,null,null,null,null,null,null,null,null,null,null,null,null,null,null,null,null,null,null,null,null,null,null,null,{"$f":"IF($E29=\"\",\"\",COUNTIF($F29:$AL29,\"w\"))","v":""},{"$f":"IF($E29=\"\",\"\",COUNTIF($F29:$AL29,\">=0\"))","v":""},{"$f":"IF($E29=\"\",\"\",INT((SUM($F29:$AM29)+($C29*$AN29))*$K$2/$C29))","v":""},{"$f":"IF($E29=\"\",\"\",SUM(AB$7:AB$39))","v":""},{"$f":"IF($E29=\"\",\"\",$AN29*100000000+$AP29*10000-$AQ29+$AU29*0.0001)","v":""},{"$f":"IF($E29=\"\",\"\",RANK($AR29,$AR$7:$AR$39)+COUNTIF($AR$7:$AR29,$AR29)-1)","v":""},{"$f":"IF($E29=\"\",\"\",IF($AV28=\"A\",$AV29,IF($AW28=\"B\",$AW29,IF($AX28=\"C\",$AX29,$AY29))))","v":""},"",{"$f":"IF($E29=\"\",\"\",IF(COUNTIF($F28:$AM28,\"A\")=0,\"\",MAX(IF($F28:$AL28=\"A\",$G28:$AM28))))","v":""},{"$f":"IF($E29=\"\",\"\",IF(COUNTIF($F28:$AM28,\"B\")=0,\"\",MAX(IF($F28:$AL28=\"B\",$G28:$AM28))))","v":""},{"$f":"IF($E29=\"\",\"\",IF(COUNTIF($F28:$AM28,\"C\")=0,\"\",MAX(IF($F28:$AL28=\"C\",$G28:$AM28))))","v":""},{"$f":"IF($E29=\"\",\"\",MAX($F28:$AM28))","v":""}]
[null,null,{"$f":"IF($E31=\"\",\"\",INDEX(概要設定!$J$2:$L$51,MATCH($E31, 概要設定!$J$2:$J$51,0),3))","v":""},null,{"$f":"IF(ISERROR(INDEX(概要設定!$J$2:$K$51,MATCH($E31,概要設定!$J$2:$J$51,0),2)),\"\",INDEX(概要設定!$J$2:$K$51,MATCH($E31,概要設定!$J$2:$J$51,0),2))","v":""},null,null,null,null,null,null,null,null,null,null,null,null,null,null,null,null,null,null,null,null,null,null,null,null,null,null,null,null,null,null,null,null,null,null,null,null,{"$f":"IF($E31=\"\",\"\",INT((SUM($F31:$AM31)+($C31*$AN31))))","v":""},null,null,null,{"$f":"IF($E31=\"\",\"\",IF($AV30=\"A\",\"A\",IF($AW30=\"B\",\"B\",IF($AX30=\"C\",\"C\",\"\"))))","v":""},{"$f":"IF($AT31=\"\",\"\",IF($AT31=0,0,IF($AT30=\"A\",9000,IF($AT30=\"B\",8000,IF($AT30=\"C\",7000,0)))))","v":""},{"$f":"IF($E31=\"\",\"\",IF(COUNTIF($F30:$AM30,\"A\")=0,\"\",\"A\"))","v":""},{"$f":"IF($E31=\"\",\"\",IF(COUNTIF($F30:$AM30,\"B\")=0,\"\",\"B\"))","v":""},{"$f":"IF($E31=\"\",\"\",IF(COUNTIF($F30:$AM30,\"C\")=0,\"\",\"C\"))","v":""}]
[null,13,{"$f":"IF($E31=\"\",\"\",IF($D31<>\"\",$D31,IF($C30<>\"-\",概要設定!$B$6,INDEX(概要設定!$N$2:$O$6,MATCH(概要設定!$B$6, 概要設定!$N$2:$N$6,0),2))))","v":""},null,null,null,null,null,null,null,null,null,null,null,null,null,null,null,null,null,null,null,null,null,null,null,null,null,null,null,null,null,null,null,null,null,null,null,null,{"$f":"IF($E31=\"\",\"\",COUNTIF($F31:$AL31,\"w\"))","v":""},{"$f":"IF($E31=\"\",\"\",COUNTIF($F31:$AL31,\">=0\"))","v":""},{"$f":"IF($E31=\"\",\"\",INT((SUM($F31:$AM31)+($C31*$AN31))*$K$2/$C31))","v":""},{"$f":"IF($E31=\"\",\"\",SUM(AD$7:AD$39))","v":""},{"$f":"IF($E31=\"\",\"\",$AN31*100000000+$AP31*10000-$AQ31+$AU31*0.0001)","v":""},{"$f":"IF($E31=\"\",\"\",RANK($AR31,$AR$7:$AR$39)+COUNTIF($AR$7:$AR31,$AR31)-1)","v":""},{"$f":"IF($E31=\"\",\"\",IF($AV30=\"A\",$AV31,IF($AW30=\"B\",$AW31,IF($AX30=\"C\",$AX31,$AY31))))","v":""},"",{"$f":"IF($E31=\"\",\"\",IF(COUNTIF($F30:$AM30,\"A\")=0,\"\",MAX(IF($F30:$AL30=\"A\",$G30:$AM30))))","v":""},{"$f":"IF($E31=\"\",\"\",IF(COUNTIF($F30:$AM30,\"B\")=0,\"\",MAX(IF($F30:$AL30=\"B\",$G30:$AM30))))","v":""},{"$f":"IF($E31=\"\",\"\",IF(COUNTIF($F30:$AM30,\"C\")=0,\"\",MAX(IF($F30:$AL30=\"C\",$G30:$AM30))))","v":""},{"$f":"IF($E31=\"\",\"\",MAX($F30:$AM30))","v":""}]
[null,null,{"$f":"IF($E33=\"\",\"\",INDEX(概要設定!$J$2:$L$51,MATCH($E33, 概要設定!$J$2:$J$51,0),3))","v":""},null,{"$f":"IF(ISERROR(INDEX(概要設定!$J$2:$K$51,MATCH($E33,概要設定!$J$2:$J$51,0),2)),\"\",INDEX(概要設定!$J$2:$K$51,MATCH($E33,概要設定!$J$2:$J$51,0),2))","v":""},null,null,null,null,null,null,null,null,null,null,null,null,null,null,null,null,null,null,null,null,null,null,null,null,null,null,null,null,null,null,null,null,null,null,null,null,{"$f":"IF($E33=\"\",\"\",INT((SUM($F33:$AM33)+($C33*$AN33))))","v":""},null,null,null,{"$f":"IF($E33=\"\",\"\",IF($AV32=\"A\",\"A\",IF($AW32=\"B\",\"B\",IF($AX32=\"C\",\"C\",\"\"))))","v":""},{"$f":"IF($AT33=\"\",\"\",IF($AT33=0,0,IF($AT32=\"A\",9000,IF($AT32=\"B\",8000,IF($AT32=\"C\",7000,0)))))","v":""},{"$f":"IF($E33=\"\",\"\",IF(COUNTIF($F32:$AM32,\"A\")=0,\"\",\"A\"))","v":""},{"$f":"IF($E33=\"\",\"\",IF(COUNTIF($F32:$AM32,\"B\")=0,\"\",\"B\"))","v":""},{"$f":"IF($E33=\"\",\"\",IF(COUNTIF($F32:$AM32,\"C\")=0,\"\",\"C\"))","v":""}]
[null,14,{"$f":"IF($E33=\"\",\"\",IF($D33<>\"\",$D33,IF($C32<>\"-\",概要設定!$B$6,INDEX(概要設定!$N$2:$O$6,MATCH(概要設定!$B$6, 概要設定!$N$2:$N$6,0),2))))","v":""},null,null,null,null,null,null,null,null,null,null,null,null,null,null,null,null,null,null,null,null,null,null,null,null,null,null,null,null,null,null,null,null,null,null,null,null,{"$f":"IF($E33=\"\",\"\",COUNTIF($F33:$AL33,\"w\"))","v":""},{"$f":"IF($E33=\"\",\"\",COUNTIF($F33:$AL33,\">=0\"))","v":""},{"$f":"IF($E33=\"\",\"\",INT((SUM($F33:$AM33)+($C33*$AN33))*$K$2/$C33))","v":""},{"$f":"IF($E33=\"\",\"\",SUM(AF$7:AF$39))","v":""},{"$f":"IF($E33=\"\",\"\",$AN33*100000000+$AP33*10000-$AQ33+$AU33*0.0001)","v":""},{"$f":"IF($E33=\"\",\"\",RANK($AR33,$AR$7:$AR$39)+COUNTIF($AR$7:$AR33,$AR33)-1)","v":""},{"$f":"IF($E33=\"\",\"\",IF($AV32=\"A\",$AV33,IF($AW32=\"B\",$AW33,IF($AX32=\"C\",$AX33,$AY33))))","v":""},"",{"$f":"IF($E33=\"\",\"\",IF(COUNTIF($F32:$AM32,\"A\")=0,\"\",MAX(IF($F32:$AL32=\"A\",$G32:$AM32))))","v":""},{"$f":"IF($E33=\"\",\"\",IF(COUNTIF($F32:$AM32,\"B\")=0,\"\",MAX(IF($F32:$AL32=\"B\",$G32:$AM32))))","v":""},{"$f":"IF($E33=\"\",\"\",IF(COUNTIF($F32:$AM32,\"C\")=0,\"\",MAX(IF($F32:$AL32=\"C\",$G32:$AM32))))","v":""},{"$f":"IF($E33=\"\",\"\",MAX($F32:$AM32))","v":""}]
[null,null,{"$f":"IF($E35=\"\",\"\",INDEX(概要設定!$J$2:$L$51,MATCH($E35, 概要設定!$J$2:$J$51,0),3))","v":""},null,{"$f":"IF(ISERROR(INDEX(概要設定!$J$2:$K$51,MATCH($E35,概要設定!$J$2:$J$51,0),2)),\"\",INDEX(概要設定!$J$2:$K$51,MATCH($E35,概要設定!$J$2:$J$51,0),2))","v":""},null,null,null,null,null,null,null,null,null,null,null,null,null,null,null,null,null,null,null,null,null,null,null,null,null,null,null,null,null,null,null,null,null,null,null,null,{"$f":"IF($E35=\"\",\"\",INT((SUM($F35:$AM35)+($C35*$AN35))))","v":""},null,null,null,{"$f":"IF($E35=\"\",\"\",IF($AV34=\"A\",\"A\",IF($AW34=\"B\",\"B\",IF($AX34=\"C\",\"C\",\"\"))))","v":""},{"$f":"IF($AT35=\"\",\"\",IF($AT35=0,0,IF($AT34=\"A\",9000,IF($AT34=\"B\",8000,IF($AT34=\"C\",7000,0)))))","v":""},{"$f":"IF($E35=\"\",\"\",IF(COUNTIF($F34:$AM34,\"A\")=0,\"\",\"A\"))","v":""},{"$f":"IF($E35=\"\",\"\",IF(COUNTIF($F34:$AM34,\"B\")=0,\"\",\"B\"))","v":""},{"$f":"IF($E35=\"\",\"\",IF(COUNTIF($F34:$AM34,\"C\")=0,\"\",\"C\"))","v":""}]
[null,15,{"$f":"IF($E35=\"\",\"\",IF($D35<>\"\",$D35,IF($C34<>\"-\",概要設定!$B$6,INDEX(概要設定!$N$2:$O$6,MATCH(概要設定!$B$6, 概要設定!$N$2:$N$6,0),2))))","v":""},null,null,null,null,null,null,null,null,null,null,null,null,null,null,null,null,null,null,null,null,null,null,null,null,null,null,null,null,null,null,null,null,null,null,null,null,{"$f":"IF($E35=\"\",\"\",COUNTIF($F35:$AL35,\"w\"))","v":""},{"$f":"IF($E35=\"\",\"\",COUNTIF($F35:$AL35,\">=0\"))","v":""},{"$f":"IF($E35=\"\",\"\",INT((SUM($F35:$AM35)+($C35*$AN35))*$K$2/$C35))","v":""},{"$f":"IF($E35=\"\",\"\",SUM(AH$7:AH$39))","v":""},{"$f":"IF($E35=\"\",\"\",$AN35*100000000+$AP35*10000-$AQ35+$AU35*0.0001)","v":""},{"$f":"IF($E35=\"\",\"\",RANK($AR35,$AR$7:$AR$39)+COUNTIF($AR$7:$AR35,$AR35)-1)","v":""},{"$f":"IF($E35=\"\",\"\",IF($AV34=\"A\",$AV35,IF($AW34=\"B\",$AW35,IF($AX34=\"C\",$AX35,$AY35))))","v":""},"",{"$f":"IF($E35=\"\",\"\",IF(COUNTIF($F34:$AM34,\"A\")=0,\"\",MAX(IF($F34:$AL34=\"A\",$G34:$AM34))))","v":""},{"$f":"IF($E35=\"\",\"\",IF(COUNTIF($F34:$AM34,\"B\")=0,\"\",MAX(IF($F34:$AL34=\"B\",$G34:$AM34))))","v":""},{"$f":"IF($E35=\"\",\"\",IF(COUNTIF($F34:$AM34,\"C\")=0,\"\",MAX(IF($F34:$AL34=\"C\",$G34:$AM34))))","v":""},{"$f":"IF($E35=\"\",\"\",MAX($F34:$AM34))","v":""}]
[null,null,{"$f":"IF($E37=\"\",\"\",INDEX(概要設定!$J$2:$L$51,MATCH($E37, 概要設定!$J$2:$J$51,0),3))","v":""},null,{"$f":"IF(ISERROR(INDEX(概要設定!$J$2:$K$51,MATCH($E37,概要設定!$J$2:$J$51,0),2)),\"\",INDEX(概要設定!$J$2:$K$51,MATCH($E37,概要設定!$J$2:$J$51,0),2))","v":""},null,null,null,null,null,null,null,null,null,null,null,null,null,null,null,null,null,null,null,null,null,null,null,null,null,null,null,null,null,null,null,null,null,null,null,null,{"$f":"IF($E37=\"\",\"\",INT((SUM($F37:$AM37)+($C37*$AN37))))","v":""},null,null,null,{"$f":"IF($E37=\"\",\"\",IF($AV36=\"A\",\"A\",IF($AW36=\"B\",\"B\",IF($AX36=\"C\",\"C\",\"\"))))","v":""},{"$f":"IF($AT37=\"\",\"\",IF($AT37=0,0,IF($AT36=\"A\",9000,IF($AT36=\"B\",8000,IF($AT36=\"C\",7000,0)))))","v":""},{"$f":"IF($E37=\"\",\"\",IF(COUNTIF($F36:$AM36,\"A\")=0,\"\",\"A\"))","v":""},{"$f":"IF($E37=\"\",\"\",IF(COUNTIF($F36:$AM36,\"B\")=0,\"\",\"B\"))","v":""},{"$f":"IF($E37=\"\",\"\",IF(COUNTIF($F36:$AM36,\"C\")=0,\"\",\"C\"))","v":""}]
[null,16,{"$f":"IF($E37=\"\",\"\",IF($D37<>\"\",$D37,IF($C36<>\"-\",概要設定!$B$6,INDEX(概要設定!$N$2:$O$6,MATCH(概要設定!$B$6, 概要設定!$N$2:$N$6,0),2))))","v":""},null,null,null,null,null,null,null,null,null,null,null,null,null,null,null,null,null,null,null,null,null,null,null,null,null,null,null,null,null,null,null,null,null,null,null,null,{"$f":"IF($E37=\"\",\"\",COUNTIF($F37:$AL37,\"w\"))","v":""},{"$f":"IF($E37=\"\",\"\",COUNTIF($F37:$AL37,\">=0\"))","v":""},{"$f":"IF($E37=\"\",\"\",INT((SUM($F37:$AM37)+($C37*$AN37))*$K$2/$C37))","v":""},{"$f":"IF($E37=\"\",\"\",SUM(AJ$7:AJ$39))","v":""},{"$f":"IF($E37=\"\",\"\",$AN37*100000000+$AP37*10000-$AQ37+$AU37*0.0001)","v":""},{"$f":"IF($E37=\"\",\"\",RANK($AR37,$AR$7:$AR$39)+COUNTIF($AR$7:$AR37,$AR37)-1)","v":""},{"$f":"IF($E37=\"\",\"\",IF($AV36=\"A\",$AV37,IF($AW36=\"B\",$AW37,IF($AX36=\"C\",$AX37,$AY37))))","v":""},"",{"$f":"IF($E37=\"\",\"\",IF(COUNTIF($F36:$AM36,\"A\")=0,\"\",MAX(IF($F36:$AL36=\"A\",$G36:$AM36))))","v":""},{"$f":"IF($E37=\"\",\"\",IF(COUNTIF($F36:$AM36,\"B\")=0,\"\",MAX(IF($F36:$AL36=\"B\",$G36:$AM36))))","v":""},{"$f":"IF($E37=\"\",\"\",IF(COUNTIF($F36:$AM36,\"C\")=0,\"\",MAX(IF($F36:$AL36=\"C\",$G36:$AM36))))","v":""},{"$f":"IF($E37=\"\",\"\",MAX($F36:$AM36))","v":""}]
[null,null,{"$f":"IF($E39=\"\",\"\",INDEX(概要設定!$J$2:$L$51,MATCH($E39, 概要設定!$J$2:$J$51,0),3))","v":""},null,{"$f":"IF(ISERROR(INDEX(概要設定!$J$2:$K$51,MATCH($E39,概要設定!$J$2:$J$51,0),2)),\"\",INDEX(概要設定!$J$2:$K$51,MATCH($E39,概要設定!$J$2:$J$51,0),2))","v":""},null,null,null,null,null,null,null,null,null,null,null,null,null,null,null,null,null,null,null,null,null,null,null,null,null,null,null,null,null,null,null,null,null,null,null,null,{"$f":"IF($E39=\"\",\"\",INT((SUM($F39:$AM39)+($C39*$AN39))))","v":""},null,null,null,{"$f":"IF($E39=\"\",\"\",IF($AV38=\"A\",\"A\",IF($AW38=\"B\",\"B\",IF($AX38=\"C\",\"C\",\"\"))))","v":""},{"$f":"IF($AT39=\"\",\"\",IF($AT39=0,0,IF($AT38=\"A\",9000,IF($AT38=\"B\",8000,IF($AT38=\"C\",7000,0)))))","v":""},{"$f":"IF($E39=\"\",\"\",IF(COUNTIF($F38:$AM38,\"A\")=0,\"\",\"A\"))","v":""},{"$f":"IF($E39=\"\",\"\",IF(COUNTIF($F38:$AM38,\"B\")=0,\"\",\"B\"))","v":""},{"$f":"IF($E39=\"\",\"\",IF(COUNTIF($F38:$AM38,\"C\")=0,\"\",\"C\"))","v":""}]
[null,17,{"$f":"IF($E39=\"\",\"\",IF($D39<>\"\",$D39,IF($C38<>\"-\",概要設定!$B$6,INDEX(概要設定!$N$2:$O$6,MATCH(概要設定!$B$6, 概要設定!$N$2:$N$6,0),2))))","v":""},null,null,null,null,null,null,null,null,null,null,null,null,null,null,null,null,null,null,null,null,null,null,null,null,null,null,null,null,null,null,null,null,null,null,null,null,{"$f":"IF($E39=\"\",\"\",COUNTIF($F39:$AL39,\"w\"))","v":""},{"$f":"IF($E39=\"\",\"\",COUNTIF($F39:$AL39,\">=0\"))","v":""},{"$f":"IF($E39=\"\",\"\",INT((SUM($F39:$AM39)+($C39*$AN39))*$K$2/$C39))","v":""},{"$f":"IF($E39=\"\",\"\",SUM(AL$7:AL$39))","v":""},{"$f":"IF($E39=\"\",\"\",$AN39*100000000+$AP39*10000-$AQ39+$AU39*0.0001)","v":""},{"$f":"IF($E39=\"\",\"\",RANK($AR39,$AR$7:$AR$39)+COUNTIF($AR$7:$AR39,$AR39)-1)","v":""},{"$f":"IF($E39=\"\",\"\",IF($AV38=\"A\",$AV39,IF($AW38=\"B\",$AW39,IF($AX38=\"C\",$AX39,$AY39))))","v":""},"",{"$f":"IF($E39=\"\",\"\",IF(COUNTIF($F38:$AM38,\"A\")=0,\"\",MAX(IF($F38:$AL38=\"A\",$G38:$AM38))))","v":""},{"$f":"IF($E39=\"\",\"\",IF(COUNTIF($F38:$AM38,\"B\")=0,\"\",MAX(IF($F38:$AL38=\"B\",$G38:$AM38))))","v":""},{"$f":"IF($E39=\"\",\"\",IF(COUNTIF($F38:$AM38,\"C\")=0,\"\",MAX(IF($F38:$AL38=\"C\",$G38:$AM38))))","v":""},{"$f":"IF($E39=\"\",\"\",MAX($F38:$AM38))","v":""}]
[null,null,null,null,"※注1）赤組17人まで　※注2）印刷する時はマス目以外の所でクリック（A1）　※注3）負けスコア入力後”w”が自動表示、Ctrl+qは自分相手クリア、Ctrl+f は全てクリア、Ctrl+k は対戦マス目のみクリア"]
[]
[null,null,null,null,null,"記入例",null,"A",180,null,null,"B",180,null,null,null,110,null,null,null,110]
[null,null,null,null,null,null,null,"w",null,null,null,"w",null,null,null,"w",null,null,null,120]

{"sheet":"黒RT","index":7,"n_rows":329,"n_cols":36,"rows_kept":329,"cut":false,"hidden":false,"merged":[[4,3,4,4],[4,5,4,6],[6,3,6,4],[6,5,6,6],[0,27,0,44],[1,3,1,7],[1,27,1,44],[2,3,2,4],[2,5,2,6],[2,27,2,44],[0,2,0,7],[10,34,10,35],[12,3,12,4],[12,5,12,6],[14,3,14,4],[14,5,14,6],[16,3,16,4],[16,5,16,6],[8,3,8,4],[8,5,8,6],[10,3,10,4],[10,5,10,6],[10,28,10,29],[10,31,10,32],[24,3,24,4],[24,5,24,6],[26,3,26,4],[26,5,26,6],[28,3,28,4],[28,5,28,6],[18,3,18,4],[18,5,18,6],[20,3,20,4],[20,5,20,6],[22,3,22,4],[22,5,22,6],[36,3,36,4],[36,5,36,6],[38,3,38,4],[38,5,38,6],[40,3,40,4],[40,5,40,6],[30,3,30,4],[30,5,30,6],[32,3,32,4],[32,5,32,6],[34,3,34,4],[34,5,34,6],[48,3,48,4],[48,5,48,6],[50,3,50,4],[50,5,50,6],[52,3,52,4],[52,5,52,6],[42,3,42,4],[42,5,42,6],[44,3,44,4],[44,5,44,6],[46,3,46,4],[46,5,46,6],[60,3,60,4],[60,5,60,6],[62,3,62,4],[62,5,62,6],[64,3,64,4],[64,5,64,6],[54,3,54,4],[54,5,54,6],[56,3,56,4],[56,5,56,6],[58,3,58,4],[58,5,58,6],[72,3,72,4],[72,5,72,6],[74,3,74,4],[74,5,74,6],[76,3,76,4],[76,5,76,6],[66,3,66,4],[66,5,66,6],[68,3,68,4],[68,5,68,6],[70,3,70,4],[70,5,70,6],[84,3,84,4],[84,5,84,6],[86,3,86,4],[86,5,86,6],[88,3,88,4],[88,5,88,6],[78,3,78,4],[78,5,78,6],[80,3,80,4],[80,5,80,6],[82,3,82,4],[82,5,82,6],[96,3,96,4],[96,5,96,6],[98,3,98,4],[98,5,98,6],[100,3,100,4],[100,5,100,6],[90,3,90,4],[90,5,90,6],[92,3,92,4],[92,5,92,6],[94,3,94,4],[94,5,94,6],[108,3,108,4],[108,5,108,6],[110,3,110,4],[110,5,110,6],[112,3,112,4],[112,5,112,6],[102,3,102,4],[102,5,102,6],[104,3,104,4],[104,5,104,6],[106,3,106,4],[106,5,106,6],[120,3,120,4],[120,5,120,6],[122,3,122,4],[122,5,122,6],[124,3,124,4],[124,5,124,6],[114,3,114,4],[114,5,114,6],[116,3,116,4],[116,5,116,6],[118,3,118,4],[118,5,118,6],[132,3,132,4],[132,5,132,6],[134,3,134,4],[134,5,134,6],[136,3,136,4],[136,5,136,6],[126,3,126,4],[126,5,126,6],[128,3,128,4],[128,5,128,6],[130,3,130,4],[130,5,130,6],[144,3,144,4],[144,5,144,6],[146,3,146,4],[146,5,146,6],[148,3,148,4],[148,5,148,6],[138,3,138,4],[138,5,138,6],[140,3,140,4],[140,5,140,6],[142,3,142,4],[142,5,142,6],[156,3,156,4],[156,5,156,6],[158,3,158,4],[158,5,158,6],[160,3,160,4],[160,5,160,6],[150,3,150,4],[150,5,150,6],[152,3,152,4],[152,5,152,6],[154,3,154,4],[154,5,154,6],[168,3,168,4],[168,5,168,6],[170,3,170,4],[170,5,170,6],[172,3,172,4],[172,5,172,6],[162,3,162,4],[162,5,162,6],[164,3,164,4],[164,5,164,6],[166,3,166,4],[166,5,166,6],[180,3,180,4],[180,5,180,6],[182,3,182,4],[182,5,182,6],[184,3,184,4],[184,5,184,6],[174,3,174,4],[174,5,174,6],[176,3,176,4],[176,5,176,6],[178,3,178,4],[178,5,178,6],[192,3,192,4],[192,5,192,6],[194,3,194,4],[194,5,194,6],[196,3,196,4],[196,5,196,6],[186,3,186,4],[186,5,186,6],[188,3,188,4],[188,5,188,6],[190,3,190,4],[190,5,190,6],[204,3,204,4],[204,5,204,6],[206,3,206,4],[206,5,206,6],[208,3,208,4],[208,5,208,6],[198,3,198,4],[198,5,198,6],[200,3,200,4],[200,5,200,6],[202,3,202,4],[202,5,202,6],[216,3,216,4],[216,5,216,6],[218,3,218,4],[218,5,218,6],[220,3,220,4],[220,5,220,6],[210,3,210,4],[210,5,210,6],[212,3,212,4],[212,5,212,6],[214,3,214,4],[214,5,214,6],[228,3,228,4],[228,5,228,6],[230,3,230,4],[230,5,230,6],[232,3,232,4],[232,5,232,6],[222,3,222,4],[222,5,222,6],[224,3,224,4],[224,5,224,6],[226,3,226,4],[226,5,226,6],[240,3,240,4],[240,5,240,6],[242,3,242,4],[242,5,242,6],[244,3,244,4],[244,5,244,6],[234,3,234,4],[234,5,234,6],[236,3,236,4],[236,5,236,6],[238,3,238,4],[238,5,238,6],[252,3,252,4],[252,5,252,6],[254,3,254,4],[254,5,254,6],[256,3,256,4],[256,5,256,6],[246,3,246,4],[246,5,246,6],[248,3,248,4],[248,5,248,6],[250,3,250,4],[250,5,250,6],[264,3,264,4],[264,5,264,6],[266,3,266,4],[266,5,266,6],[268,3,268,4],[268,5,268,6],[258,3,258,4],[258,5,258,6],[260,3,260,4],[260,5,260,6],[262,3,262,4],[262,5,262,6],[276,3,276,4],[276,5,276,6],[278,3,278,4],[278,5,278,6],[280,3,280,4],[280,5,280,6],[270,3,270,4],[270,5,270,6],[272,3,272,4],[272,5,272,6],[274,3,274,4],[274,5,274,6],[288,3,288,4],[288,5,288,6],[290,3,290,4],[290,5,290,6],[292,3,292,4],[292,5,292,6],[282,3,282,4],[282,5,282,6],[284,3,284,4],[284,5,284,6],[286,3,286,4],[286,5,286,6],[300,3,300,4],[300,5,300,6],[302,3,302,4],[302,5,302,6],[304,3,304,4],[304,5,304,6],[294,3,294,4],[294,5,294,6],[296,3,296,4],[296,5,296,6],[298,3,298,4],[298,5,298,6],[312,3,312,4],[312,5,312,6],[314,3,314,4],[314,5,314,6],[316,3,316,4],[316,5,316,6],[306,3,306,4],[306,5,306,6],[308,3,308,4],[308,5,308,6],[310,3,310,4],[310,5,310,6],[324,3,324,4],[324,5,324,6],[326,3,326,4],[326,5,326,6],[328,3,328,4],[328,5,328,6],[318,3,318,4],[318,5,318,6],[320,3,320,4],[320,5,320,6],[322,3,322,4],[322,5,322,6]]}
[null,null,"　　　　　　　人数、節数により自動でRTを作成→",null,null,null,null,null,null,"人数は：",{"$f":"IF(黒!$E7 =\"\",0,(34 - COUNTIF(黒!$E$6:$E$39,\"\"))/2)","v":8},"人","列数は：",{"$f":"IF($K$1<3,\"\",HLOOKUP($K$1,list!$A$1:$BW$2,2,FALSE))","v":27},"列","(listセルの開始列数)",null,null,null,null,null,null,null,null,null,null,null,"黒の選手を登録すると人数が自動表示されます。（3人～１７人まで対応、人数は入力しないで下さい。）"]
[null,"黒組",null,"←スコアを黒セルに反映",null,null,null,null,null,"何節まで：",99,"節",null,null,null,"赤側の行と列変換",null,null,null,null,null,null,null,null,null,null,null,"表示させる節数を入力。（”９９”と入力すると全節が表示され”０”だと全節クリアされます。）"]
["試合数","節数/No.","名　前","スコア",null,"スコア",null,"名　前","No.",null,null,null,"スコアL行","スコアL列","ABL行","ABL列","HRL行","HRL列","ハンデ左","スコアL行","スコアL列","ABR行","ABR列","HRR行","HRR列","ハンデ右",null,"入力手順　：　RTクリア ＞ 黒で選手を選択 ＞ 何節まで：表示させる節数を入力 ＞　RT作成 ＞ スコア入力 ＞ 黒へ反映"]
[null,null,{"$f":"IF(ISERROR(INDEX(概要設定!$J$2:$K$51,MATCH($C5,概要設定!$J$2:$J$51,0),2)),\"\",INDEX(概要設定!$J$2:$K$51,MATCH($C5,概要設定!$J$2:$J$51,0),2))","v":""},null,null,null,null,{"$f":"IF(ISERROR(INDEX(概要設定!$J$2:$K$51,MATCH($H5,概要設定!$J$2:$J$51,0),2)),\"\",INDEX(概要設定!$J$2:$K$51,MATCH($H5,概要設定!$J$2:$J$51,0),2))","v":""}]
[null,"一節",{"$f":"IF(AND($B5>=1,$B5<=17),INDEX(黒!$B$6:$E$39,MATCH($B5,黒!$B$6:$B$39,0),4),\"\")","v":""},null,null,null,null,{"$f":"IF(AND($I5>=1,$I5<=17),INDEX(黒!$B$6:$E$39,MATCH($I5,黒!$B$6:$B$39,0),4),\"\")","v":""},null,null,"←RT・ラベルを初期化",null,{"$f":"IF($A5=\"\",\"\",$B5+$B5+5)","v":""},{"$f":"IF($A5=\"\",\"\",$I5+$I5+4)","v":""},{"$f":"IF($A5=\"\",\"\",$M5-1)","v":""},{"$f":"IF($A5=\"\",\"\",$N5)","v":""},{"$f":"IF($A5=\"\",\"\",$M5-1)","v":""},{"$f":"IF($A5=\"\",\"\",$N5+1)","v":""},{"$f":"IF(AND($B5>=1,$B5<=17),INDEX(黒!$B$6:$E$39,MATCH($B5,黒!$B$6:$B$39,0),2),\"\")","v":""},{"$f":"IF($A5=\"\",\"\",$I5+$I5+5)","v":""},{"$f":"IF($A5=\"\",\"\",$B5+$B5+4)","v":""},{"$f":"IF($A5=\"\",\"\",$T5-1)","v":""},{"$f":"IF($A5=\"\",\"\",$U5)","v":""},{"$f":"IF($A5=\"\",\"\",$T5-1)","v":""},{"$f":"IF($A5=\"\",\"\",$U5+1)","v":""},{"$f":"IF(AND($I5>=1,$I5<=17),INDEX(黒!$B$6:$E$39,MATCH($I5,黒!$B$6:$B$39,0),2),\"\")","v":""}]
[null,null,{"$f":"IF(ISERROR(INDEX(概要設定!$J$2:$K$51,MATCH($C7,概要設定!$J$2:$J$51,0),2)),\"\",INDEX(概要設定!$J$2:$K$51,MATCH($C7,概要設定!$J$2:$J$51,0),2))","v":"さいとう　だいすけ"},null,null,null,null,{"$f":"IF(ISERROR(INDEX(概要設定!$J$2:$K$51,MATCH($H7,概要設定!$J$2:$J$51,0),2)),\"\",INDEX(概要設定!$J$2:$K$51,MATCH($H7,概要設定!$J$2:$J$51,0),2))","v":"うえだ　しんや"}]
[1,4,{"$f":"IF(AND($B7>=1,$B7<=17),INDEX(黒!$B$6:$E$39,MATCH($B7,黒!$B$6:$B$39,0),4),\"\")","v":"斉藤　大輔"},163,null,"w",null,{"$f":"IF(AND($I7>=1,$I7<=17),INDEX(黒!$B$6:$E$39,MATCH($I7,黒!$B$6:$B$39,0),4),\"\")","v":"植田　慎也"},5,null,null,null,{"$f":"IF($A7=\"\",\"\",$B7+$B7+5)","v":13},{"$f":"IF($A7=\"\",\"\",$I7+$I7+4)","v":14},{"$f":"IF($A7=\"\",\"\",$M7-1)","v":12},{"$f":"IF($A7=\"\",\"\",$N7)","v":14},{"$f":"IF($A7=\"\",\"\",$M7-1)","v":12},{"$f":"IF($A7=\"\",\"\",$N7+1)","v":15},{"$f":"IF(AND($B7>=1,$B7<=17),INDEX(黒!$B$6:$E$39,MATCH($B7,黒!$B$6:$B$39,0),2),\"\")","v":180},{"$f":"IF($A7=\"\",\"\",$I7+$I7+5)","v":15},{"$f":"IF($A7=\"\",\"\",$B7+$B7+4)","v":12},{"$f":"IF($A7=\"\",\"\",$T7-1)","v":14},{"$f":"IF($A7=\"\",\"\",$U7)","v":12},{"$f":"IF($A7=\"\",\"\",$T7-1)","v":14},{"$f":"IF($A7=\"\",\"\",$U7+1)","v":13},{"$f":"IF(AND($I7>=1,$I7<=17),INDEX(黒!$B$6:$E$39,MATCH($I7,黒!$B$6:$B$39,0),2),\"\")","v":180}]
[null,null,{"$f":"IF(ISERROR(INDEX(概要設定!$J$2:$K$51,MATCH($C9,概要設定!$J$2:$J$51,0),2)),\"\",INDEX(概要設定!$J$2:$K$51,MATCH($C9,概要設定!$J$2:$J$51,0),2))","v":"やまだ　こうじ"},null,null,null,null,{"$f":"IF(ISERROR(INDEX(概要設定!$J$2:$K$51,MATCH($H9,概要設定!$J$2:$J$51,0),2)),\"\",INDEX(概要設定!$J$2:$K$51,MATCH($H9,概要設定!$J$2:$J$51,0),2))","v":"わしお　りゅうと"}]
[2,3,{"$f":"IF(AND($B9>=1,$B9<=17),INDEX(黒!$B$6:$E$39,MATCH($B9,黒!$B$6:$B$39,0),4),\"\")","v":"山田　晃司"},"w",null,93,null,{"$f":"IF(AND($I9>=1,$I9<=17),INDEX(黒!$B$6:$E$39,MATCH($I9,黒!$B$6:$B$39,0),4),\"\")","v":"鷲尾　隆杜"},6,null,null,null,{"$f":"IF($A9=\"\",\"\",$B9+$B9+5)","v":11},{"$f":"IF($A9=\"\",\"\",$I9+$I9+4)","v":16},{"$f":"IF($A9=\"\",\"\",$M9-1)","v":10},{"$f":"IF($A9=\"\",\"\",$N9)","v":16},{"$f":"IF($A9=\"\",\"\",$M9-1)","v":10},{"$f":"IF($A9=\"\",\"\",$N9+1)","v":17},{"$f":"IF(AND($B9>=1,$B9<=17),INDEX(黒!$B$6:$E$39,MATCH($B9,黒!$B$6:$B$39,0),2),\"\")","v":180},{"$f":"IF($A9=\"\",\"\",$I9+$I9+5)","v":17},{"$f":"IF($A9=\"\",\"\",$B9+$B9+4)","v":10},{"$f":"IF($A9=\"\",\"\",$T9-1)","v":16},{"$f":"IF($A9=\"\",\"\",$U9)","v":10},{"$f":"IF($A9=\"\",\"\",$T9-1)","v":16},{"$f":"IF($A9=\"\",\"\",$U9+1)","v":11},{"$f":"IF(AND($I9>=1,$I9<=17),INDEX(黒!$B$6:$E$39,MATCH($I9,黒!$B$6:$B$39,0),2),\"\")","v":180}]
[null,null,{"$f":"IF(ISERROR(INDEX(概要設定!$J$2:$K$51,MATCH($C11,概要設定!$J$2:$J$51,0),2)),\"\",INDEX(概要設定!$J$2:$K$51,MATCH($C11,概要設定!$J$2:$J$51,0),2))","v":"さいとう　ゆうじ"},null,null,null,null,{"$f":"IF(ISERROR(INDEX(概要設定!$J$2:$K$51,MATCH($H11,概要設定!$J$2:$J$51,0),2)),\"\",INDEX(概要設定!$J$2:$K$51,MATCH($H11,概要設定!$J$2:$J$51,0),2))","v":"はせがわ　すすむ"},null,null,null,null,null,null,null,null,null,null,null,null,null,null,null,null,null,null,null,"記入例","A",180,null,"B",180,null,null,110]
[3,2,{"$f":"IF(AND($B11>=1,$B11<=17),INDEX(黒!$B$6:$E$39,MATCH($B11,黒!$B$6:$B$39,0),4),\"\")","v":"斉藤　裕児"},"w",null,26,null,{"$f":"IF(AND($I11>=1,$I11<=17),INDEX(黒!$B$6:$E$39,MATCH($I11,黒!$B$6:$B$39,0),4),\"\")","v":"長谷川　進"},7,null,null,null,{"$f":"IF($A11=\"\",\"\",$B11+$B11+5)","v":9},{"$f":"IF($A11=\"\",\"\",$I11+$I11+4)","v":18},{"$f":"IF($A11=\"\",\"\",$M11-1)","v":8},{"$f":"IF($A11=\"\",\"\",$N11)","v":18},{"$f":"IF($A11=\"\",\"\",$M11-1)","v":8},{"$f":"IF($A11=\"\",\"\",$N11+1)","v":19},{"$f":"IF(AND($B11>=1,$B11<=17),INDEX(黒!$B$6:$E$39,MATCH($B11,黒!$B$6:$B$39,0),2),\"\")","v":180},{"$f":"IF($A11=\"\",\"\",$I11+$I11+5)","v":19},{"$f":"IF($A11=\"\",\"\",$B11+$B11+4)","v":8},{"$f":"IF($A11=\"\",\"\",$T11-1)","v":18},{"$f":"IF($A11=\"\",\"\",$U11)","v":8},{"$f":"IF($A11=\"\",\"\",$T11-1)","v":18},{"$f":"IF($A11=\"\",\"\",$U11+1)","v":9},{"$f":"IF(AND($I11>=1,$I11<=17),INDEX(黒!$B$6:$E$39,MATCH($I11,黒!$B$6:$B$39,0),2),\"\")","v":180},null,null,"w",null,null,"w",null,null,125]
[null,null,{"$f":"IF(ISERROR(INDEX(概要設定!$J$2:$K$51,MATCH($C13,概要設定!$J$2:$J$51,0),2)),\"\",INDEX(概要設定!$J$2:$K$51,MATCH($C13,概要設定!$J$2:$J$51,0),2))","v":"しらと　れいにん"},null,null,null,103,{"$f":"IF(ISERROR(INDEX(概要設定!$J$2:$K$51,MATCH($H13,概要設定!$J$2:$J$51,0),2)),\"\",INDEX(概要設定!$J$2:$K$51,MATCH($H13,概要設定!$J$2:$J$51,0),2))","v":"しらと　きょうこ"}]
[4,1,{"$f":"IF(AND($B13>=1,$B13<=17),INDEX(黒!$B$6:$E$39,MATCH($B13,黒!$B$6:$B$39,0),4),\"\")","v":"白戸　玲人"},48,null,"w",null,{"$f":"IF(AND($I13>=1,$I13<=17),INDEX(黒!$B$6:$E$39,MATCH($I13,黒!$B$6:$B$39,0),4),\"\")","v":"白戸　恭子"},8,null,null,null,{"$f":"IF($A13=\"\",\"\",$B13+$B13+5)","v":7},{"$f":"IF($A13=\"\",\"\",$I13+$I13+4)","v":20},{"$f":"IF($A13=\"\",\"\",$M13-1)","v":6},{"$f":"IF($A13=\"\",\"\",$N13)","v":20},{"$f":"IF($A13=\"\",\"\",$M13-1)","v":6},{"$f":"IF($A13=\"\",\"\",$N13+1)","v":21},{"$f":"IF(AND($B13>=1,$B13<=17),INDEX(黒!$B$6:$E$39,MATCH($B13,黒!$B$6:$B$39,0),2),\"\")","v":180},{"$f":"IF($A13=\"\",\"\",$I13+$I13+5)","v":21},{"$f":"IF($A13=\"\",\"\",$B13+$B13+4)","v":6},{"$f":"IF($A13=\"\",\"\",$T13-1)","v":20},{"$f":"IF($A13=\"\",\"\",$U13)","v":6},{"$f":"IF($A13=\"\",\"\",$T13-1)","v":20},{"$f":"IF($A13=\"\",\"\",$U13+1)","v":7},{"$f":"IF(AND($I13>=1,$I13<=17),INDEX(黒!$B$6:$E$39,MATCH($I13,黒!$B$6:$B$39,0),2),\"\")","v":140},null,null,"勝者は\"w\"半角小文字で入力して下さい。"]
[null,null,{"$f":"IF(ISERROR(INDEX(概要設定!$J$2:$K$51,MATCH($C15,概要設定!$J$2:$J$51,0),2)),\"\",INDEX(概要設定!$J$2:$K$51,MATCH($C15,概要設定!$J$2:$J$51,0),2))","v":""},null,null,null,null,{"$f":"IF(ISERROR(INDEX(概要設定!$J$2:$K$51,MATCH($H15,概要設定!$J$2:$J$51,0),2)),\"\",INDEX(概要設定!$J$2:$K$51,MATCH($H15,概要設定!$J$2:$J$51,0),2))","v":""}]
[null,"二節",{"$f":"IF(AND($B15>=1,$B15<=17),INDEX(黒!$B$6:$E$39,MATCH($B15,黒!$B$6:$B$39,0),4),\"\")","v":""},null,null,null,null,{"$f":"IF(AND($I15>=1,$I15<=17),INDEX(黒!$B$6:$E$39,MATCH($I15,黒!$B$6:$B$39,0),4),\"\")","v":""},null,null,null,null,{"$f":"IF($A15=\"\",\"\",$B15+$B15+5)","v":""},{"$f":"IF($A15=\"\",\"\",$I15+$I15+4)","v":""},{"$f":"IF($A15=\"\",\"\",$M15-1)","v":""},{"$f":"IF($A15=\"\",\"\",$N15)","v":""},{"$f":"IF($A15=\"\",\"\",$M15-1)","v":""},{"$f":"IF($A15=\"\",\"\",$N15+1)","v":""},{"$f":"IF(AND($B15>=1,$B15<=17),INDEX(黒!$B$6:$E$39,MATCH($B15,黒!$B$6:$B$39,0),2),\"\")","v":""},{"$f":"IF($A15=\"\",\"\",$I15+$I15+5)","v":""},{"$f":"IF($A15=\"\",\"\",$B15+$B15+4)","v":""},{"$f":"IF($A15=\"\",\"\",$T15-1)","v":""},{"$f":"IF($A15=\"\",\"\",$U15)","v":""},{"$f":"IF($A15=\"\",\"\",$T15-1)","v":""},{"$f":"IF($A15=\"\",\"\",$U15+1)","v":""},{"$f":"IF(AND($I15>=1,$I15<=17),INDEX(黒!$B$6:$E$39,MATCH($I15,黒!$B$6:$B$39,0),2),\"\")","v":""},null,null,"敗者側のスコアを入力すると相手側に”ｗ”が自動表示されます。"]
[null,null,{"$f":"IF(ISERROR(INDEX(概要設定!$J$2:$K$51,MATCH($C17,概要設定!$J$2:$J$51,0),2)),\"\",INDEX(概要設定!$J$2:$K$51,MATCH($C17,概要設定!$J$2:$J$51,0),2))","v":"やまだ　こうじ"},null,null,null,null,{"$f":"IF(ISERROR(INDEX(概要設定!$J$2:$K$51,MATCH($H17,概要設定!$J$2:$J$51,0),2)),\"\",INDEX(概要設定!$J$2:$K$51,MATCH($H17,概要設定!$J$2:$J$51,0),2))","v":"さいとう　だいすけ"}]
[5,3,{"$f":"IF(AND($B17>=1,$B17<=17),INDEX(黒!$B$6:$E$39,MATCH($B17,黒!$B$6:$B$39,0),4),\"\")","v":"山田　晃司"},"w",null,160,null,{"$f":"IF(AND($I17>=1,$I17<=17),INDEX(黒!$B$6:$E$39,MATCH($I17,黒!$B$6:$B$39,0),4),\"\")","v":"斉藤　大輔"},4,null,null,null,{"$f":"IF($A17=\"\",\"\",$B17+$B17+5)","v":11},{"$f":"IF($A17=\"\",\"\",$I17+$I17+4)","v":12},{"$f":"IF($A17=\"\",\"\",$M17-1)","v":10},{"$f":"IF($A17=\"\",\"\",$N17)","v":12},{"$f":"IF($A17=\"\",\"\",$M17-1)","v":10},{"$f":"IF($A17=\"\",\"\",$N17+1)","v":13},{"$f":"IF(AND($B17>=1,$B17<=17),INDEX(黒!$B$6:$E$39,MATCH($B17,黒!$B$6:$B$39,0),2),\"\")","v":180},{"$f":"IF($A17=\"\",\"\",$I17+$I17+5)","v":13},{"$f":"IF($A17=\"\",\"\",$B17+$B17+4)","v":10},{"$f":"IF($A17=\"\",\"\",$T17-1)","v":12},{"$f":"IF($A17=\"\",\"\",$U17)","v":10},{"$f":"IF($A17=\"\",\"\",$T17-1)","v":12},{"$f":"IF($A17=\"\",\"\",$U17+1)","v":11},{"$f":"IF(AND($I17>=1,$I17<=17),INDEX(黒!$B$6:$E$39,MATCH($I17,黒!$B$6:$B$39,0),2),\"\")","v":180}]
[null,null,{"$f":"IF(ISERROR(INDEX(概要設定!$J$2:$K$51,MATCH($C19,概要設定!$J$2:$J$51,0),2)),\"\",INDEX(概要設定!$J$2:$K$51,MATCH($C19,概要設定!$J$2:$J$51,0),2))","v":"さいとう　ゆうじ"},null,null,null,null,{"$f":"IF(ISERROR(INDEX(概要設定!$J$2:$K$51,MATCH($H19,概要設定!$J$2:$J$51,0),2)),\"\",INDEX(概要設定!$J$2:$K$51,MATCH($H19,概要設定!$J$2:$J$51,0),2))","v":"うえだ　しんや"}]
[6,2,{"$f":"IF(AND($B19>=1,$B19<=17),INDEX(黒!$B$6:$E$39,MATCH($B19,黒!$B$6:$B$39,0),4),\"\")","v":"斉藤　裕児"},"w",null,28,null,{"$f":"IF(AND($I19>=1,$I19<=17),INDEX(黒!$B$6:$E$39,MATCH($I19,黒!$B$6:$B$39,0),4),\"\")","v":"植田　慎也"},5,null,null,null,{"$f":"IF($A19=\"\",\"\",$B19+$B19+5)","v":9},{"$f":"IF($A19=\"\",\"\",$I19+$I19+4)","v":14},{"$f":"IF($A19=\"\",\"\",$M19-1)","v":8},{"$f":"IF($A19=\"\",\"\",$N19)","v":14},{"$f":"IF($A19=\"\",\"\",$M19-1)","v":8},{"$f":"IF($A19=\"\",\"\",$N19+1)","v":15},{"$f":"IF(AND($B19>=1,$B19<=17),INDEX(黒!$B$6:$E$39,MATCH($B19,黒!$B$6:$B$39,0),2),\"\")","v":180},{"$f":"IF($A19=\"\",\"\",$I19+$I19+5)","v":15},{"$f":"IF($A19=\"\",\"\",$B19+$B19+4)","v":8},{"$f":"IF($A19=\"\",\"\",$T19-1)","v":14},{"$f":"IF($A19=\"\",\"\",$U19)","v":8},{"$f":"IF($A19=\"\",\"\",$T19-1)","v":14},{"$f":"IF($A19=\"\",\"\",$U19+1)","v":9},{"$f":"IF(AND($I19>=1,$I19<=17),INDEX(黒!$B$6:$E$39,MATCH($I19,黒!$B$6:$B$39,0),2),\"\")","v":180}]
[null,null,{"$f":"IF(ISERROR(INDEX(概要設定!$J$2:$K$51,MATCH($C21,概要設定!$J$2:$J$51,0),2)),\"\",INDEX(概要設定!$J$2:$K$51,MATCH($C21,概要設定!$J$2:$J$51,0),2))","v":"しらと　きょうこ"},null,null,null,null,{"$f":"IF(ISERROR(INDEX(概要設定!$J$2:$K$51,MATCH($H21,概要設定!$J$2:$J$51,0),2)),\"\",INDEX(概要設定!$J$2:$K$51,MATCH($H21,概要設定!$J$2:$J$51,0),2))","v":"わしお　りゅうと"}]
[7,8,{"$f":"IF(AND($B21>=1,$B21<=17),INDEX(黒!$B$6:$E$39,MATCH($B21,黒!$B$6:$B$39,0),4),\"\")","v":"白戸　恭子"},"w",null,32,null,{"$f":"IF(AND($I21>=1,$I21<=17),INDEX(黒!$B$6:$E$39,MATCH($I21,黒!$B$6:$B$39,0),4),\"\")","v":"鷲尾　隆杜"},6,null,null,null,{"$f":"IF($A21=\"\",\"\",$B21+$B21+5)","v":21},{"$f":"IF($A21=\"\",\"\",$I21+$I21+4)","v":16},{"$f":"IF($A21=\"\",\"\",$M21-1)","v":20},{"$f":"IF($A21=\"\",\"\",$N21)","v":16},{"$f":"IF($A21=\"\",\"\",$M21-1)","v":20},{"$f":"IF($A21=\"\",\"\",$N21+1)","v":17},{"$f":"IF(AND($B21>=1,$B21<=17),INDEX(黒!$B$6:$E$39,MATCH($B21,黒!$B$6:$B$39,0),2),\"\")","v":140},{"$f":"IF($A21=\"\",\"\",$I21+$I21+5)","v":17},{"$f":"IF($A21=\"\",\"\",$B21+$B21+4)","v":20},{"$f":"IF($A21=\"\",\"\",$T21-1)","v":16},{"$f":"IF($A21=\"\",\"\",$U21)","v":20},{"$f":"IF($A21=\"\",\"\",$T21-1)","v":16},{"$f":"IF($A21=\"\",\"\",$U21+1)","v":21},{"$f":"IF(AND($I21>=1,$I21<=17),INDEX(黒!$B$6:$E$39,MATCH($I21,黒!$B$6:$B$39,0),2),\"\")","v":180}]
[null,null,{"$f":"IF(ISERROR(INDEX(概要設定!$J$2:$K$51,MATCH($C23,概要設定!$J$2:$J$51,0),2)),\"\",INDEX(概要設定!$J$2:$K$51,MATCH($C23,概要設定!$J$2:$J$51,0),2))","v":"しらと　れいにん"},null,null,null,null,{"$f":"IF(ISERROR(INDEX(概要設定!$J$2:$K$51,MATCH($H23,概要設定!$J$2:$J$51,0),2)),\"\",INDEX(概要設定!$J$2:$K$51,MATCH($H23,概要設定!$J$2:$J$51,0),2))","v":"はせがわ　すすむ"}]
[8,1,{"$f":"IF(AND($B23>=1,$B23<=17),INDEX(黒!$B$6:$E$39,MATCH($B23,黒!$B$6:$B$39,0),4),\"\")","v":"白戸　玲人"},"w",null,38,null,{"$f":"IF(AND($I23>=1,$I23<=17),INDEX(黒!$B$6:$E$39,MATCH($I23,黒!$B$6:$B$39,0),4),\"\")","v":"長谷川　進"},7,null,null,null,{"$f":"IF($A23=\"\",\"\",$B23+$B23+5)","v":7},{"$f":"IF($A23=\"\",\"\",$I23+$I23+4)","v":18},{"$f":"IF($A23=\"\",\"\",$M23-1)","v":6},{"$f":"IF($A23=\"\",\"\",$N23)","v":18},{"$f":"IF($A23=\"\",\"\",$M23-1)","v":6},{"$f":"IF($A23=\"\",\"\",$N23+1)","v":19},{"$f":"IF(AND($B23>=1,$B23<=17),INDEX(黒!$B$6:$E$39,MATCH($B23,黒!$B$6:$B$39,0),2),\"\")","v":180},{"$f":"IF($A23=\"\",\"\",$I23+$I23+5)","v":19},{"$f":"IF($A23=\"\",\"\",$B23+$B23+4)","v":6},{"$f":"IF($A23=\"\",\"\",$T23-1)","v":18},{"$f":"IF($A23=\"\",\"\",$U23)","v":6},{"$f":"IF($A23=\"\",\"\",$T23-1)","v":18},{"$f":"IF($A23=\"\",\"\",$U23+1)","v":7},{"$f":"IF(AND($I23>=1,$I23<=17),INDEX(黒!$B$6:$E$39,MATCH($I23,黒!$B$6:$B$39,0),2),\"\")","v":180}]
[null,null,{"$f":"IF(ISERROR(INDEX(概要設定!$J$2:$K$51,MATCH($C25,概要設定!$J$2:$J$51,0),2)),\"\",INDEX(概要設定!$J$2:$K$51,MATCH($C25,概要設定!$J$2:$J$51,0),2))","v":""},null,null,null,null,{"$f":"IF(ISERROR(INDEX(概要設定!$J$2:$K$51,MATCH($H25,概要設定!$J$2:$J$51,0),2)),\"\",INDEX(概要設定!$J$2:$K$51,MATCH($H25,概要設定!$J$2:$J$51,0),2))","v":""}]
[null,"三節",{"$f":"IF(AND($B25>=1,$B25<=17),INDEX(黒!$B$6:$E$39,MATCH($B25,黒!$B$6:$B$39,0),4),\"\")","v":""},null,null,null,null,{"$f":"IF(AND($I25>=1,$I25<=17),INDEX(黒!$B$6:$E$39,MATCH($I25,黒!$B$6:$B$39,0),4),\"\")","v":""},null,null,null,null,{"$f":"IF($A25=\"\",\"\",$B25+$B25+5)","v":""},{"$f":"IF($A25=\"\",\"\",$I25+$I25+4)","v":""},{"$f":"IF($A25=\"\",\"\",$M25-1)","v":""},{"$f":"IF($A25=\"\",\"\",$N25)","v":""},{"$f":"IF($A25=\"\",\"\",$M25-1)","v":""},{"$f":"IF($A25=\"\",\"\",$N25+1)","v":""},{"$f":"IF(AND($B25>=1,$B25<=17),INDEX(黒!$B$6:$E$39,MATCH($B25,黒!$B$6:$B$39,0),2),\"\")","v":""},{"$f":"IF($A25=\"\",\"\",$I25+$I25+5)","v":""},{"$f":"IF($A25=\"\",\"\",$B25+$B25+4)","v":""},{"$f":"IF($A25=\"\",\"\",$T25-1)","v":""},{"$f":"IF($A25=\"\",\"\",$U25)","v":""},{"$f":"IF($A25=\"\",\"\",$T25-1)","v":""},{"$f":"IF($A25=\"\",\"\",$U25+1)","v":""},{"$f":"IF(AND($I25>=1,$I25<=17),INDEX(黒!$B$6:$E$39,MATCH($I25,黒!$B$6:$B$39,0),2),\"\")","v":""}]
[null,null,{"$f":"IF(ISERROR(INDEX(概要設定!$J$2:$K$51,MATCH($C27,概要設定!$J$2:$J$51,0),2)),\"\",INDEX(概要設定!$J$2:$K$51,MATCH($C27,概要設定!$J$2:$J$51,0),2))","v":"さいとう　ゆうじ"},null,null,null,null,{"$f":"IF(ISERROR(INDEX(概要設定!$J$2:$K$51,MATCH($H27,概要設定!$J$2:$J$51,0),2)),\"\",INDEX(概要設定!$J$2:$K$51,MATCH($H27,概要設定!$J$2:$J$51,0),2))","v":"やまだ　こうじ"}]
[9,2,{"$f":"IF(AND($B27>=1,$B27<=17),INDEX(黒!$B$6:$E$39,MATCH($B27,黒!$B$6:$B$39,0),4),\"\")","v":"斉藤　裕児"},163,null,"w",null,{"$f":"IF(AND($I27>=1,$I27<=17),INDEX(黒!$B$6:$E$39,MATCH($I27,黒!$B$6:$B$39,0),4),\"\")","v":"山田　晃司"},3,null,null,null,{"$f":"IF($A27=\"\",\"\",$B27+$B27+5)","v":9},{"$f":"IF($A27=\"\",\"\",$I27+$I27+4)","v":10},{"$f":"IF($A27=\"\",\"\",$M27-1)","v":8},{"$f":"IF($A27=\"\",\"\",$N27)","v":10},{"$f":"IF($A27=\"\",\"\",$M27-1)","v":8},{"$f":"IF($A27=\"\",\"\",$N27+1)","v":11},{"$f":"IF(AND($B27>=1,$B27<=17),INDEX(黒!$B$6:$E$39,MATCH($B27,黒!$B$6:$B$39,0),2),\"\")","v":180},{"$f":"IF($A27=\"\",\"\",$I27+$I27+5)","v":11},{"$f":"IF($A27=\"\",\"\",$B27+$B27+4)","v":8},{"$f":"IF($A27=\"\",\"\",$T27-1)","v":10},{"$f":"IF($A27=\"\",\"\",$U27)","v":8},{"$f":"IF($A27=\"\",\"\",$T27-1)","v":10},{"$f":"IF($A27=\"\",\"\",$U27+1)","v":9},{"$f":"IF(AND($I27>=1,$I27<=17),INDEX(黒!$B$6:$E$39,MATCH($I27,黒!$B$6:$B$39,0),2),\"\")","v":180}]
[null,null,{"$f":"IF(ISERROR(INDEX(概要設定!$J$2:$K$51,MATCH($C29,概要設定!$J$2:$J$51,0),2)),\"\",INDEX(概要設定!$J$2:$K$51,MATCH($C29,概要設定!$J$2:$J$51,0),2))","v":"しらと　きょうこ"},null,null,null,null,{"$f":"IF(ISERROR(INDEX(概要設定!$J$2:$K$51,MATCH($H29,概要設定!$J$2:$J$51,0),2)),\"\",INDEX(概要設定!$J$2:$K$51,MATCH($H29,概要設定!$J$2:$J$51,0),2))","v":"さいとう　だいすけ"}]
[10,8,{"$f":"IF(AND($B29>=1,$B29<=17),INDEX(黒!$B$6:$E$39,MATCH($B29,黒!$B$6:$B$39,0),4),\"\")","v":"白戸　恭子"},"w",null,104,null,{"$f":"IF(AND($I29>=1,$I29<=17),INDEX(黒!$B$6:$E$39,MATCH($I29,黒!$B$6:$B$39,0),4),\"\")","v":"斉藤　大輔"},4,null,null,null,{"$f":"IF($A29=\"\",\"\",$B29+$B29+5)","v":21},{"$f":"IF($A29=\"\",\"\",$I29+$I29+4)","v":12},{"$f":"IF($A29=\"\",\"\",$M29-1)","v":20},{"$f":"IF($A29=\"\",\"\",$N29)","v":12},{"$f":"IF($A29=\"\",\"\",$M29-1)","v":20},{"$f":"IF($A29=\"\",\"\",$N29+1)","v":13},{"$f":"IF(AND($B29>=1,$B29<=17),INDEX(黒!$B$6:$E$39,MATCH($B29,黒!$B$6:$B$39,0),2),\"\")","v":140},{"$f":"IF($A29=\"\",\"\",$I29+$I29+5)","v":13},{"$f":"IF($A29=\"\",\"\",$B29+$B29+4)","v":20},{"$f":"IF($A29=\"\",\"\",$T29-1)","v":12},{"$f":"IF($A29=\"\",\"\",$U29)","v":20},{"$f":"IF($A29=\"\",\"\",$T29-1)","v":12},{"$f":"IF($A29=\"\",\"\",$U29+1)","v":21},{"$f":"IF(AND($I29>=1,$I29<=17),INDEX(黒!$B$6:$E$39,MATCH($I29,黒!$B$6:$B$39,0),2),\"\")","v":180}]
[null,null,{"$f":"IF(ISERROR(INDEX(概要設定!$J$2:$K$51,MATCH($C31,概要設定!$J$2:$J$51,0),2)),\"\",INDEX(概要設定!$J$2:$K$51,MATCH($C31,概要設定!$J$2:$J$51,0),2))","v":"はせがわ　すすむ"},null,null,null,null,{"$f":"IF(ISERROR(INDEX(概要設定!$J$2:$K$51,MATCH($H31,概要設定!$J$2:$J$51,0),2)),\"\",INDEX(概要設定!$J$2:$K$51,MATCH($H31,概要設定!$J$2:$J$51,0),2))","v":"うえだ　しんや"}]
[11,7,{"$f":"IF(AND($B31>=1,$B31<=17),INDEX(黒!$B$6:$E$39,MATCH($B31,黒!$B$6:$B$39,0),4),\"\")","v":"長谷川　進"},97,null,"w",null,{"$f":"IF(AND($I31>=1,$I31<=17),INDEX(黒!$B$6:$E$39,MATCH($I31,黒!$B$6:$B$39,0),4),\"\")","v":"植田　慎也"},5,null,null,null,{"$f":"IF($A31=\"\",\"\",$B31+$B31+5)","v":19},{"$f":"IF($A31=\"\",\"\",$I31+$I31+4)","v":14},{"$f":"IF($A31=\"\",\"\",$M31-1)","v":18},{"$f":"IF($A31=\"\",\"\",$N31)","v":14},{"$f":"IF($A31=\"\",\"\",$M31-1)","v":18},{"$f":"IF($A31=\"\",\"\",$N31+1)","v":15},{"$f":"IF(AND($B31>=1,$B31<=17),INDEX(黒!$B$6:$E$39,MATCH($B31,黒!$B$6:$B$39,0),2),\"\")","v":180},{"$f":"IF($A31=\"\",\"\",$I31+$I31+5)","v":15},{"$f":"IF($A31=\"\",\"\",$B31+$B31+4)","v":18},{"$f":"IF($A31=\"\",\"\",$T31-1)","v":14},{"$f":"IF($A31=\"\",\"\",$U31)","v":18},{"$f":"IF($A31=\"\",\"\",$T31-1)","v":14},{"$f":"IF($A31=\"\",\"\",$U31+1)","v":19},{"$f":"IF(AND($I31>=1,$I31<=17),INDEX(黒!$B$6:$E$39,MATCH($I31,黒!$B$6:$B$39,0),2),\"\")","v":180}]
[null,null,{"$f":"IF(ISERROR(INDEX(概要設定!$J$2:$K$51,MATCH($C33,概要設定!$J$2:$J$51,0),2)),\"\",INDEX(概要設定!$J$2:$K$51,MATCH($C33,概要設定!$J$2:$J$51,0),2))","v":"しらと　れいにん"},null,null,null,null,{"$f":"IF(ISERROR(INDEX(概要設定!$J$2:$K$51,MATCH($H33,概要設定!$J$2:$J$51,0),2)),\"\",INDEX(概要設定!$J$2:$K$51,MATCH($H33,概要設定!$J$2:$J$51,0),2))","v":"わしお　りゅうと"}]
[12,1,{"$f":"IF(AND($B33>=1,$B33<=17),INDEX(黒!$B$6:$E$39,MATCH($B33,黒!$B$6:$B$39,0),4),\"\")","v":"白戸　玲人"},"w",null,141,null,{"$f":"IF(AND($I33>=1,$I33<=17),INDEX(黒!$B$6:$E$39,MATCH($I33,黒!$B$6:$B$39,0),4),\"\")","v":"鷲尾　隆杜"},6,null,null,null,{"$f":"IF($A33=\"\",\"\",$B33+$B33+5)","v":7},{"$f":"IF($A33=\"\",\"\",$I33+$I33+4)","v":16},{"$f":"IF($A33=\"\",\"\",$M33-1)","v":6},{"$f":"IF($A33=\"\",\"\",$N33)","v":16},{"$f":"IF($A33=\"\",\"\",$M33-1)","v":6},{"$f":"IF($A33=\"\",\"\",$N33+1)","v":17},{"$f":"IF(AND($B33>=1,$B33<=17),INDEX(黒!$B$6:$E$39,MATCH($B33,黒!$B$6:$B$39,0),2),\"\")","v":180},{"$f":"IF($A33=\"\",\"\",$I33+$I33+5)","v":17},{"$f":"IF($A33=\"\",\"\",$B33+$B33+4)","v":6},{"$f":"IF($A33=\"\",\"\",$T33-1)","v":16},{"$f":"IF($A33=\"\",\"\",$U33)","v":6},{"$f":"IF($A33=\"\",\"\",$T33-1)","v":16},{"$f":"IF($A33=\"\",\"\",$U33+1)","v":7},{"$f":"IF(AND($I33>=1,$I33<=17),INDEX(黒!$B$6:$E$39,MATCH($I33,黒!$B$6:$B$39,0),2),\"\")","v":180}]
[null,null,{"$f":"IF(ISERROR(INDEX(概要設定!$J$2:$K$51,MATCH($C35,概要設定!$J$2:$J$51,0),2)),\"\",INDEX(概要設定!$J$2:$K$51,MATCH($C35,概要設定!$J$2:$J$51,0),2))","v":""},null,null,null,null,{"$f":"IF(ISERROR(INDEX(概要設定!$J$2:$K$51,MATCH($H35,概要設定!$J$2:$J$51,0),2)),\"\",INDEX(概要設定!$J$2:$K$51,MATCH($H35,概要設定!$J$2:$J$51,0),2))","v":""}]
[null,"四節",{"$f":"IF(AND($B35>=1,$B35<=17),INDEX(黒!$B$6:$E$39,MATCH($B35,黒!$B$6:$B$39,0),4),\"\")","v":""},null,null,null,null,{"$f":"IF(AND($I35>=1,$I35<=17),INDEX(黒!$B$6:$E$39,MATCH($I35,黒!$B$6:$B$39,0),4),\"\")","v":""},null,null,null,null,{"$f":"IF($A35=\"\",\"\",$B35+$B35+5)","v":""},{"$f":"IF($A35=\"\",\"\",$I35+$I35+4)","v":""},{"$f":"IF($A35=\"\",\"\",$M35-1)","v":""},{"$f":"IF($A35=\"\",\"\",$N35)","v":""},{"$f":"IF($A35=\"\",\"\",$M35-1)","v":""},{"$f":"IF($A35=\"\",\"\",$N35+1)","v":""},{"$f":"IF(AND($B35>=1,$B35<=17),INDEX(黒!$B$6:$E$39,MATCH($B35,黒!$B$6:$B$39,0),2),\"\")","v":""},{"$f":"IF($A35=\"\",\"\",$I35+$I35+5)","v":""},{"$f":"IF($A35=\"\",\"\",$B35+$B35+4)","v":""},{"$f":"IF($A35=\"\",\"\",$T35-1)","v":""},{"$f":"IF($A35=\"\",\"\",$U35)","v":""},{"$f":"IF($A35=\"\",\"\",$T35-1)","v":""},{"$f":"IF($A35=\"\",\"\",$U35+1)","v":""},{"$f":"IF(AND($I35>=1,$I35<=17),INDEX(黒!$B$6:$E$39,MATCH($I35,黒!$B$6:$B$39,0),2),\"\")","v":""}]
[null,null,{"$f":"IF(ISERROR(INDEX(概要設定!$J$2:$K$51,MATCH($C37,概要設定!$J$2:$J$51,0),2)),\"\",INDEX(概要設定!$J$2:$K$51,MATCH($C37,概要設定!$J$2:$J$51,0),2))","v":"しらと　きょうこ"},null,null,null,null,{"$f":"IF(ISERROR(INDEX(概要設定!$J$2:$K$51,MATCH($H37,概要設定!$J$2:$J$51,0),2)),\"\",INDEX(概要設定!$J$2:$K$51,MATCH($H37,概要設定!$J$2:$J$51,0),2))","v":"さいとう　ゆうじ"}]
[13,8,{"$f":"IF(AND($B37>=1,$B37<=17),INDEX(黒!$B$6:$E$39,MATCH($B37,黒!$B$6:$B$39,0),4),\"\")","v":"白戸　恭子"},"w",null,13,null,{"$f":"IF(AND($I37>=1,$I37<=17),INDEX(黒!$B$6:$E$39,MATCH($I37,黒!$B$6:$B$39,0),4),\"\")","v":"斉藤　裕児"},2,null,null,null,{"$f":"IF($A37=\"\",\"\",$B37+$B37+5)","v":21},{"$f":"IF($A37=\"\",\"\",$I37+$I37+4)","v":8},{"$f":"IF($A37=\"\",\"\",$M37-1)","v":20},{"$f":"IF($A37=\"\",\"\",$N37)","v":8},{"$f":"IF($A37=\"\",\"\",$M37-1)","v":20},{"$f":"IF($A37=\"\",\"\",$N37+1)","v":9},{"$f":"IF(AND($B37>=1,$B37<=17),INDEX(黒!$B$6:$E$39,MATCH($B37,黒!$B$6:$B$39,0),2),\"\")","v":140},{"$f":"IF($A37=\"\",\"\",$I37+$I37+5)","v":9},{"$f":"IF($A37=\"\",\"\",$B37+$B37+4)","v":20},{"$f":"IF($A37=\"\",\"\",$T37-1)","v":8},{"$f":"IF($A37=\"\",\"\",$U37)","v":20},{"$f":"IF($A37=\"\",\"\",$T37-1)","v":8},{"$f":"IF($A37=\"\",\"\",$U37+1)","v":21},{"$f":"IF(AND($I37>=1,$I37<=17),INDEX(黒!$B$6:$E$39,MATCH($I37,黒!$B$6:$B$39,0),2),\"\")","v":180}]
[null,null,{"$f":"IF(ISERROR(INDEX(概要設定!$J$2:$K$51,MATCH($C39,概要設定!$J$2:$J$51,0),2)),\"\",INDEX(概要設定!$J$2:$K$51,MATCH($C39,概要設定!$J$2:$J$51,0),2))","v":"はせがわ　すすむ"},null,null,null,null,{"$f":"IF(ISERROR(INDEX(概要設定!$J$2:$K$51,MATCH($H39,概要設定!$J$2:$J$51,0),2)),\"\",INDEX(概要設定!$J$2:$K$51,MATCH($H39,概要設定!$J$2:$J$51,0),2))","v":"やまだ　こうじ"}]
[14,7,{"$f":"IF(AND($B39>=1,$B39<=17),INDEX(黒!$B$6:$E$39,MATCH($B39,黒!$B$6:$B$39,0),4),\"\")","v":"長谷川　進"},163,null,"w",null,{"$f":"IF(AND($I39>=1,$I39<=17),INDEX(黒!$B$6:$E$39,MATCH($I39,黒!$B$6:$B$39,0),4),\"\")","v":"山田　晃司"},3,null,null,null,{"$f":"IF($A39=\"\",\"\",$B39+$B39+5)","v":19},{"$f":"IF($A39=\"\",\"\",$I39+$I39+4)","v":10},{"$f":"IF($A39=\"\",\"\",$M39-1)","v":18},{"$f":"IF($A39=\"\",\"\",$N39)","v":10},{"$f":"IF($A39=\"\",\"\",$M39-1)","v":18},{"$f":"IF($A39=\"\",\"\",$N39+1)","v":11},{"$f":"IF(AND($B39>=1,$B39<=17),INDEX(黒!$B$6:$E$39,MATCH($B39,黒!$B$6:$B$39,0),2),\"\")","v":180},{"$f":"IF($A39=\"\",\"\",$I39+$I39+5)","v":11},{"$f":"IF($A39=\"\",\"\",$B39+$B39+4)","v":18},{"$f":"IF($A39=\"\",\"\",$T39-1)","v":10},{"$f":"IF($A39=\"\",\"\",$U39)","v":18},{"$f":"IF($A39=\"\",\"\",$T39-1)","v":10},{"$f":"IF($A39=\"\",\"\",$U39+1)","v":19},{"$f":"IF(AND($I39>=1,$I39<=17),INDEX(黒!$B$6:$E$39,MATCH($I39,黒!$B$6:$B$39,0),2),\"\")","v":180}]
[null,null,{"$f":"IF(ISERROR(INDEX(概要設定!$J$2:$K$51,MATCH($C41,概要設定!$J$2:$J$51,0),2)),\"\",INDEX(概要設定!$J$2:$K$51,MATCH($C41,概要設定!$J$2:$J$51,0),2))","v":"わしお　りゅうと"},null,null,null,null,{"$f":"IF(ISERROR(INDEX(概要設定!$J$2:$K$51,MATCH($H41,概要設定!$J$2:$J$51,0),2)),\"\",INDEX(概要設定!$J$2:$K$51,MATCH($H41,概要設定!$J$2:$J$51,0),2))","v":"さいとう　だいすけ"}]
[15,6,{"$f":"IF(AND($B41>=1,$B41<=17),INDEX(黒!$B$6:$E$39,MATCH($B41,黒!$B$6:$B$39,0),4),\"\")","v":"鷲尾　隆杜"},"w",null,140,null,{"$f":"IF(AND($I41>=1,$I41<=17),INDEX(黒!$B$6:$E$39,MATCH($I41,黒!$B$6:$B$39,0),4),\"\")","v":"斉藤　大輔"},4,null,null,null,{"$f":"IF($A41=\"\",\"\",$B41+$B41+5)","v":17},{"$f":"IF($A41=\"\",\"\",$I41+$I41+4)","v":12},{"$f":"IF($A41=\"\",\"\",$M41-1)","v":16},{"$f":"IF($A41=\"\",\"\",$N41)","v":12},{"$f":"IF($A41=\"\",\"\",$M41-1)","v":16},{"$f":"IF($A41=\"\",\"\",$N41+1)","v":13},{"$f":"IF(AND($B41>=1,$B41<=17),INDEX(黒!$B$6:$E$39,MATCH($B41,黒!$B$6:$B$39,0),2),\"\")","v":180},{"$f":"IF($A41=\"\",\"\",$I41+$I41+5)","v":13},{"$f":"IF($A41=\"\",\"\",$B41+$B41+4)","v":16},{"$f":"IF($A41=\"\",\"\",$T41-1)","v":12},{"$f":"IF($A41=\"\",\"\",$U41)","v":16},{"$f":"IF($A41=\"\",\"\",$T41-1)","v":12},{"$f":"IF($A41=\"\",\"\",$U41+1)","v":17},{"$f":"IF(AND($I41>=1,$I41<=17),INDEX(黒!$B$6:$E$39,MATCH($I41,黒!$B$6:$B$39,0),2),\"\")","v":180}]
[null,null,{"$f":"IF(ISERROR(INDEX(概要設定!$J$2:$K$51,MATCH($C43,概要設定!$J$2:$J$51,0),2)),\"\",INDEX(概要設定!$J$2:$K$51,MATCH($C43,概要設定!$J$2:$J$51,0),2))","v":"しらと　れいにん"},null,114,null,null,{"$f":"IF(ISERROR(INDEX(概要設定!$J$2:$K$51,MATCH($H43,概要設定!$J$2:$J$51,0),2)),\"\",INDEX(概要設定!$J$2:$K$51,MATCH($H43,概要設定!$J$2:$J$51,0),2))","v":"うえだ　しんや"}]
[16,1,{"$f":"IF(AND($B43>=1,$B43<=17),INDEX(黒!$B$6:$E$39,MATCH($B43,黒!$B$6:$B$39,0),4),\"\")","v":"白戸　玲人"},"w",null,116,null,{"$f":"IF(AND($I43>=1,$I43<=17),INDEX(黒!$B$6:$E$39,MATCH($I43,黒!$B$6:$B$39,0),4),\"\")","v":"植田　慎也"},5,null,null,null,{"$f":"IF($A43=\"\",\"\",$B43+$B43+5)","v":7},{"$f":"IF($A43=\"\",\"\",$I43+$I43+4)","v":14},{"$f":"IF($A43=\"\",\"\",$M43-1)","v":6},{"$f":"IF($A43=\"\",\"\",$N43)","v":14},{"$f":"IF($A43=\"\",\"\",$M43-1)","v":6},{"$f":"IF($A43=\"\",\"\",$N43+1)","v":15},{"$f":"IF(AND($B43>=1,$B43<=17),INDEX(黒!$B$6:$E$39,MATCH($B43,黒!$B$6:$B$39,0),2),\"\")","v":180},{"$f":"IF($A43=\"\",\"\",$I43+$I43+5)","v":15},{"$f":"IF($A43=\"\",\"\",$B43+$B43+4)","v":6},{"$f":"IF($A43=\"\",\"\",$T43-1)","v":14},{"$f":"IF($A43=\"\",\"\",$U43)","v":6},{"$f":"IF($A43=\"\",\"\",$T43-1)","v":14},{"$f":"IF($A43=\"\",\"\",$U43+1)","v":7},{"$f":"IF(AND($I43>=1,$I43<=17),INDEX(黒!$B$6:$E$39,MATCH($I43,黒!$B$6:$B$39,0),2),\"\")","v":180}]
[null,null,{"$f":"IF(ISERROR(INDEX(概要設定!$J$2:$K$51,MATCH($C45,概要設定!$J$2:$J$51,0),2)),\"\",INDEX(概要設定!$J$2:$K$51,MATCH($C45,概要設定!$J$2:$J$51,0),2))","v":""},null,null,null,null,{"$f":"IF(ISERROR(INDEX(概要設定!$J$2:$K$51,MATCH($H45,概要設定!$J$2:$J$51,0),2)),\"\",INDEX(概要設定!$J$2:$K$51,MATCH($H45,概要設定!$J$2:$J$51,0),2))","v":""}]
[null,"五節",{"$f":"IF(AND($B45>=1,$B45<=17),INDEX(黒!$B$6:$E$39,MATCH($B45,黒!$B$6:$B$39,0),4),\"\")","v":""},null,null,null,null,{"$f":"IF(AND($I45>=1,$I45<=17),INDEX(黒!$B$6:$E$39,MATCH($I45,黒!$B$6:$B$39,0),4),\"\")","v":""},null,null,null,null,{"$f":"IF($A45=\"\",\"\",$B45+$B45+5)","v":""},{"$f":"IF($A45=\"\",\"\",$I45+$I45+4)","v":""},{"$f":"IF($A45=\"\",\"\",$M45-1)","v":""},{"$f":"IF($A45=\"\",\"\",$N45)","v":""},{"$f":"IF($A45=\"\",\"\",$M45-1)","v":""},{"$f":"IF($A45=\"\",\"\",$N45+1)","v":""},{"$f":"IF(AND($B45>=1,$B45<=17),INDEX(黒!$B$6:$E$39,MATCH($B45,黒!$B$6:$B$39,0),2),\"\")","v":""},{"$f":"IF($A45=\"\",\"\",$I45+$I45+5)","v":""},{"$f":"IF($A45=\"\",\"\",$B45+$B45+4)","v":""},{"$f":"IF($A45=\"\",\"\",$T45-1)","v":""},{"$f":"IF($A45=\"\",\"\",$U45)","v":""},{"$f":"IF($A45=\"\",\"\",$T45-1)","v":""},{"$f":"IF($A45=\"\",\"\",$U45+1)","v":""},{"$f":"IF(AND($I45>=1,$I45<=17),INDEX(黒!$B$6:$E$39,MATCH($I45,黒!$B$6:$B$39,0),2),\"\")","v":""}]
[null,null,{"$f":"IF(ISERROR(INDEX(概要設定!$J$2:$K$51,MATCH($C47,概要設定!$J$2:$J$51,0),2)),\"\",INDEX(概要設定!$J$2:$K$51,MATCH($C47,概要設定!$J$2:$J$51,0),2))","v":"はせがわ　すすむ"},null,null,null,null,{"$f":"IF(ISERROR(INDEX(概要設定!$J$2:$K$51,MATCH($H47,概要設定!$J$2:$J$51,0),2)),\"\",INDEX(概要設定!$J$2:$K$51,MATCH($H47,概要設定!$J$2:$J$51,0),2))","v":"しらと　きょうこ"}]
[17,7,{"$f":"IF(AND($B47>=1,$B47<=17),INDEX(黒!$B$6:$E$39,MATCH($B47,黒!$B$6:$B$39,0),4),\"\")","v":"長谷川　進"},22,null,"w",null,{"$f":"IF(AND($I47>=1,$I47<=17),INDEX(黒!$B$6:$E$39,MATCH($I47,黒!$B$6:$B$39,0),4),\"\")","v":"白戸　恭子"},8,null,null,null,{"$f":"IF($A47=\"\",\"\",$B47+$B47+5)","v":19},{"$f":"IF($A47=\"\",\"\",$I47+$I47+4)","v":20},{"$f":"IF($A47=\"\",\"\",$M47-1)","v":18},{"$f":"IF($A47=\"\",\"\",$N47)","v":20},{"$f":"IF($A47=\"\",\"\",$M47-1)","v":18},{"$f":"IF($A47=\"\",\"\",$N47+1)","v":21},{"$f":"IF(AND($B47>=1,$B47<=17),INDEX(黒!$B$6:$E$39,MATCH($B47,黒!$B$6:$B$39,0),2),\"\")","v":180},{"$f":"IF($A47=\"\",\"\",$I47+$I47+5)","v":21},{"$f":"IF($A47=\"\",\"\",$B47+$B47+4)","v":18},{"$f":"IF($A47=\"\",\"\",$T47-1)","v":20},{"$f":"IF($A47=\"\",\"\",$U47)","v":18},{"$f":"IF($A47=\"\",\"\",$T47-1)","v":20},{"$f":"IF($A47=\"\",\"\",$U47+1)","v":19},{"$f":"IF(AND($I47>=1,$I47<=17),INDEX(黒!$B$6:$E$39,MATCH($I47,黒!$B$6:$B$39,0),2),\"\")","v":140}]
[null,null,{"$f":"IF(ISERROR(INDEX(概要設定!$J$2:$K$51,MATCH($C49,概要設定!$J$2:$J$51,0),2)),\"\",INDEX(概要設定!$J$2:$K$51,MATCH($C49,概要設定!$J$2:$J$51,0),2))","v":"わしお　りゅうと"},null,null,null,109,{"$f":"IF(ISERROR(INDEX(概要設定!$J$2:$K$51,MATCH($H49,概要設定!$J$2:$J$51,0),2)),\"\",INDEX(概要設定!$J$2:$K$51,MATCH($H49,概要設定!$J$2:$J$51,0),2))","v":"さいとう　ゆうじ"}]
[18,6,{"$f":"IF(AND($B49>=1,$B49<=17),INDEX(黒!$B$6:$E$39,MATCH($B49,黒!$B$6:$B$39,0),4),\"\")","v":"鷲尾　隆杜"},112,null,"w",null,{"$f":"IF(AND($I49>=1,$I49<=17),INDEX(黒!$B$6:$E$39,MATCH($I49,黒!$B$6:$B$39,0),4),\"\")","v":"斉藤　裕児"},2,null,null,null,{"$f":"IF($A49=\"\",\"\",$B49+$B49+5)","v":17},{"$f":"IF($A49=\"\",\"\",$I49+$I49+4)","v":8},{"$f":"IF($A49=\"\",\"\",$M49-1)","v":16},{"$f":"IF($A49=\"\",\"\",$N49)","v":8},{"$f":"IF($A49=\"\",\"\",$M49-1)","v":16},{"$f":"IF($A49=\"\",\"\",$N49+1)","v":9},{"$f":"IF(AND($B49>=1,$B49<=17),INDEX(黒!$B$6:$E$39,MATCH($B49,黒!$B$6:$B$39,0),2),\"\")","v":180},{"$f":"IF($A49=\"\",\"\",$I49+$I49+5)","v":9},{"$f":"IF($A49=\"\",\"\",$B49+$B49+4)","v":16},{"$f":"IF($A49=\"\",\"\",$T49-1)","v":8},{"$f":"IF($A49=\"\",\"\",$U49)","v":16},{"$f":"IF($A49=\"\",\"\",$T49-1)","v":8},{"$f":"IF($A49=\"\",\"\",$U49+1)","v":17},{"$f":"IF(AND($I49>=1,$I49<=17),INDEX(黒!$B$6:$E$39,MATCH($I49,黒!$B$6:$B$39,0),2),\"\")","v":180}]
[null,null,{"$f":"IF(ISERROR(INDEX(概要設定!$J$2:$K$51,MATCH($C51,概要設定!$J$2:$J$51,0),2)),\"\",INDEX(概要設定!$J$2:$K$51,MATCH($C51,概要設定!$J$2:$J$51,0),2))","v":"うえだ　しんや"},null,null,null,151,{"$f":"IF(ISERROR(INDEX(概要設定!$J$2:$K$51,MATCH($H51,概要設定!$J$2:$J$51,0),2)),\"\",INDEX(概要設定!$J$2:$K$51,MATCH($H51,概要設定!$J$2:$J$51,0),2))","v":"やまだ　こうじ"}]
[19,5,{"$f":"IF(AND($B51>=1,$B51<=17),INDEX(黒!$B$6:$E$39,MATCH($B51,黒!$B$6:$B$39,0),4),\"\")","v":"植田　慎也"},"w",null,164,null,{"$f":"IF(AND($I51>=1,$I51<=17),INDEX(黒!$B$6:$E$39,MATCH($I51,黒!$B$6:$B$39,0),4),\"\")","v":"山田　晃司"},3,null,null,null,{"$f":"IF($A51=\"\",\"\",$B51+$B51+5)","v":15},{"$f":"IF($A51=\"\",\"\",$I51+$I51+4)","v":10},{"$f":"IF($A51=\"\",\"\",$M51-1)","v":14},{"$f":"IF($A51=\"\",\"\",$N51)","v":10},{"$f":"IF($A51=\"\",\"\",$M51-1)","v":14},{"$f":"IF($A51=\"\",\"\",$N51+1)","v":11},{"$f":"IF(AND($B51>=1,$B51<=17),INDEX(黒!$B$6:$E$39,MATCH($B51,黒!$B$6:$B$39,0),2),\"\")","v":180},{"$f":"IF($A51=\"\",\"\",$I51+$I51+5)","v":11},{"$f":"IF($A51=\"\",\"\",$B51+$B51+4)","v":14},{"$f":"IF($A51=\"\",\"\",$T51-1)","v":10},{"$f":"IF($A51=\"\",\"\",$U51)","v":14},{"$f":"IF($A51=\"\",\"\",$T51-1)","v":10},{"$f":"IF($A51=\"\",\"\",$U51+1)","v":15},{"$f":"IF(AND($I51>=1,$I51<=17),INDEX(黒!$B$6:$E$39,MATCH($I51,黒!$B$6:$B$39,0),2),\"\")","v":180}]
[null,null,{"$f":"IF(ISERROR(INDEX(概要設定!$J$2:$K$51,MATCH($C53,概要設定!$J$2:$J$51,0),2)),\"\",INDEX(概要設定!$J$2:$K$51,MATCH($C53,概要設定!$J$2:$J$51,0),2))","v":"しらと　れいにん"},null,null,null,null,{"$f":"IF(ISERROR(INDEX(概要設定!$J$2:$K$51,MATCH($H53,概要設定!$J$2:$J$51,0),2)),\"\",INDEX(概要設定!$J$2:$K$51,MATCH($H53,概要設定!$J$2:$J$51,0),2))","v":"さいとう　だいすけ"}]
[20,1,{"$f":"IF(AND($B53>=1,$B53<=17),INDEX(黒!$B$6:$E$39,MATCH($B53,黒!$B$6:$B$39,0),4),\"\")","v":"白戸　玲人"},"w",null,81,null,{"$f":"IF(AND($I53>=1,$I53<=17),INDEX(黒!$B$6:$E$39,MATCH($I53,黒!$B$6:$B$39,0),4),\"\")","v":"斉藤　大輔"},4,null,null,null,{"$f":"IF($A53=\"\",\"\",$B53+$B53+5)","v":7},{"$f":"IF($A53=\"\",\"\",$I53+$I53+4)","v":12},{"$f":"IF($A53=\"\",\"\",$M53-1)","v":6},{"$f":"IF($A53=\"\",\"\",$N53)","v":12},{"$f":"IF($A53=\"\",\"\",$M53-1)","v":6},{"$f":"IF($A53=\"\",\"\",$N53+1)","v":13},{"$f":"IF(AND($B53>=1,$B53<=17),INDEX(黒!$B$6:$E$39,MATCH($B53,黒!$B$6:$B$39,0),2),\"\")","v":180},{"$f":"IF($A53=\"\",\"\",$I53+$I53+5)","v":13},{"$f":"IF($A53=\"\",\"\",$B53+$B53+4)","v":6},{"$f":"IF($A53=\"\",\"\",$T53-1)","v":12},{"$f":"IF($A53=\"\",\"\",$U53)","v":6},{"$f":"IF($A53=\"\",\"\",$T53-1)","v":12},{"$f":"IF($A53=\"\",\"\",$U53+1)","v":7},{"$f":"IF(AND($I53>=1,$I53<=17),INDEX(黒!$B$6:$E$39,MATCH($I53,黒!$B$6:$B$39,0),2),\"\")","v":180}]
[null,null,{"$f":"IF(ISERROR(INDEX(概要設定!$J$2:$K$51,MATCH($C55,概要設定!$J$2:$J$51,0),2)),\"\",INDEX(概要設定!$J$2:$K$51,MATCH($C55,概要設定!$J$2:$J$51,0),2))","v":""},null,null,null,null,{"$f":"IF(ISERROR(INDEX(概要設定!$J$2:$K$51,MATCH($H55,概要設定!$J$2:$J$51,0),2)),\"\",INDEX(概要設定!$J$2:$K$51,MATCH($H55,概要設定!$J$2:$J$51,0),2))","v":""}]
[null,"六節",{"$f":"IF(AND($B55>=1,$B55<=17),INDEX(黒!$B$6:$E$39,MATCH($B55,黒!$B$6:$B$39,0),4),\"\")","v":""},null,null,null,null,{"$f":"IF(AND($I55>=1,$I55<=17),INDEX(黒!$B$6:$E$39,MATCH($I55,黒!$B$6:$B$39,0),4),\"\")","v":""},null,null,null,null,{"$f":"IF($A55=\"\",\"\",$B55+$B55+5)","v":""},{"$f":"IF($A55=\"\",\"\",$I55+$I55+4)","v":""},{"$f":"IF($A55=\"\",\"\",$M55-1)","v":""},{"$f":"IF($A55=\"\",\"\",$N55)","v":""},{"$f":"IF($A55=\"\",\"\",$M55-1)","v":""},{"$f":"IF($A55=\"\",\"\",$N55+1)","v":""},{"$f":"IF(AND($B55>=1,$B55<=17),INDEX(黒!$B$6:$E$39,MATCH($B55,黒!$B$6:$B$39,0),2),\"\")","v":""},{"$f":"IF($A55=\"\",\"\",$I55+$I55+5)","v":""},{"$f":"IF($A55=\"\",\"\",$B55+$B55+4)","v":""},{"$f":"IF($A55=\"\",\"\",$T55-1)","v":""},{"$f":"IF($A55=\"\",\"\",$U55)","v":""},{"$f":"IF($A55=\"\",\"\",$T55-1)","v":""},{"$f":"IF($A55=\"\",\"\",$U55+1)","v":""},{"$f":"IF(AND($I55>=1,$I55<=17),INDEX(黒!$B$6:$E$39,MATCH($I55,黒!$B$6:$B$39,0),2),\"\")","v":""}]
[null,null,{"$f":"IF(ISERROR(INDEX(概要設定!$J$2:$K$51,MATCH($C57,概要設定!$J$2:$J$51,0),2)),\"\",INDEX(概要設定!$J$2:$K$51,MATCH($C57,概要設定!$J$2:$J$51,0),2))","v":"わしお　りゅうと"},null,null,null,null,{"$f":"IF(ISERROR(INDEX(概要設定!$J$2:$K$51,MATCH($H57,概要設定!$J$2:$J$51,0),2)),\"\",INDEX(概要設定!$J$2:$K$51,MATCH($H57,概要設定!$J$2:$J$51,0),2))","v":"はせがわ　すすむ"}]
[21,6,{"$f":"IF(AND($B57>=1,$B57<=17),INDEX(黒!$B$6:$E$39,MATCH($B57,黒!$B$6:$B$39,0),4),\"\")","v":"鷲尾　隆杜"},67,null,"w",null,{"$f":"IF(AND($I57>=1,$I57<=17),INDEX(黒!$B$6:$E$39,MATCH($I57,黒!$B$6:$B$39,0),4),\"\")","v":"長谷川　進"},7,null,null,null,{"$f":"IF($A57=\"\",\"\",$B57+$B57+5)","v":17},{"$f":"IF($A57=\"\",\"\",$I57+$I57+4)","v":18},{"$f":"IF($A57=\"\",\"\",$M57-1)","v":16},{"$f":"IF($A57=\"\",\"\",$N57)","v":18},{"$f":"IF($A57=\"\",\"\",$M57-1)","v":16},{"$f":"IF($A57=\"\",\"\",$N57+1)","v":19},{"$f":"IF(AND($B57>=1,$B57<=17),INDEX(黒!$B$6:$E$39,MATCH($B57,黒!$B$6:$B$39,0),2),\"\")","v":180},{"$f":"IF($A57=\"\",\"\",$I57+$I57+5)","v":19},{"$f":"IF($A57=\"\",\"\",$B57+$B57+4)","v":16},{"$f":"IF($A57=\"\",\"\",$T57-1)","v":18},{"$f":"IF($A57=\"\",\"\",$U57)","v":16},{"$f":"IF($A57=\"\",\"\",$T57-1)","v":18},{"$f":"IF($A57=\"\",\"\",$U57+1)","v":17},{"$f":"IF(AND($I57>=1,$I57<=17),INDEX(黒!$B$6:$E$39,MATCH($I57,黒!$B$6:$B$39,0),2),\"\")","v":180}]
[null,null,{"$f":"IF(ISERROR(INDEX(概要設定!$J$2:$K$51,MATCH($C59,概要設定!$J$2:$J$51,0),2)),\"\",INDEX(概要設定!$J$2:$K$51,MATCH($C59,概要設定!$J$2:$J$51,0),2))","v":"うえだ　しんや"},null,null,null,null,{"$f":"IF(ISERROR(INDEX(概要設定!$J$2:$K$51,MATCH($H59,概要設定!$J$2:$J$51,0),2)),\"\",INDEX(概要設定!$J$2:$K$51,MATCH($H59,概要設定!$J$2:$J$51,0),2))","v":"しらと　きょうこ"}]
[22,5,{"$f":"IF(AND($B59>=1,$B59<=17),INDEX(黒!$B$6:$E$39,MATCH($B59,黒!$B$6:$B$39,0),4),\"\")","v":"植田　慎也"},105,null,"w",null,{"$f":"IF(AND($I59>=1,$I59<=17),INDEX(黒!$B$6:$E$39,MATCH($I59,黒!$B$6:$B$39,0),4),\"\")","v":"白戸　恭子"},8,null,null,null,{"$f":"IF($A59=\"\",\"\",$B59+$B59+5)","v":15},{"$f":"IF($A59=\"\",\"\",$I59+$I59+4)","v":20},{"$f":"IF($A59=\"\",\"\",$M59-1)","v":14},{"$f":"IF($A59=\"\",\"\",$N59)","v":20},{"$f":"IF($A59=\"\",\"\",$M59-1)","v":14},{"$f":"IF($A59=\"\",\"\",$N59+1)","v":21},{"$f":"IF(AND($B59>=1,$B59<=17),INDEX(黒!$B$6:$E$39,MATCH($B59,黒!$B$6:$B$39,0),2),\"\")","v":180},{"$f":"IF($A59=\"\",\"\",$I59+$I59+5)","v":21},{"$f":"IF($A59=\"\",\"\",$B59+$B59+4)","v":14},{"$f":"IF($A59=\"\",\"\",$T59-1)","v":20},{"$f":"IF($A59=\"\",\"\",$U59)","v":14},{"$f":"IF($A59=\"\",\"\",$T59-1)","v":20},{"$f":"IF($A59=\"\",\"\",$U59+1)","v":15},{"$f":"IF(AND($I59>=1,$I59<=17),INDEX(黒!$B$6:$E$39,MATCH($I59,黒!$B$6:$B$39,0),2),\"\")","v":140}]
[null,null,{"$f":"IF(ISERROR(INDEX(概要設定!$J$2:$K$51,MATCH($C61,概要設定!$J$2:$J$51,0),2)),\"\",INDEX(概要設定!$J$2:$K$51,MATCH($C61,概要設定!$J$2:$J$51,0),2))","v":"さいとう　だいすけ"},null,null,null,null,{"$f":"IF(ISERROR(INDEX(概要設定!$J$2:$K$51,MATCH($H61,概要設定!$J$2:$J$51,0),2)),\"\",INDEX(概要設定!$J$2:$K$51,MATCH($H61,概要設定!$J$2:$J$51,0),2))","v":"さいとう　ゆうじ"}]
[23,4,{"$f":"IF(AND($B61>=1,$B61<=17),INDEX(黒!$B$6:$E$39,MATCH($B61,黒!$B$6:$B$39,0),4),\"\")","v":"斉藤　大輔"},"w",null,101,null,{"$f":"IF(AND($I61>=1,$I61<=17),INDEX(黒!$B$6:$E$39,MATCH($I61,黒!$B$6:$B$39,0),4),\"\")","v":"斉藤　裕児"},2,null,null,null,{"$f":"IF($A61=\"\",\"\",$B61+$B61+5)","v":13},{"$f":"IF($A61=\"\",\"\",$I61+$I61+4)","v":8},{"$f":"IF($A61=\"\",\"\",$M61-1)","v":12},{"$f":"IF($A61=\"\",\"\",$N61)","v":8},{"$f":"IF($A61=\"\",\"\",$M61-1)","v":12},{"$f":"IF($A61=\"\",\"\",$N61+1)","v":9},{"$f":"IF(AND($B61>=1,$B61<=17),INDEX(黒!$B$6:$E$39,MATCH($B61,黒!$B$6:$B$39,0),2),\"\")","v":180},{"$f":"IF($A61=\"\",\"\",$I61+$I61+5)","v":9},{"$f":"IF($A61=\"\",\"\",$B61+$B61+4)","v":12},{"$f":"IF($A61=\"\",\"\",$T61-1)","v":8},{"$f":"IF($A61=\"\",\"\",$U61)","v":12},{"$f":"IF($A61=\"\",\"\",$T61-1)","v":8},{"$f":"IF($A61=\"\",\"\",$U61+1)","v":13},{"$f":"IF(AND($I61>=1,$I61<=17),INDEX(黒!$B$6:$E$39,MATCH($I61,黒!$B$6:$B$39,0),2),\"\")","v":180}]
[null,null,{"$f":"IF(ISERROR(INDEX(概要設定!$J$2:$K$51,MATCH($C63,概要設定!$J$2:$J$51,0),2)),\"\",INDEX(概要設定!$J$2:$K$51,MATCH($C63,概要設定!$J$2:$J$51,0),2))","v":"しらと　れいにん"},null,null,null,null,{"$f":"IF(ISERROR(INDEX(概要設定!$J$2:$K$51,MATCH($H63,概要設定!$J$2:$J$51,0),2)),\"\",INDEX(概要設定!$J$2:$K$51,MATCH($H63,概要設定!$J$2:$J$51,0),2))","v":"やまだ　こうじ"}]
[24,1,{"$f":"IF(AND($B63>=1,$B63<=17),INDEX(黒!$B$6:$E$39,MATCH($B63,黒!$B$6:$B$39,0),4),\"\")","v":"白戸　玲人"},92,null,"w",null,{"$f":"IF(AND($I63>=1,$I63<=17),INDEX(黒!$B$6:$E$39,MATCH($I63,黒!$B$6:$B$39,0),4),\"\")","v":"山田　晃司"},3,null,null,null,{"$f":"IF($A63=\"\",\"\",$B63+$B63+5)","v":7},{"$f":"IF($A63=\"\",\"\",$I63+$I63+4)","v":10},{"$f":"IF($A63=\"\",\"\",$M63-1)","v":6},{"$f":"IF($A63=\"\",\"\",$N63)","v":10},{"$f":"IF($A63=\"\",\"\",$M63-1)","v":6},{"$f":"IF($A63=\"\",\"\",$N63+1)","v":11},{"$f":"IF(AND($B63>=1,$B63<=17),INDEX(黒!$B$6:$E$39,MATCH($B63,黒!$B$6:$B$39,0),2),\"\")","v":180},{"$f":"IF($A63=\"\",\"\",$I63+$I63+5)","v":11},{"$f":"IF($A63=\"\",\"\",$B63+$B63+4)","v":6},{"$f":"IF($A63=\"\",\"\",$T63-1)","v":10},{"$f":"IF($A63=\"\",\"\",$U63)","v":6},{"$f":"IF($A63=\"\",\"\",$T63-1)","v":10},{"$f":"IF($A63=\"\",\"\",$U63+1)","v":7},{"$f":"IF(AND($I63>=1,$I63<=17),INDEX(黒!$B$6:$E$39,MATCH($I63,黒!$B$6:$B$39,0),2),\"\")","v":180}]
[null,null,{"$f":"IF(ISERROR(INDEX(概要設定!$J$2:$K$51,MATCH($C65,概要設定!$J$2:$J$51,0),2)),\"\",INDEX(概要設定!$J$2:$K$51,MATCH($C65,概要設定!$J$2:$J$51,0),2))","v":""},null,null,null,null,{"$f":"IF(ISERROR(INDEX(概要設定!$J$2:$K$51,MATCH($H65,概要設定!$J$2:$J$51,0),2)),\"\",INDEX(概要設定!$J$2:$K$51,MATCH($H65,概要設定!$J$2:$J$51,0),2))","v":""}]
[null,"七節",{"$f":"IF(AND($B65>=1,$B65<=17),INDEX(黒!$B$6:$E$39,MATCH($B65,黒!$B$6:$B$39,0),4),\"\")","v":""},null,null,null,null,{"$f":"IF(AND($I65>=1,$I65<=17),INDEX(黒!$B$6:$E$39,MATCH($I65,黒!$B$6:$B$39,0),4),\"\")","v":""},null,null,null,null,{"$f":"IF($A65=\"\",\"\",$B65+$B65+5)","v":""},{"$f":"IF($A65=\"\",\"\",$I65+$I65+4)","v":""},{"$f":"IF($A65=\"\",\"\",$M65-1)","v":""},{"$f":"IF($A65=\"\",\"\",$N65)","v":""},{"$f":"IF($A65=\"\",\"\",$M65-1)","v":""},{"$f":"IF($A65=\"\",\"\",$N65+1)","v":""},{"$f":"IF(AND($B65>=1,$B65<=17),INDEX(黒!$B$6:$E$39,MATCH($B65,黒!$B$6:$B$39,0),2),\"\")","v":""},{"$f":"IF($A65=\"\",\"\",$I65+$I65+5)","v":""},{"$f":"IF($A65=\"\",\"\",$B65+$B65+4)","v":""},{"$f":"IF($A65=\"\",\"\",$T65-1)","v":""},{"$f":"IF($A65=\"\",\"\",$U65)","v":""},{"$f":"IF($A65=\"\",\"\",$T65-1)","v":""},{"$f":"IF($A65=\"\",\"\",$U65+1)","v":""},{"$f":"IF(AND($I65>=1,$I65<=17),INDEX(黒!$B$6:$E$39,MATCH($I65,黒!$B$6:$B$39,0),2),\"\")","v":""}]
[null,null,{"$f":"IF(ISERROR(INDEX(概要設定!$J$2:$K$51,MATCH($C67,概要設定!$J$2:$J$51,0),2)),\"\",INDEX(概要設定!$J$2:$K$51,MATCH($C67,概要設定!$J$2:$J$51,0),2))","v":"うえだ　しんや"},null,null,null,null,{"$f":"IF(ISERROR(INDEX(概要設定!$J$2:$K$51,MATCH($H67,概要設定!$J$2:$J$51,0),2)),\"\",INDEX(概要設定!$J$2:$K$51,MATCH($H67,概要設定!$J$2:$J$51,0),2))","v":"わしお　りゅうと"}]
[25,5,{"$f":"IF(AND($B67>=1,$B67<=17),INDEX(黒!$B$6:$E$39,MATCH($B67,黒!$B$6:$B$39,0),4),\"\")","v":"植田　慎也"},null,null,null,null,{"$f":"IF(AND($I67>=1,$I67<=17),INDEX(黒!$B$6:$E$39,MATCH($I67,黒!$B$6:$B$39,0),4),\"\")","v":"鷲尾　隆杜"},6,null,null,null,{"$f":"IF($A67=\"\",\"\",$B67+$B67+5)","v":15},{"$f":"IF($A67=\"\",\"\",$I67+$I67+4)","v":16},{"$f":"IF($A67=\"\",\"\",$M67-1)","v":14},{"$f":"IF($A67=\"\",\"\",$N67)","v":16},{"$f":"IF($A67=\"\",\"\",$M67-1)","v":14},{"$f":"IF($A67=\"\",\"\",$N67+1)","v":17},{"$f":"IF(AND($B67>=1,$B67<=17),INDEX(黒!$B$6:$E$39,MATCH($B67,黒!$B$6:$B$39,0),2),\"\")","v":180},{"$f":"IF($A67=\"\",\"\",$I67+$I67+5)","v":17},{"$f":"IF($A67=\"\",\"\",$B67+$B67+4)","v":14},{"$f":"IF($A67=\"\",\"\",$T67-1)","v":16},{"$f":"IF($A67=\"\",\"\",$U67)","v":14},{"$f":"IF($A67=\"\",\"\",$T67-1)","v":16},{"$f":"IF($A67=\"\",\"\",$U67+1)","v":15},{"$f":"IF(AND($I67>=1,$I67<=17),INDEX(黒!$B$6:$E$39,MATCH($I67,黒!$B$6:$B$39,0),2),\"\")","v":180}]
[null,null,{"$f":"IF(ISERROR(INDEX(概要設定!$J$2:$K$51,MATCH($C69,概要設定!$J$2:$J$51,0),2)),\"\",INDEX(概要設定!$J$2:$K$51,MATCH($C69,概要設定!$J$2:$J$51,0),2))","v":"さいとう　だいすけ"},null,null,null,null,{"$f":"IF(ISERROR(INDEX(概要設定!$J$2:$K$51,MATCH($H69,概要設定!$J$2:$J$51,0),2)),\"\",INDEX(概要設定!$J$2:$K$51,MATCH($H69,概要設定!$J$2:$J$51,0),2))","v":"はせがわ　すすむ"}]
[26,4,{"$f":"IF(AND($B69>=1,$B69<=17),INDEX(黒!$B$6:$E$39,MATCH($B69,黒!$B$6:$B$39,0),4),\"\")","v":"斉藤　大輔"},null,null,null,null,{"$f":"IF(AND($I69>=1,$I69<=17),INDEX(黒!$B$6:$E$39,MATCH($I69,黒!$B$6:$B$39,0),4),\"\")","v":"長谷川　進"},7,null,null,null,{"$f":"IF($A69=\"\",\"\",$B69+$B69+5)","v":13},{"$f":"IF($A69=\"\",\"\",$I69+$I69+4)","v":18},{"$f":"IF($A69=\"\",\"\",$M69-1)","v":12},{"$f":"IF($A69=\"\",\"\",$N69)","v":18},{"$f":"IF($A69=\"\",\"\",$M69-1)","v":12},{"$f":"IF($A69=\"\",\"\",$N69+1)","v":19},{"$f":"IF(AND($B69>=1,$B69<=17),INDEX(黒!$B$6:$E$39,MATCH($B69,黒!$B$6:$B$39,0),2),\"\")","v":180},{"$f":"IF($A69=\"\",\"\",$I69+$I69+5)","v":19},{"$f":"IF($A69=\"\",\"\",$B69+$B69+4)","v":12},{"$f":"IF($A69=\"\",\"\",$T69-1)","v":18},{"$f":"IF($A69=\"\",\"\",$U69)","v":12},{"$f":"IF($A69=\"\",\"\",$T69-1)","v":18},{"$f":"IF($A69=\"\",\"\",$U69+1)","v":13},{"$f":"IF(AND($I69>=1,$I69<=17),INDEX(黒!$B$6:$E$39,MATCH($I69,黒!$B$6:$B$39,0),2),\"\")","v":180}]
[null,null,{"$f":"IF(ISERROR(INDEX(概要設定!$J$2:$K$51,MATCH($C71,概要設定!$J$2:$J$51,0),2)),\"\",INDEX(概要設定!$J$2:$K$51,MATCH($C71,概要設定!$J$2:$J$51,0),2))","v":"やまだ　こうじ"},null,null,null,null,{"$f":"IF(ISERROR(INDEX(概要設定!$J$2:$K$51,MATCH($H71,概要設定!$J$2:$J$51,0),2)),\"\",INDEX(概要設定!$J$2:$K$51,MATCH($H71,概要設定!$J$2:$J$51,0),2))","v":"しらと　きょうこ"}]
[27,3,{"$f":"IF(AND($B71>=1,$B71<=17),INDEX(黒!$B$6:$E$39,MATCH($B71,黒!$B$6:$B$39,0),4),\"\")","v":"山田　晃司"},null,null,null,null,{"$f":"IF(AND($I71>=1,$I71<=17),INDEX(黒!$B$6:$E$39,MATCH($I71,黒!$B$6:$B$39,0),4),\"\")","v":"白戸　恭子"},8,null,null,null,{"$f":"IF($A71=\"\",\"\",$B71+$B71+5)","v":11},{"$f":"IF($A71=\"\",\"\",$I71+$I71+4)","v":20},{"$f":"IF($A71=\"\",\"\",$M71-1)","v":10},{"$f":"IF($A71=\"\",\"\",$N71)","v":20},{"$f":"IF($A71=\"\",\"\",$M71-1)","v":10},{"$f":"IF($A71=\"\",\"\",$N71+1)","v":21},{"$f":"IF(AND($B71>=1,$B71<=17),INDEX(黒!$B$6:$E$39,MATCH($B71,黒!$B$6:$B$39,0),2),\"\")","v":180},{"$f":"IF($A71=\"\",\"\",$I71+$I71+5)","v":21},{"$f":"IF($A71=\"\",\"\",$B71+$B71+4)","v":10},{"$f":"IF($A71=\"\",\"\",$T71-1)","v":20},{"$f":"IF($A71=\"\",\"\",$U71)","v":10},{"$f":"IF($A71=\"\",\"\",$T71-1)","v":20},{"$f":"IF($A71=\"\",\"\",$U71+1)","v":11},{"$f":"IF(AND($I71>=1,$I71<=17),INDEX(黒!$B$6:$E$39,MATCH($I71,黒!$B$6:$B$39,0),2),\"\")","v":140}]
[null,null,{"$f":"IF(ISERROR(INDEX(概要設定!$J$2:$K$51,MATCH($C73,概要設定!$J$2:$J$51,0),2)),\"\",INDEX(概要設定!$J$2:$K$51,MATCH($C73,概要設定!$J$2:$J$51,0),2))","v":"しらと　れいにん"},null,null,null,null,{"$f":"IF(ISERROR(INDEX(概要設定!$J$2:$K$51,MATCH($H73,概要設定!$J$2:$J$51,0),2)),\"\",INDEX(概要設定!$J$2:$K$51,MATCH($H73,概要設定!$J$2:$J$51,0),2))","v":"さいとう　ゆうじ"}]
[28,1,{"$f":"IF(AND($B73>=1,$B73<=17),INDEX(黒!$B$6:$E$39,MATCH($B73,黒!$B$6:$B$39,0),4),\"\")","v":"白戸　玲人"},null,null,null,null,{"$f":"IF(AND($I73>=1,$I73<=17),INDEX(黒!$B$6:$E$39,MATCH($I73,黒!$B$6:$B$39,0),4),\"\")","v":"斉藤　裕児"},2,null,null,null,{"$f":"IF($A73=\"\",\"\",$B73+$B73+5)","v":7},{"$f":"IF($A73=\"\",\"\",$I73+$I73+4)","v":8},{"$f":"IF($A73=\"\",\"\",$M73-1)","v":6},{"$f":"IF($A73=\"\",\"\",$N73)","v":8},{"$f":"IF($A73=\"\",\"\",$M73-1)","v":6},{"$f":"IF($A73=\"\",\"\",$N73+1)","v":9},{"$f":"IF(AND($B73>=1,$B73<=17),INDEX(黒!$B$6:$E$39,MATCH($B73,黒!$B$6:$B$39,0),2),\"\")","v":180},{"$f":"IF($A73=\"\",\"\",$I73+$I73+5)","v":9},{"$f":"IF($A73=\"\",\"\",$B73+$B73+4)","v":6},{"$f":"IF($A73=\"\",\"\",$T73-1)","v":8},{"$f":"IF($A73=\"\",\"\",$U73)","v":6},{"$f":"IF($A73=\"\",\"\",$T73-1)","v":8},{"$f":"IF($A73=\"\",\"\",$U73+1)","v":7},{"$f":"IF(AND($I73>=1,$I73<=17),INDEX(黒!$B$6:$E$39,MATCH($I73,黒!$B$6:$B$39,0),2),\"\")","v":180}]
[null,null,{"$f":"IF(ISERROR(INDEX(概要設定!$J$2:$K$51,MATCH($C75,概要設定!$J$2:$J$51,0),2)),\"\",INDEX(概要設定!$J$2:$K$51,MATCH($C75,概要設定!$J$2:$J$51,0),2))","v":""},null,null,null,null,{"$f":"IF(ISERROR(INDEX(概要設定!$J$2:$K$51,MATCH($H75,概要設定!$J$2:$J$51,0),2)),\"\",INDEX(概要設定!$J$2:$K$51,MATCH($H75,概要設定!$J$2:$J$51,0),2))","v":""}]
[null,null,{"$f":"IF(AND($B75>=1,$B75<=17),INDEX(黒!$B$6:$E$39,MATCH($B75,黒!$B$6:$B$39,0),4),\"\")","v":""},null,null,null,null,{"$f":"IF(AND($I75>=1,$I75<=17),INDEX(黒!$B$6:$E$39,MATCH($I75,黒!$B$6:$B$39,0),4),\"\")","v":""},null,null,null,null,{"$f":"IF($A75=\"\",\"\",$B75+$B75+5)","v":""},{"$f":"IF($A75=\"\",\"\",$I75+$I75+4)","v":""},"","","","",{"$f":"IF(AND($B75>=1,$B75<=17),INDEX(黒!$B$6:$E$39,MATCH($B75,黒!$B$6:$B$39,0),2),\"\")","v":""},{"$f":"IF($A75=\"\",\"\",$I75+$I75+5)","v":""},{"$f":"IF($A75=\"\",\"\",$B75+$B75+4)","v":""},"","","","",{"$f":"IF(AND($I75>=1,$I75<=17),INDEX(黒!$B$6:$E$39,MATCH($I75,黒!$B$6:$B$39,0),2),\"\")","v":""}]
[null,null,{"$f":"IF(ISERROR(INDEX(概要設定!$J$2:$K$51,MATCH($C77,概要設定!$J$2:$J$51,0),2)),\"\",INDEX(概要設定!$J$2:$K$51,MATCH($C77,概要設定!$J$2:$J$51,0),2))","v":""},null,null,null,null,{"$f":"IF(ISERROR(INDEX(概要設定!$J$2:$K$51,MATCH($H77,概要設定!$J$2:$J$51,0),2)),\"\",INDEX(概要設定!$J$2:$K$51,MATCH($H77,概要設定!$J$2:$J$51,0),2))","v":""}]
[null,null,{"$f":"IF(AND($B77>=1,$B77<=17),INDEX(黒!$B$6:$E$39,MATCH($B77,黒!$B$6:$B$39,0),4),\"\")","v":""},null,null,null,null,{"$f":"IF(AND($I77>=1,$I77<=17),INDEX(黒!$B$6:$E$39,MATCH($I77,黒!$B$6:$B$39,0),4),\"\")","v":""},null,null,null,null,{"$f":"IF($A77=\"\",\"\",$B77+$B77+5)","v":""},{"$f":"IF($A77=\"\",\"\",$I77+$I77+4)","v":""},"","","","",{"$f":"IF(AND($B77>=1,$B77<=17),INDEX(黒!$B$6:$E$39,MATCH($B77,黒!$B$6:$B$39,0),2),\"\")","v":""},{"$f":"IF($A77=\"\",\"\",$I77+$I77+5)","v":""},{"$f":"IF($A77=\"\",\"\",$B77+$B77+4)","v":""},"","","","",{"$f":"IF(AND($I77>=1,$I77<=17),INDEX(黒!$B$6:$E$39,MATCH($I77,黒!$B$6:$B$39,0),2),\"\")","v":""}]
[null,null,{"$f":"IF(ISERROR(INDEX(概要設定!$J$2:$K$51,MATCH($C79,概要設定!$J$2:$J$51,0),2)),\"\",INDEX(概要設定!$J$2:$K$51,MATCH($C79,概要設定!$J$2:$J$51,0),2))","v":""},null,null,null,null,{"$f":"IF(ISERROR(INDEX(概要設定!$J$2:$K$51,MATCH($H79,概要設定!$J$2:$J$51,0),2)),\"\",INDEX(概要設定!$J$2:$K$51,MATCH($H79,概要設定!$J$2:$J$51,0),2))","v":""}]
[null,null,{"$f":"IF(AND($B79>=1,$B79<=17),INDEX(黒!$B$6:$E$39,MATCH($B79,黒!$B$6:$B$39,0),4),\"\")","v":""},null,null,null,null,{"$f":"IF(AND($I79>=1,$I79<=17),INDEX(黒!$B$6:$E$39,MATCH($I79,黒!$B$6:$B$39,0),4),\"\")","v":""},null,null,null,null,{"$f":"IF($A79=\"\",\"\",$B79+$B79+5)","v":""},{"$f":"IF($A79=\"\",\"\",$I79+$I79+4)","v":""},"","","","",{"$f":"IF(AND($B79>=1,$B79<=17),INDEX(黒!$B$6:$E$39,MATCH($B79,黒!$B$6:$B$39,0),2),\"\")","v":""},{"$f":"IF($A79=\"\",\"\",$I79+$I79+5)","v":""},{"$f":"IF($A79=\"\",\"\",$B79+$B79+4)","v":""},"","","","",{"$f":"IF(AND($I79>=1,$I79<=17),INDEX(黒!$B$6:$E$39,MATCH($I79,黒!$B$6:$B$39,0),2),\"\")","v":""}]
[null,null,{"$f":"IF(ISERROR(INDEX(概要設定!$J$2:$K$51,MATCH($C81,概要設定!$J$2:$J$51,0),2)),\"\",INDEX(概要設定!$J$2:$K$51,MATCH($C81,概要設定!$J$2:$J$51,0),2))","v":""},null,null,null,null,{"$f":"IF(ISERROR(INDEX(概要設定!$J$2:$K$51,MATCH($H81,概要設定!$J$2:$J$51,0),2)),\"\",INDEX(概要設定!$J$2:$K$51,MATCH($H81,概要設定!$J$2:$J$51,0),2))","v":""}]
[null,null,{"$f":"IF(AND($B81>=1,$B81<=17),INDEX(黒!$B$6:$E$39,MATCH($B81,黒!$B$6:$B$39,0),4),\"\")","v":""},null,null,null,null,{"$f":"IF(AND($I81>=1,$I81<=17),INDEX(黒!$B$6:$E$39,MATCH($I81,黒!$B$6:$B$39,0),4),\"\")","v":""},null,null,null,null,{"$f":"IF($A81=\"\",\"\",$B81+$B81+5)","v":""},{"$f":"IF($A81=\"\",\"\",$I81+$I81+4)","v":""},"","","","",{"$f":"IF(AND($B81>=1,$B81<=17),INDEX(黒!$B$6:$E$39,MATCH($B81,黒!$B$6:$B$39,0),2),\"\")","v":""},{"$f":"IF($A81=\"\",\"\",$I81+$I81+5)","v":""},{"$f":"IF($A81=\"\",\"\",$B81+$B81+4)","v":""},"","","","",{"$f":"IF(AND($I81>=1,$I81<=17),INDEX(黒!$B$6:$E$39,MATCH($I81,黒!$B$6:$B$39,0),2),\"\")","v":""}]
[null,null,{"$f":"IF(ISERROR(INDEX(概要設定!$J$2:$K$51,MATCH($C83,概要設定!$J$2:$J$51,0),2)),\"\",INDEX(概要設定!$J$2:$K$51,MATCH($C83,概要設定!$J$2:$J$51,0),2))","v":""},null,null,null,null,{"$f":"IF(ISERROR(INDEX(概要設定!$J$2:$K$51,MATCH($H83,概要設定!$J$2:$J$51,0),2)),\"\",INDEX(概要設定!$J$2:$K$51,MATCH($H83,概要設定!$J$2:$J$51,0),2))","v":""}]
[null,null,{"$f":"IF(AND($B83>=1,$B83<=17),INDEX(黒!$B$6:$E$39,MATCH($B83,黒!$B$6:$B$39,0),4),\"\")","v":""},null,null,null,null,{"$f":"IF(AND($I83>=1,$I83<=17),INDEX(黒!$B$6:$E$39,MATCH($I83,黒!$B$6:$B$39,0),4),\"\")","v":""},null,null,null,null,{"$f":"IF($A83=\"\",\"\",$B83+$B83+5)","v":""},{"$f":"IF($A83=\"\",\"\",$I83+$I83+4)","v":""},"","","","",{"$f":"IF(AND($B83>=1,$B83<=17),INDEX(黒!$B$6:$E$39,MATCH($B83,黒!$B$6:$B$39,0),2),\"\")","v":""},{"$f":"IF($A83=\"\",\"\",$I83+$I83+5)","v":""},{"$f":"IF($A83=\"\",\"\",$B83+$B83+4)","v":""},"","","","",{"$f":"IF(AND($I83>=1,$I83<=17),INDEX(黒!$B$6:$E$39,MATCH($I83,黒!$B$6:$B$39,0),2),\"\")","v":""}]
[null,null,{"$f":"IF(ISERROR(INDEX(概要設定!$J$2:$K$51,MATCH($C85,概要設定!$J$2:$J$51,0),2)),\"\",INDEX(概要設定!$J$2:$K$51,MATCH($C85,概要設定!$J$2:$J$51,0),2))","v":""},null,null,null,null,{"$f":"IF(ISERROR(INDEX(概要設定!$J$2:$K$51,MATCH($H85,概要設定!$J$2:$J$51,0),2)),\"\",INDEX(概要設定!$J$2:$K$51,MATCH($H85,概要設定!$J$2:$J$51,0),2))","v":""}]
[null,null,{"$f":"IF(AND($B85>=1,$B85<=17),INDEX(黒!$B$6:$E$39,MATCH($B85,黒!$B$6:$B$39,0),4),\"\")","v":""},null,null,null,null,{"$f":"IF(AND($I85>=1,$I85<=17),INDEX(黒!$B$6:$E$39,MATCH($I85,黒!$B$6:$B$39,0),4),\"\")","v":""},null,null,null,null,{"$f":"IF($A85=\"\",\"\",$B85+$B85+5)","v":""},{"$f":"IF($A85=\"\",\"\",$I85+$I85+4)","v":""},"","","","",{"$f":"IF(AND($B85>=1,$B85<=17),INDEX(黒!$B$6:$E$39,MATCH($B85,黒!$B$6:$B$39,0),2),\"\")","v":""},{"$f":"IF($A85=\"\",\"\",$I85+$I85+5)","v":""},{"$f":"IF($A85=\"\",\"\",$B85+$B85+4)","v":""},"","","","",{"$f":"IF(AND($I85>=1,$I85<=17),INDEX(黒!$B$6:$E$39,MATCH($I85,黒!$B$6:$B$39,0),2),\"\")","v":""}]
[null,null,{"$f":"IF(ISERROR(INDEX(概要設定!$J$2:$K$51,MATCH($C87,概要設定!$J$2:$J$51,0),2)),\"\",INDEX(概要設定!$J$2:$K$51,MATCH($C87,概要設定!$J$2:$J$51,0),2))","v":""},null,null,null,null,{"$f":"IF(ISERROR(INDEX(概要設定!$J$2:$K$51,MATCH($H87,概要設定!$J$2:$J$51,0),2)),\"\",INDEX(概要設定!$J$2:$K$51,MATCH($H87,概要設定!$J$2:$J$51,0),2))","v":""}]
[null,null,{"$f":"IF(AND($B87>=1,$B87<=17),INDEX(黒!$B$6:$E$39,MATCH($B87,黒!$B$6:$B$39,0),4),\"\")","v":""},null,null,null,null,{"$f":"IF(AND($I87>=1,$I87<=17),INDEX(黒!$B$6:$E$39,MATCH($I87,黒!$B$6:$B$39,0),4),\"\")","v":""},null,null,null,null,{"$f":"IF($A87=\"\",\"\",$B87+$B87+5)","v":""},{"$f":"IF($A87=\"\",\"\",$I87+$I87+4)","v":""},"","","","",{"$f":"IF(AND($B87>=1,$B87<=17),INDEX(黒!$B$6:$E$39,MATCH($B87,黒!$B$6:$B$39,0),2),\"\")","v":""},{"$f":"IF($A87=\"\",\"\",$I87+$I87+5)","v":""},{"$f":"IF($A87=\"\",\"\",$B87+$B87+4)","v":""},"","","","",{"$f":"IF(AND($I87>=1,$I87<=17),INDEX(黒!$B$6:$E$39,MATCH($I87,黒!$B$6:$B$39,0),2),\"\")","v":""}]
[null,null,{"$f":"IF(ISERROR(INDEX(概要設定!$J$2:$K$51,MATCH($C89,概要設定!$J$2:$J$51,0),2)),\"\",INDEX(概要設定!$J$2:$K$51,MATCH($C89,概要設定!$J$2:$J$51,0),2))","v":""},null,null,null,null,{"$f":"IF(ISERROR(INDEX(概要設定!$J$2:$K$51,MATCH($H89,概要設定!$J$2:$J$51,0),2)),\"\",INDEX(概要設定!$J$2:$K$51,MATCH($H89,概要設定!$J$2:$J$51,0),2))","v":""}]
[null,null,{"$f":"IF(AND($B89>=1,$B89<=17),INDEX(黒!$B$6:$E$39,MATCH($B89,黒!$B$6:$B$39,0),4),\"\")","v":""},null,null,null,null,{"$f":"IF(AND($I89>=1,$I89<=17),INDEX(黒!$B$6:$E$39,MATCH($I89,黒!$B$6:$B$39,0),4),\"\")","v":""},null,null,null,null,{"$f":"IF($A89=\"\",\"\",$B89+$B89+5)","v":""},{"$f":"IF($A89=\"\",\"\",$I89+$I89+4)","v":""},"","","","",{"$f":"IF(AND($B89>=1,$B89<=17),INDEX(黒!$B$6:$E$39,MATCH($B89,黒!$B$6:$B$39,0),2),\"\")","v":""},{"$f":"IF($A89=\"\",\"\",$I89+$I89+5)","v":""},{"$f":"IF($A89=\"\",\"\",$B89+$B89+4)","v":""},"","","","",{"$f":"IF(AND($I89>=1,$I89<=17),INDEX(黒!$B$6:$E$39,MATCH($I89,黒!$B$6:$B$39,0),2),\"\")","v":""}]
[null,null,{"$f":"IF(ISERROR(INDEX(概要設定!$J$2:$K$51,MATCH($C91,概要設定!$J$2:$J$51,0),2)),\"\",INDEX(概要設定!$J$2:$K$51,MATCH($C91,概要設定!$J$2:$J$51,0),2))","v":""},null,null,null,null,{"$f":"IF(ISERROR(INDEX(概要設定!$J$2:$K$51,MATCH($H91,概要設定!$J$2:$J$51,0),2)),\"\",INDEX(概要設定!$J$2:$K$51,MATCH($H91,概要設定!$J$2:$J$51,0),2))","v":""}]
[null,null,{"$f":"IF(AND($B91>=1,$B91<=17),INDEX(黒!$B$6:$E$39,MATCH($B91,黒!$B$6:$B$39,0),4),\"\")","v":""},null,null,null,null,{"$f":"IF(AND($I91>=1,$I91<=17),INDEX(黒!$B$6:$E$39,MATCH($I91,黒!$B$6:$B$39,0),4),\"\")","v":""},null,null,null,null,{"$f":"IF($A91=\"\",\"\",$B91+$B91+5)","v":""},{"$f":"IF($A91=\"\",\"\",$I91+$I91+4)","v":""},"","","","",{"$f":"IF(AND($B91>=1,$B91<=17),INDEX(黒!$B$6:$E$39,MATCH($B91,黒!$B$6:$B$39,0),2),\"\")","v":""},{"$f":"IF($A91=\"\",\"\",$I91+$I91+5)","v":""},{"$f":"IF($A91=\"\",\"\",$B91+$B91+4)","v":""},"","","","",{"$f":"IF(AND($I91>=1,$I91<=17),INDEX(黒!$B$6:$E$39,MATCH($I91,黒!$B$6:$B$39,0),2),\"\")","v":""}]
[null,null,{"$f":"IF(ISERROR(INDEX(概要設定!$J$2:$K$51,MATCH($C93,概要設定!$J$2:$J$51,0),2)),\"\",INDEX(概要設定!$J$2:$K$51,MATCH($C93,概要設定!$J$2:$J$51,0),2))","v":""},null,null,null,null,{"$f":"IF(ISERROR(INDEX(概要設定!$J$2:$K$51,MATCH($H93,概要設定!$J$2:$J$51,0),2)),\"\",INDEX(概要設定!$J$2:$K$51,MATCH($H93,概要設定!$J$2:$J$51,0),2))","v":""}]
[null,null,{"$f":"IF(AND($B93>=1,$B93<=17),INDEX(黒!$B$6:$E$39,MATCH($B93,黒!$B$6:$B$39,0),4),\"\")","v":""},null,null,null,null,{"$f":"IF(AND($I93>=1,$I93<=17),INDEX(黒!$B$6:$E$39,MATCH($I93,黒!$B$6:$B$39,0),4),\"\")","v":""},null,null,null,null,{"$f":"IF($A93=\"\",\"\",$B93+$B93+5)","v":""},{"$f":"IF($A93=\"\",\"\",$I93+$I93+4)","v":""},"","","","",{"$f":"IF(AND($B93>=1,$B93<=17),INDEX(黒!$B$6:$E$39,MATCH($B93,黒!$B$6:$B$39,0),2),\"\")","v":""},{"$f":"IF($A93=\"\",\"\",$I93+$I93+5)","v":""},{"$f":"IF($A93=\"\",\"\",$B93+$B93+4)","v":""},"","","","",{"$f":"IF(AND($I93>=1,$I93<=17),INDEX(黒!$B$6:$E$39,MATCH($I93,黒!$B$6:$B$39,0),2),\"\")","v":""}]
[null,null,{"$f":"IF(ISERROR(INDEX(概要設定!$J$2:$K$51,MATCH($C95,概要設定!$J$2:$J$51,0),2)),\"\",INDEX(概要設定!$J$2:$K$51,MATCH($C95,概要設定!$J$2:$J$51,0),2))","v":""},null,null,null,null,{"$f":"IF(ISERROR(INDEX(概要設定!$J$2:$K$51,MATCH($H95,概要設定!$J$2:$J$51,0),2)),\"\",INDEX(概要設定!$J$2:$K$51,MATCH($H95,概要設定!$J$2:$J$51,0),2))","v":""}]
[null,null,{"$f":"IF(AND($B95>=1,$B95<=17),INDEX(黒!$B$6:$E$39,MATCH($B95,黒!$B$6:$B$39,0),4),\"\")","v":""},null,null,null,null,{"$f":"IF(AND($I95>=1,$I95<=17),INDEX(黒!$B$6:$E$39,MATCH($I95,黒!$B$6:$B$39,0),4),\"\")","v":""},null,null,null,null,{"$f":"IF($A95=\"\",\"\",$B95+$B95+5)","v":""},{"$f":"IF($A95=\"\",\"\",$I95+$I95+4)","v":""},"","","","",{"$f":"IF(AND($B95>=1,$B95<=17),INDEX(黒!$B$6:$E$39,MATCH($B95,黒!$B$6:$B$39,0),2),\"\")","v":""},{"$f":"IF($A95=\"\",\"\",$I95+$I95+5)","v":""},{"$f":"IF($A95=\"\",\"\",$B95+$B95+4)","v":""},"","","","",{"$f":"IF(AND($I95>=1,$I95<=17),INDEX(黒!$B$6:$E$39,MATCH($I95,黒!$B$6:$B$39,0),2),\"\")","v":""}]
[null,null,{"$f":"IF(ISERROR(INDEX(概要設定!$J$2:$K$51,MATCH($C97,概要設定!$J$2:$J$51,0),2)),\"\",INDEX(概要設定!$J$2:$K$51,MATCH($C97,概要設定!$J$2:$J$51,0),2))","v":""},null,null,null,null,{"$f":"IF(ISERROR(INDEX(概要設定!$J$2:$K$51,MATCH($H97,概要設定!$J$2:$J$51,0),2)),\"\",INDEX(概要設定!$J$2:$K$51,MATCH($H97,概要設定!$J$2:$J$51,0),2))","v":""}]
[null,null,{"$f":"IF(AND($B97>=1,$B97<=17),INDEX(黒!$B$6:$E$39,MATCH($B97,黒!$B$6:$B$39,0),4),\"\")","v":""},null,null,null,null,{"$f":"IF(AND($I97>=1,$I97<=17),INDEX(黒!$B$6:$E$39,MATCH($I97,黒!$B$6:$B$39,0),4),\"\")","v":""},null,null,null,null,{"$f":"IF($A97=\"\",\"\",$B97+$B97+5)","v":""},{"$f":"IF($A97=\"\",\"\",$I97+$I97+4)","v":""},"","","","",{"$f":"IF(AND($B97>=1,$B97<=17),INDEX(黒!$B$6:$E$39,MATCH($B97,黒!$B$6:$B$39,0),2),\"\")","v":""},{"$f":"IF($A97=\"\",\"\",$I97+$I97+5)","v":""},{"$f":"IF($A97=\"\",\"\",$B97+$B97+4)","v":""},"","","","",{"$f":"IF(AND($I97>=1,$I97<=17),INDEX(黒!$B$6:$E$39,MATCH($I97,黒!$B$6:$B$39,0),2),\"\")","v":""}]
[null,null,{"$f":"IF(ISERROR(INDEX(概要設定!$J$2:$K$51,MATCH($C99,概要設定!$J$2:$J$51,0),2)),\"\",INDEX(概要設定!$J$2:$K$51,MATCH($C99,概要設定!$J$2:$J$51,0),2))","v":""},null,null,null,null,{"$f":"IF(ISERROR(INDEX(概要設定!$J$2:$K$51,MATCH($H99,概要設定!$J$2:$J$51,0),2)),\"\",INDEX(概要設定!$J$2:$K$51,MATCH($H99,概要設定!$J$2:$J$51,0),2))","v":""}]
[null,null,{"$f":"IF(AND($B99>=1,$B99<=17),INDEX(黒!$B$6:$E$39,MATCH($B99,黒!$B$6:$B$39,0),4),\"\")","v":""},null,null,null,null,{"$f":"IF(AND($I99>=1,$I99<=17),INDEX(黒!$B$6:$E$39,MATCH($I99,黒!$B$6:$B$39,0),4),\"\")","v":""},null,null,null,null,{"$f":"IF($A99=\"\",\"\",$B99+$B99+5)","v":""},{"$f":"IF($A99=\"\",\"\",$I99+$I99+4)","v":""},"","","","",{"$f":"IF(AND($B99>=1,$B99<=17),INDEX(黒!$B$6:$E$39,MATCH($B99,黒!$B$6:$B$39,0),2),\"\")","v":""},{"$f":"IF($A99=\"\",\"\",$I99+$I99+5)","v":""},{"$f":"IF($A99=\"\",\"\",$B99+$B99+4)","v":""},"","","","",{"$f":"IF(AND($I99>=1,$I99<=17),INDEX(黒!$B$6:$E$39,MATCH($I99,黒!$B$6:$B$39,0),2),\"\")","v":""}]
[null,null,{"$f":"IF(ISERROR(INDEX(概要設定!$J$2:$K$51,MATCH($C101,概要設定!$J$2:$J$51,0),2)),\"\",INDEX(概要設定!$J$2:$K$51,MATCH($C101,概要設定!$J$2:$J$51,0),2))","v":""},null,null,null,null,{"$f":"IF(ISERROR(INDEX(概要設定!$J$2:$K$51,MATCH($H101,概要設定!$J$2:$J$51,0),2)),\"\",INDEX(概要設定!$J$2:$K$51,MATCH($H101,概要設定!$J$2:$J$51,0),2))","v":""}]
[null,null,{"$f":"IF(AND($B101>=1,$B101<=17),INDEX(黒!$B$6:$E$39,MATCH($B101,黒!$B$6:$B$39,0),4),\"\")","v":""},null,null,null,null,{"$f":"IF(AND($I101>=1,$I101<=17),INDEX(黒!$B$6:$E$39,MATCH($I101,黒!$B$6:$B$39,0),4),\"\")","v":""},null,null,null,null,{"$f":"IF($A101=\"\",\"\",$B101+$B101+5)","v":""},{"$f":"IF($A101=\"\",\"\",$I101+$I101+4)","v":""},"","","","",{"$f":"IF(AND($B101>=1,$B101<=17),INDEX(黒!$B$6:$E$39,MATCH($B101,黒!$B$6:$B$39,0),2),\"\")","v":""},{"$f":"IF($A101=\"\",\"\",$I101+$I101+5)","v":""},{"$f":"IF($A101=\"\",\"\",$B101+$B101+4)","v":""},"","","","",{"$f":"IF(AND($I101>=1,$I101<=17),INDEX(黒!$B$6:$E$39,MATCH($I101,黒!$B$6:$B$39,0),2),\"\")","v":""}]
[null,null,{"$f":"IF(ISERROR(INDEX(概要設定!$J$2:$K$51,MATCH($C103,概要設定!$J$2:$J$51,0),2)),\"\",INDEX(概要設定!$J$2:$K$51,MATCH($C103,概要設定!$J$2:$J$51,0),2))","v":""},null,null,null,null,{"$f":"IF(ISERROR(INDEX(概要設定!$J$2:$K$51,MATCH($H103,概要設定!$J$2:$J$51,0),2)),\"\",INDEX(概要設定!$J$2:$K$51,MATCH($H103,概要設定!$J$2:$J$51,0),2))","v":""}]
[null,null,{"$f":"IF(AND($B103>=1,$B103<=17),INDEX(黒!$B$6:$E$39,MATCH($B103,黒!$B$6:$B$39,0),4),\"\")","v":""},null,null,null,null,{"$f":"IF(AND($I103>=1,$I103<=17),INDEX(黒!$B$6:$E$39,MATCH($I103,黒!$B$6:$B$39,0),4),\"\")","v":""},null,null,null,null,{"$f":"IF($A103=\"\",\"\",$B103+$B103+5)","v":""},{"$f":"IF($A103=\"\",\"\",$I103+$I103+4)","v":""},"","","","",{"$f":"IF(AND($B103>=1,$B103<=17),INDEX(黒!$B$6:$E$39,MATCH($B103,黒!$B$6:$B$39,0),2),\"\")","v":""},{"$f":"IF($A103=\"\",\"\",$I103+$I103+5)","v":""},{"$f":"IF($A103=\"\",\"\",$B103+$B103+4)","v":""},"","","","",{"$f":"IF(AND($I103>=1,$I103<=17),INDEX(黒!$B$6:$E$39,MATCH($I103,黒!$B$6:$B$39,0),2),\"\")","v":""}]
[null,null,{"$f":"IF(ISERROR(INDEX(概要設定!$J$2:$K$51,MATCH($C105,概要設定!$J$2:$J$51,0),2)),\"\",INDEX(概要設定!$J$2:$K$51,MATCH($C105,概要設定!$J$2:$J$51,0),2))","v":""},null,null,null,null,{"$f":"IF(ISERROR(INDEX(概要設定!$J$2:$K$51,MATCH($H105,概要設定!$J$2:$J$51,0),2)),\"\",INDEX(概要設定!$J$2:$K$51,MATCH($H105,概要設定!$J$2:$J$51,0),2))","v":""}]
[null,null,{"$f":"IF(AND($B105>=1,$B105<=17),INDEX(黒!$B$6:$E$39,MATCH($B105,黒!$B$6:$B$39,0),4),\"\")","v":""},null,null,null,null,{"$f":"IF(AND($I105>=1,$I105<=17),INDEX(黒!$B$6:$E$39,MATCH($I105,黒!$B$6:$B$39,0),4),\"\")","v":""},null,null,null,null,{"$f":"IF($A105=\"\",\"\",$B105+$B105+5)","v":""},{"$f":"IF($A105=\"\",\"\",$I105+$I105+4)","v":""},"","","","",{"$f":"IF(AND($B105>=1,$B105<=17),INDEX(黒!$B$6:$E$39,MATCH($B105,黒!$B$6:$B$39,0),2),\"\")","v":""},{"$f":"IF($A105=\"\",\"\",$I105+$I105+5)","v":""},{"$f":"IF($A105=\"\",\"\",$B105+$B105+4)","v":""},"","","","",{"$f":"IF(AND($I105>=1,$I105<=17),INDEX(黒!$B$6:$E$39,MATCH($I105,黒!$B$6:$B$39,0),2),\"\")","v":""}]
[null,null,{"$f":"IF(ISERROR(INDEX(概要設定!$J$2:$K$51,MATCH($C107,概要設定!$J$2:$J$51,0),2)),\"\",INDEX(概要設定!$J$2:$K$51,MATCH($C107,概要設定!$J$2:$J$51,0),2))","v":""},null,null,null,null,{"$f":"IF(ISERROR(INDEX(概要設定!$J$2:$K$51,MATCH($H107,概要設定!$J$2:$J$51,0),2)),\"\",INDEX(概要設定!$J$2:$K$51,MATCH($H107,概要設定!$J$2:$J$51,0),2))","v":""}]
[null,null,{"$f":"IF(AND($B107>=1,$B107<=17),INDEX(黒!$B$6:$E$39,MATCH($B107,黒!$B$6:$B$39,0),4),\"\")","v":""},null,null,null,null,{"$f":"IF(AND($I107>=1,$I107<=17),INDEX(黒!$B$6:$E$39,MATCH($I107,黒!$B$6:$B$39,0),4),\"\")","v":""},null,null,null,null,{"$f":"IF($A107=\"\",\"\",$B107+$B107+5)","v":""},{"$f":"IF($A107=\"\",\"\",$I107+$I107+4)","v":""},"","","","",{"$f":"IF(AND($B107>=1,$B107<=17),INDEX(黒!$B$6:$E$39,MATCH($B107,黒!$B$6:$B$39,0),2),\"\")","v":""},{"$f":"IF($A107=\"\",\"\",$I107+$I107+5)","v":""},{"$f":"IF($A107=\"\",\"\",$B107+$B107+4)","v":""},"","","","",{"$f":"IF(AND($I107>=1,$I107<=17),INDEX(黒!$B$6:$E$39,MATCH($I107,黒!$B$6:$B$39,0),2),\"\")","v":""}]
[null,null,{"$f":"IF(ISERROR(INDEX(概要設定!$J$2:$K$51,MATCH($C109,概要設定!$J$2:$J$51,0),2)),\"\",INDEX(概要設定!$J$2:$K$51,MATCH($C109,概要設定!$J$2:$J$51,0),2))","v":""},null,null,null,null,{"$f":"IF(ISERROR(INDEX(概要設定!$J$2:$K$51,MATCH($H109,概要設定!$J$2:$J$51,0),2)),\"\",INDEX(概要設定!$J$2:$K$51,MATCH($H109,概要設定!$J$2:$J$51,0),2))","v":""}]
[null,null,{"$f":"IF(AND($B109>=1,$B109<=17),INDEX(黒!$B$6:$E$39,MATCH($B109,黒!$B$6:$B$39,0),4),\"\")","v":""},null,null,null,null,{"$f":"IF(AND($I109>=1,$I109<=17),INDEX(黒!$B$6:$E$39,MATCH($I109,黒!$B$6:$B$39,0),4),\"\")","v":""},null,null,null,null,{"$f":"IF($A109=\"\",\"\",$B109+$B109+5)","v":""},{"$f":"IF($A109=\"\",\"\",$I109+$I109+4)","v":""},"","","","",{"$f":"IF(AND($B109>=1,$B109<=17),INDEX(黒!$B$6:$E$39,MATCH($B109,黒!$B$6:$B$39,0),2),\"\")","v":""},{"$f":"IF($A109=\"\",\"\",$I109+$I109+5)","v":""},{"$f":"IF($A109=\"\",\"\",$B109+$B109+4)","v":""},"","","","",{"$f":"IF(AND($I109>=1,$I109<=17),INDEX(黒!$B$6:$E$39,MATCH($I109,黒!$B$6:$B$39,0),2),\"\")","v":""}]
[null,null,{"$f":"IF(ISERROR(INDEX(概要設定!$J$2:$K$51,MATCH($C111,概要設定!$J$2:$J$51,0),2)),\"\",INDEX(概要設定!$J$2:$K$51,MATCH($C111,概要設定!$J$2:$J$51,0),2))","v":""},null,null,null,null,{"$f":"IF(ISERROR(INDEX(概要設定!$J$2:$K$51,MATCH($H111,概要設定!$J$2:$J$51,0),2)),\"\",INDEX(概要設定!$J$2:$K$51,MATCH($H111,概要設定!$J$2:$J$51,0),2))","v":""}]
[null,null,{"$f":"IF(AND($B111>=1,$B111<=17),INDEX(黒!$B$6:$E$39,MATCH($B111,黒!$B$6:$B$39,0),4),\"\")","v":""},null,null,null,null,{"$f":"IF(AND($I111>=1,$I111<=17),INDEX(黒!$B$6:$E$39,MATCH($I111,黒!$B$6:$B$39,0),4),\"\")","v":""},null,null,null,null,{"$f":"IF($A111=\"\",\"\",$B111+$B111+5)","v":""},{"$f":"IF($A111=\"\",\"\",$I111+$I111+4)","v":""},"","","","",{"$f":"IF(AND($B111>=1,$B111<=17),INDEX(黒!$B$6:$E$39,MATCH($B111,黒!$B$6:$B$39,0),2),\"\")","v":""},{"$f":"IF($A111=\"\",\"\",$I111+$I111+5)","v":""},{"$f":"IF($A111=\"\",\"\",$B111+$B111+4)","v":""},"","","","",{"$f":"IF(AND($I111>=1,$I111<=17),INDEX(黒!$B$6:$E$39,MATCH($I111,黒!$B$6:$B$39,0),2),\"\")","v":""}]
[null,null,{"$f":"IF(ISERROR(INDEX(概要設定!$J$2:$K$51,MATCH($C113,概要設定!$J$2:$J$51,0),2)),\"\",INDEX(概要設定!$J$2:$K$51,MATCH($C113,概要設定!$J$2:$J$51,0),2))","v":""},null,null,null,null,{"$f":"IF(ISERROR(INDEX(概要設定!$J$2:$K$51,MATCH($H113,概要設定!$J$2:$J$51,0),2)),\"\",INDEX(概要設定!$J$2:$K$51,MATCH($H113,概要設定!$J$2:$J$51,0),2))","v":""}]
[null,null,{"$f":"IF(AND($B113>=1,$B113<=17),INDEX(黒!$B$6:$E$39,MATCH($B113,黒!$B$6:$B$39,0),4),\"\")","v":""},null,null,null,null,{"$f":"IF(AND($I113>=1,$I113<=17),INDEX(黒!$B$6:$E$39,MATCH($I113,黒!$B$6:$B$39,0),4),\"\")","v":""},null,null,null,null,{"$f":"IF($A113=\"\",\"\",$B113+$B113+5)","v":""},{"$f":"IF($A113=\"\",\"\",$I113+$I113+4)","v":""},"","","","",{"$f":"IF(AND($B113>=1,$B113<=17),INDEX(黒!$B$6:$E$39,MATCH($B113,黒!$B$6:$B$39,0),2),\"\")","v":""},{"$f":"IF($A113=\"\",\"\",$I113+$I113+5)","v":""},{"$f":"IF($A113=\"\",\"\",$B113+$B113+4)","v":""},"","","","",{"$f":"IF(AND($I113>=1,$I113<=17),INDEX(黒!$B$6:$E$39,MATCH($I113,黒!$B$6:$B$39,0),2),\"\")","v":""}]
[null,null,{"$f":"IF(ISERROR(INDEX(概要設定!$J$2:$K$51,MATCH($C115,概要設定!$J$2:$J$51,0),2)),\"\",INDEX(概要設定!$J$2:$K$51,MATCH($C115,概要設定!$J$2:$J$51,0),2))","v":""},null,null,null,null,{"$f":"IF(ISERROR(INDEX(概要設定!$J$2:$K$51,MATCH($H115,概要設定!$J$2:$J$51,0),2)),\"\",INDEX(概要設定!$J$2:$K$51,MATCH($H115,概要設定!$J$2:$J$51,0),2))","v":""}]
[null,null,{"$f":"IF(AND($B115>=1,$B115<=17),INDEX(黒!$B$6:$E$39,MATCH($B115,黒!$B$6:$B$39,0),4),\"\")","v":""},null,null,null,null,{"$f":"IF(AND($I115>=1,$I115<=17),INDEX(黒!$B$6:$E$39,MATCH($I115,黒!$B$6:$B$39,0),4),\"\")","v":""},null,null,null,null,{"$f":"IF($A115=\"\",\"\",$B115+$B115+5)","v":""},{"$f":"IF($A115=\"\",\"\",$I115+$I115+4)","v":""},"","","","",{"$f":"IF(AND($B115>=1,$B115<=17),INDEX(黒!$B$6:$E$39,MATCH($B115,黒!$B$6:$B$39,0),2),\"\")","v":""},{"$f":"IF($A115=\"\",\"\",$I115+$I115+5)","v":""},{"$f":"IF($A115=\"\",\"\",$B115+$B115+4)","v":""},"","","","",{"$f":"IF(AND($I115>=1,$I115<=17),INDEX(黒!$B$6:$E$39,MATCH($I115,黒!$B$6:$B$39,0),2),\"\")","v":""}]
[null,null,{"$f":"IF(ISERROR(INDEX(概要設定!$J$2:$K$51,MATCH($C117,概要設定!$J$2:$J$51,0),2)),\"\",INDEX(概要設定!$J$2:$K$51,MATCH($C117,概要設定!$J$2:$J$51,0),2))","v":""},null,null,null,null,{"$f":"IF(ISERROR(INDEX(概要設定!$J$2:$K$51,MATCH($H117,概要設定!$J$2:$J$51,0),2)),\"\",INDEX(概要設定!$J$2:$K$51,MATCH($H117,概要設定!$J$2:$J$51,0),2))","v":""}]
[null,null,{"$f":"IF(AND($B117>=1,$B117<=17),INDEX(黒!$B$6:$E$39,MATCH($B117,黒!$B$6:$B$39,0),4),\"\")","v":""},null,null,null,null,{"$f":"IF(AND($I117>=1,$I117<=17),INDEX(黒!$B$6:$E$39,MATCH($I117,黒!$B$6:$B$39,0),4),\"\")","v":""},null,null,null,null,{"$f":"IF($A117=\"\",\"\",$B117+$B117+5)","v":""},{"$f":"IF($A117=\"\",\"\",$I117+$I117+4)","v":""},"","","","",{"$f":"IF(AND($B117>=1,$B117<=17),INDEX(黒!$B$6:$E$39,MATCH($B117,黒!$B$6:$B$39,0),2),\"\")","v":""},{"$f":"IF($A117=\"\",\"\",$I117+$I117+5)","v":""},{"$f":"IF($A117=\"\",\"\",$B117+$B117+4)","v":""},"","","","",{"$f":"IF(AND($I117>=1,$I117<=17),INDEX(黒!$B$6:$E$39,MATCH($I117,黒!$B$6:$B$39,0),2),\"\")","v":""}]
[null,null,{"$f":"IF(ISERROR(INDEX(概要設定!$J$2:$K$51,MATCH($C119,概要設定!$J$2:$J$51,0),2)),\"\",INDEX(概要設定!$J$2:$K$51,MATCH($C119,概要設定!$J$2:$J$51,0),2))","v":""},null,null,null,null,{"$f":"IF(ISERROR(INDEX(概要設定!$J$2:$K$51,MATCH($H119,概要設定!$J$2:$J$51,0),2)),\"\",INDEX(概要設定!$J$2:$K$51,MATCH($H119,概要設定!$J$2:$J$51,0),2))","v":""}]
[null,null,{"$f":"IF(AND($B119>=1,$B119<=17),INDEX(黒!$B$6:$E$39,MATCH($B119,黒!$B$6:$B$39,0),4),\"\")","v":""},null,null,null,null,{"$f":"IF(AND($I119>=1,$I119<=17),INDEX(黒!$B$6:$E$39,MATCH($I119,黒!$B$6:$B$39,0),4),\"\")","v":""},null,null,null,null,{"$f":"IF($A119=\"\",\"\",$B119+$B119+5)","v":""},{"$f":"IF($A119=\"\",\"\",$I119+$I119+4)","v":""},"","","","",{"$f":"IF(AND($B119>=1,$B119<=17),INDEX(黒!$B$6:$E$39,MATCH($B119,黒!$B$6:$B$39,0),2),\"\")","v":""},{"$f":"IF($A119=\"\",\"\",$I119+$I119+5)","v":""},{"$f":"IF($A119=\"\",\"\",$B119+$B119+4)","v":""},"","","","",{"$f":"IF(AND($I119>=1,$I119<=17),INDEX(黒!$B$6:$E$39,MATCH($I119,黒!$B$6:$B$39,0),2),\"\")","v":""}]
[null,null,{"$f":"IF(ISERROR(INDEX(概要設定!$J$2:$K$51,MATCH($C121,概要設定!$J$2:$J$51,0),2)),\"\",INDEX(概要設定!$J$2:$K$51,MATCH($C121,概要設定!$J$2:$J$51,0),2))","v":""},null,null,null,null,{"$f":"IF(ISERROR(INDEX(概要設定!$J$2:$K$51,MATCH($H121,概要設定!$J$2:$J$51,0),2)),\"\",INDEX(概要設定!$J$2:$K$51,MATCH($H121,概要設定!$J$2:$J$51,0),2))","v":""}]
[null,null,{"$f":"IF(AND($B121>=1,$B121<=17),INDEX(黒!$B$6:$E$39,MATCH($B121,黒!$B$6:$B$39,0),4),\"\")","v":""},null,null,null,null,{"$f":"IF(AND($I121>=1,$I121<=17),INDEX(黒!$B$6:$E$39,MATCH($I121,黒!$B$6:$B$39,0),4),\"\")","v":""},null,null,null,null,{"$f":"IF($A121=\"\",\"\",$B121+$B121+5)","v":""},{"$f":"IF($A121=\"\",\"\",$I121+$I121+4)","v":""},"","","","",{"$f":"IF(AND($B121>=1,$B121<=17),INDEX(黒!$B$6:$E$39,MATCH($B121,黒!$B$6:$B$39,0),2),\"\")","v":""},{"$f":"IF($A121=\"\",\"\",$I121+$I121+5)","v":""},{"$f":"IF($A121=\"\",\"\",$B121+$B121+4)","v":""},"","","","",{"$f":"IF(AND($I121>=1,$I121<=17),INDEX(黒!$B$6:$E$39,MATCH($I121,黒!$B$6:$B$39,0),2),\"\")","v":""}]
[null,null,{"$f":"IF(ISERROR(INDEX(概要設定!$J$2:$K$51,MATCH($C123,概要設定!$J$2:$J$51,0),2)),\"\",INDEX(概要設定!$J$2:$K$51,MATCH($C123,概要設定!$J$2:$J$51,0),2))","v":""},null,null,null,null,{"$f":"IF(ISERROR(INDEX(概要設定!$J$2:$K$51,MATCH($H123,概要設定!$J$2:$J$51,0),2)),\"\",INDEX(概要設定!$J$2:$K$51,MATCH($H123,概要設定!$J$2:$J$51,0),2))","v":""}]
[null,null,{"$f":"IF(AND($B123>=1,$B123<=17),INDEX(黒!$B$6:$E$39,MATCH($B123,黒!$B$6:$B$39,0),4),\"\")","v":""},null,null,null,null,{"$f":"IF(AND($I123>=1,$I123<=17),INDEX(黒!$B$6:$E$39,MATCH($I123,黒!$B$6:$B$39,0),4),\"\")","v":""},null,null,null,null,{"$f":"IF($A123=\"\",\"\",$B123+$B123+5)","v":""},{"$f":"IF($A123=\"\",\"\",$I123+$I123+4)","v":""},"","","","",{"$f":"IF(AND($B123>=1,$B123<=17),INDEX(黒!$B$6:$E$39,MATCH($B123,黒!$B$6:$B$39,0),2),\"\")","v":""},{"$f":"IF($A123=\"\",\"\",$I123+$I123+5)","v":""},{"$f":"IF($A123=\"\",\"\",$B123+$B123+4)","v":""},"","","","",{"$f":"IF(AND($I123>=1,$I123<=17),INDEX(黒!$B$6:$E$39,MATCH($I123,黒!$B$6:$B$39,0),2),\"\")","v":""}]
[null,null,{"$f":"IF(ISERROR(INDEX(概要設定!$J$2:$K$51,MATCH($C125,概要設定!$J$2:$J$51,0),2)),\"\",INDEX(概要設定!$J$2:$K$51,MATCH($C125,概要設定!$J$2:$J$51,0),2))","v":""},null,null,null,null,{"$f":"IF(ISERROR(INDEX(概要設定!$J$2:$K$51,MATCH($H125,概要設定!$J$2:$J$51,0),2)),\"\",INDEX(概要設定!$J$2:$K$51,MATCH($H125,概要設定!$J$2:$J$51,0),2))","v":""}]
[null,null,{"$f":"IF(AND($B125>=1,$B125<=17),INDEX(黒!$B$6:$E$39,MATCH($B125,黒!$B$6:$B$39,0),4),\"\")","v":""},null,null,null,null,{"$f":"IF(AND($I125>=1,$I125<=17),INDEX(黒!$B$6:$E$39,MATCH($I125,黒!$B$6:$B$39,0),4),\"\")","v":""},null,null,null,null,{"$f":"IF($A125=\"\",\"\",$B125+$B125+5)","v":""},{"$f":"IF($A125=\"\",\"\",$I125+$I125+4)","v":""},"","","","",{"$f":"IF(AND($B125>=1,$B125<=17),INDEX(黒!$B$6:$E$39,MATCH($B125,黒!$B$6:$B$39,0),2),\"\")","v":""},{"$f":"IF($A125=\"\",\"\",$I125+$I125+5)","v":""},{"$f":"IF($A125=\"\",\"\",$B125+$B125+4)","v":""},"","","","",{"$f":"IF(AND($I125>=1,$I125<=17),INDEX(黒!$B$6:$E$39,MATCH($I125,黒!$B$6:$B$39,0),2),\"\")","v":""}]
[null,null,{"$f":"IF(ISERROR(INDEX(概要設定!$J$2:$K$51,MATCH($C127,概要設定!$J$2:$J$51,0),2)),\"\",INDEX(概要設定!$J$2:$K$51,MATCH($C127,概要設定!$J$2:$J$51,0),2))","v":""},null,null,null,null,{"$f":"IF(ISERROR(INDEX(概要設定!$J$2:$K$51,MATCH($H127,概要設定!$J$2:$J$51,0),2)),\"\",INDEX(概要設定!$J$2:$K$51,MATCH($H127,概要設定!$J$2:$J$51,0),2))","v":""}]
[null,null,{"$f":"IF(AND($B127>=1,$B127<=17),INDEX(黒!$B$6:$E$39,MATCH($B127,黒!$B$6:$B$39,0),4),\"\")","v":""},null,null,null,null,{"$f":"IF(AND($I127>=1,$I127<=17),INDEX(黒!$B$6:$E$39,MATCH($I127,黒!$B$6:$B$39,0),4),\"\")","v":""},null,null,null,null,{"$f":"IF($A127=\"\",\"\",$B127+$B127+5)","v":""},{"$f":"IF($A127=\"\",\"\",$I127+$I127+4)","v":""},"","","","",{"$f":"IF(AND($B127>=1,$B127<=17),INDEX(黒!$B$6:$E$39,MATCH($B127,黒!$B$6:$B$39,0),2),\"\")","v":""},{"$f":"IF($A127=\"\",\"\",$I127+$I127+5)","v":""},{"$f":"IF($A127=\"\",\"\",$B127+$B127+4)","v":""},"","","","",{"$f":"IF(AND($I127>=1,$I127<=17),INDEX(黒!$B$6:$E$39,MATCH($I127,黒!$B$6:$B$39,0),2),\"\")","v":""}]
[null,null,{"$f":"IF(ISERROR(INDEX(概要設定!$J$2:$K$51,MATCH($C129,概要設定!$J$2:$J$51,0),2)),\"\",INDEX(概要設定!$J$2:$K$51,MATCH($C129,概要設定!$J$2:$J$51,0),2))","v":""},null,null,null,null,{"$f":"IF(ISERROR(INDEX(概要設定!$J$2:$K$51,MATCH($H129,概要設定!$J$2:$J$51,0),2)),\"\",INDEX(概要設定!$J$2:$K$51,MATCH($H129,概要設定!$J$2:$J$51,0),2))","v":""}]
[null,null,{"$f":"IF(AND($B129>=1,$B129<=17),INDEX(黒!$B$6:$E$39,MATCH($B129,黒!$B$6:$B$39,0),4),\"\")","v":""},null,null,null,null,{"$f":"IF(AND($I129>=1,$I129<=17),INDEX(黒!$B$6:$E$39,MATCH($I129,黒!$B$6:$B$39,0),4),\"\")","v":""},null,null,null,null,{"$f":"IF($A129=\"\",\"\",$B129+$B129+5)","v":""},{"$f":"IF($A129=\"\",\"\",$I129+$I129+4)","v":""},"","","","",{"$f":"IF(AND($B129>=1,$B129<=17),INDEX(黒!$B$6:$E$39,MATCH($B129,黒!$B$6:$B$39,0),2),\"\")","v":""},{"$f":"IF($A129=\"\",\"\",$I129+$I129+5)","v":""},{"$f":"IF($A129=\"\",\"\",$B129+$B129+4)","v":""},"","","","",{"$f":"IF(AND($I129>=1,$I129<=17),INDEX(黒!$B$6:$E$39,MATCH($I129,黒!$B$6:$B$39,0),2),\"\")","v":""}]
[null,null,{"$f":"IF(ISERROR(INDEX(概要設定!$J$2:$K$51,MATCH($C131,概要設定!$J$2:$J$51,0),2)),\"\",INDEX(概要設定!$J$2:$K$51,MATCH($C131,概要設定!$J$2:$J$51,0),2))","v":""},null,null,null,null,{"$f":"IF(ISERROR(INDEX(概要設定!$J$2:$K$51,MATCH($H131,概要設定!$J$2:$J$51,0),2)),\"\",INDEX(概要設定!$J$2:$K$51,MATCH($H131,概要設定!$J$2:$J$51,0),2))","v":""}]
[null,null,{"$f":"IF(AND($B131>=1,$B131<=17),INDEX(黒!$B$6:$E$39,MATCH($B131,黒!$B$6:$B$39,0),4),\"\")","v":""},null,null,null,null,{"$f":"IF(AND($I131>=1,$I131<=17),INDEX(黒!$B$6:$E$39,MATCH($I131,黒!$B$6:$B$39,0),4),\"\")","v":""},null,null,null,null,{"$f":"IF($A131=\"\",\"\",$B131+$B131+5)","v":""},{"$f":"IF($A131=\"\",\"\",$I131+$I131+4)","v":""},"","","","",{"$f":"IF(AND($B131>=1,$B131<=17),INDEX(黒!$B$6:$E$39,MATCH($B131,黒!$B$6:$B$39,0),2),\"\")","v":""},{"$f":"IF($A131=\"\",\"\",$I131+$I131+5)","v":""},{"$f":"IF($A131=\"\",\"\",$B131+$B131+4)","v":""},"","","","",{"$f":"IF(AND($I131>=1,$I131<=17),INDEX(黒!$B$6:$E$39,MATCH($I131,黒!$B$6:$B$39,0),2),\"\")","v":""}]
[null,null,{"$f":"IF(ISERROR(INDEX(概要設定!$J$2:$K$51,MATCH($C133,概要設定!$J$2:$J$51,0),2)),\"\",INDEX(概要設定!$J$2:$K$51,MATCH($C133,概要設定!$J$2:$J$51,0),2))","v":""},null,null,null,null,{"$f":"IF(ISERROR(INDEX(概要設定!$J$2:$K$51,MATCH($H133,概要設定!$J$2:$J$51,0),2)),\"\",INDEX(概要設定!$J$2:$K$51,MATCH($H133,概要設定!$J$2:$J$51,0),2))","v":""}]
[null,null,{"$f":"IF(AND($B133>=1,$B133<=17),INDEX(黒!$B$6:$E$39,MATCH($B133,黒!$B$6:$B$39,0),4),\"\")","v":""},null,null,null,null,{"$f":"IF(AND($I133>=1,$I133<=17),INDEX(黒!$B$6:$E$39,MATCH($I133,黒!$B$6:$B$39,0),4),\"\")","v":""},null,null,null,null,{"$f":"IF($A133=\"\",\"\",$B133+$B133+5)","v":""},{"$f":"IF($A133=\"\",\"\",$I133+$I133+4)","v":""},"","","","",{"$f":"IF(AND($B133>=1,$B133<=17),INDEX(黒!$B$6:$E$39,MATCH($B133,黒!$B$6:$B$39,0),2),\"\")","v":""},{"$f":"IF($A133=\"\",\"\",$I133+$I133+5)","v":""},{"$f":"IF($A133=\"\",\"\",$B133+$B133+4)","v":""},"","","","",{"$f":"IF(AND($I133>=1,$I133<=17),INDEX(黒!$B$6:$E$39,MATCH($I133,黒!$B$6:$B$39,0),2),\"\")","v":""}]
[null,null,{"$f":"IF(ISERROR(INDEX(概要設定!$J$2:$K$51,MATCH($C135,概要設定!$J$2:$J$51,0),2)),\"\",INDEX(概要設定!$J$2:$K$51,MATCH($C135,概要設定!$J$2:$J$51,0),2))","v":""},null,null,null,null,{"$f":"IF(ISERROR(INDEX(概要設定!$J$2:$K$51,MATCH($H135,概要設定!$J$2:$J$51,0),2)),\"\",INDEX(概要設定!$J$2:$K$51,MATCH($H135,概要設定!$J$2:$J$51,0),2))","v":""}]
[null,null,{"$f":"IF(AND($B135>=1,$B135<=17),INDEX(黒!$B$6:$E$39,MATCH($B135,黒!$B$6:$B$39,0),4),\"\")","v":""},null,null,null,null,{"$f":"IF(AND($I135>=1,$I135<=17),INDEX(黒!$B$6:$E$39,MATCH($I135,黒!$B$6:$B$39,0),4),\"\")","v":""},null,null,null,null,{"$f":"IF($A135=\"\",\"\",$B135+$B135+5)","v":""},{"$f":"IF($A135=\"\",\"\",$I135+$I135+4)","v":""},"","","","",{"$f":"IF(AND($B135>=1,$B135<=17),INDEX(黒!$B$6:$E$39,MATCH($B135,黒!$B$6:$B$39,0),2),\"\")","v":""},{"$f":"IF($A135=\"\",\"\",$I135+$I135+5)","v":""},{"$f":"IF($A135=\"\",\"\",$B135+$B135+4)","v":""},"","","","",{"$f":"IF(AND($I135>=1,$I135<=17),INDEX(黒!$B$6:$E$39,MATCH($I135,黒!$B$6:$B$39,0),2),\"\")","v":""}]
[null,null,{"$f":"IF(ISERROR(INDEX(概要設定!$J$2:$K$51,MATCH($C137,概要設定!$J$2:$J$51,0),2)),\"\",INDEX(概要設定!$J$2:$K$51,MATCH($C137,概要設定!$J$2:$J$51,0),2))","v":""},null,null,null,null,{"$f":"IF(ISERROR(INDEX(概要設定!$J$2:$K$51,MATCH($H137,概要設定!$J$2:$J$51,0),2)),\"\",INDEX(概要設定!$J$2:$K$51,MATCH($H137,概要設定!$J$2:$J$51,0),2))","v":""}]
[null,null,{"$f":"IF(AND($B137>=1,$B137<=17),INDEX(黒!$B$6:$E$39,MATCH($B137,黒!$B$6:$B$39,0),4),\"\")","v":""},null,null,null,null,{"$f":"IF(AND($I137>=1,$I137<=17),INDEX(黒!$B$6:$E$39,MATCH($I137,黒!$B$6:$B$39,0),4),\"\")","v":""},null,null,null,null,{"$f":"IF($A137=\"\",\"\",$B137+$B137+5)","v":""},{"$f":"IF($A137=\"\",\"\",$I137+$I137+4)","v":""},{"$f":"IF($A137=\"\",\"\",$M137-1)","v":""},{"$f":"IF($A137=\"\",\"\",$N137)","v":""},{"$f":"IF($A137=\"\",\"\",$M137-1)","v":""},{"$f":"IF($A137=\"\",\"\",$N137+1)","v":""},{"$f":"IF(AND($B137>=1,$B137<=17),INDEX(黒!$B$6:$E$39,MATCH($B137,黒!$B$6:$B$39,0),2),\"\")","v":""},{"$f":"IF($A137=\"\",\"\",$I137+$I137+5)","v":""},{"$f":"IF($A137=\"\",\"\",$B137+$B137+4)","v":""},{"$f":"IF($A137=\"\",\"\",$T137-1)","v":""},{"$f":"IF($A137=\"\",\"\",$U137)","v":""},{"$f":"IF($A137=\"\",\"\",$T137-1)","v":""},{"$f":"IF($A137=\"\",\"\",$U137+1)","v":""},{"$f":"IF(AND($I137>=1,$I137<=17),INDEX(黒!$B$6:$E$39,MATCH($I137,黒!$B$6:$B$39,0),2),\"\")","v":""}]
[null,null,{"$f":"IF(ISERROR(INDEX(概要設定!$J$2:$K$51,MATCH($C139,概要設定!$J$2:$J$51,0),2)),\"\",INDEX(概要設定!$J$2:$K$51,MATCH($C139,概要設定!$J$2:$J$51,0),2))","v":""},null,null,null,null,{"$f":"IF(ISERROR(INDEX(概要設定!$J$2:$K$51,MATCH($H139,概要設定!$J$2:$J$51,0),2)),\"\",INDEX(概要設定!$J$2:$K$51,MATCH($H139,概要設定!$J$2:$J$51,0),2))","v":""}]
[null,null,{"$f":"IF(AND($B139>=1,$B139<=17),INDEX(黒!$B$6:$E$39,MATCH($B139,黒!$B$6:$B$39,0),4),\"\")","v":""},null,null,null,null,{"$f":"IF(AND($I139>=1,$I139<=17),INDEX(黒!$B$6:$E$39,MATCH($I139,黒!$B$6:$B$39,0),4),\"\")","v":""},null,null,null,null,{"$f":"IF($A139=\"\",\"\",$B139+$B139+5)","v":""},{"$f":"IF($A139=\"\",\"\",$I139+$I139+4)","v":""},"","","","",{"$f":"IF(AND($B139>=1,$B139<=17),INDEX(黒!$B$6:$E$39,MATCH($B139,黒!$B$6:$B$39,0),2),\"\")","v":""},{"$f":"IF($A139=\"\",\"\",$I139+$I139+5)","v":""},{"$f":"IF($A139=\"\",\"\",$B139+$B139+4)","v":""},"","","","",{"$f":"IF(AND($I139>=1,$I139<=17),INDEX(黒!$B$6:$E$39,MATCH($I139,黒!$B$6:$B$39,0),2),\"\")","v":""}]
[null,null,{"$f":"IF(ISERROR(INDEX(概要設定!$J$2:$K$51,MATCH($C141,概要設定!$J$2:$J$51,0),2)),\"\",INDEX(概要設定!$J$2:$K$51,MATCH($C141,概要設定!$J$2:$J$51,0),2))","v":""},null,null,null,null,{"$f":"IF(ISERROR(INDEX(概要設定!$J$2:$K$51,MATCH($H141,概要設定!$J$2:$J$51,0),2)),\"\",INDEX(概要設定!$J$2:$K$51,MATCH($H141,概要設定!$J$2:$J$51,0),2))","v":""}]
[null,null,{"$f":"IF(AND($B141>=1,$B141<=17),INDEX(黒!$B$6:$E$39,MATCH($B141,黒!$B$6:$B$39,0),4),\"\")","v":""},null,null,null,null,{"$f":"IF(AND($I141>=1,$I141<=17),INDEX(黒!$B$6:$E$39,MATCH($I141,黒!$B$6:$B$39,0),4),\"\")","v":""},null,null,null,null,{"$f":"IF($A141=\"\",\"\",$B141+$B141+5)","v":""},{"$f":"IF($A141=\"\",\"\",$I141+$I141+4)","v":""},"","","","",{"$f":"IF(AND($B141>=1,$B141<=17),INDEX(黒!$B$6:$E$39,MATCH($B141,黒!$B$6:$B$39,0),2),\"\")","v":""},{"$f":"IF($A141=\"\",\"\",$I141+$I141+5)","v":""},{"$f":"IF($A141=\"\",\"\",$B141+$B141+4)","v":""},"","","","",{"$f":"IF(AND($I141>=1,$I141<=17),INDEX(黒!$B$6:$E$39,MATCH($I141,黒!$B$6:$B$39,0),2),\"\")","v":""}]
[null,null,{"$f":"IF(ISERROR(INDEX(概要設定!$J$2:$K$51,MATCH($C143,概要設定!$J$2:$J$51,0),2)),\"\",INDEX(概要設定!$J$2:$K$51,MATCH($C143,概要設定!$J$2:$J$51,0),2))","v":""},null,null,null,null,{"$f":"IF(ISERROR(INDEX(概要設定!$J$2:$K$51,MATCH($H143,概要設定!$J$2:$J$51,0),2)),\"\",INDEX(概要設定!$J$2:$K$51,MATCH($H143,概要設定!$J$2:$J$51,0),2))","v":""}]
[null,null,{"$f":"IF(AND($B143>=1,$B143<=17),INDEX(黒!$B$6:$E$39,MATCH($B143,黒!$B$6:$B$39,0),4),\"\")","v":""},null,null,null,null,{"$f":"IF(AND($I143>=1,$I143<=17),INDEX(黒!$B$6:$E$39,MATCH($I143,黒!$B$6:$B$39,0),4),\"\")","v":""},null,null,null,null,{"$f":"IF($A143=\"\",\"\",$B143+$B143+5)","v":""},{"$f":"IF($A143=\"\",\"\",$I143+$I143+4)","v":""},"","","","",{"$f":"IF(AND($B143>=1,$B143<=17),INDEX(黒!$B$6:$E$39,MATCH($B143,黒!$B$6:$B$39,0),2),\"\")","v":""},{"$f":"IF($A143=\"\",\"\",$I143+$I143+5)","v":""},{"$f":"IF($A143=\"\",\"\",$B143+$B143+4)","v":""},"","","","",{"$f":"IF(AND($I143>=1,$I143<=17),INDEX(黒!$B$6:$E$39,MATCH($I143,黒!$B$6:$B$39,0),2),\"\")","v":""}]
[null,null,{"$f":"IF(ISERROR(INDEX(概要設定!$J$2:$K$51,MATCH($C145,概要設定!$J$2:$J$51,0),2)),\"\",INDEX(概要設定!$J$2:$K$51,MATCH($C145,概要設定!$J$2:$J$51,0),2))","v":""},null,null,null,null,{"$f":"IF(ISERROR(INDEX(概要設定!$J$2:$K$51,MATCH($H145,概要設定!$J$2:$J$51,0),2)),\"\",INDEX(概要設定!$J$2:$K$51,MATCH($H145,概要設定!$J$2:$J$51,0),2))","v":""}]
[null,null,{"$f":"IF(AND($B145>=1,$B145<=17),INDEX(黒!$B$6:$E$39,MATCH($B145,黒!$B$6:$B$39,0),4),\"\")","v":""},null,null,null,null,{"$f":"IF(AND($I145>=1,$I145<=17),INDEX(黒!$B$6:$E$39,MATCH($I145,黒!$B$6:$B$39,0),4),\"\")","v":""},null,null,null,null,{"$f":"IF($A145=\"\",\"\",$B145+$B145+5)","v":""},{"$f":"IF($A145=\"\",\"\",$I145+$I145+4)","v":""},"","","","",{"$f":"IF(AND($B145>=1,$B145<=17),INDEX(黒!$B$6:$E$39,MATCH($B145,黒!$B$6:$B$39,0),2),\"\")","v":""},{"$f":"IF($A145=\"\",\"\",$I145+$I145+5)","v":""},{"$f":"IF($A145=\"\",\"\",$B145+$B145+4)","v":""},"","","","",{"$f":"IF(AND($I145>=1,$I145<=17),INDEX(黒!$B$6:$E$39,MATCH($I145,黒!$B$6:$B$39,0),2),\"\")","v":""}]
[null,null,{"$f":"IF(ISERROR(INDEX(概要設定!$J$2:$K$51,MATCH($C147,概要設定!$J$2:$J$51,0),2)),\"\",INDEX(概要設定!$J$2:$K$51,MATCH($C147,概要設定!$J$2:$J$51,0),2))","v":""},null,null,null,null,{"$f":"IF(ISERROR(INDEX(概要設定!$J$2:$K$51,MATCH($H147,概要設定!$J$2:$J$51,0),2)),\"\",INDEX(概要設定!$J$2:$K$51,MATCH($H147,概要設定!$J$2:$J$51,0),2))","v":""}]
[null,null,{"$f":"IF(AND($B147>=1,$B147<=17),INDEX(黒!$B$6:$E$39,MATCH($B147,黒!$B$6:$B$39,0),4),\"\")","v":""},null,null,null,null,{"$f":"IF(AND($I147>=1,$I147<=17),INDEX(黒!$B$6:$E$39,MATCH($I147,黒!$B$6:$B$39,0),4),\"\")","v":""},null,null,null,null,{"$f":"IF($A147=\"\",\"\",$B147+$B147+5)","v":""},{"$f":"IF($A147=\"\",\"\",$I147+$I147+4)","v":""},"","","","",{"$f":"IF(AND($B147>=1,$B147<=17),INDEX(黒!$B$6:$E$39,MATCH($B147,黒!$B$6:$B$39,0),2),\"\")","v":""},{"$f":"IF($A147=\"\",\"\",$I147+$I147+5)","v":""},{"$f":"IF($A147=\"\",\"\",$B147+$B147+4)","v":""},"","","","",{"$f":"IF(AND($I147>=1,$I147<=17),INDEX(黒!$B$6:$E$39,MATCH($I147,黒!$B$6:$B$39,0),2),\"\")","v":""}]
[null,null,{"$f":"IF(ISERROR(INDEX(概要設定!$J$2:$K$51,MATCH($C149,概要設定!$J$2:$J$51,0),2)),\"\",INDEX(概要設定!$J$2:$K$51,MATCH($C149,概要設定!$J$2:$J$51,0),2))","v":""},null,null,null,null,{"$f":"IF(ISERROR(INDEX(概要設定!$J$2:$K$51,MATCH($H149,概要設定!$J$2:$J$51,0),2)),\"\",INDEX(概要設定!$J$2:$K$51,MATCH($H149,概要設定!$J$2:$J$51,0),2))","v":""}]
[null,null,{"$f":"IF(AND($B149>=1,$B149<=17),INDEX(黒!$B$6:$E$39,MATCH($B149,黒!$B$6:$B$39,0),4),\"\")","v":""},null,null,null,null,{"$f":"IF(AND($I149>=1,$I149<=17),INDEX(黒!$B$6:$E$39,MATCH($I149,黒!$B$6:$B$39,0),4),\"\")","v":""},null,null,null,null,{"$f":"IF($A149=\"\",\"\",$B149+$B149+5)","v":""},{"$f":"IF($A149=\"\",\"\",$I149+$I149+4)","v":""},"","","","",{"$f":"IF(AND($B149>=1,$B149<=17),INDEX(黒!$B$6:$E$39,MATCH($B149,黒!$B$6:$B$39,0),2),\"\")","v":""},{"$f":"IF($A149=\"\",\"\",$I149+$I149+5)","v":""},{"$f":"IF($A149=\"\",\"\",$B149+$B149+4)","v":""},"","","","",{"$f":"IF(AND($I149>=1,$I149<=17),INDEX(黒!$B$6:$E$39,MATCH($I149,黒!$B$6:$B$39,0),2),\"\")","v":""}]
[null,null,{"$f":"IF(ISERROR(INDEX(概要設定!$J$2:$K$51,MATCH($C151,概要設定!$J$2:$J$51,0),2)),\"\",INDEX(概要設定!$J$2:$K$51,MATCH($C151,概要設定!$J$2:$J$51,0),2))","v":""},null,null,null,null,{"$f":"IF(ISERROR(INDEX(概要設定!$J$2:$K$51,MATCH($H151,概要設定!$J$2:$J$51,0),2)),\"\",INDEX(概要設定!$J$2:$K$51,MATCH($H151,概要設定!$J$2:$J$51,0),2))","v":""}]
[null,null,{"$f":"IF(AND($B151>=1,$B151<=17),INDEX(黒!$B$6:$E$39,MATCH($B151,黒!$B$6:$B$39,0),4),\"\")","v":""},null,null,null,null,{"$f":"IF(AND($I151>=1,$I151<=17),INDEX(黒!$B$6:$E$39,MATCH($I151,黒!$B$6:$B$39,0),4),\"\")","v":""},null,null,null,null,{"$f":"IF($A151=\"\",\"\",$B151+$B151+5)","v":""},{"$f":"IF($A151=\"\",\"\",$I151+$I151+4)","v":""},"","","","",{"$f":"IF(AND($B151>=1,$B151<=17),INDEX(黒!$B$6:$E$39,MATCH($B151,黒!$B$6:$B$39,0),2),\"\")","v":""},{"$f":"IF($A151=\"\",\"\",$I151+$I151+5)","v":""},{"$f":"IF($A151=\"\",\"\",$B151+$B151+4)","v":""},"","","","",{"$f":"IF(AND($I151>=1,$I151<=17),INDEX(黒!$B$6:$E$39,MATCH($I151,黒!$B$6:$B$39,0),2),\"\")","v":""}]
[null,null,{"$f":"IF(ISERROR(INDEX(概要設定!$J$2:$K$51,MATCH($C153,概要設定!$J$2:$J$51,0),2)),\"\",INDEX(概要設定!$J$2:$K$51,MATCH($C153,概要設定!$J$2:$J$51,0),2))","v":""},null,null,null,null,{"$f":"IF(ISERROR(INDEX(概要設定!$J$2:$K$51,MATCH($H153,概要設定!$J$2:$J$51,0),2)),\"\",INDEX(概要設定!$J$2:$K$51,MATCH($H153,概要設定!$J$2:$J$51,0),2))","v":""}]
[null,null,{"$f":"IF(AND($B153>=1,$B153<=17),INDEX(黒!$B$6:$E$39,MATCH($B153,黒!$B$6:$B$39,0),4),\"\")","v":""},null,null,null,null,{"$f":"IF(AND($I153>=1,$I153<=17),INDEX(黒!$B$6:$E$39,MATCH($I153,黒!$B$6:$B$39,0),4),\"\")","v":""},null,null,null,null,{"$f":"IF($A153=\"\",\"\",$B153+$B153+5)","v":""},{"$f":"IF($A153=\"\",\"\",$I153+$I153+4)","v":""},"","","","",{"$f":"IF(AND($B153>=1,$B153<=17),INDEX(黒!$B$6:$E$39,MATCH($B153,黒!$B$6:$B$39,0),2),\"\")","v":""},{"$f":"IF($A153=\"\",\"\",$I153+$I153+5)","v":""},{"$f":"IF($A153=\"\",\"\",$B153+$B153+4)","v":""},"","","","",{"$f":"IF(AND($I153>=1,$I153<=17),INDEX(黒!$B$6:$E$39,MATCH($I153,黒!$B$6:$B$39,0),2),\"\")","v":""}]
[null,null,{"$f":"IF(ISERROR(INDEX(概要設定!$J$2:$K$51,MATCH($C155,概要設定!$J$2:$J$51,0),2)),\"\",INDEX(概要設定!$J$2:$K$51,MATCH($C155,概要設定!$J$2:$J$51,0),2))","v":""},null,null,null,null,{"$f":"IF(ISERROR(INDEX(概要設定!$J$2:$K$51,MATCH($H155,概要設定!$J$2:$J$51,0),2)),\"\",INDEX(概要設定!$J$2:$K$51,MATCH($H155,概要設定!$J$2:$J$51,0),2))","v":""}]
[null,null,{"$f":"IF(AND($B155>=1,$B155<=17),INDEX(黒!$B$6:$E$39,MATCH($B155,黒!$B$6:$B$39,0),4),\"\")","v":""},null,null,null,null,{"$f":"IF(AND($I155>=1,$I155<=17),INDEX(黒!$B$6:$E$39,MATCH($I155,黒!$B$6:$B$39,0),4),\"\")","v":""},null,null,null,null,{"$f":"IF($A155=\"\",\"\",$B155+$B155+5)","v":""},{"$f":"IF($A155=\"\",\"\",$I155+$I155+4)","v":""},"","","","",{"$f":"IF(AND($B155>=1,$B155<=17),INDEX(黒!$B$6:$E$39,MATCH($B155,黒!$B$6:$B$39,0),2),\"\")","v":""},{"$f":"IF($A155=\"\",\"\",$I155+$I155+5)","v":""},{"$f":"IF($A155=\"\",\"\",$B155+$B155+4)","v":""},"","","","",{"$f":"IF(AND($I155>=1,$I155<=17),INDEX(黒!$B$6:$E$39,MATCH($I155,黒!$B$6:$B$39,0),2),\"\")","v":""}]
[null,null,{"$f":"IF(ISERROR(INDEX(概要設定!$J$2:$K$51,MATCH($C157,概要設定!$J$2:$J$51,0),2)),\"\",INDEX(概要設定!$J$2:$K$51,MATCH($C157,概要設定!$J$2:$J$51,0),2))","v":""},null,null,null,null,{"$f":"IF(ISERROR(INDEX(概要設定!$J$2:$K$51,MATCH($H157,概要設定!$J$2:$J$51,0),2)),\"\",INDEX(概要設定!$J$2:$K$51,MATCH($H157,概要設定!$J$2:$J$51,0),2))","v":""}]
[null,null,{"$f":"IF(AND($B157>=1,$B157<=17),INDEX(黒!$B$6:$E$39,MATCH($B157,黒!$B$6:$B$39,0),4),\"\")","v":""},null,null,null,null,{"$f":"IF(AND($I157>=1,$I157<=17),INDEX(黒!$B$6:$E$39,MATCH($I157,黒!$B$6:$B$39,0),4),\"\")","v":""},null,null,null,null,{"$f":"IF($A157=\"\",\"\",$B157+$B157+5)","v":""},{"$f":"IF($A157=\"\",\"\",$I157+$I157+4)","v":""},"","","","",{"$f":"IF(AND($B157>=1,$B157<=17),INDEX(黒!$B$6:$E$39,MATCH($B157,黒!$B$6:$B$39,0),2),\"\")","v":""},{"$f":"IF($A157=\"\",\"\",$I157+$I157+5)","v":""},{"$f":"IF($A157=\"\",\"\",$B157+$B157+4)","v":""},"","","","",{"$f":"IF(AND($I157>=1,$I157<=17),INDEX(黒!$B$6:$E$39,MATCH($I157,黒!$B$6:$B$39,0),2),\"\")","v":""}]
[null,null,{"$f":"IF(ISERROR(INDEX(概要設定!$J$2:$K$51,MATCH($C159,概要設定!$J$2:$J$51,0),2)),\"\",INDEX(概要設定!$J$2:$K$51,MATCH($C159,概要設定!$J$2:$J$51,0),2))","v":""},null,null,null,null,{"$f":"IF(ISERROR(INDEX(概要設定!$J$2:$K$51,MATCH($H159,概要設定!$J$2:$J$51,0),2)),\"\",INDEX(概要設定!$J$2:$K$51,MATCH($H159,概要設定!$J$2:$J$51,0),2))","v":""}]
[null,null,{"$f":"IF(AND($B159>=1,$B159<=17),INDEX(黒!$B$6:$E$39,MATCH($B159,黒!$B$6:$B$39,0),4),\"\")","v":""},null,null,null,null,{"$f":"IF(AND($I159>=1,$I159<=17),INDEX(黒!$B$6:$E$39,MATCH($I159,黒!$B$6:$B$39,0),4),\"\")","v":""},null,null,null,null,{"$f":"IF($A159=\"\",\"\",$B159+$B159+5)","v":""},{"$f":"IF($A159=\"\",\"\",$I159+$I159+4)","v":""},"","","","",{"$f":"IF(AND($B159>=1,$B159<=17),INDEX(黒!$B$6:$E$39,MATCH($B159,黒!$B$6:$B$39,0),2),\"\")","v":""},{"$f":"IF($A159=\"\",\"\",$I159+$I159+5)","v":""},{"$f":"IF($A159=\"\",\"\",$B159+$B159+4)","v":""},"","","","",{"$f":"IF(AND($I159>=1,$I159<=17),INDEX(黒!$B$6:$E$39,MATCH($I159,黒!$B$6:$B$39,0),2),\"\")","v":""}]
[null,null,{"$f":"IF(ISERROR(INDEX(概要設定!$J$2:$K$51,MATCH($C161,概要設定!$J$2:$J$51,0),2)),\"\",INDEX(概要設定!$J$2:$K$51,MATCH($C161,概要設定!$J$2:$J$51,0),2))","v":""},null,null,null,null,{"$f":"IF(ISERROR(INDEX(概要設定!$J$2:$K$51,MATCH($H161,概要設定!$J$2:$J$51,0),2)),\"\",INDEX(概要設定!$J$2:$K$51,MATCH($H161,概要設定!$J$2:$J$51,0),2))","v":""}]
[null,null,{"$f":"IF(AND($B161>=1,$B161<=17),INDEX(黒!$B$6:$E$39,MATCH($B161,黒!$B$6:$B$39,0),4),\"\")","v":""},null,null,null,null,{"$f":"IF(AND($I161>=1,$I161<=17),INDEX(黒!$B$6:$E$39,MATCH($I161,黒!$B$6:$B$39,0),4),\"\")","v":""},null,null,null,null,{"$f":"IF($A161=\"\",\"\",$B161+$B161+5)","v":""},{"$f":"IF($A161=\"\",\"\",$I161+$I161+4)","v":""},"","","","",{"$f":"IF(AND($B161>=1,$B161<=17),INDEX(黒!$B$6:$E$39,MATCH($B161,黒!$B$6:$B$39,0),2),\"\")","v":""},{"$f":"IF($A161=\"\",\"\",$I161+$I161+5)","v":""},{"$f":"IF($A161=\"\",\"\",$B161+$B161+4)","v":""},"","","","",{"$f":"IF(AND($I161>=1,$I161<=17),INDEX(黒!$B$6:$E$39,MATCH($I161,黒!$B$6:$B$39,0),2),\"\")","v":""}]
[null,null,{"$f":"IF(ISERROR(INDEX(概要設定!$J$2:$K$51,MATCH($C163,概要設定!$J$2:$J$51,0),2)),\"\",INDEX(概要設定!$J$2:$K$51,MATCH($C163,概要設定!$J$2:$J$51,0),2))","v":""},null,null,null,null,{"$f":"IF(ISERROR(INDEX(概要設定!$J$2:$K$51,MATCH($H163,概要設定!$J$2:$J$51,0),2)),\"\",INDEX(概要設定!$J$2:$K$51,MATCH($H163,概要設定!$J$2:$J$51,0),2))","v":""}]
[null,null,{"$f":"IF(AND($B163>=1,$B163<=17),INDEX(黒!$B$6:$E$39,MATCH($B163,黒!$B$6:$B$39,0),4),\"\")","v":""},null,null,null,null,{"$f":"IF(AND($I163>=1,$I163<=17),INDEX(黒!$B$6:$E$39,MATCH($I163,黒!$B$6:$B$39,0),4),\"\")","v":""},null,null,null,null,{"$f":"IF($A163=\"\",\"\",$B163+$B163+5)","v":""},{"$f":"IF($A163=\"\",\"\",$I163+$I163+4)","v":""},"","","","",{"$f":"IF(AND($B163>=1,$B163<=17),INDEX(黒!$B$6:$E$39,MATCH($B163,黒!$B$6:$B$39,0),2),\"\")","v":""},{"$f":"IF($A163=\"\",\"\",$I163+$I163+5)","v":""},{"$f":"IF($A163=\"\",\"\",$B163+$B163+4)","v":""},"","","","",{"$f":"IF(AND($I163>=1,$I163<=17),INDEX(黒!$B$6:$E$39,MATCH($I163,黒!$B$6:$B$39,0),2),\"\")","v":""}]
[null,null,{"$f":"IF(ISERROR(INDEX(概要設定!$J$2:$K$51,MATCH($C165,概要設定!$J$2:$J$51,0),2)),\"\",INDEX(概要設定!$J$2:$K$51,MATCH($C165,概要設定!$J$2:$J$51,0),2))","v":""},null,null,null,null,{"$f":"IF(ISERROR(INDEX(概要設定!$J$2:$K$51,MATCH($H165,概要設定!$J$2:$J$51,0),2)),\"\",INDEX(概要設定!$J$2:$K$51,MATCH($H165,概要設定!$J$2:$J$51,0),2))","v":""}]
[null,null,{"$f":"IF(AND($B165>=1,$B165<=17),INDEX(黒!$B$6:$E$39,MATCH($B165,黒!$B$6:$B$39,0),4),\"\")","v":""},null,null,null,null,{"$f":"IF(AND($I165>=1,$I165<=17),INDEX(黒!$B$6:$E$39,MATCH($I165,黒!$B$6:$B$39,0),4),\"\")","v":""},null,null,null,null,{"$f":"IF($A165=\"\",\"\",$B165+$B165+5)","v":""},{"$f":"IF($A165=\"\",\"\",$I165+$I165+4)","v":""},"","","","",{"$f":"IF(AND($B165>=1,$B165<=17),INDEX(黒!$B$6:$E$39,MATCH($B165,黒!$B$6:$B$39,0),2),\"\")","v":""},{"$f":"IF($A165=\"\",\"\",$I165+$I165+5)","v":""},{"$f":"IF($A165=\"\",\"\",$B165+$B165+4)","v":""},"","","","",{"$f":"IF(AND($I165>=1,$I165<=17),INDEX(黒!$B$6:$E$39,MATCH($I165,黒!$B$6:$B$39,0),2),\"\")","v":""}]
[null,null,{"$f":"IF(ISERROR(INDEX(概要設定!$J$2:$K$51,MATCH($C167,概要設定!$J$2:$J$51,0),2)),\"\",INDEX(概要設定!$J$2:$K$51,MATCH($C167,概要設定!$J$2:$J$51,0),2))","v":""},null,null,null,null,{"$f":"IF(ISERROR(INDEX(概要設定!$J$2:$K$51,MATCH($H167,概要設定!$J$2:$J$51,0),2)),\"\",INDEX(概要設定!$J$2:$K$51,MATCH($H167,概要設定!$J$2:$J$51,0),2))","v":""}]
[null,null,{"$f":"IF(AND($B167>=1,$B167<=17),INDEX(黒!$B$6:$E$39,MATCH($B167,黒!$B$6:$B$39,0),4),\"\")","v":""},null,null,null,null,{"$f":"IF(AND($I167>=1,$I167<=17),INDEX(黒!$B$6:$E$39,MATCH($I167,黒!$B$6:$B$39,0),4),\"\")","v":""},null,null,null,null,{"$f":"IF($A167=\"\",\"\",$B167+$B167+5)","v":""},{"$f":"IF($A167=\"\",\"\",$I167+$I167+4)","v":""},"","","","",{"$f":"IF(AND($B167>=1,$B167<=17),INDEX(黒!$B$6:$E$39,MATCH($B167,黒!$B$6:$B$39,0),2),\"\")","v":""},{"$f":"IF($A167=\"\",\"\",$I167+$I167+5)","v":""},{"$f":"IF($A167=\"\",\"\",$B167+$B167+4)","v":""},"","","","",{"$f":"IF(AND($I167>=1,$I167<=17),INDEX(黒!$B$6:$E$39,MATCH($I167,黒!$B$6:$B$39,0),2),\"\")","v":""}]
[null,null,{"$f":"IF(ISERROR(INDEX(概要設定!$J$2:$K$51,MATCH($C169,概要設定!$J$2:$J$51,0),2)),\"\",INDEX(概要設定!$J$2:$K$51,MATCH($C169,概要設定!$J$2:$J$51,0),2))","v":""},null,null,null,null,{"$f":"IF(ISERROR(INDEX(概要設定!$J$2:$K$51,MATCH($H169,概要設定!$J$2:$J$51,0),2)),\"\",INDEX(概要設定!$J$2:$K$51,MATCH($H169,概要設定!$J$2:$J$51,0),2))","v":""}]
[null,null,{"$f":"IF(AND($B169>=1,$B169<=17),INDEX(黒!$B$6:$E$39,MATCH($B169,黒!$B$6:$B$39,0),4),\"\")","v":""},null,null,null,null,{"$f":"IF(AND($I169>=1,$I169<=17),INDEX(黒!$B$6:$E$39,MATCH($I169,黒!$B$6:$B$39,0),4),\"\")","v":""},null,null,null,null,{"$f":"IF($A169=\"\",\"\",$B169+$B169+5)","v":""},{"$f":"IF($A169=\"\",\"\",$I169+$I169+4)","v":""},"","","","",{"$f":"IF(AND($B169>=1,$B169<=17),INDEX(黒!$B$6:$E$39,MATCH($B169,黒!$B$6:$B$39,0),2),\"\")","v":""},{"$f":"IF($A169=\"\",\"\",$I169+$I169+5)","v":""},{"$f":"IF($A169=\"\",\"\",$B169+$B169+4)","v":""},"","","","",{"$f":"IF(AND($I169>=1,$I169<=17),INDEX(黒!$B$6:$E$39,MATCH($I169,黒!$B$6:$B$39,0),2),\"\")","v":""}]
[null,null,{"$f":"IF(ISERROR(INDEX(概要設定!$J$2:$K$51,MATCH($C171,概要設定!$J$2:$J$51,0),2)),\"\",INDEX(概要設定!$J$2:$K$51,MATCH($C171,概要設定!$J$2:$J$51,0),2))","v":""},null,null,null,null,{"$f":"IF(ISERROR(INDEX(概要設定!$J$2:$K$51,MATCH($H171,概要設定!$J$2:$J$51,0),2)),\"\",INDEX(概要設定!$J$2:$K$51,MATCH($H171,概要設定!$J$2:$J$51,0),2))","v":""}]
[null,null,{"$f":"IF(AND($B171>=1,$B171<=17),INDEX(黒!$B$6:$E$39,MATCH($B171,黒!$B$6:$B$39,0),4),\"\")","v":""},null,null,null,null,{"$f":"IF(AND($I171>=1,$I171<=17),INDEX(黒!$B$6:$E$39,MATCH($I171,黒!$B$6:$B$39,0),4),\"\")","v":""},null,null,null,null,{"$f":"IF($A171=\"\",\"\",$B171+$B171+5)","v":""},{"$f":"IF($A171=\"\",\"\",$I171+$I171+4)","v":""},"","","","",{"$f":"IF(AND($B171>=1,$B171<=17),INDEX(黒!$B$6:$E$39,MATCH($B171,黒!$B$6:$B$39,0),2),\"\")","v":""},{"$f":"IF($A171=\"\",\"\",$I171+$I171+5)","v":""},{"$f":"IF($A171=\"\",\"\",$B171+$B171+4)","v":""},"","","","",{"$f":"IF(AND($I171>=1,$I171<=17),INDEX(黒!$B$6:$E$39,MATCH($I171,黒!$B$6:$B$39,0),2),\"\")","v":""}]
[null,null,{"$f":"IF(ISERROR(INDEX(概要設定!$J$2:$K$51,MATCH($C173,概要設定!$J$2:$J$51,0),2)),\"\",INDEX(概要設定!$J$2:$K$51,MATCH($C173,概要設定!$J$2:$J$51,0),2))","v":""},null,null,null,null,{"$f":"IF(ISERROR(INDEX(概要設定!$J$2:$K$51,MATCH($H173,概要設定!$J$2:$J$51,0),2)),\"\",INDEX(概要設定!$J$2:$K$51,MATCH($H173,概要設定!$J$2:$J$51,0),2))","v":""}]
[null,null,{"$f":"IF(AND($B173>=1,$B173<=17),INDEX(黒!$B$6:$E$39,MATCH($B173,黒!$B$6:$B$39,0),4),\"\")","v":""},null,null,null,null,{"$f":"IF(AND($I173>=1,$I173<=17),INDEX(黒!$B$6:$E$39,MATCH($I173,黒!$B$6:$B$39,0),4),\"\")","v":""},null,null,null,null,{"$f":"IF($A173=\"\",\"\",$B173+$B173+5)","v":""},{"$f":"IF($A173=\"\",\"\",$I173+$I173+4)","v":""},"","","","",{"$f":"IF(AND($B173>=1,$B173<=17),INDEX(黒!$B$6:$E$39,MATCH($B173,黒!$B$6:$B$39,0),2),\"\")","v":""},{"$f":"IF($A173=\"\",\"\",$I173+$I173+5)","v":""},{"$f":"IF($A173=\"\",\"\",$B173+$B173+4)","v":""},"","","","",{"$f":"IF(AND($I173>=1,$I173<=17),INDEX(黒!$B$6:$E$39,MATCH($I173,黒!$B$6:$B$39,0),2),\"\")","v":""}]
[null,null,{"$f":"IF(ISERROR(INDEX(概要設定!$J$2:$K$51,MATCH($C175,概要設定!$J$2:$J$51,0),2)),\"\",INDEX(概要設定!$J$2:$K$51,MATCH($C175,概要設定!$J$2:$J$51,0),2))","v":""},null,null,null,null,{"$f":"IF(ISERROR(INDEX(概要設定!$J$2:$K$51,MATCH($H175,概要設定!$J$2:$J$51,0),2)),\"\",INDEX(概要設定!$J$2:$K$51,MATCH($H175,概要設定!$J$2:$J$51,0),2))","v":""}]
[null,null,{"$f":"IF(AND($B175>=1,$B175<=17),INDEX(黒!$B$6:$E$39,MATCH($B175,黒!$B$6:$B$39,0),4),\"\")","v":""},null,null,null,null,{"$f":"IF(AND($I175>=1,$I175<=17),INDEX(黒!$B$6:$E$39,MATCH($I175,黒!$B$6:$B$39,0),4),\"\")","v":""},null,null,null,null,{"$f":"IF($A175=\"\",\"\",$B175+$B175+5)","v":""},{"$f":"IF($A175=\"\",\"\",$I175+$I175+4)","v":""},"","","","",{"$f":"IF(AND($B175>=1,$B175<=17),INDEX(黒!$B$6:$E$39,MATCH($B175,黒!$B$6:$B$39,0),2),\"\")","v":""},{"$f":"IF($A175=\"\",\"\",$I175+$I175+5)","v":""},{"$f":"IF($A175=\"\",\"\",$B175+$B175+4)","v":""},"","","","",{"$f":"IF(AND($I175>=1,$I175<=17),INDEX(黒!$B$6:$E$39,MATCH($I175,黒!$B$6:$B$39,0),2),\"\")","v":""}]
[null,null,{"$f":"IF(ISERROR(INDEX(概要設定!$J$2:$K$51,MATCH($C177,概要設定!$J$2:$J$51,0),2)),\"\",INDEX(概要設定!$J$2:$K$51,MATCH($C177,概要設定!$J$2:$J$51,0),2))","v":""},null,null,null,null,{"$f":"IF(ISERROR(INDEX(概要設定!$J$2:$K$51,MATCH($H177,概要設定!$J$2:$J$51,0),2)),\"\",INDEX(概要設定!$J$2:$K$51,MATCH($H177,概要設定!$J$2:$J$51,0),2))","v":""}]
[null,null,{"$f":"IF(AND($B177>=1,$B177<=17),INDEX(黒!$B$6:$E$39,MATCH($B177,黒!$B$6:$B$39,0),4),\"\")","v":""},null,null,null,null,{"$f":"IF(AND($I177>=1,$I177<=17),INDEX(黒!$B$6:$E$39,MATCH($I177,黒!$B$6:$B$39,0),4),\"\")","v":""},null,null,null,null,{"$f":"IF($A177=\"\",\"\",$B177+$B177+5)","v":""},{"$f":"IF($A177=\"\",\"\",$I177+$I177+4)","v":""},"","","","",{"$f":"IF(AND($B177>=1,$B177<=17),INDEX(黒!$B$6:$E$39,MATCH($B177,黒!$B$6:$B$39,0),2),\"\")","v":""},{"$f":"IF($A177=\"\",\"\",$I177+$I177+5)","v":""},{"$f":"IF($A177=\"\",\"\",$B177+$B177+4)","v":""},"","","","",{"$f":"IF(AND($I177>=1,$I177<=17),INDEX(黒!$B$6:$E$39,MATCH($I177,黒!$B$6:$B$39,0),2),\"\")","v":""}]
[null,null,{"$f":"IF(ISERROR(INDEX(概要設定!$J$2:$K$51,MATCH($C179,概要設定!$J$2:$J$51,0),2)),\"\",INDEX(概要設定!$J$2:$K$51,MATCH($C179,概要設定!$J$2:$J$51,0),2))","v":""},null,null,null,null,{"$f":"IF(ISERROR(INDEX(概要設定!$J$2:$K$51,MATCH($H179,概要設定!$J$2:$J$51,0),2)),\"\",INDEX(概要設定!$J$2:$K$51,MATCH($H179,概要設定!$J$2:$J$51,0),2))","v":""}]
[null,null,{"$f":"IF(AND($B179>=1,$B179<=17),INDEX(黒!$B$6:$E$39,MATCH($B179,黒!$B$6:$B$39,0),4),\"\")","v":""},null,null,null,null,{"$f":"IF(AND($I179>=1,$I179<=17),INDEX(黒!$B$6:$E$39,MATCH($I179,黒!$B$6:$B$39,0),4),\"\")","v":""},null,null,null,null,{"$f":"IF($A179=\"\",\"\",$B179+$B179+5)","v":""},{"$f":"IF($A179=\"\",\"\",$I179+$I179+4)","v":""},"","","","",{"$f":"IF(AND($B179>=1,$B179<=17),INDEX(黒!$B$6:$E$39,MATCH($B179,黒!$B$6:$B$39,0),2),\"\")","v":""},{"$f":"IF($A179=\"\",\"\",$I179+$I179+5)","v":""},{"$f":"IF($A179=\"\",\"\",$B179+$B179+4)","v":""},"","","","",{"$f":"IF(AND($I179>=1,$I179<=17),INDEX(黒!$B$6:$E$39,MATCH($I179,黒!$B$6:$B$39,0),2),\"\")","v":""}]
[null,null,{"$f":"IF(ISERROR(INDEX(概要設定!$J$2:$K$51,MATCH($C181,概要設定!$J$2:$J$51,0),2)),\"\",INDEX(概要設定!$J$2:$K$51,MATCH($C181,概要設定!$J$2:$J$51,0),2))","v":""},null,null,null,null,{"$f":"IF(ISERROR(INDEX(概要設定!$J$2:$K$51,MATCH($H181,概要設定!$J$2:$J$51,0),2)),\"\",INDEX(概要設定!$J$2:$K$51,MATCH($H181,概要設定!$J$2:$J$51,0),2))","v":""}]
[null,null,{"$f":"IF(AND($B181>=1,$B181<=17),INDEX(黒!$B$6:$E$39,MATCH($B181,黒!$B$6:$B$39,0),4),\"\")","v":""},null,null,null,null,{"$f":"IF(AND($I181>=1,$I181<=17),INDEX(黒!$B$6:$E$39,MATCH($I181,黒!$B$6:$B$39,0),4),\"\")","v":""},null,null,null,null,{"$f":"IF($A181=\"\",\"\",$B181+$B181+5)","v":""},{"$f":"IF($A181=\"\",\"\",$I181+$I181+4)","v":""},"","","","",{"$f":"IF(AND($B181>=1,$B181<=17),INDEX(黒!$B$6:$E$39,MATCH($B181,黒!$B$6:$B$39,0),2),\"\")","v":""},{"$f":"IF($A181=\"\",\"\",$I181+$I181+5)","v":""},{"$f":"IF($A181=\"\",\"\",$B181+$B181+4)","v":""},"","","","",{"$f":"IF(AND($I181>=1,$I181<=17),INDEX(黒!$B$6:$E$39,MATCH($I181,黒!$B$6:$B$39,0),2),\"\")","v":""}]
[null,null,{"$f":"IF(ISERROR(INDEX(概要設定!$J$2:$K$51,MATCH($C183,概要設定!$J$2:$J$51,0),2)),\"\",INDEX(概要設定!$J$2:$K$51,MATCH($C183,概要設定!$J$2:$J$51,0),2))","v":""},null,null,null,null,{"$f":"IF(ISERROR(INDEX(概要設定!$J$2:$K$51,MATCH($H183,概要設定!$J$2:$J$51,0),2)),\"\",INDEX(概要設定!$J$2:$K$51,MATCH($H183,概要設定!$J$2:$J$51,0),2))","v":""}]
[null,null,{"$f":"IF(AND($B183>=1,$B183<=17),INDEX(黒!$B$6:$E$39,MATCH($B183,黒!$B$6:$B$39,0),4),\"\")","v":""},null,null,null,null,{"$f":"IF(AND($I183>=1,$I183<=17),INDEX(黒!$B$6:$E$39,MATCH($I183,黒!$B$6:$B$39,0),4),\"\")","v":""},null,null,null,null,{"$f":"IF($A183=\"\",\"\",$B183+$B183+5)","v":""},{"$f":"IF($A183=\"\",\"\",$I183+$I183+4)","v":""},"","","","",{"$f":"IF(AND($B183>=1,$B183<=17),INDEX(黒!$B$6:$E$39,MATCH($B183,黒!$B$6:$B$39,0),2),\"\")","v":""},{"$f":"IF($A183=\"\",\"\",$I183+$I183+5)","v":""},{"$f":"IF($A183=\"\",\"\",$B183+$B183+4)","v":""},"","","","",{"$f":"IF(AND($I183>=1,$I183<=17),INDEX(黒!$B$6:$E$39,MATCH($I183,黒!$B$6:$B$39,0),2),\"\")","v":""}]
[null,null,{"$f":"IF(ISERROR(INDEX(概要設定!$J$2:$K$51,MATCH($C185,概要設定!$J$2:$J$51,0),2)),\"\",INDEX(概要設定!$J$2:$K$51,MATCH($C185,概要設定!$J$2:$J$51,0),2))","v":""},null,null,null,null,{"$f":"IF(ISERROR(INDEX(概要設定!$J$2:$K$51,MATCH($H185,概要設定!$J$2:$J$51,0),2)),\"\",INDEX(概要設定!$J$2:$K$51,MATCH($H185,概要設定!$J$2:$J$51,0),2))","v":""}]
[null,null,{"$f":"IF(AND($B185>=1,$B185<=17),INDEX(黒!$B$6:$E$39,MATCH($B185,黒!$B$6:$B$39,0),4),\"\")","v":""},null,null,null,null,{"$f":"IF(AND($I185>=1,$I185<=17),INDEX(黒!$B$6:$E$39,MATCH($I185,黒!$B$6:$B$39,0),4),\"\")","v":""},null,null,null,null,{"$f":"IF($A185=\"\",\"\",$B185+$B185+5)","v":""},{"$f":"IF($A185=\"\",\"\",$I185+$I185+4)","v":""},"","","","",{"$f":"IF(AND($B185>=1,$B185<=17),INDEX(黒!$B$6:$E$39,MATCH($B185,黒!$B$6:$B$39,0),2),\"\")","v":""},{"$f":"IF($A185=\"\",\"\",$I185+$I185+5)","v":""},{"$f":"IF($A185=\"\",\"\",$B185+$B185+4)","v":""},"","","","",{"$f":"IF(AND($I185>=1,$I185<=17),INDEX(黒!$B$6:$E$39,MATCH($I185,黒!$B$6:$B$39,0),2),\"\")","v":""}]
[null,null,{"$f":"IF(ISERROR(INDEX(概要設定!$J$2:$K$51,MATCH($C187,概要設定!$J$2:$J$51,0),2)),\"\",INDEX(概要設定!$J$2:$K$51,MATCH($C187,概要設定!$J$2:$J$51,0),2))","v":""},null,null,null,null,{"$f":"IF(ISERROR(INDEX(概要設定!$J$2:$K$51,MATCH($H187,概要設定!$J$2:$J$51,0),2)),\"\",INDEX(概要設定!$J$2:$K$51,MATCH($H187,概要設定!$J$2:$J$51,0),2))","v":""}]
[null,null,{"$f":"IF(AND($B187>=1,$B187<=17),INDEX(黒!$B$6:$E$39,MATCH($B187,黒!$B$6:$B$39,0),4),\"\")","v":""},null,null,null,null,{"$f":"IF(AND($I187>=1,$I187<=17),INDEX(黒!$B$6:$E$39,MATCH($I187,黒!$B$6:$B$39,0),4),\"\")","v":""},null,null,null,null,{"$f":"IF($A187=\"\",\"\",$B187+$B187+5)","v":""},{"$f":"IF($A187=\"\",\"\",$I187+$I187+4)","v":""},"","","","",{"$f":"IF(AND($B187>=1,$B187<=17),INDEX(黒!$B$6:$E$39,MATCH($B187,黒!$B$6:$B$39,0),2),\"\")","v":""},{"$f":"IF($A187=\"\",\"\",$I187+$I187+5)","v":""},{"$f":"IF($A187=\"\",\"\",$B187+$B187+4)","v":""},"","","","",{"$f":"IF(AND($I187>=1,$I187<=17),INDEX(黒!$B$6:$E$39,MATCH($I187,黒!$B$6:$B$39,0),2),\"\")","v":""}]
[null,null,{"$f":"IF(ISERROR(INDEX(概要設定!$J$2:$K$51,MATCH($C189,概要設定!$J$2:$J$51,0),2)),\"\",INDEX(概要設定!$J$2:$K$51,MATCH($C189,概要設定!$J$2:$J$51,0),2))","v":""},null,null,null,null,{"$f":"IF(ISERROR(INDEX(概要設定!$J$2:$K$51,MATCH($H189,概要設定!$J$2:$J$51,0),2)),\"\",INDEX(概要設定!$J$2:$K$51,MATCH($H189,概要設定!$J$2:$J$51,0),2))","v":""}]
[null,null,{"$f":"IF(AND($B189>=1,$B189<=17),INDEX(黒!$B$6:$E$39,MATCH($B189,黒!$B$6:$B$39,0),4),\"\")","v":""},null,null,null,null,{"$f":"IF(AND($I189>=1,$I189<=17),INDEX(黒!$B$6:$E$39,MATCH($I189,黒!$B$6:$B$39,0),4),\"\")","v":""},null,null,null,null,{"$f":"IF($A189=\"\",\"\",$B189+$B189+5)","v":""},{"$f":"IF($A189=\"\",\"\",$I189+$I189+4)","v":""},"","","","",{"$f":"IF(AND($B189>=1,$B189<=17),INDEX(黒!$B$6:$E$39,MATCH($B189,黒!$B$6:$B$39,0),2),\"\")","v":""},{"$f":"IF($A189=\"\",\"\",$I189+$I189+5)","v":""},{"$f":"IF($A189=\"\",\"\",$B189+$B189+4)","v":""},"","","","",{"$f":"IF(AND($I189>=1,$I189<=17),INDEX(黒!$B$6:$E$39,MATCH($I189,黒!$B$6:$B$39,0),2),\"\")","v":""}]
[null,null,{"$f":"IF(ISERROR(INDEX(概要設定!$J$2:$K$51,MATCH($C191,概要設定!$J$2:$J$51,0),2)),\"\",INDEX(概要設定!$J$2:$K$51,MATCH($C191,概要設定!$J$2:$J$51,0),2))","v":""},null,null,null,null,{"$f":"IF(ISERROR(INDEX(概要設定!$J$2:$K$51,MATCH($H191,概要設定!$J$2:$J$51,0),2)),\"\",INDEX(概要設定!$J$2:$K$51,MATCH($H191,概要設定!$J$2:$J$51,0),2))","v":""}]
[null,null,{"$f":"IF(AND($B191>=1,$B191<=17),INDEX(黒!$B$6:$E$39,MATCH($B191,黒!$B$6:$B$39,0),4),\"\")","v":""},null,null,null,null,{"$f":"IF(AND($I191>=1,$I191<=17),INDEX(黒!$B$6:$E$39,MATCH($I191,黒!$B$6:$B$39,0),4),\"\")","v":""},null,null,null,null,{"$f":"IF($A191=\"\",\"\",$B191+$B191+5)","v":""},{"$f":"IF($A191=\"\",\"\",$I191+$I191+4)","v":""},"","","","",{"$f":"IF(AND($B191>=1,$B191<=17),INDEX(黒!$B$6:$E$39,MATCH($B191,黒!$B$6:$B$39,0),2),\"\")","v":""},{"$f":"IF($A191=\"\",\"\",$I191+$I191+5)","v":""},{"$f":"IF($A191=\"\",\"\",$B191+$B191+4)","v":""},"","","","",{"$f":"IF(AND($I191>=1,$I191<=17),INDEX(黒!$B$6:$E$39,MATCH($I191,黒!$B$6:$B$39,0),2),\"\")","v":""}]
[null,null,{"$f":"IF(ISERROR(INDEX(概要設定!$J$2:$K$51,MATCH($C193,概要設定!$J$2:$J$51,0),2)),\"\",INDEX(概要設定!$J$2:$K$51,MATCH($C193,概要設定!$J$2:$J$51,0),2))","v":""},null,null,null,null,{"$f":"IF(ISERROR(INDEX(概要設定!$J$2:$K$51,MATCH($H193,概要設定!$J$2:$J$51,0),2)),\"\",INDEX(概要設定!$J$2:$K$51,MATCH($H193,概要設定!$J$2:$J$51,0),2))","v":""}]
[null,null,{"$f":"IF(AND($B193>=1,$B193<=17),INDEX(黒!$B$6:$E$39,MATCH($B193,黒!$B$6:$B$39,0),4),\"\")","v":""},null,null,null,null,{"$f":"IF(AND($I193>=1,$I193<=17),INDEX(黒!$B$6:$E$39,MATCH($I193,黒!$B$6:$B$39,0),4),\"\")","v":""},null,null,null,null,{"$f":"IF($A193=\"\",\"\",$B193+$B193+5)","v":""},{"$f":"IF($A193=\"\",\"\",$I193+$I193+4)","v":""},"","","","",{"$f":"IF(AND($B193>=1,$B193<=17),INDEX(黒!$B$6:$E$39,MATCH($B193,黒!$B$6:$B$39,0),2),\"\")","v":""},{"$f":"IF($A193=\"\",\"\",$I193+$I193+5)","v":""},{"$f":"IF($A193=\"\",\"\",$B193+$B193+4)","v":""},"","","","",{"$f":"IF(AND($I193>=1,$I193<=17),INDEX(黒!$B$6:$E$39,MATCH($I193,黒!$B$6:$B$39,0),2),\"\")","v":""}]
[null,null,{"$f":"IF(ISERROR(INDEX(概要設定!$J$2:$K$51,MATCH($C195,概要設定!$J$2:$J$51,0),2)),\"\",INDEX(概要設定!$J$2:$K$51,MATCH($C195,概要設定!$J$2:$J$51,0),2))","v":""},null,null,null,null,{"$f":"IF(ISERROR(INDEX(概要設定!$J$2:$K$51,MATCH($H195,概要設定!$J$2:$J$51,0),2)),\"\",INDEX(概要設定!$J$2:$K$51,MATCH($H195,概要設定!$J$2:$J$51,0),2))","v":""}]
[null,null,{"$f":"IF(AND($B195>=1,$B195<=17),INDEX(黒!$B$6:$E$39,MATCH($B195,黒!$B$6:$B$39,0),4),\"\")","v":""},null,null,null,null,{"$f":"IF(AND($I195>=1,$I195<=17),INDEX(黒!$B$6:$E$39,MATCH($I195,黒!$B$6:$B$39,0),4),\"\")","v":""},null,null,null,null,{"$f":"IF($A195=\"\",\"\",$B195+$B195+5)","v":""},{"$f":"IF($A195=\"\",\"\",$I195+$I195+4)","v":""},"","","","",{"$f":"IF(AND($B195>=1,$B195<=17),INDEX(黒!$B$6:$E$39,MATCH($B195,黒!$B$6:$B$39,0),2),\"\")","v":""},{"$f":"IF($A195=\"\",\"\",$I195+$I195+5)","v":""},{"$f":"IF($A195=\"\",\"\",$B195+$B195+4)","v":""},"","","","",{"$f":"IF(AND($I195>=1,$I195<=17),INDEX(黒!$B$6:$E$39,MATCH($I195,黒!$B$6:$B$39,0),2),\"\")","v":""}]
[null,null,{"$f":"IF(ISERROR(INDEX(概要設定!$J$2:$K$51,MATCH($C197,概要設定!$J$2:$J$51,0),2)),\"\",INDEX(概要設定!$J$2:$K$51,MATCH($C197,概要設定!$J$2:$J$51,0),2))","v":""},null,null,null,null,{"$f":"IF(ISERROR(INDEX(概要設定!$J$2:$K$51,MATCH($H197,概要設定!$J$2:$J$51,0),2)),\"\",INDEX(概要設定!$J$2:$K$51,MATCH($H197,概要設定!$J$2:$J$51,0),2))","v":""}]
[null,null,{"$f":"IF(AND($B197>=1,$B197<=17),INDEX(黒!$B$6:$E$39,MATCH($B197,黒!$B$6:$B$39,0),4),\"\")","v":""},null,null,null,null,{"$f":"IF(AND($I197>=1,$I197<=17),INDEX(黒!$B$6:$E$39,MATCH($I197,黒!$B$6:$B$39,0),4),\"\")","v":""},null,null,null,null,{"$f":"IF($A197=\"\",\"\",$B197+$B197+5)","v":""},{"$f":"IF($A197=\"\",\"\",$I197+$I197+4)","v":""},"","","","",{"$f":"IF(AND($B197>=1,$B197<=17),INDEX(黒!$B$6:$E$39,MATCH($B197,黒!$B$6:$B$39,0),2),\"\")","v":""},{"$f":"IF($A197=\"\",\"\",$I197+$I197+5)","v":""},{"$f":"IF($A197=\"\",\"\",$B197+$B197+4)","v":""},"","","","",{"$f":"IF(AND($I197>=1,$I197<=17),INDEX(黒!$B$6:$E$39,MATCH($I197,黒!$B$6:$B$39,0),2),\"\")","v":""}]
[null,null,{"$f":"IF(ISERROR(INDEX(概要設定!$J$2:$K$51,MATCH($C199,概要設定!$J$2:$J$51,0),2)),\"\",INDEX(概要設定!$J$2:$K$51,MATCH($C199,概要設定!$J$2:$J$51,0),2))","v":""},null,null,null,null,{"$f":"IF(ISERROR(INDEX(概要設定!$J$2:$K$51,MATCH($H199,概要設定!$J$2:$J$51,0),2)),\"\",INDEX(概要設定!$J$2:$K$51,MATCH($H199,概要設定!$J$2:$J$51,0),2))","v":""}]
[null,null,{"$f":"IF(AND($B199>=1,$B199<=17),INDEX(黒!$B$6:$E$39,MATCH($B199,黒!$B$6:$B$39,0),4),\"\")","v":""},null,null,null,null,{"$f":"IF(AND($I199>=1,$I199<=17),INDEX(黒!$B$6:$E$39,MATCH($I199,黒!$B$6:$B$39,0),4),\"\")","v":""},null,null,null,null,{"$f":"IF($A199=\"\",\"\",$B199+$B199+5)","v":""},{"$f":"IF($A199=\"\",\"\",$I199+$I199+4)","v":""},"","","","",{"$f":"IF(AND($B199>=1,$B199<=17),INDEX(黒!$B$6:$E$39,MATCH($B199,黒!$B$6:$B$39,0),2),\"\")","v":""},{"$f":"IF($A199=\"\",\"\",$I199+$I199+5)","v":""},{"$f":"IF($A199=\"\",\"\",$B199+$B199+4)","v":""},"","","","",{"$f":"IF(AND($I199>=1,$I199<=17),INDEX(黒!$B$6:$E$39,MATCH($I199,黒!$B$6:$B$39,0),2),\"\")","v":""}]
[null,null,{"$f":"IF(ISERROR(INDEX(概要設定!$J$2:$K$51,MATCH($C201,概要設定!$J$2:$J$51,0),2)),\"\",INDEX(概要設定!$J$2:$K$51,MATCH($C201,概要設定!$J$2:$J$51,0),2))","v":""},null,null,null,null,{"$f":"IF(ISERROR(INDEX(概要設定!$J$2:$K$51,MATCH($H201,概要設定!$J$2:$J$51,0),2)),\"\",INDEX(概要設定!$J$2:$K$51,MATCH($H201,概要設定!$J$2:$J$51,0),2))","v":""}]
[null,null,{"$f":"IF(AND($B201>=1,$B201<=17),INDEX(黒!$B$6:$E$39,MATCH($B201,黒!$B$6:$B$39,0),4),\"\")","v":""},null,null,null,null,{"$f":"IF(AND($I201>=1,$I201<=17),INDEX(黒!$B$6:$E$39,MATCH($I201,黒!$B$6:$B$39,0),4),\"\")","v":""},null,null,null,null,{"$f":"IF($A201=\"\",\"\",$B201+$B201+5)","v":""},{"$f":"IF($A201=\"\",\"\",$I201+$I201+4)","v":""},{"$f":"IF($A201=\"\",\"\",$M201-1)","v":""},{"$f":"IF($A201=\"\",\"\",$N201)","v":""},{"$f":"IF($A201=\"\",\"\",$M201-1)","v":""},{"$f":"IF($A201=\"\",\"\",$N201+1)","v":""},{"$f":"IF(AND($B201>=1,$B201<=17),INDEX(黒!$B$6:$E$39,MATCH($B201,黒!$B$6:$B$39,0),2),\"\")","v":""},{"$f":"IF($A201=\"\",\"\",$I201+$I201+5)","v":""},{"$f":"IF($A201=\"\",\"\",$B201+$B201+4)","v":""},{"$f":"IF($A201=\"\",\"\",$T201-1)","v":""},{"$f":"IF($A201=\"\",\"\",$U201)","v":""},{"$f":"IF($A201=\"\",\"\",$T201-1)","v":""},{"$f":"IF($A201=\"\",\"\",$U201+1)","v":""},{"$f":"IF(AND($I201>=1,$I201<=17),INDEX(黒!$B$6:$E$39,MATCH($I201,黒!$B$6:$B$39,0),2),\"\")","v":""}]
[null,null,{"$f":"IF(ISERROR(INDEX(概要設定!$J$2:$K$51,MATCH($C203,概要設定!$J$2:$J$51,0),2)),\"\",INDEX(概要設定!$J$2:$K$51,MATCH($C203,概要設定!$J$2:$J$51,0),2))","v":""},null,null,null,null,{"$f":"IF(ISERROR(INDEX(概要設定!$J$2:$K$51,MATCH($H203,概要設定!$J$2:$J$51,0),2)),\"\",INDEX(概要設定!$J$2:$K$51,MATCH($H203,概要設定!$J$2:$J$51,0),2))","v":""}]
[null,null,{"$f":"IF(AND($B203>=1,$B203<=17),INDEX(黒!$B$6:$E$39,MATCH($B203,黒!$B$6:$B$39,0),4),\"\")","v":""},null,null,null,null,{"$f":"IF(AND($I203>=1,$I203<=17),INDEX(黒!$B$6:$E$39,MATCH($I203,黒!$B$6:$B$39,0),4),\"\")","v":""},null,null,null,null,{"$f":"IF($A203=\"\",\"\",$B203+$B203+5)","v":""},{"$f":"IF($A203=\"\",\"\",$I203+$I203+4)","v":""},"","","","",{"$f":"IF(AND($B203>=1,$B203<=17),INDEX(黒!$B$6:$E$39,MATCH($B203,黒!$B$6:$B$39,0),2),\"\")","v":""},{"$f":"IF($A203=\"\",\"\",$I203+$I203+5)","v":""},{"$f":"IF($A203=\"\",\"\",$B203+$B203+4)","v":""},"","","","",{"$f":"IF(AND($I203>=1,$I203<=17),INDEX(黒!$B$6:$E$39,MATCH($I203,黒!$B$6:$B$39,0),2),\"\")","v":""}]
[null,null,{"$f":"IF(ISERROR(INDEX(概要設定!$J$2:$K$51,MATCH($C205,概要設定!$J$2:$J$51,0),2)),\"\",INDEX(概要設定!$J$2:$K$51,MATCH($C205,概要設定!$J$2:$J$51,0),2))","v":""},null,null,null,null,{"$f":"IF(ISERROR(INDEX(概要設定!$J$2:$K$51,MATCH($H205,概要設定!$J$2:$J$51,0),2)),\"\",INDEX(概要設定!$J$2:$K$51,MATCH($H205,概要設定!$J$2:$J$51,0),2))","v":""}]
[null,null,{"$f":"IF(AND($B205>=1,$B205<=17),INDEX(黒!$B$6:$E$39,MATCH($B205,黒!$B$6:$B$39,0),4),\"\")","v":""},null,null,null,null,{"$f":"IF(AND($I205>=1,$I205<=17),INDEX(黒!$B$6:$E$39,MATCH($I205,黒!$B$6:$B$39,0),4),\"\")","v":""},null,null,null,null,{"$f":"IF($A205=\"\",\"\",$B205+$B205+5)","v":""},{"$f":"IF($A205=\"\",\"\",$I205+$I205+4)","v":""},"","","","",{"$f":"IF(AND($B205>=1,$B205<=17),INDEX(黒!$B$6:$E$39,MATCH($B205,黒!$B$6:$B$39,0),2),\"\")","v":""},{"$f":"IF($A205=\"\",\"\",$I205+$I205+5)","v":""},{"$f":"IF($A205=\"\",\"\",$B205+$B205+4)","v":""},"","","","",{"$f":"IF(AND($I205>=1,$I205<=17),INDEX(黒!$B$6:$E$39,MATCH($I205,黒!$B$6:$B$39,0),2),\"\")","v":""}]
[null,null,{"$f":"IF(ISERROR(INDEX(概要設定!$J$2:$K$51,MATCH($C207,概要設定!$J$2:$J$51,0),2)),\"\",INDEX(概要設定!$J$2:$K$51,MATCH($C207,概要設定!$J$2:$J$51,0),2))","v":""},null,null,null,null,{"$f":"IF(ISERROR(INDEX(概要設定!$J$2:$K$51,MATCH($H207,概要設定!$J$2:$J$51,0),2)),\"\",INDEX(概要設定!$J$2:$K$51,MATCH($H207,概要設定!$J$2:$J$51,0),2))","v":""}]
[null,null,{"$f":"IF(AND($B207>=1,$B207<=17),INDEX(黒!$B$6:$E$39,MATCH($B207,黒!$B$6:$B$39,0),4),\"\")","v":""},null,null,null,null,{"$f":"IF(AND($I207>=1,$I207<=17),INDEX(黒!$B$6:$E$39,MATCH($I207,黒!$B$6:$B$39,0),4),\"\")","v":""},null,null,null,null,{"$f":"IF($A207=\"\",\"\",$B207+$B207+5)","v":""},{"$f":"IF($A207=\"\",\"\",$I207+$I207+4)","v":""},"","","","",{"$f":"IF(AND($B207>=1,$B207<=17),INDEX(黒!$B$6:$E$39,MATCH($B207,黒!$B$6:$B$39,0),2),\"\")","v":""},{"$f":"IF($A207=\"\",\"\",$I207+$I207+5)","v":""},{"$f":"IF($A207=\"\",\"\",$B207+$B207+4)","v":""},"","","","",{"$f":"IF(AND($I207>=1,$I207<=17),INDEX(黒!$B$6:$E$39,MATCH($I207,黒!$B$6:$B$39,0),2),\"\")","v":""}]
[null,null,{"$f":"IF(ISERROR(INDEX(概要設定!$J$2:$K$51,MATCH($C209,概要設定!$J$2:$J$51,0),2)),\"\",INDEX(概要設定!$J$2:$K$51,MATCH($C209,概要設定!$J$2:$J$51,0),2))","v":""},null,null,null,null,{"$f":"IF(ISERROR(INDEX(概要設定!$J$2:$K$51,MATCH($H209,概要設定!$J$2:$J$51,0),2)),\"\",INDEX(概要設定!$J$2:$K$51,MATCH($H209,概要設定!$J$2:$J$51,0),2))","v":""}]
[null,null,{"$f":"IF(AND($B209>=1,$B209<=17),INDEX(黒!$B$6:$E$39,MATCH($B209,黒!$B$6:$B$39,0),4),\"\")","v":""},null,null,null,null,{"$f":"IF(AND($I209>=1,$I209<=17),INDEX(黒!$B$6:$E$39,MATCH($I209,黒!$B$6:$B$39,0),4),\"\")","v":""},null,null,null,null,{"$f":"IF($A209=\"\",\"\",$B209+$B209+5)","v":""},{"$f":"IF($A209=\"\",\"\",$I209+$I209+4)","v":""},"","","","",{"$f":"IF(AND($B209>=1,$B209<=17),INDEX(黒!$B$6:$E$39,MATCH($B209,黒!$B$6:$B$39,0),2),\"\")","v":""},{"$f":"IF($A209=\"\",\"\",$I209+$I209+5)","v":""},{"$f":"IF($A209=\"\",\"\",$B209+$B209+4)","v":""},"","","","",{"$f":"IF(AND($I209>=1,$I209<=17),INDEX(黒!$B$6:$E$39,MATCH($I209,黒!$B$6:$B$39,0),2),\"\")","v":""}]
[null,null,{"$f":"IF(ISERROR(INDEX(概要設定!$J$2:$K$51,MATCH($C211,概要設定!$J$2:$J$51,0),2)),\"\",INDEX(概要設定!$J$2:$K$51,MATCH($C211,概要設定!$J$2:$J$51,0),2))","v":""},null,null,null,null,{"$f":"IF(ISERROR(INDEX(概要設定!$J$2:$K$51,MATCH($H211,概要設定!$J$2:$J$51,0),2)),\"\",INDEX(概要設定!$J$2:$K$51,MATCH($H211,概要設定!$J$2:$J$51,0),2))","v":""}]
[null,null,{"$f":"IF(AND($B211>=1,$B211<=17),INDEX(黒!$B$6:$E$39,MATCH($B211,黒!$B$6:$B$39,0),4),\"\")","v":""},null,null,null,null,{"$f":"IF(AND($I211>=1,$I211<=17),INDEX(黒!$B$6:$E$39,MATCH($I211,黒!$B$6:$B$39,0),4),\"\")","v":""},null,null,null,null,{"$f":"IF($A211=\"\",\"\",$B211+$B211+5)","v":""},{"$f":"IF($A211=\"\",\"\",$I211+$I211+4)","v":""},"","","","",{"$f":"IF(AND($B211>=1,$B211<=17),INDEX(黒!$B$6:$E$39,MATCH($B211,黒!$B$6:$B$39,0),2),\"\")","v":""},{"$f":"IF($A211=\"\",\"\",$I211+$I211+5)","v":""},{"$f":"IF($A211=\"\",\"\",$B211+$B211+4)","v":""},"","","","",{"$f":"IF(AND($I211>=1,$I211<=17),INDEX(黒!$B$6:$E$39,MATCH($I211,黒!$B$6:$B$39,0),2),\"\")","v":""}]
[null,null,{"$f":"IF(ISERROR(INDEX(概要設定!$J$2:$K$51,MATCH($C213,概要設定!$J$2:$J$51,0),2)),\"\",INDEX(概要設定!$J$2:$K$51,MATCH($C213,概要設定!$J$2:$J$51,0),2))","v":""},null,null,null,null,{"$f":"IF(ISERROR(INDEX(概要設定!$J$2:$K$51,MATCH($H213,概要設定!$J$2:$J$51,0),2)),\"\",INDEX(概要設定!$J$2:$K$51,MATCH($H213,概要設定!$J$2:$J$51,0),2))","v":""}]
[null,null,{"$f":"IF(AND($B213>=1,$B213<=17),INDEX(黒!$B$6:$E$39,MATCH($B213,黒!$B$6:$B$39,0),4),\"\")","v":""},null,null,null,null,{"$f":"IF(AND($I213>=1,$I213<=17),INDEX(黒!$B$6:$E$39,MATCH($I213,黒!$B$6:$B$39,0),4),\"\")","v":""},null,null,null,null,{"$f":"IF($A213=\"\",\"\",$B213+$B213+5)","v":""},{"$f":"IF($A213=\"\",\"\",$I213+$I213+4)","v":""},"","","","",{"$f":"IF(AND($B213>=1,$B213<=17),INDEX(黒!$B$6:$E$39,MATCH($B213,黒!$B$6:$B$39,0),2),\"\")","v":""},{"$f":"IF($A213=\"\",\"\",$I213+$I213+5)","v":""},{"$f":"IF($A213=\"\",\"\",$B213+$B213+4)","v":""},"","","","",{"$f":"IF(AND($I213>=1,$I213<=17),INDEX(黒!$B$6:$E$39,MATCH($I213,黒!$B$6:$B$39,0),2),\"\")","v":""}]
[null,null,{"$f":"IF(ISERROR(INDEX(概要設定!$J$2:$K$51,MATCH($C215,概要設定!$J$2:$J$51,0),2)),\"\",INDEX(概要設定!$J$2:$K$51,MATCH($C215,概要設定!$J$2:$J$51,0),2))","v":""},null,null,null,null,{"$f":"IF(ISERROR(INDEX(概要設定!$J$2:$K$51,MATCH($H215,概要設定!$J$2:$J$51,0),2)),\"\",INDEX(概要設定!$J$2:$K$51,MATCH($H215,概要設定!$J$2:$J$51,0),2))","v":""}]
[null,null,{"$f":"IF(AND($B215>=1,$B215<=17),INDEX(黒!$B$6:$E$39,MATCH($B215,黒!$B$6:$B$39,0),4),\"\")","v":""},null,null,null,null,{"$f":"IF(AND($I215>=1,$I215<=17),INDEX(黒!$B$6:$E$39,MATCH($I215,黒!$B$6:$B$39,0),4),\"\")","v":""},null,null,null,null,{"$f":"IF($A215=\"\",\"\",$B215+$B215+5)","v":""},{"$f":"IF($A215=\"\",\"\",$I215+$I215+4)","v":""},"","","","",{"$f":"IF(AND($B215>=1,$B215<=17),INDEX(黒!$B$6:$E$39,MATCH($B215,黒!$B$6:$B$39,0),2),\"\")","v":""},{"$f":"IF($A215=\"\",\"\",$I215+$I215+5)","v":""},{"$f":"IF($A215=\"\",\"\",$B215+$B215+4)","v":""},"","","","",{"$f":"IF(AND($I215>=1,$I215<=17),INDEX(黒!$B$6:$E$39,MATCH($I215,黒!$B$6:$B$39,0),2),\"\")","v":""}]
[null,null,{"$f":"IF(ISERROR(INDEX(概要設定!$J$2:$K$51,MATCH($C217,概要設定!$J$2:$J$51,0),2)),\"\",INDEX(概要設定!$J$2:$K$51,MATCH($C217,概要設定!$J$2:$J$51,0),2))","v":""},null,null,null,null,{"$f":"IF(ISERROR(INDEX(概要設定!$J$2:$K$51,MATCH($H217,概要設定!$J$2:$J$51,0),2)),\"\",INDEX(概要設定!$J$2:$K$51,MATCH($H217,概要設定!$J$2:$J$51,0),2))","v":""}]
[null,null,{"$f":"IF(AND($B217>=1,$B217<=17),INDEX(黒!$B$6:$E$39,MATCH($B217,黒!$B$6:$B$39,0),4),\"\")","v":""},null,null,null,null,{"$f":"IF(AND($I217>=1,$I217<=17),INDEX(黒!$B$6:$E$39,MATCH($I217,黒!$B$6:$B$39,0),4),\"\")","v":""},null,null,null,null,{"$f":"IF($A217=\"\",\"\",$B217+$B217+5)","v":""},{"$f":"IF($A217=\"\",\"\",$I217+$I217+4)","v":""},"","","","",{"$f":"IF(AND($B217>=1,$B217<=17),INDEX(黒!$B$6:$E$39,MATCH($B217,黒!$B$6:$B$39,0),2),\"\")","v":""},{"$f":"IF($A217=\"\",\"\",$I217+$I217+5)","v":""},{"$f":"IF($A217=\"\",\"\",$B217+$B217+4)","v":""},"","","","",{"$f":"IF(AND($I217>=1,$I217<=17),INDEX(黒!$B$6:$E$39,MATCH($I217,黒!$B$6:$B$39,0),2),\"\")","v":""}]
[null,null,{"$f":"IF(ISERROR(INDEX(概要設定!$J$2:$K$51,MATCH($C219,概要設定!$J$2:$J$51,0),2)),\"\",INDEX(概要設定!$J$2:$K$51,MATCH($C219,概要設定!$J$2:$J$51,0),2))","v":""},null,null,null,null,{"$f":"IF(ISERROR(INDEX(概要設定!$J$2:$K$51,MATCH($H219,概要設定!$J$2:$J$51,0),2)),\"\",INDEX(概要設定!$J$2:$K$51,MATCH($H219,概要設定!$J$2:$J$51,0),2))","v":""}]
[null,null,{"$f":"IF(AND($B219>=1,$B219<=17),INDEX(黒!$B$6:$E$39,MATCH($B219,黒!$B$6:$B$39,0),4),\"\")","v":""},null,null,null,null,{"$f":"IF(AND($I219>=1,$I219<=17),INDEX(黒!$B$6:$E$39,MATCH($I219,黒!$B$6:$B$39,0),4),\"\")","v":""},null,null,null,null,{"$f":"IF($A219=\"\",\"\",$B219+$B219+5)","v":""},{"$f":"IF($A219=\"\",\"\",$I219+$I219+4)","v":""},"","","","",{"$f":"IF(AND($B219>=1,$B219<=17),INDEX(黒!$B$6:$E$39,MATCH($B219,黒!$B$6:$B$39,0),2),\"\")","v":""},{"$f":"IF($A219=\"\",\"\",$I219+$I219+5)","v":""},{"$f":"IF($A219=\"\",\"\",$B219+$B219+4)","v":""},"","","","",{"$f":"IF(AND($I219>=1,$I219<=17),INDEX(黒!$B$6:$E$39,MATCH($I219,黒!$B$6:$B$39,0),2),\"\")","v":""}]
[null,null,{"$f":"IF(ISERROR(INDEX(概要設定!$J$2:$K$51,MATCH($C221,概要設定!$J$2:$J$51,0),2)),\"\",INDEX(概要設定!$J$2:$K$51,MATCH($C221,概要設定!$J$2:$J$51,0),2))","v":""},null,null,null,null,{"$f":"IF(ISERROR(INDEX(概要設定!$J$2:$K$51,MATCH($H221,概要設定!$J$2:$J$51,0),2)),\"\",INDEX(概要設定!$J$2:$K$51,MATCH($H221,概要設定!$J$2:$J$51,0),2))","v":""}]
[null,null,{"$f":"IF(AND($B221>=1,$B221<=17),INDEX(黒!$B$6:$E$39,MATCH($B221,黒!$B$6:$B$39,0),4),\"\")","v":""},null,null,null,null,{"$f":"IF(AND($I221>=1,$I221<=17),INDEX(黒!$B$6:$E$39,MATCH($I221,黒!$B$6:$B$39,0),4),\"\")","v":""},null,null,null,null,{"$f":"IF($A221=\"\",\"\",$B221+$B221+5)","v":""},{"$f":"IF($A221=\"\",\"\",$I221+$I221+4)","v":""},"","","","",{"$f":"IF(AND($B221>=1,$B221<=17),INDEX(黒!$B$6:$E$39,MATCH($B221,黒!$B$6:$B$39,0),2),\"\")","v":""},{"$f":"IF($A221=\"\",\"\",$I221+$I221+5)","v":""},{"$f":"IF($A221=\"\",\"\",$B221+$B221+4)","v":""},"","","","",{"$f":"IF(AND($I221>=1,$I221<=17),INDEX(黒!$B$6:$E$39,MATCH($I221,黒!$B$6:$B$39,0),2),\"\")","v":""}]
[null,null,{"$f":"IF(ISERROR(INDEX(概要設定!$J$2:$K$51,MATCH($C223,概要設定!$J$2:$J$51,0),2)),\"\",INDEX(概要設定!$J$2:$K$51,MATCH($C223,概要設定!$J$2:$J$51,0),2))","v":""},null,null,null,null,{"$f":"IF(ISERROR(INDEX(概要設定!$J$2:$K$51,MATCH($H223,概要設定!$J$2:$J$51,0),2)),\"\",INDEX(概要設定!$J$2:$K$51,MATCH($H223,概要設定!$J$2:$J$51,0),2))","v":""}]
[null,null,{"$f":"IF(AND($B223>=1,$B223<=17),INDEX(黒!$B$6:$E$39,MATCH($B223,黒!$B$6:$B$39,0),4),\"\")","v":""},null,null,null,null,{"$f":"IF(AND($I223>=1,$I223<=17),INDEX(黒!$B$6:$E$39,MATCH($I223,黒!$B$6:$B$39,0),4),\"\")","v":""},null,null,null,null,{"$f":"IF($A223=\"\",\"\",$B223+$B223+5)","v":""},{"$f":"IF($A223=\"\",\"\",$I223+$I223+4)","v":""},"","","","",{"$f":"IF(AND($B223>=1,$B223<=17),INDEX(黒!$B$6:$E$39,MATCH($B223,黒!$B$6:$B$39,0),2),\"\")","v":""},{"$f":"IF($A223=\"\",\"\",$I223+$I223+5)","v":""},{"$f":"IF($A223=\"\",\"\",$B223+$B223+4)","v":""},"","","","",{"$f":"IF(AND($I223>=1,$I223<=17),INDEX(黒!$B$6:$E$39,MATCH($I223,黒!$B$6:$B$39,0),2),\"\")","v":""}]
[null,null,{"$f":"IF(ISERROR(INDEX(概要設定!$J$2:$K$51,MATCH($C225,概要設定!$J$2:$J$51,0),2)),\"\",INDEX(概要設定!$J$2:$K$51,MATCH($C225,概要設定!$J$2:$J$51,0),2))","v":""},null,null,null,null,{"$f":"IF(ISERROR(INDEX(概要設定!$J$2:$K$51,MATCH($H225,概要設定!$J$2:$J$51,0),2)),\"\",INDEX(概要設定!$J$2:$K$51,MATCH($H225,概要設定!$J$2:$J$51,0),2))","v":""}]
[null,null,{"$f":"IF(AND($B225>=1,$B225<=17),INDEX(黒!$B$6:$E$39,MATCH($B225,黒!$B$6:$B$39,0),4),\"\")","v":""},null,null,null,null,{"$f":"IF(AND($I225>=1,$I225<=17),INDEX(黒!$B$6:$E$39,MATCH($I225,黒!$B$6:$B$39,0),4),\"\")","v":""},null,null,null,null,{"$f":"IF($A225=\"\",\"\",$B225+$B225+5)","v":""},{"$f":"IF($A225=\"\",\"\",$I225+$I225+4)","v":""},"","","","",{"$f":"IF(AND($B225>=1,$B225<=17),INDEX(黒!$B$6:$E$39,MATCH($B225,黒!$B$6:$B$39,0),2),\"\")","v":""},{"$f":"IF($A225=\"\",\"\",$I225+$I225+5)","v":""},{"$f":"IF($A225=\"\",\"\",$B225+$B225+4)","v":""},"","","","",{"$f":"IF(AND($I225>=1,$I225<=17),INDEX(黒!$B$6:$E$39,MATCH($I225,黒!$B$6:$B$39,0),2),\"\")","v":""}]
[null,null,{"$f":"IF(ISERROR(INDEX(概要設定!$J$2:$K$51,MATCH($C227,概要設定!$J$2:$J$51,0),2)),\"\",INDEX(概要設定!$J$2:$K$51,MATCH($C227,概要設定!$J$2:$J$51,0),2))","v":""},null,null,null,null,{"$f":"IF(ISERROR(INDEX(概要設定!$J$2:$K$51,MATCH($H227,概要設定!$J$2:$J$51,0),2)),\"\",INDEX(概要設定!$J$2:$K$51,MATCH($H227,概要設定!$J$2:$J$51,0),2))","v":""}]
[null,null,{"$f":"IF(AND($B227>=1,$B227<=17),INDEX(黒!$B$6:$E$39,MATCH($B227,黒!$B$6:$B$39,0),4),\"\")","v":""},null,null,null,null,{"$f":"IF(AND($I227>=1,$I227<=17),INDEX(黒!$B$6:$E$39,MATCH($I227,黒!$B$6:$B$39,0),4),\"\")","v":""},null,null,null,null,{"$f":"IF($A227=\"\",\"\",$B227+$B227+5)","v":""},{"$f":"IF($A227=\"\",\"\",$I227+$I227+4)","v":""},"","","","",{"$f":"IF(AND($B227>=1,$B227<=17),INDEX(黒!$B$6:$E$39,MATCH($B227,黒!$B$6:$B$39,0),2),\"\")","v":""},{"$f":"IF($A227=\"\",\"\",$I227+$I227+5)","v":""},{"$f":"IF($A227=\"\",\"\",$B227+$B227+4)","v":""},"","","","",{"$f":"IF(AND($I227>=1,$I227<=17),INDEX(黒!$B$6:$E$39,MATCH($I227,黒!$B$6:$B$39,0),2),\"\")","v":""}]
[null,null,{"$f":"IF(ISERROR(INDEX(概要設定!$J$2:$K$51,MATCH($C229,概要設定!$J$2:$J$51,0),2)),\"\",INDEX(概要設定!$J$2:$K$51,MATCH($C229,概要設定!$J$2:$J$51,0),2))","v":""},null,null,null,null,{"$f":"IF(ISERROR(INDEX(概要設定!$J$2:$K$51,MATCH($H229,概要設定!$J$2:$J$51,0),2)),\"\",INDEX(概要設定!$J$2:$K$51,MATCH($H229,概要設定!$J$2:$J$51,0),2))","v":""}]
[null,null,{"$f":"IF(AND($B229>=1,$B229<=17),INDEX(黒!$B$6:$E$39,MATCH($B229,黒!$B$6:$B$39,0),4),\"\")","v":""},null,null,null,null,{"$f":"IF(AND($I229>=1,$I229<=17),INDEX(黒!$B$6:$E$39,MATCH($I229,黒!$B$6:$B$39,0),4),\"\")","v":""},null,null,null,null,{"$f":"IF($A229=\"\",\"\",$B229+$B229+5)","v":""},{"$f":"IF($A229=\"\",\"\",$I229+$I229+4)","v":""},"","","","",{"$f":"IF(AND($B229>=1,$B229<=17),INDEX(黒!$B$6:$E$39,MATCH($B229,黒!$B$6:$B$39,0),2),\"\")","v":""},{"$f":"IF($A229=\"\",\"\",$I229+$I229+5)","v":""},{"$f":"IF($A229=\"\",\"\",$B229+$B229+4)","v":""},"","","","",{"$f":"IF(AND($I229>=1,$I229<=17),INDEX(黒!$B$6:$E$39,MATCH($I229,黒!$B$6:$B$39,0),2),\"\")","v":""}]
[null,null,{"$f":"IF(ISERROR(INDEX(概要設定!$J$2:$K$51,MATCH($C231,概要設定!$J$2:$J$51,0),2)),\"\",INDEX(概要設定!$J$2:$K$51,MATCH($C231,概要設定!$J$2:$J$51,0),2))","v":""},null,null,null,null,{"$f":"IF(ISERROR(INDEX(概要設定!$J$2:$K$51,MATCH($H231,概要設定!$J$2:$J$51,0),2)),\"\",INDEX(概要設定!$J$2:$K$51,MATCH($H231,概要設定!$J$2:$J$51,0),2))","v":""}]
[null,null,{"$f":"IF(AND($B231>=1,$B231<=17),INDEX(黒!$B$6:$E$39,MATCH($B231,黒!$B$6:$B$39,0),4),\"\")","v":""},null,null,null,null,{"$f":"IF(AND($I231>=1,$I231<=17),INDEX(黒!$B$6:$E$39,MATCH($I231,黒!$B$6:$B$39,0),4),\"\")","v":""},null,null,null,null,{"$f":"IF($A231=\"\",\"\",$B231+$B231+5)","v":""},{"$f":"IF($A231=\"\",\"\",$I231+$I231+4)","v":""},"","","","",{"$f":"IF(AND($B231>=1,$B231<=17),INDEX(黒!$B$6:$E$39,MATCH($B231,黒!$B$6:$B$39,0),2),\"\")","v":""},{"$f":"IF($A231=\"\",\"\",$I231+$I231+5)","v":""},{"$f":"IF($A231=\"\",\"\",$B231+$B231+4)","v":""},"","","","",{"$f":"IF(AND($I231>=1,$I231<=17),INDEX(黒!$B$6:$E$39,MATCH($I231,黒!$B$6:$B$39,0),2),\"\")","v":""}]
[null,null,{"$f":"IF(ISERROR(INDEX(概要設定!$J$2:$K$51,MATCH($C233,概要設定!$J$2:$J$51,0),2)),\"\",INDEX(概要設定!$J$2:$K$51,MATCH($C233,概要設定!$J$2:$J$51,0),2))","v":""},null,null,null,null,{"$f":"IF(ISERROR(INDEX(概要設定!$J$2:$K$51,MATCH($H233,概要設定!$J$2:$J$51,0),2)),\"\",INDEX(概要設定!$J$2:$K$51,MATCH($H233,概要設定!$J$2:$J$51,0),2))","v":""}]
[null,null,{"$f":"IF(AND($B233>=1,$B233<=17),INDEX(黒!$B$6:$E$39,MATCH($B233,黒!$B$6:$B$39,0),4),\"\")","v":""},null,null,null,null,{"$f":"IF(AND($I233>=1,$I233<=17),INDEX(黒!$B$6:$E$39,MATCH($I233,黒!$B$6:$B$39,0),4),\"\")","v":""},null,null,null,null,{"$f":"IF($A233=\"\",\"\",$B233+$B233+5)","v":""},{"$f":"IF($A233=\"\",\"\",$I233+$I233+4)","v":""},"","","","",{"$f":"IF(AND($B233>=1,$B233<=17),INDEX(黒!$B$6:$E$39,MATCH($B233,黒!$B$6:$B$39,0),2),\"\")","v":""},{"$f":"IF($A233=\"\",\"\",$I233+$I233+5)","v":""},{"$f":"IF($A233=\"\",\"\",$B233+$B233+4)","v":""},"","","","",{"$f":"IF(AND($I233>=1,$I233<=17),INDEX(黒!$B$6:$E$39,MATCH($I233,黒!$B$6:$B$39,0),2),\"\")","v":""}]
[null,null,{"$f":"IF(ISERROR(INDEX(概要設定!$J$2:$K$51,MATCH($C235,概要設定!$J$2:$J$51,0),2)),\"\",INDEX(概要設定!$J$2:$K$51,MATCH($C235,概要設定!$J$2:$J$51,0),2))","v":""},null,null,null,null,{"$f":"IF(ISERROR(INDEX(概要設定!$J$2:$K$51,MATCH($H235,概要設定!$J$2:$J$51,0),2)),\"\",INDEX(概要設定!$J$2:$K$51,MATCH($H235,概要設定!$J$2:$J$51,0),2))","v":""}]
[null,null,{"$f":"IF(AND($B235>=1,$B235<=17),INDEX(黒!$B$6:$E$39,MATCH($B235,黒!$B$6:$B$39,0),4),\"\")","v":""},null,null,null,null,{"$f":"IF(AND($I235>=1,$I235<=17),INDEX(黒!$B$6:$E$39,MATCH($I235,黒!$B$6:$B$39,0),4),\"\")","v":""},null,null,null,null,{"$f":"IF($A235=\"\",\"\",$B235+$B235+5)","v":""},{"$f":"IF($A235=\"\",\"\",$I235+$I235+4)","v":""},"","","","",{"$f":"IF(AND($B235>=1,$B235<=17),INDEX(黒!$B$6:$E$39,MATCH($B235,黒!$B$6:$B$39,0),2),\"\")","v":""},{"$f":"IF($A235=\"\",\"\",$I235+$I235+5)","v":""},{"$f":"IF($A235=\"\",\"\",$B235+$B235+4)","v":""},"","","","",{"$f":"IF(AND($I235>=1,$I235<=17),INDEX(黒!$B$6:$E$39,MATCH($I235,黒!$B$6:$B$39,0),2),\"\")","v":""}]
[null,null,{"$f":"IF(ISERROR(INDEX(概要設定!$J$2:$K$51,MATCH($C237,概要設定!$J$2:$J$51,0),2)),\"\",INDEX(概要設定!$J$2:$K$51,MATCH($C237,概要設定!$J$2:$J$51,0),2))","v":""},null,null,null,null,{"$f":"IF(ISERROR(INDEX(概要設定!$J$2:$K$51,MATCH($H237,概要設定!$J$2:$J$51,0),2)),\"\",INDEX(概要設定!$J$2:$K$51,MATCH($H237,概要設定!$J$2:$J$51,0),2))","v":""}]
[null,null,{"$f":"IF(AND($B237>=1,$B237<=17),INDEX(黒!$B$6:$E$39,MATCH($B237,黒!$B$6:$B$39,0),4),\"\")","v":""},null,null,null,null,{"$f":"IF(AND($I237>=1,$I237<=17),INDEX(黒!$B$6:$E$39,MATCH($I237,黒!$B$6:$B$39,0),4),\"\")","v":""},null,null,null,null,{"$f":"IF($A237=\"\",\"\",$B237+$B237+5)","v":""},{"$f":"IF($A237=\"\",\"\",$I237+$I237+4)","v":""},"","","","",{"$f":"IF(AND($B237>=1,$B237<=17),INDEX(黒!$B$6:$E$39,MATCH($B237,黒!$B$6:$B$39,0),2),\"\")","v":""},{"$f":"IF($A237=\"\",\"\",$I237+$I237+5)","v":""},{"$f":"IF($A237=\"\",\"\",$B237+$B237+4)","v":""},"","","","",{"$f":"IF(AND($I237>=1,$I237<=17),INDEX(黒!$B$6:$E$39,MATCH($I237,黒!$B$6:$B$39,0),2),\"\")","v":""}]
[null,null,{"$f":"IF(ISERROR(INDEX(概要設定!$J$2:$K$51,MATCH($C239,概要設定!$J$2:$J$51,0),2)),\"\",INDEX(概要設定!$J$2:$K$51,MATCH($C239,概要設定!$J$2:$J$51,0),2))","v":""},null,null,null,null,{"$f":"IF(ISERROR(INDEX(概要設定!$J$2:$K$51,MATCH($H239,概要設定!$J$2:$J$51,0),2)),\"\",INDEX(概要設定!$J$2:$K$51,MATCH($H239,概要設定!$J$2:$J$51,0),2))","v":""}]
[null,null,{"$f":"IF(AND($B239>=1,$B239<=17),INDEX(黒!$B$6:$E$39,MATCH($B239,黒!$B$6:$B$39,0),4),\"\")","v":""},null,null,null,null,{"$f":"IF(AND($I239>=1,$I239<=17),INDEX(黒!$B$6:$E$39,MATCH($I239,黒!$B$6:$B$39,0),4),\"\")","v":""},null,null,null,null,{"$f":"IF($A239=\"\",\"\",$B239+$B239+5)","v":""},{"$f":"IF($A239=\"\",\"\",$I239+$I239+4)","v":""},"","","","",{"$f":"IF(AND($B239>=1,$B239<=17),INDEX(黒!$B$6:$E$39,MATCH($B239,黒!$B$6:$B$39,0),2),\"\")","v":""},{"$f":"IF($A239=\"\",\"\",$I239+$I239+5)","v":""},{"$f":"IF($A239=\"\",\"\",$B239+$B239+4)","v":""},"","","","",{"$f":"IF(AND($I239>=1,$I239<=17),INDEX(黒!$B$6:$E$39,MATCH($I239,黒!$B$6:$B$39,0),2),\"\")","v":""}]
[null,null,{"$f":"IF(ISERROR(INDEX(概要設定!$J$2:$K$51,MATCH($C241,概要設定!$J$2:$J$51,0),2)),\"\",INDEX(概要設定!$J$2:$K$51,MATCH($C241,概要設定!$J$2:$J$51,0),2))","v":""},null,null,null,null,{"$f":"IF(ISERROR(INDEX(概要設定!$J$2:$K$51,MATCH($H241,概要設定!$J$2:$J$51,0),2)),\"\",INDEX(概要設定!$J$2:$K$51,MATCH($H241,概要設定!$J$2:$J$51,0),2))","v":""}]
[null,null,{"$f":"IF(AND($B241>=1,$B241<=17),INDEX(黒!$B$6:$E$39,MATCH($B241,黒!$B$6:$B$39,0),4),\"\")","v":""},null,null,null,null,{"$f":"IF(AND($I241>=1,$I241<=17),INDEX(黒!$B$6:$E$39,MATCH($I241,黒!$B$6:$B$39,0),4),\"\")","v":""},null,null,null,null,{"$f":"IF($A241=\"\",\"\",$B241+$B241+5)","v":""},{"$f":"IF($A241=\"\",\"\",$I241+$I241+4)","v":""},"","","","",{"$f":"IF(AND($B241>=1,$B241<=17),INDEX(黒!$B$6:$E$39,MATCH($B241,黒!$B$6:$B$39,0),2),\"\")","v":""},{"$f":"IF($A241=\"\",\"\",$I241+$I241+5)","v":""},{"$f":"IF($A241=\"\",\"\",$B241+$B241+4)","v":""},"","","","",{"$f":"IF(AND($I241>=1,$I241<=17),INDEX(黒!$B$6:$E$39,MATCH($I241,黒!$B$6:$B$39,0),2),\"\")","v":""}]
[null,null,{"$f":"IF(ISERROR(INDEX(概要設定!$J$2:$K$51,MATCH($C243,概要設定!$J$2:$J$51,0),2)),\"\",INDEX(概要設定!$J$2:$K$51,MATCH($C243,概要設定!$J$2:$J$51,0),2))","v":""},null,null,null,null,{"$f":"IF(ISERROR(INDEX(概要設定!$J$2:$K$51,MATCH($H243,概要設定!$J$2:$J$51,0),2)),\"\",INDEX(概要設定!$J$2:$K$51,MATCH($H243,概要設定!$J$2:$J$51,0),2))","v":""}]
[null,null,{"$f":"IF(AND($B243>=1,$B243<=17),INDEX(黒!$B$6:$E$39,MATCH($B243,黒!$B$6:$B$39,0),4),\"\")","v":""},null,null,null,null,{"$f":"IF(AND($I243>=1,$I243<=17),INDEX(黒!$B$6:$E$39,MATCH($I243,黒!$B$6:$B$39,0),4),\"\")","v":""},null,null,null,null,{"$f":"IF($A243=\"\",\"\",$B243+$B243+5)","v":""},{"$f":"IF($A243=\"\",\"\",$I243+$I243+4)","v":""},"","","","",{"$f":"IF(AND($B243>=1,$B243<=17),INDEX(黒!$B$6:$E$39,MATCH($B243,黒!$B$6:$B$39,0),2),\"\")","v":""},{"$f":"IF($A243=\"\",\"\",$I243+$I243+5)","v":""},{"$f":"IF($A243=\"\",\"\",$B243+$B243+4)","v":""},"","","","",{"$f":"IF(AND($I243>=1,$I243<=17),INDEX(黒!$B$6:$E$39,MATCH($I243,黒!$B$6:$B$39,0),2),\"\")","v":""}]
[null,null,{"$f":"IF(ISERROR(INDEX(概要設定!$J$2:$K$51,MATCH($C245,概要設定!$J$2:$J$51,0),2)),\"\",INDEX(概要設定!$J$2:$K$51,MATCH($C245,概要設定!$J$2:$J$51,0),2))","v":""},null,null,null,null,{"$f":"IF(ISERROR(INDEX(概要設定!$J$2:$K$51,MATCH($H245,概要設定!$J$2:$J$51,0),2)),\"\",INDEX(概要設定!$J$2:$K$51,MATCH($H245,概要設定!$J$2:$J$51,0),2))","v":""}]
[null,null,{"$f":"IF(AND($B245>=1,$B245<=17),INDEX(黒!$B$6:$E$39,MATCH($B245,黒!$B$6:$B$39,0),4),\"\")","v":""},null,null,null,null,{"$f":"IF(AND($I245>=1,$I245<=17),INDEX(黒!$B$6:$E$39,MATCH($I245,黒!$B$6:$B$39,0),4),\"\")","v":""},null,null,null,null,{"$f":"IF($A245=\"\",\"\",$B245+$B245+5)","v":""},{"$f":"IF($A245=\"\",\"\",$I245+$I245+4)","v":""},"","","","",{"$f":"IF(AND($B245>=1,$B245<=17),INDEX(黒!$B$6:$E$39,MATCH($B245,黒!$B$6:$B$39,0),2),\"\")","v":""},{"$f":"IF($A245=\"\",\"\",$I245+$I245+5)","v":""},{"$f":"IF($A245=\"\",\"\",$B245+$B245+4)","v":""},"","","","",{"$f":"IF(AND($I245>=1,$I245<=17),INDEX(黒!$B$6:$E$39,MATCH($I245,黒!$B$6:$B$39,0),2),\"\")","v":""}]
[null,null,{"$f":"IF(ISERROR(INDEX(概要設定!$J$2:$K$51,MATCH($C247,概要設定!$J$2:$J$51,0),2)),\"\",INDEX(概要設定!$J$2:$K$51,MATCH($C247,概要設定!$J$2:$J$51,0),2))","v":""},null,null,null,null,{"$f":"IF(ISERROR(INDEX(概要設定!$J$2:$K$51,MATCH($H247,概要設定!$J$2:$J$51,0),2)),\"\",INDEX(概要設定!$J$2:$K$51,MATCH($H247,概要設定!$J$2:$J$51,0),2))","v":""}]
[null,null,{"$f":"IF(AND($B247>=1,$B247<=17),INDEX(黒!$B$6:$E$39,MATCH($B247,黒!$B$6:$B$39,0),4),\"\")","v":""},null,null,null,null,{"$f":"IF(AND($I247>=1,$I247<=17),INDEX(黒!$B$6:$E$39,MATCH($I247,黒!$B$6:$B$39,0),4),\"\")","v":""},null,null,null,null,{"$f":"IF($A247=\"\",\"\",$B247+$B247+5)","v":""},{"$f":"IF($A247=\"\",\"\",$I247+$I247+4)","v":""},"","","","",{"$f":"IF(AND($B247>=1,$B247<=17),INDEX(黒!$B$6:$E$39,MATCH($B247,黒!$B$6:$B$39,0),2),\"\")","v":""},{"$f":"IF($A247=\"\",\"\",$I247+$I247+5)","v":""},{"$f":"IF($A247=\"\",\"\",$B247+$B247+4)","v":""},"","","","",{"$f":"IF(AND($I247>=1,$I247<=17),INDEX(黒!$B$6:$E$39,MATCH($I247,黒!$B$6:$B$39,0),2),\"\")","v":""}]
[null,null,{"$f":"IF(ISERROR(INDEX(概要設定!$J$2:$K$51,MATCH($C249,概要設定!$J$2:$J$51,0),2)),\"\",INDEX(概要設定!$J$2:$K$51,MATCH($C249,概要設定!$J$2:$J$51,0),2))","v":""},null,null,null,null,{"$f":"IF(ISERROR(INDEX(概要設定!$J$2:$K$51,MATCH($H249,概要設定!$J$2:$J$51,0),2)),\"\",INDEX(概要設定!$J$2:$K$51,MATCH($H249,概要設定!$J$2:$J$51,0),2))","v":""}]
[null,null,{"$f":"IF(AND($B249>=1,$B249<=17),INDEX(黒!$B$6:$E$39,MATCH($B249,黒!$B$6:$B$39,0),4),\"\")","v":""},null,null,null,null,{"$f":"IF(AND($I249>=1,$I249<=17),INDEX(黒!$B$6:$E$39,MATCH($I249,黒!$B$6:$B$39,0),4),\"\")","v":""},null,null,null,null,{"$f":"IF($A249=\"\",\"\",$B249+$B249+5)","v":""},{"$f":"IF($A249=\"\",\"\",$I249+$I249+4)","v":""},"","","","",{"$f":"IF(AND($B249>=1,$B249<=17),INDEX(黒!$B$6:$E$39,MATCH($B249,黒!$B$6:$B$39,0),2),\"\")","v":""},{"$f":"IF($A249=\"\",\"\",$I249+$I249+5)","v":""},{"$f":"IF($A249=\"\",\"\",$B249+$B249+4)","v":""},"","","","",{"$f":"IF(AND($I249>=1,$I249<=17),INDEX(黒!$B$6:$E$39,MATCH($I249,黒!$B$6:$B$39,0),2),\"\")","v":""}]
[null,null,{"$f":"IF(ISERROR(INDEX(概要設定!$J$2:$K$51,MATCH($C251,概要設定!$J$2:$J$51,0),2)),\"\",INDEX(概要設定!$J$2:$K$51,MATCH($C251,概要設定!$J$2:$J$51,0),2))","v":""},null,null,null,null,{"$f":"IF(ISERROR(INDEX(概要設定!$J$2:$K$51,MATCH($H251,概要設定!$J$2:$J$51,0),2)),\"\",INDEX(概要設定!$J$2:$K$51,MATCH($H251,概要設定!$J$2:$J$51,0),2))","v":""}]
[null,null,{"$f":"IF(AND($B251>=1,$B251<=17),INDEX(黒!$B$6:$E$39,MATCH($B251,黒!$B$6:$B$39,0),4),\"\")","v":""},null,null,null,null,{"$f":"IF(AND($I251>=1,$I251<=17),INDEX(黒!$B$6:$E$39,MATCH($I251,黒!$B$6:$B$39,0),4),\"\")","v":""},null,null,null,null,{"$f":"IF($A251=\"\",\"\",$B251+$B251+5)","v":""},{"$f":"IF($A251=\"\",\"\",$I251+$I251+4)","v":""},"","","","",{"$f":"IF(AND($B251>=1,$B251<=17),INDEX(黒!$B$6:$E$39,MATCH($B251,黒!$B$6:$B$39,0),2),\"\")","v":""},{"$f":"IF($A251=\"\",\"\",$I251+$I251+5)","v":""},{"$f":"IF($A251=\"\",\"\",$B251+$B251+4)","v":""},"","","","",{"$f":"IF(AND($I251>=1,$I251<=17),INDEX(黒!$B$6:$E$39,MATCH($I251,黒!$B$6:$B$39,0),2),\"\")","v":""}]
[null,null,{"$f":"IF(ISERROR(INDEX(概要設定!$J$2:$K$51,MATCH($C253,概要設定!$J$2:$J$51,0),2)),\"\",INDEX(概要設定!$J$2:$K$51,MATCH($C253,概要設定!$J$2:$J$51,0),2))","v":""},null,null,null,null,{"$f":"IF(ISERROR(INDEX(概要設定!$J$2:$K$51,MATCH($H253,概要設定!$J$2:$J$51,0),2)),\"\",INDEX(概要設定!$J$2:$K$51,MATCH($H253,概要設定!$J$2:$J$51,0),2))","v":""}]
[null,null,{"$f":"IF(AND($B253>=1,$B253<=17),INDEX(黒!$B$6:$E$39,MATCH($B253,黒!$B$6:$B$39,0),4),\"\")","v":""},null,null,null,null,{"$f":"IF(AND($I253>=1,$I253<=17),INDEX(黒!$B$6:$E$39,MATCH($I253,黒!$B$6:$B$39,0),4),\"\")","v":""},null,null,null,null,{"$f":"IF($A253=\"\",\"\",$B253+$B253+5)","v":""},{"$f":"IF($A253=\"\",\"\",$I253+$I253+4)","v":""},"","","","",{"$f":"IF(AND($B253>=1,$B253<=17),INDEX(黒!$B$6:$E$39,MATCH($B253,黒!$B$6:$B$39,0),2),\"\")","v":""},{"$f":"IF($A253=\"\",\"\",$I253+$I253+5)","v":""},{"$f":"IF($A253=\"\",\"\",$B253+$B253+4)","v":""},"","","","",{"$f":"IF(AND($I253>=1,$I253<=17),INDEX(黒!$B$6:$E$39,MATCH($I253,黒!$B$6:$B$39,0),2),\"\")","v":""}]
[null,null,{"$f":"IF(ISERROR(INDEX(概要設定!$J$2:$K$51,MATCH($C255,概要設定!$J$2:$J$51,0),2)),\"\",INDEX(概要設定!$J$2:$K$51,MATCH($C255,概要設定!$J$2:$J$51,0),2))","v":""},null,null,null,null,{"$f":"IF(ISERROR(INDEX(概要設定!$J$2:$K$51,MATCH($H255,概要設定!$J$2:$J$51,0),2)),\"\",INDEX(概要設定!$J$2:$K$51,MATCH($H255,概要設定!$J$2:$J$51,0),2))","v":""}]
[null,null,{"$f":"IF(AND($B255>=1,$B255<=17),INDEX(黒!$B$6:$E$39,MATCH($B255,黒!$B$6:$B$39,0),4),\"\")","v":""},null,null,null,null,{"$f":"IF(AND($I255>=1,$I255<=17),INDEX(黒!$B$6:$E$39,MATCH($I255,黒!$B$6:$B$39,0),4),\"\")","v":""},null,null,null,null,{"$f":"IF($A255=\"\",\"\",$B255+$B255+5)","v":""},{"$f":"IF($A255=\"\",\"\",$I255+$I255+4)","v":""},"","","","",{"$f":"IF(AND($B255>=1,$B255<=17),INDEX(黒!$B$6:$E$39,MATCH($B255,黒!$B$6:$B$39,0),2),\"\")","v":""},{"$f":"IF($A255=\"\",\"\",$I255+$I255+5)","v":""},{"$f":"IF($A255=\"\",\"\",$B255+$B255+4)","v":""},"","","","",{"$f":"IF(AND($I255>=1,$I255<=17),INDEX(黒!$B$6:$E$39,MATCH($I255,黒!$B$6:$B$39,0),2),\"\")","v":""}]
[null,null,{"$f":"IF(ISERROR(INDEX(概要設定!$J$2:$K$51,MATCH($C257,概要設定!$J$2:$J$51,0),2)),\"\",INDEX(概要設定!$J$2:$K$51,MATCH($C257,概要設定!$J$2:$J$51,0),2))","v":""},null,null,null,null,{"$f":"IF(ISERROR(INDEX(概要設定!$J$2:$K$51,MATCH($H257,概要設定!$J$2:$J$51,0),2)),\"\",INDEX(概要設定!$J$2:$K$51,MATCH($H257,概要設定!$J$2:$J$51,0),2))","v":""}]
[null,null,{"$f":"IF(AND($B257>=1,$B257<=17),INDEX(黒!$B$6:$E$39,MATCH($B257,黒!$B$6:$B$39,0),4),\"\")","v":""},null,null,null,null,{"$f":"IF(AND($I257>=1,$I257<=17),INDEX(黒!$B$6:$E$39,MATCH($I257,黒!$B$6:$B$39,0),4),\"\")","v":""},null,null,null,null,{"$f":"IF($A257=\"\",\"\",$B257+$B257+5)","v":""},{"$f":"IF($A257=\"\",\"\",$I257+$I257+4)","v":""},"","","","",{"$f":"IF(AND($B257>=1,$B257<=17),INDEX(黒!$B$6:$E$39,MATCH($B257,黒!$B$6:$B$39,0),2),\"\")","v":""},{"$f":"IF($A257=\"\",\"\",$I257+$I257+5)","v":""},{"$f":"IF($A257=\"\",\"\",$B257+$B257+4)","v":""},"","","","",{"$f":"IF(AND($I257>=1,$I257<=17),INDEX(黒!$B$6:$E$39,MATCH($I257,黒!$B$6:$B$39,0),2),\"\")","v":""}]
[null,null,{"$f":"IF(ISERROR(INDEX(概要設定!$J$2:$K$51,MATCH($C259,概要設定!$J$2:$J$51,0),2)),\"\",INDEX(概要設定!$J$2:$K$51,MATCH($C259,概要設定!$J$2:$J$51,0),2))","v":""},null,null,null,null,{"$f":"IF(ISERROR(INDEX(概要設定!$J$2:$K$51,MATCH($H259,概要設定!$J$2:$J$51,0),2)),\"\",INDEX(概要設定!$J$2:$K$51,MATCH($H259,概要設定!$J$2:$J$51,0),2))","v":""}]
[null,null,{"$f":"IF(AND($B259>=1,$B259<=17),INDEX(黒!$B$6:$E$39,MATCH($B259,黒!$B$6:$B$39,0),4),\"\")","v":""},null,null,null,null,{"$f":"IF(AND($I259>=1,$I259<=17),INDEX(黒!$B$6:$E$39,MATCH($I259,黒!$B$6:$B$39,0),4),\"\")","v":""},null,null,null,null,{"$f":"IF($A259=\"\",\"\",$B259+$B259+5)","v":""},{"$f":"IF($A259=\"\",\"\",$I259+$I259+4)","v":""},"","","","",{"$f":"IF(AND($B259>=1,$B259<=17),INDEX(黒!$B$6:$E$39,MATCH($B259,黒!$B$6:$B$39,0),2),\"\")","v":""},{"$f":"IF($A259=\"\",\"\",$I259+$I259+5)","v":""},{"$f":"IF($A259=\"\",\"\",$B259+$B259+4)","v":""},"","","","",{"$f":"IF(AND($I259>=1,$I259<=17),INDEX(黒!$B$6:$E$39,MATCH($I259,黒!$B$6:$B$39,0),2),\"\")","v":""}]
[null,null,{"$f":"IF(ISERROR(INDEX(概要設定!$J$2:$K$51,MATCH($C261,概要設定!$J$2:$J$51,0),2)),\"\",INDEX(概要設定!$J$2:$K$51,MATCH($C261,概要設定!$J$2:$J$51,0),2))","v":""},null,null,null,null,{"$f":"IF(ISERROR(INDEX(概要設定!$J$2:$K$51,MATCH($H261,概要設定!$J$2:$J$51,0),2)),\"\",INDEX(概要設定!$J$2:$K$51,MATCH($H261,概要設定!$J$2:$J$51,0),2))","v":""}]
[null,null,{"$f":"IF(AND($B261>=1,$B261<=17),INDEX(黒!$B$6:$E$39,MATCH($B261,黒!$B$6:$B$39,0),4),\"\")","v":""},null,null,null,null,{"$f":"IF(AND($I261>=1,$I261<=17),INDEX(黒!$B$6:$E$39,MATCH($I261,黒!$B$6:$B$39,0),4),\"\")","v":""},null,null,null,null,{"$f":"IF($A261=\"\",\"\",$B261+$B261+5)","v":""},{"$f":"IF($A261=\"\",\"\",$I261+$I261+4)","v":""},"","","","",{"$f":"IF(AND($B261>=1,$B261<=17),INDEX(黒!$B$6:$E$39,MATCH($B261,黒!$B$6:$B$39,0),2),\"\")","v":""},{"$f":"IF($A261=\"\",\"\",$I261+$I261+5)","v":""},{"$f":"IF($A261=\"\",\"\",$B261+$B261+4)","v":""},"","","","",{"$f":"IF(AND($I261>=1,$I261<=17),INDEX(黒!$B$6:$E$39,MATCH($I261,黒!$B$6:$B$39,0),2),\"\")","v":""}]
[null,null,{"$f":"IF(ISERROR(INDEX(概要設定!$J$2:$K$51,MATCH($C263,概要設定!$J$2:$J$51,0),2)),\"\",INDEX(概要設定!$J$2:$K$51,MATCH($C263,概要設定!$J$2:$J$51,0),2))","v":""},null,null,null,null,{"$f":"IF(ISERROR(INDEX(概要設定!$J$2:$K$51,MATCH($H263,概要設定!$J$2:$J$51,0),2)),\"\",INDEX(概要設定!$J$2:$K$51,MATCH($H263,概要設定!$J$2:$J$51,0),2))","v":""}]
[null,null,{"$f":"IF(AND($B263>=1,$B263<=17),INDEX(黒!$B$6:$E$39,MATCH($B263,黒!$B$6:$B$39,0),4),\"\")","v":""},null,null,null,null,{"$f":"IF(AND($I263>=1,$I263<=17),INDEX(黒!$B$6:$E$39,MATCH($I263,黒!$B$6:$B$39,0),4),\"\")","v":""},null,null,null,null,{"$f":"IF($A263=\"\",\"\",$B263+$B263+5)","v":""},{"$f":"IF($A263=\"\",\"\",$I263+$I263+4)","v":""},"","","","",{"$f":"IF(AND($B263>=1,$B263<=17),INDEX(黒!$B$6:$E$39,MATCH($B263,黒!$B$6:$B$39,0),2),\"\")","v":""},{"$f":"IF($A263=\"\",\"\",$I263+$I263+5)","v":""},{"$f":"IF($A263=\"\",\"\",$B263+$B263+4)","v":""},"","","","",{"$f":"IF(AND($I263>=1,$I263<=17),INDEX(黒!$B$6:$E$39,MATCH($I263,黒!$B$6:$B$39,0),2),\"\")","v":""}]
[null,null,{"$f":"IF(ISERROR(INDEX(概要設定!$J$2:$K$51,MATCH($C265,概要設定!$J$2:$J$51,0),2)),\"\",INDEX(概要設定!$J$2:$K$51,MATCH($C265,概要設定!$J$2:$J$51,0),2))","v":""},null,null,null,null,{"$f":"IF(ISERROR(INDEX(概要設定!$J$2:$K$51,MATCH($H265,概要設定!$J$2:$J$51,0),2)),\"\",INDEX(概要設定!$J$2:$K$51,MATCH($H265,概要設定!$J$2:$J$51,0),2))","v":""}]
[null,null,{"$f":"IF(AND($B265>=1,$B265<=17),INDEX(黒!$B$6:$E$39,MATCH($B265,黒!$B$6:$B$39,0),4),\"\")","v":""},null,null,null,null,{"$f":"IF(AND($I265>=1,$I265<=17),INDEX(黒!$B$6:$E$39,MATCH($I265,黒!$B$6:$B$39,0),4),\"\")","v":""},null,null,null,null,{"$f":"IF($A265=\"\",\"\",$B265+$B265+5)","v":""},{"$f":"IF($A265=\"\",\"\",$I265+$I265+4)","v":""},{"$f":"IF($A265=\"\",\"\",$M265-1)","v":""},{"$f":"IF($A265=\"\",\"\",$N265)","v":""},{"$f":"IF($A265=\"\",\"\",$M265-1)","v":""},{"$f":"IF($A265=\"\",\"\",$N265+1)","v":""},{"$f":"IF(AND($B265>=1,$B265<=17),INDEX(黒!$B$6:$E$39,MATCH($B265,黒!$B$6:$B$39,0),2),\"\")","v":""},{"$f":"IF($A265=\"\",\"\",$I265+$I265+5)","v":""},{"$f":"IF($A265=\"\",\"\",$B265+$B265+4)","v":""},{"$f":"IF($A265=\"\",\"\",$T265-1)","v":""},{"$f":"IF($A265=\"\",\"\",$U265)","v":""},{"$f":"IF($A265=\"\",\"\",$T265-1)","v":""},{"$f":"IF($A265=\"\",\"\",$U265+1)","v":""},{"$f":"IF(AND($I265>=1,$I265<=17),INDEX(黒!$B$6:$E$39,MATCH($I265,黒!$B$6:$B$39,0),2),\"\")","v":""}]
[null,null,{"$f":"IF(ISERROR(INDEX(概要設定!$J$2:$K$51,MATCH($C267,概要設定!$J$2:$J$51,0),2)),\"\",INDEX(概要設定!$J$2:$K$51,MATCH($C267,概要設定!$J$2:$J$51,0),2))","v":""},null,null,null,null,{"$f":"IF(ISERROR(INDEX(概要設定!$J$2:$K$51,MATCH($H267,概要設定!$J$2:$J$51,0),2)),\"\",INDEX(概要設定!$J$2:$K$51,MATCH($H267,概要設定!$J$2:$J$51,0),2))","v":""}]
[null,null,{"$f":"IF(AND($B267>=1,$B267<=17),INDEX(黒!$B$6:$E$39,MATCH($B267,黒!$B$6:$B$39,0),4),\"\")","v":""},null,null,null,null,{"$f":"IF(AND($I267>=1,$I267<=17),INDEX(黒!$B$6:$E$39,MATCH($I267,黒!$B$6:$B$39,0),4),\"\")","v":""},null,null,null,null,{"$f":"IF($A267=\"\",\"\",$B267+$B267+5)","v":""},{"$f":"IF($A267=\"\",\"\",$I267+$I267+4)","v":""},"","","","",{"$f":"IF(AND($B267>=1,$B267<=17),INDEX(黒!$B$6:$E$39,MATCH($B267,黒!$B$6:$B$39,0),2),\"\")","v":""},{"$f":"IF($A267=\"\",\"\",$I267+$I267+5)","v":""},{"$f":"IF($A267=\"\",\"\",$B267+$B267+4)","v":""},"","","","",{"$f":"IF(AND($I267>=1,$I267<=17),INDEX(黒!$B$6:$E$39,MATCH($I267,黒!$B$6:$B$39,0),2),\"\")","v":""}]
[null,null,{"$f":"IF(ISERROR(INDEX(概要設定!$J$2:$K$51,MATCH($C269,概要設定!$J$2:$J$51,0),2)),\"\",INDEX(概要設定!$J$2:$K$51,MATCH($C269,概要設定!$J$2:$J$51,0),2))","v":""},null,null,null,null,{"$f":"IF(ISERROR(INDEX(概要設定!$J$2:$K$51,MATCH($H269,概要設定!$J$2:$J$51,0),2)),\"\",INDEX(概要設定!$J$2:$K$51,MATCH($H269,概要設定!$J$2:$J$51,0),2))","v":""}]
[null,null,{"$f":"IF(AND($B269>=1,$B269<=17),INDEX(黒!$B$6:$E$39,MATCH($B269,黒!$B$6:$B$39,0),4),\"\")","v":""},null,null,null,null,{"$f":"IF(AND($I269>=1,$I269<=17),INDEX(黒!$B$6:$E$39,MATCH($I269,黒!$B$6:$B$39,0),4),\"\")","v":""},null,null,null,null,{"$f":"IF($A269=\"\",\"\",$B269+$B269+5)","v":""},{"$f":"IF($A269=\"\",\"\",$I269+$I269+4)","v":""},"","","","",{"$f":"IF(AND($B269>=1,$B269<=17),INDEX(黒!$B$6:$E$39,MATCH($B269,黒!$B$6:$B$39,0),2),\"\")","v":""},{"$f":"IF($A269=\"\",\"\",$I269+$I269+5)","v":""},{"$f":"IF($A269=\"\",\"\",$B269+$B269+4)","v":""},"","","","",{"$f":"IF(AND($I269>=1,$I269<=17),INDEX(黒!$B$6:$E$39,MATCH($I269,黒!$B$6:$B$39,0),2),\"\")","v":""}]
[null,null,{"$f":"IF(ISERROR(INDEX(概要設定!$J$2:$K$51,MATCH($C271,概要設定!$J$2:$J$51,0),2)),\"\",INDEX(概要設定!$J$2:$K$51,MATCH($C271,概要設定!$J$2:$J$51,0),2))","v":""},null,null,null,null,{"$f":"IF(ISERROR(INDEX(概要設定!$J$2:$K$51,MATCH($H271,概要設定!$J$2:$J$51,0),2)),\"\",INDEX(概要設定!$J$2:$K$51,MATCH($H271,概要設定!$J$2:$J$51,0),2))","v":""}]
[null,null,{"$f":"IF(AND($B271>=1,$B271<=17),INDEX(黒!$B$6:$E$39,MATCH($B271,黒!$B$6:$B$39,0),4),\"\")","v":""},null,null,null,null,{"$f":"IF(AND($I271>=1,$I271<=17),INDEX(黒!$B$6:$E$39,MATCH($I271,黒!$B$6:$B$39,0),4),\"\")","v":""},null,null,null,null,{"$f":"IF($A271=\"\",\"\",$B271+$B271+5)","v":""},{"$f":"IF($A271=\"\",\"\",$I271+$I271+4)","v":""},"","","","",{"$f":"IF(AND($B271>=1,$B271<=17),INDEX(黒!$B$6:$E$39,MATCH($B271,黒!$B$6:$B$39,0),2),\"\")","v":""},{"$f":"IF($A271=\"\",\"\",$I271+$I271+5)","v":""},{"$f":"IF($A271=\"\",\"\",$B271+$B271+4)","v":""},"","","","",{"$f":"IF(AND($I271>=1,$I271<=17),INDEX(黒!$B$6:$E$39,MATCH($I271,黒!$B$6:$B$39,0),2),\"\")","v":""}]
[null,null,{"$f":"IF(ISERROR(INDEX(概要設定!$J$2:$K$51,MATCH($C273,概要設定!$J$2:$J$51,0),2)),\"\",INDEX(概要設定!$J$2:$K$51,MATCH($C273,概要設定!$J$2:$J$51,0),2))","v":""},null,null,null,null,{"$f":"IF(ISERROR(INDEX(概要設定!$J$2:$K$51,MATCH($H273,概要設定!$J$2:$J$51,0),2)),\"\",INDEX(概要設定!$J$2:$K$51,MATCH($H273,概要設定!$J$2:$J$51,0),2))","v":""}]
[null,null,{"$f":"IF(AND($B273>=1,$B273<=17),INDEX(黒!$B$6:$E$39,MATCH($B273,黒!$B$6:$B$39,0),4),\"\")","v":""},null,null,null,null,{"$f":"IF(AND($I273>=1,$I273<=17),INDEX(黒!$B$6:$E$39,MATCH($I273,黒!$B$6:$B$39,0),4),\"\")","v":""},null,null,null,null,{"$f":"IF($A273=\"\",\"\",$B273+$B273+5)","v":""},{"$f":"IF($A273=\"\",\"\",$I273+$I273+4)","v":""},"","","","",{"$f":"IF(AND($B273>=1,$B273<=17),INDEX(黒!$B$6:$E$39,MATCH($B273,黒!$B$6:$B$39,0),2),\"\")","v":""},{"$f":"IF($A273=\"\",\"\",$I273+$I273+5)","v":""},{"$f":"IF($A273=\"\",\"\",$B273+$B273+4)","v":""},"","","","",{"$f":"IF(AND($I273>=1,$I273<=17),INDEX(黒!$B$6:$E$39,MATCH($I273,黒!$B$6:$B$39,0),2),\"\")","v":""}]
[null,null,{"$f":"IF(ISERROR(INDEX(概要設定!$J$2:$K$51,MATCH($C275,概要設定!$J$2:$J$51,0),2)),\"\",INDEX(概要設定!$J$2:$K$51,MATCH($C275,概要設定!$J$2:$J$51,0),2))","v":""},null,null,null,null,{"$f":"IF(ISERROR(INDEX(概要設定!$J$2:$K$51,MATCH($H275,概要設定!$J$2:$J$51,0),2)),\"\",INDEX(概要設定!$J$2:$K$51,MATCH($H275,概要設定!$J$2:$J$51,0),2))","v":""}]
[null,null,{"$f":"IF(AND($B275>=1,$B275<=17),INDEX(黒!$B$6:$E$39,MATCH($B275,黒!$B$6:$B$39,0),4),\"\")","v":""},null,null,null,null,{"$f":"IF(AND($I275>=1,$I275<=17),INDEX(黒!$B$6:$E$39,MATCH($I275,黒!$B$6:$B$39,0),4),\"\")","v":""},null,null,null,null,{"$f":"IF($A275=\"\",\"\",$B275+$B275+5)","v":""},{"$f":"IF($A275=\"\",\"\",$I275+$I275+4)","v":""},"","","","",{"$f":"IF(AND($B275>=1,$B275<=17),INDEX(黒!$B$6:$E$39,MATCH($B275,黒!$B$6:$B$39,0),2),\"\")","v":""},{"$f":"IF($A275=\"\",\"\",$I275+$I275+5)","v":""},{"$f":"IF($A275=\"\",\"\",$B275+$B275+4)","v":""},"","","","",{"$f":"IF(AND($I275>=1,$I275<=17),INDEX(黒!$B$6:$E$39,MATCH($I275,黒!$B$6:$B$39,0),2),\"\")","v":""}]
[null,null,{"$f":"IF(ISERROR(INDEX(概要設定!$J$2:$K$51,MATCH($C277,概要設定!$J$2:$J$51,0),2)),\"\",INDEX(概要設定!$J$2:$K$51,MATCH($C277,概要設定!$J$2:$J$51,0),2))","v":""},null,null,null,null,{"$f":"IF(ISERROR(INDEX(概要設定!$J$2:$K$51,MATCH($H277,概要設定!$J$2:$J$51,0),2)),\"\",INDEX(概要設定!$J$2:$K$51,MATCH($H277,概要設定!$J$2:$J$51,0),2))","v":""}]
[null,null,{"$f":"IF(AND($B277>=1,$B277<=17),INDEX(黒!$B$6:$E$39,MATCH($B277,黒!$B$6:$B$39,0),4),\"\")","v":""},null,null,null,null,{"$f":"IF(AND($I277>=1,$I277<=17),INDEX(黒!$B$6:$E$39,MATCH($I277,黒!$B$6:$B$39,0),4),\"\")","v":""},null,null,null,null,{"$f":"IF($A277=\"\",\"\",$B277+$B277+5)","v":""},{"$f":"IF($A277=\"\",\"\",$I277+$I277+4)","v":""},"","","","",{"$f":"IF(AND($B277>=1,$B277<=17),INDEX(黒!$B$6:$E$39,MATCH($B277,黒!$B$6:$B$39,0),2),\"\")","v":""},{"$f":"IF($A277=\"\",\"\",$I277+$I277+5)","v":""},{"$f":"IF($A277=\"\",\"\",$B277+$B277+4)","v":""},"","","","",{"$f":"IF(AND($I277>=1,$I277<=17),INDEX(黒!$B$6:$E$39,MATCH($I277,黒!$B$6:$B$39,0),2),\"\")","v":""}]
[null,null,{"$f":"IF(ISERROR(INDEX(概要設定!$J$2:$K$51,MATCH($C279,概要設定!$J$2:$J$51,0),2)),\"\",INDEX(概要設定!$J$2:$K$51,MATCH($C279,概要設定!$J$2:$J$51,0),2))","v":""},null,null,null,null,{"$f":"IF(ISERROR(INDEX(概要設定!$J$2:$K$51,MATCH($H279,概要設定!$J$2:$J$51,0),2)),\"\",INDEX(概要設定!$J$2:$K$51,MATCH($H279,概要設定!$J$2:$J$51,0),2))","v":""}]
[null,null,{"$f":"IF(AND($B279>=1,$B279<=17),INDEX(黒!$B$6:$E$39,MATCH($B279,黒!$B$6:$B$39,0),4),\"\")","v":""},null,null,null,null,{"$f":"IF(AND($I279>=1,$I279<=17),INDEX(黒!$B$6:$E$39,MATCH($I279,黒!$B$6:$B$39,0),4),\"\")","v":""},null,null,null,null,{"$f":"IF($A279=\"\",\"\",$B279+$B279+5)","v":""},{"$f":"IF($A279=\"\",\"\",$I279+$I279+4)","v":""},"","","","",{"$f":"IF(AND($B279>=1,$B279<=17),INDEX(黒!$B$6:$E$39,MATCH($B279,黒!$B$6:$B$39,0),2),\"\")","v":""},{"$f":"IF($A279=\"\",\"\",$I279+$I279+5)","v":""},{"$f":"IF($A279=\"\",\"\",$B279+$B279+4)","v":""},"","","","",{"$f":"IF(AND($I279>=1,$I279<=17),INDEX(黒!$B$6:$E$39,MATCH($I279,黒!$B$6:$B$39,0),2),\"\")","v":""}]
[null,null,{"$f":"IF(ISERROR(INDEX(概要設定!$J$2:$K$51,MATCH($C281,概要設定!$J$2:$J$51,0),2)),\"\",INDEX(概要設定!$J$2:$K$51,MATCH($C281,概要設定!$J$2:$J$51,0),2))","v":""},null,null,null,null,{"$f":"IF(ISERROR(INDEX(概要設定!$J$2:$K$51,MATCH($H281,概要設定!$J$2:$J$51,0),2)),\"\",INDEX(概要設定!$J$2:$K$51,MATCH($H281,概要設定!$J$2:$J$51,0),2))","v":""}]
[null,null,{"$f":"IF(AND($B281>=1,$B281<=17),INDEX(黒!$B$6:$E$39,MATCH($B281,黒!$B$6:$B$39,0),4),\"\")","v":""},null,null,null,null,{"$f":"IF(AND($I281>=1,$I281<=17),INDEX(黒!$B$6:$E$39,MATCH($I281,黒!$B$6:$B$39,0),4),\"\")","v":""},null,null,null,null,{"$f":"IF($A281=\"\",\"\",$B281+$B281+5)","v":""},{"$f":"IF($A281=\"\",\"\",$I281+$I281+4)","v":""},"","","","",{"$f":"IF(AND($B281>=1,$B281<=17),INDEX(黒!$B$6:$E$39,MATCH($B281,黒!$B$6:$B$39,0),2),\"\")","v":""},{"$f":"IF($A281=\"\",\"\",$I281+$I281+5)","v":""},{"$f":"IF($A281=\"\",\"\",$B281+$B281+4)","v":""},"","","","",{"$f":"IF(AND($I281>=1,$I281<=17),INDEX(黒!$B$6:$E$39,MATCH($I281,黒!$B$6:$B$39,0),2),\"\")","v":""}]
[null,null,{"$f":"IF(ISERROR(INDEX(概要設定!$J$2:$K$51,MATCH($C283,概要設定!$J$2:$J$51,0),2)),\"\",INDEX(概要設定!$J$2:$K$51,MATCH($C283,概要設定!$J$2:$J$51,0),2))","v":""},null,null,null,null,{"$f":"IF(ISERROR(INDEX(概要設定!$J$2:$K$51,MATCH($H283,概要設定!$J$2:$J$51,0),2)),\"\",INDEX(概要設定!$J$2:$K$51,MATCH($H283,概要設定!$J$2:$J$51,0),2))","v":""}]
[null,null,{"$f":"IF(AND($B283>=1,$B283<=17),INDEX(黒!$B$6:$E$39,MATCH($B283,黒!$B$6:$B$39,0),4),\"\")","v":""},null,null,null,null,{"$f":"IF(AND($I283>=1,$I283<=17),INDEX(黒!$B$6:$E$39,MATCH($I283,黒!$B$6:$B$39,0),4),\"\")","v":""},null,null,null,null,{"$f":"IF($A283=\"\",\"\",$B283+$B283+5)","v":""},{"$f":"IF($A283=\"\",\"\",$I283+$I283+4)","v":""},"","","","",{"$f":"IF(AND($B283>=1,$B283<=17),INDEX(黒!$B$6:$E$39,MATCH($B283,黒!$B$6:$B$39,0),2),\"\")","v":""},{"$f":"IF($A283=\"\",\"\",$I283+$I283+5)","v":""},{"$f":"IF($A283=\"\",\"\",$B283+$B283+4)","v":""},"","","","",{"$f":"IF(AND($I283>=1,$I283<=17),INDEX(黒!$B$6:$E$39,MATCH($I283,黒!$B$6:$B$39,0),2),\"\")","v":""}]
[null,null,{"$f":"IF(ISERROR(INDEX(概要設定!$J$2:$K$51,MATCH($C285,概要設定!$J$2:$J$51,0),2)),\"\",INDEX(概要設定!$J$2:$K$51,MATCH($C285,概要設定!$J$2:$J$51,0),2))","v":""},null,null,null,null,{"$f":"IF(ISERROR(INDEX(概要設定!$J$2:$K$51,MATCH($H285,概要設定!$J$2:$J$51,0),2)),\"\",INDEX(概要設定!$J$2:$K$51,MATCH($H285,概要設定!$J$2:$J$51,0),2))","v":""}]
[null,null,{"$f":"IF(AND($B285>=1,$B285<=17),INDEX(黒!$B$6:$E$39,MATCH($B285,黒!$B$6:$B$39,0),4),\"\")","v":""},null,null,null,null,{"$f":"IF(AND($I285>=1,$I285<=17),INDEX(黒!$B$6:$E$39,MATCH($I285,黒!$B$6:$B$39,0),4),\"\")","v":""},null,null,null,null,{"$f":"IF($A285=\"\",\"\",$B285+$B285+5)","v":""},{"$f":"IF($A285=\"\",\"\",$I285+$I285+4)","v":""},"","","","",{"$f":"IF(AND($B285>=1,$B285<=17),INDEX(黒!$B$6:$E$39,MATCH($B285,黒!$B$6:$B$39,0),2),\"\")","v":""},{"$f":"IF($A285=\"\",\"\",$I285+$I285+5)","v":""},{"$f":"IF($A285=\"\",\"\",$B285+$B285+4)","v":""},"","","","",{"$f":"IF(AND($I285>=1,$I285<=17),INDEX(黒!$B$6:$E$39,MATCH($I285,黒!$B$6:$B$39,0),2),\"\")","v":""}]
[null,null,{"$f":"IF(ISERROR(INDEX(概要設定!$J$2:$K$51,MATCH($C287,概要設定!$J$2:$J$51,0),2)),\"\",INDEX(概要設定!$J$2:$K$51,MATCH($C287,概要設定!$J$2:$J$51,0),2))","v":""},null,null,null,null,{"$f":"IF(ISERROR(INDEX(概要設定!$J$2:$K$51,MATCH($H287,概要設定!$J$2:$J$51,0),2)),\"\",INDEX(概要設定!$J$2:$K$51,MATCH($H287,概要設定!$J$2:$J$51,0),2))","v":""}]
[null,null,{"$f":"IF(AND($B287>=1,$B287<=17),INDEX(黒!$B$6:$E$39,MATCH($B287,黒!$B$6:$B$39,0),4),\"\")","v":""},null,null,null,null,{"$f":"IF(AND($I287>=1,$I287<=17),INDEX(黒!$B$6:$E$39,MATCH($I287,黒!$B$6:$B$39,0),4),\"\")","v":""},null,null,null,null,{"$f":"IF($A287=\"\",\"\",$B287+$B287+5)","v":""},{"$f":"IF($A287=\"\",\"\",$I287+$I287+4)","v":""},"","","","",{"$f":"IF(AND($B287>=1,$B287<=17),INDEX(黒!$B$6:$E$39,MATCH($B287,黒!$B$6:$B$39,0),2),\"\")","v":""},{"$f":"IF($A287=\"\",\"\",$I287+$I287+5)","v":""},{"$f":"IF($A287=\"\",\"\",$B287+$B287+4)","v":""},"","","","",{"$f":"IF(AND($I287>=1,$I287<=17),INDEX(黒!$B$6:$E$39,MATCH($I287,黒!$B$6:$B$39,0),2),\"\")","v":""}]
[null,null,{"$f":"IF(ISERROR(INDEX(概要設定!$J$2:$K$51,MATCH($C289,概要設定!$J$2:$J$51,0),2)),\"\",INDEX(概要設定!$J$2:$K$51,MATCH($C289,概要設定!$J$2:$J$51,0),2))","v":""},null,null,null,null,{"$f":"IF(ISERROR(INDEX(概要設定!$J$2:$K$51,MATCH($H289,概要設定!$J$2:$J$51,0),2)),\"\",INDEX(概要設定!$J$2:$K$51,MATCH($H289,概要設定!$J$2:$J$51,0),2))","v":""}]
[null,null,{"$f":"IF(AND($B289>=1,$B289<=17),INDEX(黒!$B$6:$E$39,MATCH($B289,黒!$B$6:$B$39,0),4),\"\")","v":""},null,null,null,null,{"$f":"IF(AND($I289>=1,$I289<=17),INDEX(黒!$B$6:$E$39,MATCH($I289,黒!$B$6:$B$39,0),4),\"\")","v":""},null,null,null,null,{"$f":"IF($A289=\"\",\"\",$B289+$B289+5)","v":""},{"$f":"IF($A289=\"\",\"\",$I289+$I289+4)","v":""},"","","","",{"$f":"IF(AND($B289>=1,$B289<=17),INDEX(黒!$B$6:$E$39,MATCH($B289,黒!$B$6:$B$39,0),2),\"\")","v":""},{"$f":"IF($A289=\"\",\"\",$I289+$I289+5)","v":""},{"$f":"IF($A289=\"\",\"\",$B289+$B289+4)","v":""},"","","","",{"$f":"IF(AND($I289>=1,$I289<=17),INDEX(黒!$B$6:$E$39,MATCH($I289,黒!$B$6:$B$39,0),2),\"\")","v":""}]
[null,null,{"$f":"IF(ISERROR(INDEX(概要設定!$J$2:$K$51,MATCH($C291,概要設定!$J$2:$J$51,0),2)),\"\",INDEX(概要設定!$J$2:$K$51,MATCH($C291,概要設定!$J$2:$J$51,0),2))","v":""},null,null,null,null,{"$f":"IF(ISERROR(INDEX(概要設定!$J$2:$K$51,MATCH($H291,概要設定!$J$2:$J$51,0),2)),\"\",INDEX(概要設定!$J$2:$K$51,MATCH($H291,概要設定!$J$2:$J$51,0),2))","v":""}]
[null,null,{"$f":"IF(AND($B291>=1,$B291<=17),INDEX(黒!$B$6:$E$39,MATCH($B291,黒!$B$6:$B$39,0),4),\"\")","v":""},null,null,null,null,{"$f":"IF(AND($I291>=1,$I291<=17),INDEX(黒!$B$6:$E$39,MATCH($I291,黒!$B$6:$B$39,0),4),\"\")","v":""},null,null,null,null,{"$f":"IF($A291=\"\",\"\",$B291+$B291+5)","v":""},{"$f":"IF($A291=\"\",\"\",$I291+$I291+4)","v":""},"","","","",{"$f":"IF(AND($B291>=1,$B291<=17),INDEX(黒!$B$6:$E$39,MATCH($B291,黒!$B$6:$B$39,0),2),\"\")","v":""},{"$f":"IF($A291=\"\",\"\",$I291+$I291+5)","v":""},{"$f":"IF($A291=\"\",\"\",$B291+$B291+4)","v":""},"","","","",{"$f":"IF(AND($I291>=1,$I291<=17),INDEX(黒!$B$6:$E$39,MATCH($I291,黒!$B$6:$B$39,0),2),\"\")","v":""}]
[null,null,{"$f":"IF(ISERROR(INDEX(概要設定!$J$2:$K$51,MATCH($C293,概要設定!$J$2:$J$51,0),2)),\"\",INDEX(概要設定!$J$2:$K$51,MATCH($C293,概要設定!$J$2:$J$51,0),2))","v":""},null,null,null,null,{"$f":"IF(ISERROR(INDEX(概要設定!$J$2:$K$51,MATCH($H293,概要設定!$J$2:$J$51,0),2)),\"\",INDEX(概要設定!$J$2:$K$51,MATCH($H293,概要設定!$J$2:$J$51,0),2))","v":""}]
[null,null,{"$f":"IF(AND($B293>=1,$B293<=17),INDEX(黒!$B$6:$E$39,MATCH($B293,黒!$B$6:$B$39,0),4),\"\")","v":""},null,null,null,null,{"$f":"IF(AND($I293>=1,$I293<=17),INDEX(黒!$B$6:$E$39,MATCH($I293,黒!$B$6:$B$39,0),4),\"\")","v":""},null,null,null,null,{"$f":"IF($A293=\"\",\"\",$B293+$B293+5)","v":""},{"$f":"IF($A293=\"\",\"\",$I293+$I293+4)","v":""},"","","","",{"$f":"IF(AND($B293>=1,$B293<=17),INDEX(黒!$B$6:$E$39,MATCH($B293,黒!$B$6:$B$39,0),2),\"\")","v":""},{"$f":"IF($A293=\"\",\"\",$I293+$I293+5)","v":""},{"$f":"IF($A293=\"\",\"\",$B293+$B293+4)","v":""},"","","","",{"$f":"IF(AND($I293>=1,$I293<=17),INDEX(黒!$B$6:$E$39,MATCH($I293,黒!$B$6:$B$39,0),2),\"\")","v":""}]
[null,null,{"$f":"IF(ISERROR(INDEX(概要設定!$J$2:$K$51,MATCH($C295,概要設定!$J$2:$J$51,0),2)),\"\",INDEX(概要設定!$J$2:$K$51,MATCH($C295,概要設定!$J$2:$J$51,0),2))","v":""},null,null,null,null,{"$f":"IF(ISERROR(INDEX(概要設定!$J$2:$K$51,MATCH($H295,概要設定!$J$2:$J$51,0),2)),\"\",INDEX(概要設定!$J$2:$K$51,MATCH($H295,概要設定!$J$2:$J$51,0),2))","v":""}]
[null,null,{"$f":"IF(AND($B295>=1,$B295<=17),INDEX(黒!$B$6:$E$39,MATCH($B295,黒!$B$6:$B$39,0),4),\"\")","v":""},null,null,null,null,{"$f":"IF(AND($I295>=1,$I295<=17),INDEX(黒!$B$6:$E$39,MATCH($I295,黒!$B$6:$B$39,0),4),\"\")","v":""},null,null,null,null,{"$f":"IF($A295=\"\",\"\",$B295+$B295+5)","v":""},{"$f":"IF($A295=\"\",\"\",$I295+$I295+4)","v":""},"","","","",{"$f":"IF(AND($B295>=1,$B295<=17),INDEX(黒!$B$6:$E$39,MATCH($B295,黒!$B$6:$B$39,0),2),\"\")","v":""},{"$f":"IF($A295=\"\",\"\",$I295+$I295+5)","v":""},{"$f":"IF($A295=\"\",\"\",$B295+$B295+4)","v":""},"","","","",{"$f":"IF(AND($I295>=1,$I295<=17),INDEX(黒!$B$6:$E$39,MATCH($I295,黒!$B$6:$B$39,0),2),\"\")","v":""}]
[null,null,{"$f":"IF(ISERROR(INDEX(概要設定!$J$2:$K$51,MATCH($C297,概要設定!$J$2:$J$51,0),2)),\"\",INDEX(概要設定!$J$2:$K$51,MATCH($C297,概要設定!$J$2:$J$51,0),2))","v":""},null,null,null,null,{"$f":"IF(ISERROR(INDEX(概要設定!$J$2:$K$51,MATCH($H297,概要設定!$J$2:$J$51,0),2)),\"\",INDEX(概要設定!$J$2:$K$51,MATCH($H297,概要設定!$J$2:$J$51,0),2))","v":""}]
[null,null,{"$f":"IF(AND($B297>=1,$B297<=17),INDEX(黒!$B$6:$E$39,MATCH($B297,黒!$B$6:$B$39,0),4),\"\")","v":""},null,null,null,null,{"$f":"IF(AND($I297>=1,$I297<=17),INDEX(黒!$B$6:$E$39,MATCH($I297,黒!$B$6:$B$39,0),4),\"\")","v":""},null,null,null,null,{"$f":"IF($A297=\"\",\"\",$B297+$B297+5)","v":""},{"$f":"IF($A297=\"\",\"\",$I297+$I297+4)","v":""},"","","","",{"$f":"IF(AND($B297>=1,$B297<=17),INDEX(黒!$B$6:$E$39,MATCH($B297,黒!$B$6:$B$39,0),2),\"\")","v":""},{"$f":"IF($A297=\"\",\"\",$I297+$I297+5)","v":""},{"$f":"IF($A297=\"\",\"\",$B297+$B297+4)","v":""},"","","","",{"$f":"IF(AND($I297>=1,$I297<=17),INDEX(黒!$B$6:$E$39,MATCH($I297,黒!$B$6:$B$39,0),2),\"\")","v":""}]
[null,null,{"$f":"IF(ISERROR(INDEX(概要設定!$J$2:$K$51,MATCH($C299,概要設定!$J$2:$J$51,0),2)),\"\",INDEX(概要設定!$J$2:$K$51,MATCH($C299,概要設定!$J$2:$J$51,0),2))","v":""},null,null,null,null,{"$f":"IF(ISERROR(INDEX(概要設定!$J$2:$K$51,MATCH($H299,概要設定!$J$2:$J$51,0),2)),\"\",INDEX(概要設定!$J$2:$K$51,MATCH($H299,概要設定!$J$2:$J$51,0),2))","v":""}]
[null,null,{"$f":"IF(AND($B299>=1,$B299<=17),INDEX(黒!$B$6:$E$39,MATCH($B299,黒!$B$6:$B$39,0),4),\"\")","v":""},null,null,null,null,{"$f":"IF(AND($I299>=1,$I299<=17),INDEX(黒!$B$6:$E$39,MATCH($I299,黒!$B$6:$B$39,0),4),\"\")","v":""},null,null,null,null,{"$f":"IF($A299=\"\",\"\",$B299+$B299+5)","v":""},{"$f":"IF($A299=\"\",\"\",$I299+$I299+4)","v":""},"","","","",{"$f":"IF(AND($B299>=1,$B299<=17),INDEX(黒!$B$6:$E$39,MATCH($B299,黒!$B$6:$B$39,0),2),\"\")","v":""},{"$f":"IF($A299=\"\",\"\",$I299+$I299+5)","v":""},{"$f":"IF($A299=\"\",\"\",$B299+$B299+4)","v":""},"","","","",{"$f":"IF(AND($I299>=1,$I299<=17),INDEX(黒!$B$6:$E$39,MATCH($I299,黒!$B$6:$B$39,0),2),\"\")","v":""}]
[null,null,{"$f":"IF(ISERROR(INDEX(概要設定!$J$2:$K$51,MATCH($C301,概要設定!$J$2:$J$51,0),2)),\"\",INDEX(概要設定!$J$2:$K$51,MATCH($C301,概要設定!$J$2:$J$51,0),2))","v":""},null,null,null,null,{"$f":"IF(ISERROR(INDEX(概要設定!$J$2:$K$51,MATCH($H301,概要設定!$J$2:$J$51,0),2)),\"\",INDEX(概要設定!$J$2:$K$51,MATCH($H301,概要設定!$J$2:$J$51,0),2))","v":""}]
[null,null,{"$f":"IF(AND($B301>=1,$B301<=17),INDEX(黒!$B$6:$E$39,MATCH($B301,黒!$B$6:$B$39,0),4),\"\")","v":""},null,null,null,null,{"$f":"IF(AND($I301>=1,$I301<=17),INDEX(黒!$B$6:$E$39,MATCH($I301,黒!$B$6:$B$39,0),4),\"\")","v":""},null,null,null,null,{"$f":"IF($A301=\"\",\"\",$B301+$B301+5)","v":""},{"$f":"IF($A301=\"\",\"\",$I301+$I301+4)","v":""},"","","","",{"$f":"IF(AND($B301>=1,$B301<=17),INDEX(黒!$B$6:$E$39,MATCH($B301,黒!$B$6:$B$39,0),2),\"\")","v":""},{"$f":"IF($A301=\"\",\"\",$I301+$I301+5)","v":""},{"$f":"IF($A301=\"\",\"\",$B301+$B301+4)","v":""},"","","","",{"$f":"IF(AND($I301>=1,$I301<=17),INDEX(黒!$B$6:$E$39,MATCH($I301,黒!$B$6:$B$39,0),2),\"\")","v":""}]
[null,null,{"$f":"IF(ISERROR(INDEX(概要設定!$J$2:$K$51,MATCH($C303,概要設定!$J$2:$J$51,0),2)),\"\",INDEX(概要設定!$J$2:$K$51,MATCH($C303,概要設定!$J$2:$J$51,0),2))","v":""},null,null,null,null,{"$f":"IF(ISERROR(INDEX(概要設定!$J$2:$K$51,MATCH($H303,概要設定!$J$2:$J$51,0),2)),\"\",INDEX(概要設定!$J$2:$K$51,MATCH($H303,概要設定!$J$2:$J$51,0),2))","v":""}]
[null,null,{"$f":"IF(AND($B303>=1,$B303<=17),INDEX(黒!$B$6:$E$39,MATCH($B303,黒!$B$6:$B$39,0),4),\"\")","v":""},null,null,null,null,{"$f":"IF(AND($I303>=1,$I303<=17),INDEX(黒!$B$6:$E$39,MATCH($I303,黒!$B$6:$B$39,0),4),\"\")","v":""},null,null,null,null,{"$f":"IF($A303=\"\",\"\",$B303+$B303+5)","v":""},{"$f":"IF($A303=\"\",\"\",$I303+$I303+4)","v":""},"","","","",{"$f":"IF(AND($B303>=1,$B303<=17),INDEX(黒!$B$6:$E$39,MATCH($B303,黒!$B$6:$B$39,0),2),\"\")","v":""},{"$f":"IF($A303=\"\",\"\",$I303+$I303+5)","v":""},{"$f":"IF($A303=\"\",\"\",$B303+$B303+4)","v":""},"","","","",{"$f":"IF(AND($I303>=1,$I303<=17),INDEX(黒!$B$6:$E$39,MATCH($I303,黒!$B$6:$B$39,0),2),\"\")","v":""}]
[null,null,{"$f":"IF(ISERROR(INDEX(概要設定!$J$2:$K$51,MATCH($C305,概要設定!$J$2:$J$51,0),2)),\"\",INDEX(概要設定!$J$2:$K$51,MATCH($C305,概要設定!$J$2:$J$51,0),2))","v":""},null,null,null,null,{"$f":"IF(ISERROR(INDEX(概要設定!$J$2:$K$51,MATCH($H305,概要設定!$J$2:$J$51,0),2)),\"\",INDEX(概要設定!$J$2:$K$51,MATCH($H305,概要設定!$J$2:$J$51,0),2))","v":""}]
[null,null,{"$f":"IF(AND($B305>=1,$B305<=17),INDEX(黒!$B$6:$E$39,MATCH($B305,黒!$B$6:$B$39,0),4),\"\")","v":""},null,null,null,null,{"$f":"IF(AND($I305>=1,$I305<=17),INDEX(黒!$B$6:$E$39,MATCH($I305,黒!$B$6:$B$39,0),4),\"\")","v":""},null,null,null,null,{"$f":"IF($A305=\"\",\"\",$B305+$B305+5)","v":""},{"$f":"IF($A305=\"\",\"\",$I305+$I305+4)","v":""},"","","","",{"$f":"IF(AND($B305>=1,$B305<=17),INDEX(黒!$B$6:$E$39,MATCH($B305,黒!$B$6:$B$39,0),2),\"\")","v":""},{"$f":"IF($A305=\"\",\"\",$I305+$I305+5)","v":""},{"$f":"IF($A305=\"\",\"\",$B305+$B305+4)","v":""},"","","","",{"$f":"IF(AND($I305>=1,$I305<=17),INDEX(黒!$B$6:$E$39,MATCH($I305,黒!$B$6:$B$39,0),2),\"\")","v":""}]
[null,null,{"$f":"IF(ISERROR(INDEX(概要設定!$J$2:$K$51,MATCH($C307,概要設定!$J$2:$J$51,0),2)),\"\",INDEX(概要設定!$J$2:$K$51,MATCH($C307,概要設定!$J$2:$J$51,0),2))","v":""},null,null,null,null,{"$f":"IF(ISERROR(INDEX(概要設定!$J$2:$K$51,MATCH($H307,概要設定!$J$2:$J$51,0),2)),\"\",INDEX(概要設定!$J$2:$K$51,MATCH($H307,概要設定!$J$2:$J$51,0),2))","v":""}]
[null,null,{"$f":"IF(AND($B307>=1,$B307<=17),INDEX(黒!$B$6:$E$39,MATCH($B307,黒!$B$6:$B$39,0),4),\"\")","v":""},null,null,null,null,{"$f":"IF(AND($I307>=1,$I307<=17),INDEX(黒!$B$6:$E$39,MATCH($I307,黒!$B$6:$B$39,0),4),\"\")","v":""},null,null,null,null,{"$f":"IF($A307=\"\",\"\",$B307+$B307+5)","v":""},{"$f":"IF($A307=\"\",\"\",$I307+$I307+4)","v":""},"","","","",{"$f":"IF(AND($B307>=1,$B307<=17),INDEX(黒!$B$6:$E$39,MATCH($B307,黒!$B$6:$B$39,0),2),\"\")","v":""},{"$f":"IF($A307=\"\",\"\",$I307+$I307+5)","v":""},{"$f":"IF($A307=\"\",\"\",$B307+$B307+4)","v":""},"","","","",{"$f":"IF(AND($I307>=1,$I307<=17),INDEX(黒!$B$6:$E$39,MATCH($I307,黒!$B$6:$B$39,0),2),\"\")","v":""}]
[null,null,{"$f":"IF(ISERROR(INDEX(概要設定!$J$2:$K$51,MATCH($C309,概要設定!$J$2:$J$51,0),2)),\"\",INDEX(概要設定!$J$2:$K$51,MATCH($C309,概要設定!$J$2:$J$51,0),2))","v":""},null,null,null,null,{"$f":"IF(ISERROR(INDEX(概要設定!$J$2:$K$51,MATCH($H309,概要設定!$J$2:$J$51,0),2)),\"\",INDEX(概要設定!$J$2:$K$51,MATCH($H309,概要設定!$J$2:$J$51,0),2))","v":""}]
[null,null,{"$f":"IF(AND($B309>=1,$B309<=17),INDEX(黒!$B$6:$E$39,MATCH($B309,黒!$B$6:$B$39,0),4),\"\")","v":""},null,null,null,null,{"$f":"IF(AND($I309>=1,$I309<=17),INDEX(黒!$B$6:$E$39,MATCH($I309,黒!$B$6:$B$39,0),4),\"\")","v":""},null,null,null,null,{"$f":"IF($A309=\"\",\"\",$B309+$B309+5)","v":""},{"$f":"IF($A309=\"\",\"\",$I309+$I309+4)","v":""},"","","","",{"$f":"IF(AND($B309>=1,$B309<=17),INDEX(黒!$B$6:$E$39,MATCH($B309,黒!$B$6:$B$39,0),2),\"\")","v":""},{"$f":"IF($A309=\"\",\"\",$I309+$I309+5)","v":""},{"$f":"IF($A309=\"\",\"\",$B309+$B309+4)","v":""},"","","","",{"$f":"IF(AND($I309>=1,$I309<=17),INDEX(黒!$B$6:$E$39,MATCH($I309,黒!$B$6:$B$39,0),2),\"\")","v":""}]
[null,null,{"$f":"IF(ISERROR(INDEX(概要設定!$J$2:$K$51,MATCH($C311,概要設定!$J$2:$J$51,0),2)),\"\",INDEX(概要設定!$J$2:$K$51,MATCH($C311,概要設定!$J$2:$J$51,0),2))","v":""},null,null,null,null,{"$f":"IF(ISERROR(INDEX(概要設定!$J$2:$K$51,MATCH($H311,概要設定!$J$2:$J$51,0),2)),\"\",INDEX(概要設定!$J$2:$K$51,MATCH($H311,概要設定!$J$2:$J$51,0),2))","v":""}]
[null,null,{"$f":"IF(AND($B311>=1,$B311<=17),INDEX(黒!$B$6:$E$39,MATCH($B311,黒!$B$6:$B$39,0),4),\"\")","v":""},null,null,null,null,{"$f":"IF(AND($I311>=1,$I311<=17),INDEX(黒!$B$6:$E$39,MATCH($I311,黒!$B$6:$B$39,0),4),\"\")","v":""},null,null,null,null,{"$f":"IF($A311=\"\",\"\",$B311+$B311+5)","v":""},{"$f":"IF($A311=\"\",\"\",$I311+$I311+4)","v":""},"","","","",{"$f":"IF(AND($B311>=1,$B311<=17),INDEX(黒!$B$6:$E$39,MATCH($B311,黒!$B$6:$B$39,0),2),\"\")","v":""},{"$f":"IF($A311=\"\",\"\",$I311+$I311+5)","v":""},{"$f":"IF($A311=\"\",\"\",$B311+$B311+4)","v":""},"","","","",{"$f":"IF(AND($I311>=1,$I311<=17),INDEX(黒!$B$6:$E$39,MATCH($I311,黒!$B$6:$B$39,0),2),\"\")","v":""}]
[null,null,{"$f":"IF(ISERROR(INDEX(概要設定!$J$2:$K$51,MATCH($C313,概要設定!$J$2:$J$51,0),2)),\"\",INDEX(概要設定!$J$2:$K$51,MATCH($C313,概要設定!$J$2:$J$51,0),2))","v":""},null,null,null,null,{"$f":"IF(ISERROR(INDEX(概要設定!$J$2:$K$51,MATCH($H313,概要設定!$J$2:$J$51,0),2)),\"\",INDEX(概要設定!$J$2:$K$51,MATCH($H313,概要設定!$J$2:$J$51,0),2))","v":""}]
[null,null,{"$f":"IF(AND($B313>=1,$B313<=17),INDEX(黒!$B$6:$E$39,MATCH($B313,黒!$B$6:$B$39,0),4),\"\")","v":""},null,null,null,null,{"$f":"IF(AND($I313>=1,$I313<=17),INDEX(黒!$B$6:$E$39,MATCH($I313,黒!$B$6:$B$39,0),4),\"\")","v":""},null,null,null,null,{"$f":"IF($A313=\"\",\"\",$B313+$B313+5)","v":""},{"$f":"IF($A313=\"\",\"\",$I313+$I313+4)","v":""},"","","","",{"$f":"IF(AND($B313>=1,$B313<=17),INDEX(黒!$B$6:$E$39,MATCH($B313,黒!$B$6:$B$39,0),2),\"\")","v":""},{"$f":"IF($A313=\"\",\"\",$I313+$I313+5)","v":""},{"$f":"IF($A313=\"\",\"\",$B313+$B313+4)","v":""},"","","","",{"$f":"IF(AND($I313>=1,$I313<=17),INDEX(黒!$B$6:$E$39,MATCH($I313,黒!$B$6:$B$39,0),2),\"\")","v":""}]
[null,null,{"$f":"IF(ISERROR(INDEX(概要設定!$J$2:$K$51,MATCH($C315,概要設定!$J$2:$J$51,0),2)),\"\",INDEX(概要設定!$J$2:$K$51,MATCH($C315,概要設定!$J$2:$J$51,0),2))","v":""},null,null,null,null,{"$f":"IF(ISERROR(INDEX(概要設定!$J$2:$K$51,MATCH($H315,概要設定!$J$2:$J$51,0),2)),\"\",INDEX(概要設定!$J$2:$K$51,MATCH($H315,概要設定!$J$2:$J$51,0),2))","v":""}]
[null,null,{"$f":"IF(AND($B315>=1,$B315<=17),INDEX(黒!$B$6:$E$39,MATCH($B315,黒!$B$6:$B$39,0),4),\"\")","v":""},null,null,null,null,{"$f":"IF(AND($I315>=1,$I315<=17),INDEX(黒!$B$6:$E$39,MATCH($I315,黒!$B$6:$B$39,0),4),\"\")","v":""},null,null,null,null,{"$f":"IF($A315=\"\",\"\",$B315+$B315+5)","v":""},{"$f":"IF($A315=\"\",\"\",$I315+$I315+4)","v":""},"","","","",{"$f":"IF(AND($B315>=1,$B315<=17),INDEX(黒!$B$6:$E$39,MATCH($B315,黒!$B$6:$B$39,0),2),\"\")","v":""},{"$f":"IF($A315=\"\",\"\",$I315+$I315+5)","v":""},{"$f":"IF($A315=\"\",\"\",$B315+$B315+4)","v":""},"","","","",{"$f":"IF(AND($I315>=1,$I315<=17),INDEX(黒!$B$6:$E$39,MATCH($I315,黒!$B$6:$B$39,0),2),\"\")","v":""}]
[null,null,{"$f":"IF(ISERROR(INDEX(概要設定!$J$2:$K$51,MATCH($C317,概要設定!$J$2:$J$51,0),2)),\"\",INDEX(概要設定!$J$2:$K$51,MATCH($C317,概要設定!$J$2:$J$51,0),2))","v":""},null,null,null,null,{"$f":"IF(ISERROR(INDEX(概要設定!$J$2:$K$51,MATCH($H317,概要設定!$J$2:$J$51,0),2)),\"\",INDEX(概要設定!$J$2:$K$51,MATCH($H317,概要設定!$J$2:$J$51,0),2))","v":""}]
[null,null,{"$f":"IF(AND($B317>=1,$B317<=17),INDEX(黒!$B$6:$E$39,MATCH($B317,黒!$B$6:$B$39,0),4),\"\")","v":""},null,null,null,null,{"$f":"IF(AND($I317>=1,$I317<=17),INDEX(黒!$B$6:$E$39,MATCH($I317,黒!$B$6:$B$39,0),4),\"\")","v":""},null,null,null,null,{"$f":"IF($A317=\"\",\"\",$B317+$B317+5)","v":""},{"$f":"IF($A317=\"\",\"\",$I317+$I317+4)","v":""},"","","","",{"$f":"IF(AND($B317>=1,$B317<=17),INDEX(黒!$B$6:$E$39,MATCH($B317,黒!$B$6:$B$39,0),2),\"\")","v":""},{"$f":"IF($A317=\"\",\"\",$I317+$I317+5)","v":""},{"$f":"IF($A317=\"\",\"\",$B317+$B317+4)","v":""},"","","","",{"$f":"IF(AND($I317>=1,$I317<=17),INDEX(黒!$B$6:$E$39,MATCH($I317,黒!$B$6:$B$39,0),2),\"\")","v":""}]
[null,null,{"$f":"IF(ISERROR(INDEX(概要設定!$J$2:$K$51,MATCH($C319,概要設定!$J$2:$J$51,0),2)),\"\",INDEX(概要設定!$J$2:$K$51,MATCH($C319,概要設定!$J$2:$J$51,0),2))","v":""},null,null,null,null,{"$f":"IF(ISERROR(INDEX(概要設定!$J$2:$K$51,MATCH($H319,概要設定!$J$2:$J$51,0),2)),\"\",INDEX(概要設定!$J$2:$K$51,MATCH($H319,概要設定!$J$2:$J$51,0),2))","v":""}]
[null,null,{"$f":"IF(AND($B319>=1,$B319<=17),INDEX(黒!$B$6:$E$39,MATCH($B319,黒!$B$6:$B$39,0),4),\"\")","v":""},null,null,null,null,{"$f":"IF(AND($I319>=1,$I319<=17),INDEX(黒!$B$6:$E$39,MATCH($I319,黒!$B$6:$B$39,0),4),\"\")","v":""},null,null,null,null,{"$f":"IF($A319=\"\",\"\",$B319+$B319+5)","v":""},{"$f":"IF($A319=\"\",\"\",$I319+$I319+4)","v":""},"","","","",{"$f":"IF(AND($B319>=1,$B319<=17),INDEX(黒!$B$6:$E$39,MATCH($B319,黒!$B$6:$B$39,0),2),\"\")","v":""},{"$f":"IF($A319=\"\",\"\",$I319+$I319+5)","v":""},{"$f":"IF($A319=\"\",\"\",$B319+$B319+4)","v":""},"","","","",{"$f":"IF(AND($I319>=1,$I319<=17),INDEX(黒!$B$6:$E$39,MATCH($I319,黒!$B$6:$B$39,0),2),\"\")","v":""}]
[null,null,{"$f":"IF(ISERROR(INDEX(概要設定!$J$2:$K$51,MATCH($C321,概要設定!$J$2:$J$51,0),2)),\"\",INDEX(概要設定!$J$2:$K$51,MATCH($C321,概要設定!$J$2:$J$51,0),2))","v":""},null,null,null,null,{"$f":"IF(ISERROR(INDEX(概要設定!$J$2:$K$51,MATCH($H321,概要設定!$J$2:$J$51,0),2)),\"\",INDEX(概要設定!$J$2:$K$51,MATCH($H321,概要設定!$J$2:$J$51,0),2))","v":""}]
[null,null,{"$f":"IF(AND($B321>=1,$B321<=17),INDEX(黒!$B$6:$E$39,MATCH($B321,黒!$B$6:$B$39,0),4),\"\")","v":""},null,null,null,null,{"$f":"IF(AND($I321>=1,$I321<=17),INDEX(黒!$B$6:$E$39,MATCH($I321,黒!$B$6:$B$39,0),4),\"\")","v":""},null,null,null,null,{"$f":"IF($A321=\"\",\"\",$B321+$B321+5)","v":""},{"$f":"IF($A321=\"\",\"\",$I321+$I321+4)","v":""},"","","","",{"$f":"IF(AND($B321>=1,$B321<=17),INDEX(黒!$B$6:$E$39,MATCH($B321,黒!$B$6:$B$39,0),2),\"\")","v":""},{"$f":"IF($A321=\"\",\"\",$I321+$I321+5)","v":""},{"$f":"IF($A321=\"\",\"\",$B321+$B321+4)","v":""},"","","","",{"$f":"IF(AND($I321>=1,$I321<=17),INDEX(黒!$B$6:$E$39,MATCH($I321,黒!$B$6:$B$39,0),2),\"\")","v":""}]
[null,null,{"$f":"IF(ISERROR(INDEX(概要設定!$J$2:$K$51,MATCH($C323,概要設定!$J$2:$J$51,0),2)),\"\",INDEX(概要設定!$J$2:$K$51,MATCH($C323,概要設定!$J$2:$J$51,0),2))","v":""},null,null,null,null,{"$f":"IF(ISERROR(INDEX(概要設定!$J$2:$K$51,MATCH($H323,概要設定!$J$2:$J$51,0),2)),\"\",INDEX(概要設定!$J$2:$K$51,MATCH($H323,概要設定!$J$2:$J$51,0),2))","v":""}]
[null,null,{"$f":"IF(AND($B323>=1,$B323<=17),INDEX(黒!$B$6:$E$39,MATCH($B323,黒!$B$6:$B$39,0),4),\"\")","v":""},null,null,null,null,{"$f":"IF(AND($I323>=1,$I323<=17),INDEX(黒!$B$6:$E$39,MATCH($I323,黒!$B$6:$B$39,0),4),\"\")","v":""},null,null,null,null,{"$f":"IF($A323=\"\",\"\",$B323+$B323+5)","v":""},{"$f":"IF($A323=\"\",\"\",$I323+$I323+4)","v":""},"","","","",{"$f":"IF(AND($B323>=1,$B323<=17),INDEX(黒!$B$6:$E$39,MATCH($B323,黒!$B$6:$B$39,0),2),\"\")","v":""},{"$f":"IF($A323=\"\",\"\",$I323+$I323+5)","v":""},{"$f":"IF($A323=\"\",\"\",$B323+$B323+4)","v":""},"","","","",{"$f":"IF(AND($I323>=1,$I323<=17),INDEX(黒!$B$6:$E$39,MATCH($I323,黒!$B$6:$B$39,0),2),\"\")","v":""}]
[null,null,{"$f":"IF(ISERROR(INDEX(概要設定!$J$2:$K$51,MATCH($C325,概要設定!$J$2:$J$51,0),2)),\"\",INDEX(概要設定!$J$2:$K$51,MATCH($C325,概要設定!$J$2:$J$51,0),2))","v":""},null,null,null,null,{"$f":"IF(ISERROR(INDEX(概要設定!$J$2:$K$51,MATCH($H325,概要設定!$J$2:$J$51,0),2)),\"\",INDEX(概要設定!$J$2:$K$51,MATCH($H325,概要設定!$J$2:$J$51,0),2))","v":""}]
[null,null,{"$f":"IF(AND($B325>=1,$B325<=17),INDEX(黒!$B$6:$E$39,MATCH($B325,黒!$B$6:$B$39,0),4),\"\")","v":""},null,null,null,null,{"$f":"IF(AND($I325>=1,$I325<=17),INDEX(黒!$B$6:$E$39,MATCH($I325,黒!$B$6:$B$39,0),4),\"\")","v":""},null,null,null,null,{"$f":"IF($A325=\"\",\"\",$B325+$B325+5)","v":""},{"$f":"IF($A325=\"\",\"\",$I325+$I325+4)","v":""},"","","","",{"$f":"IF(AND($B325>=1,$B325<=17),INDEX(黒!$B$6:$E$39,MATCH($B325,黒!$B$6:$B$39,0),2),\"\")","v":""},{"$f":"IF($A325=\"\",\"\",$I325+$I325+5)","v":""},{"$f":"IF($A325=\"\",\"\",$B325+$B325+4)","v":""},"","","","",{"$f":"IF(AND($I325>=1,$I325<=17),INDEX(黒!$B$6:$E$39,MATCH($I325,黒!$B$6:$B$39,0),2),\"\")","v":""}]
[null,null,{"$f":"IF(ISERROR(INDEX(概要設定!$J$2:$K$51,MATCH($C327,概要設定!$J$2:$J$51,0),2)),\"\",INDEX(概要設定!$J$2:$K$51,MATCH($C327,概要設定!$J$2:$J$51,0),2))","v":""},null,null,null,null,{"$f":"IF(ISERROR(INDEX(概要設定!$J$2:$K$51,MATCH($H327,概要設定!$J$2:$J$51,0),2)),\"\",INDEX(概要設定!$J$2:$K$51,MATCH($H327,概要設定!$J$2:$J$51,0),2))","v":""}]
[null,null,{"$f":"IF(AND($B327>=1,$B327<=17),INDEX(黒!$B$6:$E$39,MATCH($B327,黒!$B$6:$B$39,0),4),\"\")","v":""},null,null,null,null,{"$f":"IF(AND($I327>=1,$I327<=17),INDEX(黒!$B$6:$E$39,MATCH($I327,黒!$B$6:$B$39,0),4),\"\")","v":""},null,null,null,null,{"$f":"IF($A327=\"\",\"\",$B327+$B327+5)","v":""},{"$f":"IF($A327=\"\",\"\",$I327+$I327+4)","v":""},"","","","",{"$f":"IF(AND($B327>=1,$B327<=17),INDEX(黒!$B$6:$E$39,MATCH($B327,黒!$B$6:$B$39,0),2),\"\")","v":""},{"$f":"IF($A327=\"\",\"\",$I327+$I327+5)","v":""},{"$f":"IF($A327=\"\",\"\",$B327+$B327+4)","v":""},"","","","",{"$f":"IF(AND($I327>=1,$I327<=17),INDEX(黒!$B$6:$E$39,MATCH($I327,黒!$B$6:$B$39,0),2),\"\")","v":""}]
[null,null,{"$f":"IF(ISERROR(INDEX(概要設定!$J$2:$K$51,MATCH($C329,概要設定!$J$2:$J$51,0),2)),\"\",INDEX(概要設定!$J$2:$K$51,MATCH($C329,概要設定!$J$2:$J$51,0),2))","v":""},null,null,null,null,{"$f":"IF(ISERROR(INDEX(概要設定!$J$2:$K$51,MATCH($H329,概要設定!$J$2:$J$51,0),2)),\"\",INDEX(概要設定!$J$2:$K$51,MATCH($H329,概要設定!$J$2:$J$51,0),2))","v":""}]
[null,null,{"$f":"IF(AND($B329>=1,$B329<=17),INDEX(黒!$B$6:$E$39,MATCH($B329,黒!$B$6:$B$39,0),4),\"\")","v":""},null,null,null,null,{"$f":"IF(AND($I329>=1,$I329<=17),INDEX(黒!$B$6:$E$39,MATCH($I329,黒!$B$6:$B$39,0),4),\"\")","v":""},null,null,null,null,{"$f":"IF($A329=\"\",\"\",$B329+$B329+5)","v":""},{"$f":"IF($A329=\"\",\"\",$I329+$I329+4)","v":""},{"$f":"IF($A329=\"\",\"\",$M329-1)","v":""},{"$f":"IF($A329=\"\",\"\",$N329)","v":""},{"$f":"IF($A329=\"\",\"\",$M329-1)","v":""},{"$f":"IF($A329=\"\",\"\",$N329+1)","v":""},{"$f":"IF(AND($B329>=1,$B329<=17),INDEX(黒!$B$6:$E$39,MATCH($B329,黒!$B$6:$B$39,0),2),\"\")","v":""},{"$f":"IF($A329=\"\",\"\",$I329+$I329+5)","v":""},{"$f":"IF($A329=\"\",\"\",$B329+$B329+4)","v":""},{"$f":"IF($A329=\"\",\"\",$T329-1)","v":""},{"$f":"IF($A329=\"\",\"\",$U329)","v":""},{"$f":"IF($A329=\"\",\"\",$T329-1)","v":""},{"$f":"IF($A329=\"\",\"\",$U329+1)","v":""},{"$f":"IF(AND($I329>=1,$I329<=17),INDEX(黒!$B$6:$E$39,MATCH($I329,黒!$B$6:$B$39,0),2),\"\")","v":""}]

{"sheet":"黒ラベル","index":8,"n_rows":55,"n_cols":15,"rows_kept":55,"cut":false,"hidden":false,"merged":[]}
[]
[null,"黒組 4 - 5　持ち点：180","第1節　(1)　持ち点：180",null,null,"黒組 3 - 6　持ち点：180","第1節　(2)　持ち点：180",null,null,"黒組 2 - 7　持ち点：180","第1節　(3)　持ち点：180",null,null,"黒組 1 - 8　持ち点：180","第1節　(4)　持ち点：140"]
[null,"斉藤　大輔","植田　慎也",null,null,"山田　晃司","鷲尾　隆杜",null,null,"斉藤　裕児","長谷川　進",null,null,"白戸　玲人","白戸　恭子"]
[null,"さいとう　だいすけ","うえだ　しんや",null,null,"やまだ　こうじ","わしお　りゅうと",null,null,"さいとう　ゆうじ","はせがわ　すすむ",null,null,"しらと　れいにん","しらと　きょうこ"]
[]
[null,"HR","HR",null,null,"HR","HR",null,null,"HR","HR",null,null,"HR","HR"]
[null,"レフリー",null,null,null,"レフリー",null,null,null,"レフリー",null,null,null,"レフリー"]
[]
[]
[null,"黒組 3 - 4　持ち点：180","第2節　(5)　持ち点：180",null,null,"黒組 2 - 5　持ち点：180","第2節　(6)　持ち点：180",null,null,"黒組 8 - 6　持ち点：140","第2節　(7)　持ち点：180",null,null,"黒組 1 - 7　持ち点：180","第2節　(8)　持ち点：180"]
[null,"山田　晃司","斉藤　大輔",null,null,"斉藤　裕児","植田　慎也",null,null,"白戸　恭子","鷲尾　隆杜",null,null,"白戸　玲人","長谷川　進"]
[null,"やまだ　こうじ","さいとう　だいすけ",null,null,"さいとう　ゆうじ","うえだ　しんや",null,null,"しらと　きょうこ","わしお　りゅうと",null,null,"しらと　れいにん","はせがわ　すすむ"]
[]
[null,"HR","HR",null,null,"HR","HR",null,null,"HR","HR",null,null,"HR","HR"]
[null,"レフリー",null,null,null,"レフリー",null,null,null,"レフリー",null,null,null,"レフリー"]
[]
[]
[null,"黒組 2 - 3　持ち点：180","第3節　(9)　持ち点：180",null,null,"黒組 8 - 4　持ち点：140","第3節　(10)　持ち点：180",null,null,"黒組 7 - 5　持ち点：180","第3節　(11)　持ち点：180",null,null,"黒組 1 - 6　持ち点：180","第3節　(12)　持ち点：180"]
[null,"斉藤　裕児","山田　晃司",null,null,"白戸　恭子","斉藤　大輔",null,null,"長谷川　進","植田　慎也",null,null,"白戸　玲人","鷲尾　隆杜"]
[null,"さいとう　ゆうじ","やまだ　こうじ",null,null,"しらと　きょうこ","さいとう　だいすけ",null,null,"はせがわ　すすむ","うえだ　しんや",null,null,"しらと　れいにん","わしお　りゅうと"]
[]
[null,"HR","HR",null,null,"HR","HR",null,null,"HR","HR",null,null,"HR","HR"]
[null,"レフリー",null,null,null,"レフリー",null,null,null,"レフリー",null,null,null,"レフリー"]
[]
[]
[null,"黒組 8 - 2　持ち点：140","第4節　(13)　持ち点：180",null,null,"黒組 7 - 3　持ち点：180","第4節　(14)　持ち点：180",null,null,"黒組 6 - 4　持ち点：180","第4節　(15)　持ち点：180",null,null,"黒組 1 - 5　持ち点：180","第4節　(16)　持ち点：180"]
[null,"白戸　恭子","斉藤　裕児",null,null,"長谷川　進","山田　晃司",null,null,"鷲尾　隆杜","斉藤　大輔",null,null,"白戸　玲人","植田　慎也"]
[null,"しらと　きょうこ","さいとう　ゆうじ",null,null,"はせがわ　すすむ","やまだ　こうじ",null,null,"わしお　りゅうと","さいとう　だいすけ",null,null,"しらと　れいにん","うえだ　しんや"]
[]
[null,"HR","HR",null,null,"HR","HR",null,null,"HR","HR",null,null,"HR","HR"]
[null,"レフリー",null,null,null,"レフリー",null,null,null,"レフリー",null,null,null,"レフリー"]
[]
[]
[null,"黒組 7 - 8　持ち点：180","第5節　(17)　持ち点：140",null,null,"黒組 6 - 2　持ち点：180","第5節　(18)　持ち点：180",null,null,"黒組 5 - 3　持ち点：180","第5節　(19)　持ち点：180",null,null,"黒組 1 - 4　持ち点：180","第5節　(20)　持ち点：180"]
[null,"長谷川　進","白戸　恭子",null,null,"鷲尾　隆杜","斉藤　裕児",null,null,"植田　慎也","山田　晃司",null,null,"白戸　玲人","斉藤　大輔"]
[null,"はせがわ　すすむ","しらと　きょうこ",null,null,"わしお　りゅうと","さいとう　ゆうじ",null,null,"うえだ　しんや","やまだ　こうじ",null,null,"しらと　れいにん","さいとう　だいすけ"]
[]
[null,"HR","HR",null,null,"HR","HR",null,null,"HR","HR",null,null,"HR","HR"]
[null,"レフリー",null,null,null,"レフリー",null,null,null,"レフリー",null,null,null,"レフリー"]
[]
[]
[null,"黒組 6 - 7　持ち点：180","第6節　(21)　持ち点：180",null,null,"黒組 5 - 8　持ち点：180","第6節　(22)　持ち点：140",null,null,"黒組 4 - 2　持ち点：180","第6節　(23)　持ち点：180",null,null,"黒組 1 - 3　持ち点：180","第6節　(24)　持ち点：180"]
[null,"鷲尾　隆杜","長谷川　進",null,null,"植田　慎也","白戸　恭子",null,null,"斉藤　大輔","斉藤　裕児",null,null,"白戸　玲人","山田　晃司"]
[null,"わしお　りゅうと","はせがわ　すすむ",null,null,"うえだ　しんや","しらと　きょうこ",null,null,"さいとう　だいすけ","さいとう　ゆうじ",null,null,"しらと　れいにん","やまだ　こうじ"]
[]
[null,"HR","HR",null,null,"HR","HR",null,null,"HR","HR",null,null,"HR","HR"]
[null,"レフリー",null,null,null,"レフリー",null,null,null,"レフリー",null,null,null,"レフリー"]
[]
[]
[null,"黒組 5 - 6　持ち点：180","第7節　(25)　持ち点：180",null,null,"黒組 4 - 7　持ち点：180","第7節　(26)　持ち点：180",null,null,"黒組 3 - 8　持ち点：180","第7節　(27)　持ち点：140",null,null,"黒組 1 - 2　持ち点：180","第7節　(28)　持ち点：180"]
[null,"植田　慎也","鷲尾　隆杜",null,null,"斉藤　大輔","長谷川　進",null,null,"山田　晃司","白戸　恭子",null,null,"白戸　玲人","斉藤　裕児"]
[null,"うえだ　しんや","わしお　りゅうと",null,null,"さいとう　だいすけ","はせがわ　すすむ",null,null,"やまだ　こうじ","しらと　きょうこ",null,null,"しらと　れいにん","さいとう　ゆうじ"]
[]
[null,"HR","HR",null,null,"HR","HR",null,null,"HR","HR",null,null,"HR","HR"]
[null,"レフリー",null,null,null,"レフリー",null,null,null,"レフリー",null,null,null,"レフリー"]

{"sheet":"順位戦","index":9,"n_rows":35,"n_cols":41,"rows_kept":35,"cut":false,"hidden":false,"merged":[[0,6,0,7],[0,11,0,14],[0,16,0,17]]}
[null,null,null,"名前","順位戦結果",null,"総合成績",null,"勝","負",null,"勝敗",null,null,null,null,"対抗戦番手",null,null,"順位","名      前","ハンデ","w","L","順位戦ｗ","順位戦L","総合ｗ","総合L","TP","TP　HC","LP","順位戦TP","順TP HC","総合TP","総TP HC","HR","ABC","HR+ABC"]
[1,1,"赤　１",{"$f":"IF(ISERROR(INDEX(赤!$E$6:$AS$39,MATCH($A2,赤!$AS$6:$AS$39,0),1)),\"\",INDEX(赤!$E$6:$AS$39,MATCH($A2,赤!$AS$6:$AS$39,0),1))","v":"吉向　翔平"},null,null,"１位",{"$f":"IF($D2=\"\",$D3,IF($D3=\"\",$D2,IF($E2=\"w\",$D2,IF($E3=\"w\",$D3,\"\"))))","v":""},{"$f":"IF(ISERROR(INDEX($U$2:$X$35,MATCH($H2,U$2:$U$35,0),3)),\"\",INDEX($U$2:$X$35,MATCH($H2,U$2:$U$35,0),3))","v":""},{"$f":"IF(ISERROR(INDEX($U$2:$X$35,MATCH($H2,U$2:$U$35,0),4)),\"\",INDEX($U$2:$X$35,MATCH($H2,U$2:$U$35,0),4))","v":""},null,{"$f":"IF(ISERROR(I2+1),\"\",IF($H3=\"\",I2,I2+1))","v":""},"勝",{"$f":"IF(ISERROR(J2),\"\",J2)","v":""},"敗",null,1,{"$f":"H2","v":""},null,{"$f":"IF($D2=\"\",\"\",INDEX($B$2:$H$35,MATCH($D2,$H$2:$H$35,0),1))","v":{"$error":"#N/A"}},{"$f":"D2","v":"吉向　翔平"},{"$f":"IF(U2=\"\",\"\",INDEX(赤!$C$6:$E$39,MATCH($U2,赤!$E$6:$E$39,0),1))","v":180},{"$f":"IF(ISERROR(INDEX(赤!$E$6:$AT$39,MATCH($A2,赤!$AS$6:$AS$39,0),36)),\"\",INDEX(赤!$E$6:$AT$39,MATCH($A2,赤!$AS$6:$AS$39,0),36))","v":5},{"$f":"IF(ISERROR(INDEX(赤!$E$6:$AT$39,MATCH($A2,赤!$AS$6:$AS$39,0),37)),\"\",INDEX(赤!$E$6:$AT$39,MATCH($A2,赤!$AS$6:$AS$39,0),37))","v":1},{"$f":"IF($E2=\"\",0,IF($E2=\"w\",1,0))","v":0},{"$f":"IF($E2=\"\",0,IF($E2<>\"w\",1,0))","v":0},{"$f":"IF($U2=\"\",\"\",$W2+$Y2)","v":5},{"$f":"IF($U2=\"\",\"\",$X2+$Z2)","v":1},{"$f":"IF(ISERROR(INDEX(赤!$E$6:$AT$39,MATCH($A2,赤!$AS$6:$AS$39,0),38)),\"\",INDEX(赤!$E$6:$AT$39,MATCH($A2,赤!$AS$6:$AS$39,0),38))","v":1038},{"$f":"IF(ISERROR(OFFSET(INDEX(赤!$E$6:$AT$39,MATCH($A2,赤!$AS$6:$AS$39,0),38),-1,0)),\"\",OFFSET(INDEX(赤!$E$6:$AT$39,MATCH($A2,赤!$AS$6:$AS$39,0),38),-1,0))","v":1038},{"$f":"IF(ISERROR(INDEX(赤!$E$6:$AT$39,MATCH($A2,赤!$AS$6:$AS$39,0),39)),\"\",INDEX(赤!$E$6:$AT$39,MATCH($A2,赤!$AS$6:$AS$39,0),39))","v":375},{"$f":"IF($U2=\"\",0,IF($E2=\"w\",INT($V2*概要設定!$B$6/$V2),INT($E2*概要設定!$B$6/$V2)))","v":0},{"$f":"IF($U2=\"\",0,IF($E2=\"w\",$V2,$E2))","v":0},{"$f":"IF($U2=\"\",0,$AC2+$AF2)","v":1038},{"$f":"IF($U2=\"\",0,$AD2+$AG2)","v":1038},{"$f":"IF(ISERROR(INDEX(赤!$E$6:$AT$39,MATCH($A2,赤!$AS$6:$AS$39,0),42)),\"\",INDEX(赤!$E$6:$AT$39,MATCH($A2,赤!$AS$6:$AS$39,0),42))","v":0},{"$f":"IF(ISERROR(OFFSET(INDEX(赤!$E$6:$AT$39,MATCH($A2,赤!$AS$6:$AS$39,0),42),-1,0)),\"\",OFFSET(INDEX(赤!$E$6:$AT$39,MATCH($A2,赤!$AS$6:$AS$39,0),42),-1,0))","v":""},{"$f":"IF(ISERROR(INDEX(赤!$E$6:$AU$39,MATCH($A2,赤!$AS$6:$AS$39,0),43)),\"\",INDEX(赤!$E$6:$AU$39,MATCH($A2,赤!$AS$6:$AS$39,0),43))","v":0},null,null,"：色のみ入力して下さい。"]
[1,2,"黒　１",{"$f":"IF(ISERROR(INDEX(黒!$E$6:$AS$39,MATCH($A2,黒!$AS$6:$AS$39,0),1)),\"\",INDEX(黒!$E$6:$AS$39,MATCH($A2,黒!$AS$6:$AS$39,0),1))","v":"白戸　恭子"},null,null,"２位",{"$f":"IF($D2=\"\",\"\",IF($E3<>\"w\",$D3,IF($E2<>\"w\",$D2,\"\")))","v":"白戸　恭子"},{"$f":"IF(ISERROR(INDEX($U$2:$X$35,MATCH($H3,U$2:$U$35,0),3)),\"\",INDEX($U$2:$X$35,MATCH($H3,U$2:$U$35,0),3))","v":6},{"$f":"IF(ISERROR(INDEX($U$2:$X$35,MATCH($H3,U$2:$U$35,0),4)),\"\",INDEX($U$2:$X$35,MATCH($H3,U$2:$U$35,0),4))","v":0},null,{"$f":"IF(ISERROR(I3),\"\",I3)","v":6},"勝",{"$f":"IF(ISERROR(J3+1),\"\",IF($H2=\"\",J3,J3+1))","v":0},"敗",null,2,"白戸　恭子",null,{"$f":"IF($D3=\"\",\"\",INDEX($B$2:$H$35,MATCH($D3,$H$2:$H$35,0),1))","v":2},{"$f":"D3","v":"白戸　恭子"},{"$f":"IF(U3=\"\",\"\",INDEX(黒!$C$6:$E$39,MATCH($U3,黒!$E$6:$E$39,0),1))","v":140},{"$f":"IF(ISERROR(INDEX(黒!$E$6:$AT$39,MATCH($A3,黒!$AS$6:$AS$39,0),36)),\"\",INDEX(黒!$E$6:$AT$39,MATCH($A3,黒!$AS$6:$AS$39,0),36))","v":6},{"$f":"IF(ISERROR(INDEX(黒!$E$6:$AT$39,MATCH($A3,黒!$AS$6:$AS$39,0),37)),\"\",INDEX(黒!$E$6:$AT$39,MATCH($A3,黒!$AS$6:$AS$39,0),37))","v":0},{"$f":"IF($E3=\"\",0,IF($E3=\"w\",1,0))","v":0},{"$f":"IF($E3=\"\",0,IF($E3<>\"w\",1,0))","v":0},{"$f":"IF($U3=\"\",\"\",$W3+$Y3)","v":6},{"$f":"IF($U3=\"\",\"\",$X3+$Z3)","v":0},{"$f":"IF(ISERROR(INDEX(黒!$E$6:$AT$39,MATCH($A3,黒!$AS$6:$AS$39,0),38)),\"\",INDEX(黒!$E$6:$AT$39,MATCH($A3,黒!$AS$6:$AS$39,0),38))","v":1080},{"$f":"IF(ISERROR(OFFSET(INDEX(黒!$E$6:$AT$39,MATCH($A3,黒!$AS$6:$AS$39,0),38),-1,0)),\"\",OFFSET(INDEX(黒!$E$6:$AT$39,MATCH($A3,黒!$AS$6:$AS$39,0),38),-1,0))","v":840},{"$f":"IF(ISERROR(INDEX(黒!$E$6:$AT$39,MATCH($A3,黒!$AS$6:$AS$39,0),39)),\"\",INDEX(黒!$E$6:$AT$39,MATCH($A3,黒!$AS$6:$AS$39,0),39))","v":324},{"$f":"IF($U3=\"\",0,IF($E3=\"w\",INT($V3*概要設定!$B$6/$V3),INT($E3*概要設定!$B$6/$V3)))","v":0},{"$f":"IF($U3=\"\",0,IF($E3=\"w\",$V3,$E3))","v":0},{"$f":"IF($U3=\"\",0,$AC3+$AF3)","v":1080},{"$f":"IF($U3=\"\",0,$AD3+$AG3)","v":840},{"$f":"IF(ISERROR(INDEX(黒!$E$6:$AT$39,MATCH($A3,黒!$AS$6:$AS$39,0),42)),\"\",INDEX(黒!$E$6:$AT$39,MATCH($A3,黒!$AS$6:$AS$39,0),42))","v":103},{"$f":"IF(ISERROR(OFFSET(INDEX(黒!$E$6:$AT$39,MATCH($A3,黒!$AS$6:$AS$39,0),42),-1,0)),\"\",OFFSET(INDEX(黒!$E$6:$AT$39,MATCH($A3,黒!$AS$6:$AS$39,0),42),-1,0))","v":""},{"$f":"IF(ISERROR(INDEX(黒!$E$6:$AU$39,MATCH($A3,黒!$AS$6:$AS$39,0),43)),\"\",INDEX(黒!$E$6:$AU$39,MATCH($A3,黒!$AS$6:$AS$39,0),43))","v":103}]
[2,3,"赤　２",{"$f":"IF(ISERROR(INDEX(赤!$E$6:$AS$39,MATCH($A4,赤!$AS$6:$AS$39,0),1)),\"\",INDEX(赤!$E$6:$AS$39,MATCH($A4,赤!$AS$6:$AS$39,0),1))","v":"岩本　剛"},null,null,"３位",{"$f":"IF($D4=\"\",$D5,IF($D5=\"\",$D4,IF($E4=\"w\",$D4,IF($E5=\"w\",$D5,\"\"))))","v":""},{"$f":"IF(ISERROR(INDEX($U$2:$X$35,MATCH($H4,U$2:$U$35,0),3)),\"\",INDEX($U$2:$X$35,MATCH($H4,U$2:$U$35,0),3))","v":""},{"$f":"IF(ISERROR(INDEX($U$2:$X$35,MATCH($H4,U$2:$U$35,0),4)),\"\",INDEX($U$2:$X$35,MATCH($H4,U$2:$U$35,0),4))","v":""},null,{"$f":"IF(ISERROR(I4+1),\"\",IF($H5=\"\",I4,I4+1))","v":""},"勝",{"$f":"IF(ISERROR(J4),\"\",J4)","v":""},"敗",null,3,"",null,{"$error":"#N/A"},{"$f":"D4","v":"岩本　剛"},{"$f":"IF(U4=\"\",\"\",INDEX(赤!$C$6:$E$39,MATCH($U4,赤!$E$6:$E$39,0),1))","v":180},{"$f":"IF(ISERROR(INDEX(赤!$E$6:$AT$39,MATCH($A4,赤!$AS$6:$AS$39,0),36)),\"\",INDEX(赤!$E$6:$AT$39,MATCH($A4,赤!$AS$6:$AS$39,0),36))","v":5},{"$f":"IF(ISERROR(INDEX(赤!$E$6:$AT$39,MATCH($A4,赤!$AS$6:$AS$39,0),37)),\"\",INDEX(赤!$E$6:$AT$39,MATCH($A4,赤!$AS$6:$AS$39,0),37))","v":1},0,0,5,1,{"$f":"IF(ISERROR(INDEX(赤!$E$6:$AT$39,MATCH($A4,赤!$AS$6:$AS$39,0),38)),\"\",INDEX(赤!$E$6:$AT$39,MATCH($A4,赤!$AS$6:$AS$39,0),38))","v":931},{"$f":"IF(ISERROR(OFFSET(INDEX(赤!$E$6:$AT$39,MATCH($A4,赤!$AS$6:$AS$39,0),38),-1,0)),\"\",OFFSET(INDEX(赤!$E$6:$AT$39,MATCH($A4,赤!$AS$6:$AS$39,0),38),-1,0))","v":931},{"$f":"IF(ISERROR(INDEX(赤!$E$6:$AT$39,MATCH($A4,赤!$AS$6:$AS$39,0),39)),\"\",INDEX(赤!$E$6:$AT$39,MATCH($A4,赤!$AS$6:$AS$39,0),39))","v":298},{"$f":"IF($U4=\"\",0,IF($E4=\"w\",INT($V4*概要設定!$B$6/$V4),INT($E4*概要設定!$B$6/$V4)))","v":0},0,931,931,{"$f":"IF(ISERROR(INDEX(赤!$E$6:$AT$39,MATCH($A4,赤!$AS$6:$AS$39,0),42)),\"\",INDEX(赤!$E$6:$AT$39,MATCH($A4,赤!$AS$6:$AS$39,0),42))","v":0},{"$f":"IF(ISERROR(OFFSET(INDEX(赤!$E$6:$AT$39,MATCH($A4,赤!$AS$6:$AS$39,0),42),-1,0)),\"\",OFFSET(INDEX(赤!$E$6:$AT$39,MATCH($A4,赤!$AS$6:$AS$39,0),42),-1,0))","v":""},{"$f":"IF(ISERROR(INDEX(赤!$E$6:$AU$39,MATCH($A4,赤!$AS$6:$AS$39,0),43)),\"\",INDEX(赤!$E$6:$AU$39,MATCH($A4,赤!$AS$6:$AS$39,0),43))","v":0},null,"順位戦結果：勝者に半角\"w\"、敗者に点数を入力"]
[2,4,"黒　２",{"$f":"IF(ISERROR(INDEX(黒!$E$6:$AS$39,MATCH($A4,黒!$AS$6:$AS$39,0),1)),\"\",INDEX(黒!$E$6:$AS$39,MATCH($A4,黒!$AS$6:$AS$39,0),1))","v":"山田　晃司"},null,null,"４位",{"$f":"IF($D4=\"\",\"\",IF($E5<>\"w\",$D5,IF($E4<>\"w\",$D4,\"\")))","v":"山田　晃司"},{"$f":"IF(ISERROR(INDEX($U$2:$X$35,MATCH($H5,U$2:$U$35,0),3)),\"\",INDEX($U$2:$X$35,MATCH($H5,U$2:$U$35,0),3))","v":5},{"$f":"IF(ISERROR(INDEX($U$2:$X$35,MATCH($H5,U$2:$U$35,0),4)),\"\",INDEX($U$2:$X$35,MATCH($H5,U$2:$U$35,0),4))","v":1},null,{"$f":"IF(ISERROR(I5),\"\",I5)","v":5},"勝",{"$f":"IF(ISERROR(J5+1),\"\",IF($H4=\"\",J5,J5+1))","v":1},"敗",null,4,"山田　晃司",null,4,"山田　晃司",{"$f":"IF(U5=\"\",\"\",INDEX(黒!$C$6:$E$39,MATCH($U5,黒!$E$6:$E$39,0),1))","v":180},{"$f":"IF(ISERROR(INDEX(黒!$E$6:$AT$39,MATCH($A5,黒!$AS$6:$AS$39,0),36)),\"\",INDEX(黒!$E$6:$AT$39,MATCH($A5,黒!$AS$6:$AS$39,0),36))","v":5},{"$f":"IF(ISERROR(INDEX(黒!$E$6:$AT$39,MATCH($A5,黒!$AS$6:$AS$39,0),37)),\"\",INDEX(黒!$E$6:$AT$39,MATCH($A5,黒!$AS$6:$AS$39,0),37))","v":1},0,0,5,1,{"$f":"IF(ISERROR(INDEX(黒!$E$6:$AT$39,MATCH($A5,黒!$AS$6:$AS$39,0),38)),\"\",INDEX(黒!$E$6:$AT$39,MATCH($A5,黒!$AS$6:$AS$39,0),38))","v":1064},{"$f":"IF(ISERROR(OFFSET(INDEX(黒!$E$6:$AT$39,MATCH($A5,黒!$AS$6:$AS$39,0),38),-1,0)),\"\",OFFSET(INDEX(黒!$E$6:$AT$39,MATCH($A5,黒!$AS$6:$AS$39,0),38),-1,0))","v":1064},{"$f":"IF(ISERROR(INDEX(黒!$E$6:$AT$39,MATCH($A5,黒!$AS$6:$AS$39,0),39)),\"\",INDEX(黒!$E$6:$AT$39,MATCH($A5,黒!$AS$6:$AS$39,0),39))","v":671},{"$f":"IF($U5=\"\",0,IF($E5=\"w\",INT($V5*概要設定!$B$6/$V5),INT($E5*概要設定!$B$6/$V5)))","v":0},0,1064,1064,{"$f":"IF(ISERROR(INDEX(黒!$E$6:$AT$39,MATCH($A5,黒!$AS$6:$AS$39,0),42)),\"\",INDEX(黒!$E$6:$AT$39,MATCH($A5,黒!$AS$6:$AS$39,0),42))","v":151},{"$f":"IF(ISERROR(OFFSET(INDEX(黒!$E$6:$AT$39,MATCH($A5,黒!$AS$6:$AS$39,0),42),-1,0)),\"\",OFFSET(INDEX(黒!$E$6:$AT$39,MATCH($A5,黒!$AS$6:$AS$39,0),42),-1,0))","v":""},{"$f":"IF(ISERROR(INDEX(黒!$E$6:$AU$39,MATCH($A5,黒!$AS$6:$AS$39,0),43)),\"\",INDEX(黒!$E$6:$AU$39,MATCH($A5,黒!$AS$6:$AS$39,0),43))","v":151},null,"対抗戦番手：候補を自動表示、変更がある場合は選択して下さい。"]
[3,5,"赤　３",{"$f":"IF(ISERROR(INDEX(赤!$E$6:$AS$39,MATCH($A6,赤!$AS$6:$AS$39,0),1)),\"\",INDEX(赤!$E$6:$AS$39,MATCH($A6,赤!$AS$6:$AS$39,0),1))","v":"近藤　拓馬"},null,null,"５位",{"$f":"IF($D6=\"\",$D7,IF($D7=\"\",$D6,IF($E6=\"w\",$D6,IF($E7=\"w\",$D7,\"\"))))","v":""},{"$f":"IF(ISERROR(INDEX($U$2:$X$35,MATCH($H6,U$2:$U$35,0),3)),\"\",INDEX($U$2:$X$35,MATCH($H6,U$2:$U$35,0),3))","v":""},{"$f":"IF(ISERROR(INDEX($U$2:$X$35,MATCH($H6,U$2:$U$35,0),4)),\"\",INDEX($U$2:$X$35,MATCH($H6,U$2:$U$35,0),4))","v":""},null,{"$f":"IF(ISERROR(I6+1),\"\",IF($H7=\"\",I6,I6+1))","v":""},"勝",{"$f":"IF(ISERROR(J6),\"\",J6)","v":""},"敗",null,5,"",null,{"$error":"#N/A"},"近藤　拓馬",{"$f":"IF(U6=\"\",\"\",INDEX(赤!$C$6:$E$39,MATCH($U6,赤!$E$6:$E$39,0),1))","v":180},{"$f":"IF(ISERROR(INDEX(赤!$E$6:$AT$39,MATCH($A6,赤!$AS$6:$AS$39,0),36)),\"\",INDEX(赤!$E$6:$AT$39,MATCH($A6,赤!$AS$6:$AS$39,0),36))","v":5},{"$f":"IF(ISERROR(INDEX(赤!$E$6:$AT$39,MATCH($A6,赤!$AS$6:$AS$39,0),37)),\"\",INDEX(赤!$E$6:$AT$39,MATCH($A6,赤!$AS$6:$AS$39,0),37))","v":1},0,0,5,1,{"$f":"IF(ISERROR(INDEX(赤!$E$6:$AT$39,MATCH($A6,赤!$AS$6:$AS$39,0),38)),\"\",INDEX(赤!$E$6:$AT$39,MATCH($A6,赤!$AS$6:$AS$39,0),38))","v":913},{"$f":"IF(ISERROR(OFFSET(INDEX(赤!$E$6:$AT$39,MATCH($A6,赤!$AS$6:$AS$39,0),38),-1,0)),\"\",OFFSET(INDEX(赤!$E$6:$AT$39,MATCH($A6,赤!$AS$6:$AS$39,0),38),-1,0))","v":913},{"$f":"IF(ISERROR(INDEX(赤!$E$6:$AT$39,MATCH($A6,赤!$AS$6:$AS$39,0),39)),\"\",INDEX(赤!$E$6:$AT$39,MATCH($A6,赤!$AS$6:$AS$39,0),39))","v":526},{"$f":"IF($U6=\"\",0,IF($E6=\"w\",INT($V6*概要設定!$B$6/$V6),INT($E6*概要設定!$B$6/$V6)))","v":0},0,913,913,{"$f":"IF(ISERROR(INDEX(赤!$E$6:$AT$39,MATCH($A6,赤!$AS$6:$AS$39,0),42)),\"\",INDEX(赤!$E$6:$AT$39,MATCH($A6,赤!$AS$6:$AS$39,0),42))","v":0},{"$f":"IF(ISERROR(OFFSET(INDEX(赤!$E$6:$AT$39,MATCH($A6,赤!$AS$6:$AS$39,0),42),-1,0)),\"\",OFFSET(INDEX(赤!$E$6:$AT$39,MATCH($A6,赤!$AS$6:$AS$39,0),42),-1,0))","v":""},{"$f":"IF(ISERROR(INDEX(赤!$E$6:$AU$39,MATCH($A6,赤!$AS$6:$AS$39,0),43)),\"\",INDEX(赤!$E$6:$AU$39,MATCH($A6,赤!$AS$6:$AS$39,0),43))","v":0}]
[3,6,"黒　３",{"$f":"IF(ISERROR(INDEX(黒!$E$6:$AS$39,MATCH($A6,黒!$AS$6:$AS$39,0),1)),\"\",INDEX(黒!$E$6:$AS$39,MATCH($A6,黒!$AS$6:$AS$39,0),1))","v":"白戸　玲人"},null,null,"６位",{"$f":"IF($D6=\"\",\"\",IF($E7<>\"w\",$D7,IF($E6<>\"w\",$D6,\"\")))","v":"白戸　玲人"},{"$f":"IF(ISERROR(INDEX($U$2:$X$35,MATCH($H7,U$2:$U$35,0),3)),\"\",INDEX($U$2:$X$35,MATCH($H7,U$2:$U$35,0),3))","v":4},{"$f":"IF(ISERROR(INDEX($U$2:$X$35,MATCH($H7,U$2:$U$35,0),4)),\"\",INDEX($U$2:$X$35,MATCH($H7,U$2:$U$35,0),4))","v":2},null,{"$f":"IF(ISERROR(I7),\"\",I7)","v":4},"勝",{"$f":"IF(ISERROR(J7+1),\"\",IF($H6=\"\",J7,J7+1))","v":2},"敗",null,6,"白戸　玲人",null,6,"白戸　玲人",{"$f":"IF(U7=\"\",\"\",INDEX(黒!$C$6:$E$39,MATCH($U7,黒!$E$6:$E$39,0),1))","v":180},{"$f":"IF(ISERROR(INDEX(黒!$E$6:$AT$39,MATCH($A7,黒!$AS$6:$AS$39,0),36)),\"\",INDEX(黒!$E$6:$AT$39,MATCH($A7,黒!$AS$6:$AS$39,0),36))","v":4},{"$f":"IF(ISERROR(INDEX(黒!$E$6:$AT$39,MATCH($A7,黒!$AS$6:$AS$39,0),37)),\"\",INDEX(黒!$E$6:$AT$39,MATCH($A7,黒!$AS$6:$AS$39,0),37))","v":2},0,0,4,2,{"$f":"IF(ISERROR(INDEX(黒!$E$6:$AT$39,MATCH($A7,黒!$AS$6:$AS$39,0),38)),\"\",INDEX(黒!$E$6:$AT$39,MATCH($A7,黒!$AS$6:$AS$39,0),38))","v":860},{"$f":"IF(ISERROR(OFFSET(INDEX(黒!$E$6:$AT$39,MATCH($A7,黒!$AS$6:$AS$39,0),38),-1,0)),\"\",OFFSET(INDEX(黒!$E$6:$AT$39,MATCH($A7,黒!$AS$6:$AS$39,0),38),-1,0))","v":860},{"$f":"IF(ISERROR(INDEX(黒!$E$6:$AT$39,MATCH($A7,黒!$AS$6:$AS$39,0),39)),\"\",INDEX(黒!$E$6:$AT$39,MATCH($A7,黒!$AS$6:$AS$39,0),39))","v":376},{"$f":"IF($U7=\"\",0,IF($E7=\"w\",INT($V7*概要設定!$B$6/$V7),INT($E7*概要設定!$B$6/$V7)))","v":0},0,860,860,{"$f":"IF(ISERROR(INDEX(黒!$E$6:$AT$39,MATCH($A7,黒!$AS$6:$AS$39,0),42)),\"\",INDEX(黒!$E$6:$AT$39,MATCH($A7,黒!$AS$6:$AS$39,0),42))","v":114},{"$f":"IF(ISERROR(OFFSET(INDEX(黒!$E$6:$AT$39,MATCH($A7,黒!$AS$6:$AS$39,0),42),-1,0)),\"\",OFFSET(INDEX(黒!$E$6:$AT$39,MATCH($A7,黒!$AS$6:$AS$39,0),42),-1,0))","v":""},{"$f":"IF(ISERROR(INDEX(黒!$E$6:$AU$39,MATCH($A7,黒!$AS$6:$AS$39,0),43)),\"\",INDEX(黒!$E$6:$AU$39,MATCH($A7,黒!$AS$6:$AS$39,0),43))","v":114}]
[4,7,"赤　４",{"$f":"IF(ISERROR(INDEX(赤!$E$6:$AS$39,MATCH($A8,赤!$AS$6:$AS$39,0),1)),\"\",INDEX(赤!$E$6:$AS$39,MATCH($A8,赤!$AS$6:$AS$39,0),1))","v":"山田　晋之"},null,null,"７位",{"$f":"IF($D8=\"\",$D9,IF($D9=\"\",$D8,IF($E8=\"w\",$D8,IF($E9=\"w\",$D9,\"\"))))","v":""},{"$f":"IF(ISERROR(INDEX($U$2:$X$35,MATCH($H8,U$2:$U$35,0),3)),\"\",INDEX($U$2:$X$35,MATCH($H8,U$2:$U$35,0),3))","v":""},{"$f":"IF(ISERROR(INDEX($U$2:$X$35,MATCH($H8,U$2:$U$35,0),4)),\"\",INDEX($U$2:$X$35,MATCH($H8,U$2:$U$35,0),4))","v":""},null,{"$f":"IF(ISERROR(I8+1),\"\",IF($H9=\"\",I8,I8+1))","v":""},"勝",{"$f":"IF(ISERROR(J8),\"\",J8)","v":""},"敗",null,"女",null,null,{"$error":"#N/A"},"山田　晋之",{"$f":"IF(U8=\"\",\"\",INDEX(赤!$C$6:$E$39,MATCH($U8,赤!$E$6:$E$39,0),1))","v":180},{"$f":"IF(ISERROR(INDEX(赤!$E$6:$AT$39,MATCH($A8,赤!$AS$6:$AS$39,0),36)),\"\",INDEX(赤!$E$6:$AT$39,MATCH($A8,赤!$AS$6:$AS$39,0),36))","v":3},{"$f":"IF(ISERROR(INDEX(赤!$E$6:$AT$39,MATCH($A8,赤!$AS$6:$AS$39,0),37)),\"\",INDEX(赤!$E$6:$AT$39,MATCH($A8,赤!$AS$6:$AS$39,0),37))","v":3},0,0,3,3,{"$f":"IF(ISERROR(INDEX(赤!$E$6:$AT$39,MATCH($A8,赤!$AS$6:$AS$39,0),38)),\"\",INDEX(赤!$E$6:$AT$39,MATCH($A8,赤!$AS$6:$AS$39,0),38))","v":787},{"$f":"IF(ISERROR(OFFSET(INDEX(赤!$E$6:$AT$39,MATCH($A8,赤!$AS$6:$AS$39,0),38),-1,0)),\"\",OFFSET(INDEX(赤!$E$6:$AT$39,MATCH($A8,赤!$AS$6:$AS$39,0),38),-1,0))","v":787},{"$f":"IF(ISERROR(INDEX(赤!$E$6:$AT$39,MATCH($A8,赤!$AS$6:$AS$39,0),39)),\"\",INDEX(赤!$E$6:$AT$39,MATCH($A8,赤!$AS$6:$AS$39,0),39))","v":224},{"$f":"IF($U8=\"\",0,IF($E8=\"w\",INT($V8*概要設定!$B$6/$V8),INT($E8*概要設定!$B$6/$V8)))","v":0},0,787,787,{"$f":"IF(ISERROR(INDEX(赤!$E$6:$AT$39,MATCH($A8,赤!$AS$6:$AS$39,0),42)),\"\",INDEX(赤!$E$6:$AT$39,MATCH($A8,赤!$AS$6:$AS$39,0),42))","v":0},{"$f":"IF(ISERROR(OFFSET(INDEX(赤!$E$6:$AT$39,MATCH($A8,赤!$AS$6:$AS$39,0),42),-1,0)),\"\",OFFSET(INDEX(赤!$E$6:$AT$39,MATCH($A8,赤!$AS$6:$AS$39,0),42),-1,0))","v":""},{"$f":"IF(ISERROR(INDEX(赤!$E$6:$AU$39,MATCH($A8,赤!$AS$6:$AS$39,0),43)),\"\",INDEX(赤!$E$6:$AU$39,MATCH($A8,赤!$AS$6:$AS$39,0),43))","v":0}]
[4,8,"黒　４",{"$f":"IF(ISERROR(INDEX(黒!$E$6:$AS$39,MATCH($A8,黒!$AS$6:$AS$39,0),1)),\"\",INDEX(黒!$E$6:$AS$39,MATCH($A8,黒!$AS$6:$AS$39,0),1))","v":"斉藤　裕児"},null,null,"８位",{"$f":"IF($D8=\"\",\"\",IF($E9<>\"w\",$D9,IF($E8<>\"w\",$D8,\"\")))","v":"斉藤　裕児"},{"$f":"IF(ISERROR(INDEX($U$2:$X$35,MATCH($H9,U$2:$U$35,0),3)),\"\",INDEX($U$2:$X$35,MATCH($H9,U$2:$U$35,0),3))","v":3},{"$f":"IF(ISERROR(INDEX($U$2:$X$35,MATCH($H9,U$2:$U$35,0),4)),\"\",INDEX($U$2:$X$35,MATCH($H9,U$2:$U$35,0),4))","v":3},null,{"$f":"IF(ISERROR(I9),\"\",I9)","v":3},"勝",{"$f":"IF(ISERROR(J9+1),\"\",IF($H8=\"\",J9,J9+1))","v":3},"敗",null,"補欠",null,null,8,"斉藤　裕児",{"$f":"IF(U9=\"\",\"\",INDEX(黒!$C$6:$E$39,MATCH($U9,黒!$E$6:$E$39,0),1))","v":180},{"$f":"IF(ISERROR(INDEX(黒!$E$6:$AT$39,MATCH($A9,黒!$AS$6:$AS$39,0),36)),\"\",INDEX(黒!$E$6:$AT$39,MATCH($A9,黒!$AS$6:$AS$39,0),36))","v":3},{"$f":"IF(ISERROR(INDEX(黒!$E$6:$AT$39,MATCH($A9,黒!$AS$6:$AS$39,0),37)),\"\",INDEX(黒!$E$6:$AT$39,MATCH($A9,黒!$AS$6:$AS$39,0),37))","v":3},0,0,3,3,{"$f":"IF(ISERROR(INDEX(黒!$E$6:$AT$39,MATCH($A9,黒!$AS$6:$AS$39,0),38)),\"\",INDEX(黒!$E$6:$AT$39,MATCH($A9,黒!$AS$6:$AS$39,0),38))","v":817},{"$f":"IF(ISERROR(OFFSET(INDEX(黒!$E$6:$AT$39,MATCH($A9,黒!$AS$6:$AS$39,0),38),-1,0)),\"\",OFFSET(INDEX(黒!$E$6:$AT$39,MATCH($A9,黒!$AS$6:$AS$39,0),38),-1,0))","v":817},{"$f":"IF(ISERROR(INDEX(黒!$E$6:$AT$39,MATCH($A9,黒!$AS$6:$AS$39,0),39)),\"\",INDEX(黒!$E$6:$AT$39,MATCH($A9,黒!$AS$6:$AS$39,0),39))","v":166},{"$f":"IF($U9=\"\",0,IF($E9=\"w\",INT($V9*概要設定!$B$6/$V9),INT($E9*概要設定!$B$6/$V9)))","v":0},0,817,817,{"$f":"IF(ISERROR(INDEX(黒!$E$6:$AT$39,MATCH($A9,黒!$AS$6:$AS$39,0),42)),\"\",INDEX(黒!$E$6:$AT$39,MATCH($A9,黒!$AS$6:$AS$39,0),42))","v":109},{"$f":"IF(ISERROR(OFFSET(INDEX(黒!$E$6:$AT$39,MATCH($A9,黒!$AS$6:$AS$39,0),42),-1,0)),\"\",OFFSET(INDEX(黒!$E$6:$AT$39,MATCH($A9,黒!$AS$6:$AS$39,0),42),-1,0))","v":""},{"$f":"IF(ISERROR(INDEX(黒!$E$6:$AU$39,MATCH($A9,黒!$AS$6:$AS$39,0),43)),\"\",INDEX(黒!$E$6:$AU$39,MATCH($A9,黒!$AS$6:$AS$39,0),43))","v":109}]
[5,9,"赤　５",{"$f":"IF(ISERROR(INDEX(赤!$E$6:$AS$39,MATCH($A10,赤!$AS$6:$AS$39,0),1)),\"\",INDEX(赤!$E$6:$AS$39,MATCH($A10,赤!$AS$6:$AS$39,0),1))","v":"宮野　早織"},null,null,"９位",{"$f":"IF($D10=\"\",$D11,IF($D11=\"\",$D10,IF($E10=\"w\",$D10,IF($E11=\"w\",$D11,\"\"))))","v":""},{"$f":"IF(ISERROR(INDEX($U$2:$X$35,MATCH($H10,U$2:$U$35,0),3)),\"\",INDEX($U$2:$X$35,MATCH($H10,U$2:$U$35,0),3))","v":""},{"$f":"IF(ISERROR(INDEX($U$2:$X$35,MATCH($H10,U$2:$U$35,0),4)),\"\",INDEX($U$2:$X$35,MATCH($H10,U$2:$U$35,0),4))","v":""},null,{"$f":"IF(ISERROR(I10+1),\"\",IF($H11=\"\",I10,I10+1))","v":""},"勝",{"$f":"IF(ISERROR(J10),\"\",J10)","v":""},"敗",null,null,null,null,{"$error":"#N/A"},"宮野　早織",{"$f":"IF(U10=\"\",\"\",INDEX(赤!$C$6:$E$39,MATCH($U10,赤!$E$6:$E$39,0),1))","v":140},{"$f":"IF(ISERROR(INDEX(赤!$E$6:$AT$39,MATCH($A10,赤!$AS$6:$AS$39,0),36)),\"\",INDEX(赤!$E$6:$AT$39,MATCH($A10,赤!$AS$6:$AS$39,0),36))","v":3},{"$f":"IF(ISERROR(INDEX(赤!$E$6:$AT$39,MATCH($A10,赤!$AS$6:$AS$39,0),37)),\"\",INDEX(赤!$E$6:$AT$39,MATCH($A10,赤!$AS$6:$AS$39,0),37))","v":3},0,0,3,3,{"$f":"IF(ISERROR(INDEX(赤!$E$6:$AT$39,MATCH($A10,赤!$AS$6:$AS$39,0),38)),\"\",INDEX(赤!$E$6:$AT$39,MATCH($A10,赤!$AS$6:$AS$39,0),38))","v":758},{"$f":"IF(ISERROR(OFFSET(INDEX(赤!$E$6:$AT$39,MATCH($A10,赤!$AS$6:$AS$39,0),38),-1,0)),\"\",OFFSET(INDEX(赤!$E$6:$AT$39,MATCH($A10,赤!$AS$6:$AS$39,0),38),-1,0))","v":590},{"$f":"IF(ISERROR(INDEX(赤!$E$6:$AT$39,MATCH($A10,赤!$AS$6:$AS$39,0),39)),\"\",INDEX(赤!$E$6:$AT$39,MATCH($A10,赤!$AS$6:$AS$39,0),39))","v":292},{"$f":"IF($U10=\"\",0,IF($E10=\"w\",INT($V10*概要設定!$B$6/$V10),INT($E10*概要設定!$B$6/$V10)))","v":0},0,758,590,{"$f":"IF(ISERROR(INDEX(赤!$E$6:$AT$39,MATCH($A10,赤!$AS$6:$AS$39,0),42)),\"\",INDEX(赤!$E$6:$AT$39,MATCH($A10,赤!$AS$6:$AS$39,0),42))","v":0},{"$f":"IF(ISERROR(OFFSET(INDEX(赤!$E$6:$AT$39,MATCH($A10,赤!$AS$6:$AS$39,0),42),-1,0)),\"\",OFFSET(INDEX(赤!$E$6:$AT$39,MATCH($A10,赤!$AS$6:$AS$39,0),42),-1,0))","v":""},{"$f":"IF(ISERROR(INDEX(赤!$E$6:$AU$39,MATCH($A10,赤!$AS$6:$AS$39,0),43)),\"\",INDEX(赤!$E$6:$AU$39,MATCH($A10,赤!$AS$6:$AS$39,0),43))","v":0}]
[5,10,"黒　５",{"$f":"IF(ISERROR(INDEX(黒!$E$6:$AS$39,MATCH($A10,黒!$AS$6:$AS$39,0),1)),\"\",INDEX(黒!$E$6:$AS$39,MATCH($A10,黒!$AS$6:$AS$39,0),1))","v":"植田　慎也"},null,null,"１０位",{"$f":"IF($D10=\"\",\"\",IF($E11<>\"w\",$D11,IF($E10<>\"w\",$D10,\"\")))","v":"植田　慎也"},{"$f":"IF(ISERROR(INDEX($U$2:$X$35,MATCH($H11,U$2:$U$35,0),3)),\"\",INDEX($U$2:$X$35,MATCH($H11,U$2:$U$35,0),3))","v":3},{"$f":"IF(ISERROR(INDEX($U$2:$X$35,MATCH($H11,U$2:$U$35,0),4)),\"\",INDEX($U$2:$X$35,MATCH($H11,U$2:$U$35,0),4))","v":3},null,{"$f":"IF(ISERROR(I11),\"\",I11)","v":3},"勝",{"$f":"IF(ISERROR(J11+1),\"\",IF($H10=\"\",J11,J11+1))","v":3},"敗",null,null,null,null,10,"植田　慎也",{"$f":"IF(U11=\"\",\"\",INDEX(黒!$C$6:$E$39,MATCH($U11,黒!$E$6:$E$39,0),1))","v":180},{"$f":"IF(ISERROR(INDEX(黒!$E$6:$AT$39,MATCH($A11,黒!$AS$6:$AS$39,0),36)),\"\",INDEX(黒!$E$6:$AT$39,MATCH($A11,黒!$AS$6:$AS$39,0),36))","v":3},{"$f":"IF(ISERROR(INDEX(黒!$E$6:$AT$39,MATCH($A11,黒!$AS$6:$AS$39,0),37)),\"\",INDEX(黒!$E$6:$AT$39,MATCH($A11,黒!$AS$6:$AS$39,0),37))","v":3},0,0,3,3,{"$f":"IF(ISERROR(INDEX(黒!$E$6:$AT$39,MATCH($A11,黒!$AS$6:$AS$39,0),38)),\"\",INDEX(黒!$E$6:$AT$39,MATCH($A11,黒!$AS$6:$AS$39,0),38))","v":789},{"$f":"IF(ISERROR(OFFSET(INDEX(黒!$E$6:$AT$39,MATCH($A11,黒!$AS$6:$AS$39,0),38),-1,0)),\"\",OFFSET(INDEX(黒!$E$6:$AT$39,MATCH($A11,黒!$AS$6:$AS$39,0),38),-1,0))","v":789},{"$f":"IF(ISERROR(INDEX(黒!$E$6:$AT$39,MATCH($A11,黒!$AS$6:$AS$39,0),39)),\"\",INDEX(黒!$E$6:$AT$39,MATCH($A11,黒!$AS$6:$AS$39,0),39))","v":424},{"$f":"IF($U11=\"\",0,IF($E11=\"w\",INT($V11*概要設定!$B$6/$V11),INT($E11*概要設定!$B$6/$V11)))","v":0},0,789,789,{"$f":"IF(ISERROR(INDEX(黒!$E$6:$AT$39,MATCH($A11,黒!$AS$6:$AS$39,0),42)),\"\",INDEX(黒!$E$6:$AT$39,MATCH($A11,黒!$AS$6:$AS$39,0),42))","v":0},{"$f":"IF(ISERROR(OFFSET(INDEX(黒!$E$6:$AT$39,MATCH($A11,黒!$AS$6:$AS$39,0),42),-1,0)),\"\",OFFSET(INDEX(黒!$E$6:$AT$39,MATCH($A11,黒!$AS$6:$AS$39,0),42),-1,0))","v":""},{"$f":"IF(ISERROR(INDEX(黒!$E$6:$AU$39,MATCH($A11,黒!$AS$6:$AS$39,0),43)),\"\",INDEX(黒!$E$6:$AU$39,MATCH($A11,黒!$AS$6:$AS$39,0),43))","v":0}]
[6,11,"赤　６",{"$f":"IF(ISERROR(INDEX(赤!$E$6:$AS$39,MATCH($A12,赤!$AS$6:$AS$39,0),1)),\"\",INDEX(赤!$E$6:$AS$39,MATCH($A12,赤!$AS$6:$AS$39,0),1))","v":"峯山　崇史"},null,null,"１１位",{"$f":"IF($D12=\"\",$D13,IF($D13=\"\",$D12,IF($E12=\"w\",$D12,IF($E13=\"w\",$D13,\"\"))))","v":""},{"$f":"IF(ISERROR(INDEX($U$2:$X$35,MATCH($H12,U$2:$U$35,0),3)),\"\",INDEX($U$2:$X$35,MATCH($H12,U$2:$U$35,0),3))","v":""},{"$f":"IF(ISERROR(INDEX($U$2:$X$35,MATCH($H12,U$2:$U$35,0),4)),\"\",INDEX($U$2:$X$35,MATCH($H12,U$2:$U$35,0),4))","v":""},null,{"$f":"IF(ISERROR(I12+1),\"\",IF($H13=\"\",I12,I12+1))","v":""},"勝",{"$f":"IF(ISERROR(J12),\"\",J12)","v":""},"敗",null,null,null,null,{"$error":"#N/A"},"峯山　崇史",{"$f":"IF(U12=\"\",\"\",INDEX(赤!$C$6:$E$39,MATCH($U12,赤!$E$6:$E$39,0),1))","v":180},{"$f":"IF(ISERROR(INDEX(赤!$E$6:$AT$39,MATCH($A12,赤!$AS$6:$AS$39,0),36)),\"\",INDEX(赤!$E$6:$AT$39,MATCH($A12,赤!$AS$6:$AS$39,0),36))","v":2},{"$f":"IF(ISERROR(INDEX(赤!$E$6:$AT$39,MATCH($A12,赤!$AS$6:$AS$39,0),37)),\"\",INDEX(赤!$E$6:$AT$39,MATCH($A12,赤!$AS$6:$AS$39,0),37))","v":4},0,0,2,4,{"$f":"IF(ISERROR(INDEX(赤!$E$6:$AT$39,MATCH($A12,赤!$AS$6:$AS$39,0),38)),\"\",INDEX(赤!$E$6:$AT$39,MATCH($A12,赤!$AS$6:$AS$39,0),38))","v":900},{"$f":"IF(ISERROR(OFFSET(INDEX(赤!$E$6:$AT$39,MATCH($A12,赤!$AS$6:$AS$39,0),38),-1,0)),\"\",OFFSET(INDEX(赤!$E$6:$AT$39,MATCH($A12,赤!$AS$6:$AS$39,0),38),-1,0))","v":900},{"$f":"IF(ISERROR(INDEX(赤!$E$6:$AT$39,MATCH($A12,赤!$AS$6:$AS$39,0),39)),\"\",INDEX(赤!$E$6:$AT$39,MATCH($A12,赤!$AS$6:$AS$39,0),39))","v":153},{"$f":"IF($U12=\"\",0,IF($E12=\"w\",INT($V12*概要設定!$B$6/$V12),INT($E12*概要設定!$B$6/$V12)))","v":0},0,900,900,{"$f":"IF(ISERROR(INDEX(赤!$E$6:$AT$39,MATCH($A12,赤!$AS$6:$AS$39,0),42)),\"\",INDEX(赤!$E$6:$AT$39,MATCH($A12,赤!$AS$6:$AS$39,0),42))","v":0},{"$f":"IF(ISERROR(OFFSET(INDEX(赤!$E$6:$AT$39,MATCH($A12,赤!$AS$6:$AS$39,0),42),-1,0)),\"\",OFFSET(INDEX(赤!$E$6:$AT$39,MATCH($A12,赤!$AS$6:$AS$39,0),42),-1,0))","v":""},{"$f":"IF(ISERROR(INDEX(赤!$E$6:$AU$39,MATCH($A12,赤!$AS$6:$AS$39,0),43)),\"\",INDEX(赤!$E$6:$AU$39,MATCH($A12,赤!$AS$6:$AS$39,0),43))","v":0}]
[6,12,"黒　６",{"$f":"IF(ISERROR(INDEX(黒!$E$6:$AS$39,MATCH($A12,黒!$AS$6:$AS$39,0),1)),\"\",INDEX(黒!$E$6:$AS$39,MATCH($A12,黒!$AS$6:$AS$39,0),1))","v":"斉藤　大輔"},null,null,"１２位",{"$f":"IF($D12=\"\",\"\",IF($E13<>\"w\",$D13,IF($E12<>\"w\",$D12,\"\")))","v":"斉藤　大輔"},{"$f":"IF(ISERROR(INDEX($U$2:$X$35,MATCH($H13,U$2:$U$35,0),3)),\"\",INDEX($U$2:$X$35,MATCH($H13,U$2:$U$35,0),3))","v":1},{"$f":"IF(ISERROR(INDEX($U$2:$X$35,MATCH($H13,U$2:$U$35,0),4)),\"\",INDEX($U$2:$X$35,MATCH($H13,U$2:$U$35,0),4))","v":5},null,{"$f":"IF(ISERROR(I13),\"\",I13)","v":1},"勝",{"$f":"IF(ISERROR(J13+1),\"\",IF($H12=\"\",J13,J13+1))","v":5},"敗",null,null,null,null,12,"斉藤　大輔",{"$f":"IF(U13=\"\",\"\",INDEX(黒!$C$6:$E$39,MATCH($U13,黒!$E$6:$E$39,0),1))","v":180},{"$f":"IF(ISERROR(INDEX(黒!$E$6:$AT$39,MATCH($A13,黒!$AS$6:$AS$39,0),36)),\"\",INDEX(黒!$E$6:$AT$39,MATCH($A13,黒!$AS$6:$AS$39,0),36))","v":1},{"$f":"IF(ISERROR(INDEX(黒!$E$6:$AT$39,MATCH($A13,黒!$AS$6:$AS$39,0),37)),\"\",INDEX(黒!$E$6:$AT$39,MATCH($A13,黒!$AS$6:$AS$39,0),37))","v":5},0,0,1,5,{"$f":"IF(ISERROR(INDEX(黒!$E$6:$AT$39,MATCH($A13,黒!$AS$6:$AS$39,0),38)),\"\",INDEX(黒!$E$6:$AT$39,MATCH($A13,黒!$AS$6:$AS$39,0),38))","v":828},{"$f":"IF(ISERROR(OFFSET(INDEX(黒!$E$6:$AT$39,MATCH($A13,黒!$AS$6:$AS$39,0),38),-1,0)),\"\",OFFSET(INDEX(黒!$E$6:$AT$39,MATCH($A13,黒!$AS$6:$AS$39,0),38),-1,0))","v":828},{"$f":"IF(ISERROR(INDEX(黒!$E$6:$AT$39,MATCH($A13,黒!$AS$6:$AS$39,0),39)),\"\",INDEX(黒!$E$6:$AT$39,MATCH($A13,黒!$AS$6:$AS$39,0),39))","v":101},{"$f":"IF($U13=\"\",0,IF($E13=\"w\",INT($V13*概要設定!$B$6/$V13),INT($E13*概要設定!$B$6/$V13)))","v":0},0,828,828,{"$f":"IF(ISERROR(INDEX(黒!$E$6:$AT$39,MATCH($A13,黒!$AS$6:$AS$39,0),42)),\"\",INDEX(黒!$E$6:$AT$39,MATCH($A13,黒!$AS$6:$AS$39,0),42))","v":0},{"$f":"IF(ISERROR(OFFSET(INDEX(黒!$E$6:$AT$39,MATCH($A13,黒!$AS$6:$AS$39,0),42),-1,0)),\"\",OFFSET(INDEX(黒!$E$6:$AT$39,MATCH($A13,黒!$AS$6:$AS$39,0),42),-1,0))","v":""},{"$f":"IF(ISERROR(INDEX(黒!$E$6:$AU$39,MATCH($A13,黒!$AS$6:$AS$39,0),43)),\"\",INDEX(黒!$E$6:$AU$39,MATCH($A13,黒!$AS$6:$AS$39,0),43))","v":0}]
[7,13,"赤　７",{"$f":"IF(ISERROR(INDEX(赤!$E$6:$AS$39,MATCH($A14,赤!$AS$6:$AS$39,0),1)),\"\",INDEX(赤!$E$6:$AS$39,MATCH($A14,赤!$AS$6:$AS$39,0),1))","v":"水田　賢宏"},null,null,"１３位",{"$f":"IF($D14=\"\",$D15,IF($D15=\"\",$D14,IF($E14=\"w\",$D14,IF($E15=\"w\",$D15,\"\"))))","v":""},{"$f":"IF(ISERROR(INDEX($U$2:$X$35,MATCH($H14,U$2:$U$35,0),3)),\"\",INDEX($U$2:$X$35,MATCH($H14,U$2:$U$35,0),3))","v":""},{"$f":"IF(ISERROR(INDEX($U$2:$X$35,MATCH($H14,U$2:$U$35,0),4)),\"\",INDEX($U$2:$X$35,MATCH($H14,U$2:$U$35,0),4))","v":""},null,{"$f":"IF(ISERROR(I14+1),\"\",IF($H15=\"\",I14,I14+1))","v":""},"勝",{"$f":"IF(ISERROR(J14),\"\",J14)","v":""},"敗",null,null,null,null,{"$error":"#N/A"},"水田　賢宏",{"$f":"IF(U14=\"\",\"\",INDEX(赤!$C$6:$E$39,MATCH($U14,赤!$E$6:$E$39,0),1))","v":180},{"$f":"IF(ISERROR(INDEX(赤!$E$6:$AT$39,MATCH($A14,赤!$AS$6:$AS$39,0),36)),\"\",INDEX(赤!$E$6:$AT$39,MATCH($A14,赤!$AS$6:$AS$39,0),36))","v":1},{"$f":"IF(ISERROR(INDEX(赤!$E$6:$AT$39,MATCH($A14,赤!$AS$6:$AS$39,0),37)),\"\",INDEX(赤!$E$6:$AT$39,MATCH($A14,赤!$AS$6:$AS$39,0),37))","v":5},0,0,1,5,{"$f":"IF(ISERROR(INDEX(赤!$E$6:$AT$39,MATCH($A14,赤!$AS$6:$AS$39,0),38)),\"\",INDEX(赤!$E$6:$AT$39,MATCH($A14,赤!$AS$6:$AS$39,0),38))","v":654},{"$f":"IF(ISERROR(OFFSET(INDEX(赤!$E$6:$AT$39,MATCH($A14,赤!$AS$6:$AS$39,0),38),-1,0)),\"\",OFFSET(INDEX(赤!$E$6:$AT$39,MATCH($A14,赤!$AS$6:$AS$39,0),38),-1,0))","v":654},{"$f":"IF(ISERROR(INDEX(赤!$E$6:$AT$39,MATCH($A14,赤!$AS$6:$AS$39,0),39)),\"\",INDEX(赤!$E$6:$AT$39,MATCH($A14,赤!$AS$6:$AS$39,0),39))","v":123},{"$f":"IF($U14=\"\",0,IF($E14=\"w\",INT($V14*概要設定!$B$6/$V14),INT($E14*概要設定!$B$6/$V14)))","v":0},0,654,654,{"$f":"IF(ISERROR(INDEX(赤!$E$6:$AT$39,MATCH($A14,赤!$AS$6:$AS$39,0),42)),\"\",INDEX(赤!$E$6:$AT$39,MATCH($A14,赤!$AS$6:$AS$39,0),42))","v":115},{"$f":"IF(ISERROR(OFFSET(INDEX(赤!$E$6:$AT$39,MATCH($A14,赤!$AS$6:$AS$39,0),42),-1,0)),\"\",OFFSET(INDEX(赤!$E$6:$AT$39,MATCH($A14,赤!$AS$6:$AS$39,0),42),-1,0))","v":""},{"$f":"IF(ISERROR(INDEX(赤!$E$6:$AU$39,MATCH($A14,赤!$AS$6:$AS$39,0),43)),\"\",INDEX(赤!$E$6:$AU$39,MATCH($A14,赤!$AS$6:$AS$39,0),43))","v":115}]
[7,14,"黒　７",{"$f":"IF(ISERROR(INDEX(黒!$E$6:$AS$39,MATCH($A14,黒!$AS$6:$AS$39,0),1)),\"\",INDEX(黒!$E$6:$AS$39,MATCH($A14,黒!$AS$6:$AS$39,0),1))","v":"鷲尾　隆杜"},null,null,"１４位",{"$f":"IF($D14=\"\",\"\",IF($E15<>\"w\",$D15,IF($E14<>\"w\",$D14,\"\")))","v":"鷲尾　隆杜"},{"$f":"IF(ISERROR(INDEX($U$2:$X$35,MATCH($H15,U$2:$U$35,0),3)),\"\",INDEX($U$2:$X$35,MATCH($H15,U$2:$U$35,0),3))","v":1},{"$f":"IF(ISERROR(INDEX($U$2:$X$35,MATCH($H15,U$2:$U$35,0),4)),\"\",INDEX($U$2:$X$35,MATCH($H15,U$2:$U$35,0),4))","v":5},null,{"$f":"IF(ISERROR(I15),\"\",I15)","v":1},"勝",{"$f":"IF(ISERROR(J15+1),\"\",IF($H14=\"\",J15,J15+1))","v":5},"敗",null,null,null,null,14,"鷲尾　隆杜",{"$f":"IF(U15=\"\",\"\",INDEX(黒!$C$6:$E$39,MATCH($U15,黒!$E$6:$E$39,0),1))","v":180},{"$f":"IF(ISERROR(INDEX(黒!$E$6:$AT$39,MATCH($A15,黒!$AS$6:$AS$39,0),36)),\"\",INDEX(黒!$E$6:$AT$39,MATCH($A15,黒!$AS$6:$AS$39,0),36))","v":1},{"$f":"IF(ISERROR(INDEX(黒!$E$6:$AT$39,MATCH($A15,黒!$AS$6:$AS$39,0),37)),\"\",INDEX(黒!$E$6:$AT$39,MATCH($A15,黒!$AS$6:$AS$39,0),37))","v":5},0,0,1,5,{"$f":"IF(ISERROR(INDEX(黒!$E$6:$AT$39,MATCH($A15,黒!$AS$6:$AS$39,0),38)),\"\",INDEX(黒!$E$6:$AT$39,MATCH($A15,黒!$AS$6:$AS$39,0),38))","v":625},{"$f":"IF(ISERROR(OFFSET(INDEX(黒!$E$6:$AT$39,MATCH($A15,黒!$AS$6:$AS$39,0),38),-1,0)),\"\",OFFSET(INDEX(黒!$E$6:$AT$39,MATCH($A15,黒!$AS$6:$AS$39,0),38),-1,0))","v":625},{"$f":"IF(ISERROR(INDEX(黒!$E$6:$AT$39,MATCH($A15,黒!$AS$6:$AS$39,0),39)),\"\",INDEX(黒!$E$6:$AT$39,MATCH($A15,黒!$AS$6:$AS$39,0),39))","v":140},{"$f":"IF($U15=\"\",0,IF($E15=\"w\",INT($V15*概要設定!$B$6/$V15),INT($E15*概要設定!$B$6/$V15)))","v":0},0,625,625,{"$f":"IF(ISERROR(INDEX(黒!$E$6:$AT$39,MATCH($A15,黒!$AS$6:$AS$39,0),42)),\"\",INDEX(黒!$E$6:$AT$39,MATCH($A15,黒!$AS$6:$AS$39,0),42))","v":0},{"$f":"IF(ISERROR(OFFSET(INDEX(黒!$E$6:$AT$39,MATCH($A15,黒!$AS$6:$AS$39,0),42),-1,0)),\"\",OFFSET(INDEX(黒!$E$6:$AT$39,MATCH($A15,黒!$AS$6:$AS$39,0),42),-1,0))","v":""},{"$f":"IF(ISERROR(INDEX(黒!$E$6:$AU$39,MATCH($A15,黒!$AS$6:$AS$39,0),43)),\"\",INDEX(黒!$E$6:$AU$39,MATCH($A15,黒!$AS$6:$AS$39,0),43))","v":0}]
[8,15,"赤　８",{"$f":"IF(ISERROR(INDEX(赤!$E$6:$AS$39,MATCH($A16,赤!$AS$6:$AS$39,0),1)),\"\",INDEX(赤!$E$6:$AS$39,MATCH($A16,赤!$AS$6:$AS$39,0),1))","v":"佐藤　循一"},null,null,"１５位",{"$f":"IF($D16=\"\",$D17,IF($D17=\"\",$D16,IF($E16=\"w\",$D16,IF($E17=\"w\",$D17,\"\"))))","v":""},{"$f":"IF(ISERROR(INDEX($U$2:$X$35,MATCH($H16,U$2:$U$35,0),3)),\"\",INDEX($U$2:$X$35,MATCH($H16,U$2:$U$35,0),3))","v":""},{"$f":"IF(ISERROR(INDEX($U$2:$X$35,MATCH($H16,U$2:$U$35,0),4)),\"\",INDEX($U$2:$X$35,MATCH($H16,U$2:$U$35,0),4))","v":""},null,{"$f":"IF(ISERROR(I16+1),\"\",IF($H17=\"\",I16,I16+1))","v":""},"勝",{"$f":"IF(ISERROR(J16),\"\",J16)","v":""},"敗",null,null,null,null,{"$error":"#N/A"},"佐藤　循一",{"$f":"IF(U16=\"\",\"\",INDEX(赤!$C$6:$E$39,MATCH($U16,赤!$E$6:$E$39,0),1))","v":180},{"$f":"IF(ISERROR(INDEX(赤!$E$6:$AT$39,MATCH($A16,赤!$AS$6:$AS$39,0),36)),\"\",INDEX(赤!$E$6:$AT$39,MATCH($A16,赤!$AS$6:$AS$39,0),36))","v":0},{"$f":"IF(ISERROR(INDEX(赤!$E$6:$AT$39,MATCH($A16,赤!$AS$6:$AS$39,0),37)),\"\",INDEX(赤!$E$6:$AT$39,MATCH($A16,赤!$AS$6:$AS$39,0),37))","v":6},0,0,0,6,{"$f":"IF(ISERROR(INDEX(赤!$E$6:$AT$39,MATCH($A16,赤!$AS$6:$AS$39,0),38)),\"\",INDEX(赤!$E$6:$AT$39,MATCH($A16,赤!$AS$6:$AS$39,0),38))","v":378},{"$f":"IF(ISERROR(OFFSET(INDEX(赤!$E$6:$AT$39,MATCH($A16,赤!$AS$6:$AS$39,0),38),-1,0)),\"\",OFFSET(INDEX(赤!$E$6:$AT$39,MATCH($A16,赤!$AS$6:$AS$39,0),38),-1,0))","v":378},{"$f":"IF(ISERROR(INDEX(赤!$E$6:$AT$39,MATCH($A16,赤!$AS$6:$AS$39,0),39)),\"\",INDEX(赤!$E$6:$AT$39,MATCH($A16,赤!$AS$6:$AS$39,0),39))","v":0},{"$f":"IF($U16=\"\",0,IF($E16=\"w\",INT($V16*概要設定!$B$6/$V16),INT($E16*概要設定!$B$6/$V16)))","v":0},0,378,378,{"$f":"IF(ISERROR(INDEX(赤!$E$6:$AT$39,MATCH($A16,赤!$AS$6:$AS$39,0),42)),\"\",INDEX(赤!$E$6:$AT$39,MATCH($A16,赤!$AS$6:$AS$39,0),42))","v":0},{"$f":"IF(ISERROR(OFFSET(INDEX(赤!$E$6:$AT$39,MATCH($A16,赤!$AS$6:$AS$39,0),42),-1,0)),\"\",OFFSET(INDEX(赤!$E$6:$AT$39,MATCH($A16,赤!$AS$6:$AS$39,0),42),-1,0))","v":""},{"$f":"IF(ISERROR(INDEX(赤!$E$6:$AU$39,MATCH($A16,赤!$AS$6:$AS$39,0),43)),\"\",INDEX(赤!$E$6:$AU$39,MATCH($A16,赤!$AS$6:$AS$39,0),43))","v":0}]
[8,16,"黒　８",{"$f":"IF(ISERROR(INDEX(黒!$E$6:$AS$39,MATCH($A16,黒!$AS$6:$AS$39,0),1)),\"\",INDEX(黒!$E$6:$AS$39,MATCH($A16,黒!$AS$6:$AS$39,0),1))","v":"長谷川　進"},null,null,"１６位",{"$f":"IF($D16=\"\",\"\",IF($E17<>\"w\",$D17,IF($E16<>\"w\",$D16,\"\")))","v":"長谷川　進"},{"$f":"IF(ISERROR(INDEX($U$2:$X$35,MATCH($H17,U$2:$U$35,0),3)),\"\",INDEX($U$2:$X$35,MATCH($H17,U$2:$U$35,0),3))","v":1},{"$f":"IF(ISERROR(INDEX($U$2:$X$35,MATCH($H17,U$2:$U$35,0),4)),\"\",INDEX($U$2:$X$35,MATCH($H17,U$2:$U$35,0),4))","v":5},null,{"$f":"IF(ISERROR(I17),\"\",I17)","v":1},"勝",{"$f":"IF(ISERROR(J17+1),\"\",IF($H16=\"\",J17,J17+1))","v":5},"敗",null,null,null,null,16,"長谷川　進",{"$f":"IF(U17=\"\",\"\",INDEX(黒!$C$6:$E$39,MATCH($U17,黒!$E$6:$E$39,0),1))","v":180},{"$f":"IF(ISERROR(INDEX(黒!$E$6:$AT$39,MATCH($A17,黒!$AS$6:$AS$39,0),36)),\"\",INDEX(黒!$E$6:$AT$39,MATCH($A17,黒!$AS$6:$AS$39,0),36))","v":1},{"$f":"IF(ISERROR(INDEX(黒!$E$6:$AT$39,MATCH($A17,黒!$AS$6:$AS$39,0),37)),\"\",INDEX(黒!$E$6:$AT$39,MATCH($A17,黒!$AS$6:$AS$39,0),37))","v":5},0,0,1,5,{"$f":"IF(ISERROR(INDEX(黒!$E$6:$AT$39,MATCH($A17,黒!$AS$6:$AS$39,0),38)),\"\",INDEX(黒!$E$6:$AT$39,MATCH($A17,黒!$AS$6:$AS$39,0),38))","v":526},{"$f":"IF(ISERROR(OFFSET(INDEX(黒!$E$6:$AT$39,MATCH($A17,黒!$AS$6:$AS$39,0),38),-1,0)),\"\",OFFSET(INDEX(黒!$E$6:$AT$39,MATCH($A17,黒!$AS$6:$AS$39,0),38),-1,0))","v":526},{"$f":"IF(ISERROR(INDEX(黒!$E$6:$AT$39,MATCH($A17,黒!$AS$6:$AS$39,0),39)),\"\",INDEX(黒!$E$6:$AT$39,MATCH($A17,黒!$AS$6:$AS$39,0),39))","v":67},{"$f":"IF($U17=\"\",0,IF($E17=\"w\",INT($V17*概要設定!$B$6/$V17),INT($E17*概要設定!$B$6/$V17)))","v":0},0,526,526,{"$f":"IF(ISERROR(INDEX(黒!$E$6:$AT$39,MATCH($A17,黒!$AS$6:$AS$39,0),42)),\"\",INDEX(黒!$E$6:$AT$39,MATCH($A17,黒!$AS$6:$AS$39,0),42))","v":0},{"$f":"IF(ISERROR(OFFSET(INDEX(黒!$E$6:$AT$39,MATCH($A17,黒!$AS$6:$AS$39,0),42),-1,0)),\"\",OFFSET(INDEX(黒!$E$6:$AT$39,MATCH($A17,黒!$AS$6:$AS$39,0),42),-1,0))","v":""},{"$f":"IF(ISERROR(INDEX(黒!$E$6:$AU$39,MATCH($A17,黒!$AS$6:$AS$39,0),43)),\"\",INDEX(黒!$E$6:$AU$39,MATCH($A17,黒!$AS$6:$AS$39,0),43))","v":0}]
[9,17,"赤　９",{"$f":"IF(ISERROR(INDEX(赤!$E$6:$AS$39,MATCH($A18,赤!$AS$6:$AS$39,0),1)),\"\",INDEX(赤!$E$6:$AS$39,MATCH($A18,赤!$AS$6:$AS$39,0),1))","v":""},null,null,"１７位",{"$f":"IF($D18=\"\",$D19,IF($D19=\"\",$D18,IF($E18=\"w\",$D18,IF($E19=\"w\",$D19,\"\"))))","v":""},{"$f":"IF(ISERROR(INDEX($U$2:$X$35,MATCH($H18,U$2:$U$35,0),3)),\"\",INDEX($U$2:$X$35,MATCH($H18,U$2:$U$35,0),3))","v":""},{"$f":"IF(ISERROR(INDEX($U$2:$X$35,MATCH($H18,U$2:$U$35,0),4)),\"\",INDEX($U$2:$X$35,MATCH($H18,U$2:$U$35,0),4))","v":""},null,{"$f":"IF(ISERROR(I18+1),\"\",IF($H19=\"\",I18,I18+1))","v":""},"勝",{"$f":"IF(ISERROR(J18),\"\",J18)","v":""},"敗",null,null,null,null,"","",{"$f":"IF(U18=\"\",\"\",INDEX(赤!$C$6:$E$39,MATCH($U18,赤!$E$6:$E$39,0),1))","v":""},{"$f":"IF(ISERROR(INDEX(赤!$E$6:$AT$39,MATCH($A18,赤!$AS$6:$AS$39,0),36)),\"\",INDEX(赤!$E$6:$AT$39,MATCH($A18,赤!$AS$6:$AS$39,0),36))","v":""},{"$f":"IF(ISERROR(INDEX(赤!$E$6:$AT$39,MATCH($A18,赤!$AS$6:$AS$39,0),37)),\"\",INDEX(赤!$E$6:$AT$39,MATCH($A18,赤!$AS$6:$AS$39,0),37))","v":""},0,0,"","",{"$f":"IF(ISERROR(INDEX(赤!$E$6:$AT$39,MATCH($A18,赤!$AS$6:$AS$39,0),38)),\"\",INDEX(赤!$E$6:$AT$39,MATCH($A18,赤!$AS$6:$AS$39,0),38))","v":""},{"$f":"IF(ISERROR(OFFSET(INDEX(赤!$E$6:$AT$39,MATCH($A18,赤!$AS$6:$AS$39,0),38),-1,0)),\"\",OFFSET(INDEX(赤!$E$6:$AT$39,MATCH($A18,赤!$AS$6:$AS$39,0),38),-1,0))","v":""},{"$f":"IF(ISERROR(INDEX(赤!$E$6:$AT$39,MATCH($A18,赤!$AS$6:$AS$39,0),39)),\"\",INDEX(赤!$E$6:$AT$39,MATCH($A18,赤!$AS$6:$AS$39,0),39))","v":""},{"$f":"IF($U18=\"\",0,IF($E18=\"w\",INT($V18*概要設定!$B$6/$V18),INT($E18*概要設定!$B$6/$V18)))","v":0},0,0,0,{"$f":"IF(ISERROR(INDEX(赤!$E$6:$AT$39,MATCH($A18,赤!$AS$6:$AS$39,0),42)),\"\",INDEX(赤!$E$6:$AT$39,MATCH($A18,赤!$AS$6:$AS$39,0),42))","v":""},{"$f":"IF(ISERROR(OFFSET(INDEX(赤!$E$6:$AT$39,MATCH($A18,赤!$AS$6:$AS$39,0),42),-1,0)),\"\",OFFSET(INDEX(赤!$E$6:$AT$39,MATCH($A18,赤!$AS$6:$AS$39,0),42),-1,0))","v":""},{"$f":"IF(ISERROR(INDEX(赤!$E$6:$AU$39,MATCH($A18,赤!$AS$6:$AS$39,0),43)),\"\",INDEX(赤!$E$6:$AU$39,MATCH($A18,赤!$AS$6:$AS$39,0),43))","v":""}]
[9,18,"黒　９",{"$f":"IF(ISERROR(INDEX(黒!$E$6:$AS$39,MATCH($A18,黒!$AS$6:$AS$39,0),1)),\"\",INDEX(黒!$E$6:$AS$39,MATCH($A18,黒!$AS$6:$AS$39,0),1))","v":""},null,null,"１８位",{"$f":"IF($D18=\"\",\"\",IF($E19<>\"w\",$D19,IF($E18<>\"w\",$D18,\"\")))","v":""},{"$f":"IF(ISERROR(INDEX($U$2:$X$35,MATCH($H19,U$2:$U$35,0),3)),\"\",INDEX($U$2:$X$35,MATCH($H19,U$2:$U$35,0),3))","v":""},{"$f":"IF(ISERROR(INDEX($U$2:$X$35,MATCH($H19,U$2:$U$35,0),4)),\"\",INDEX($U$2:$X$35,MATCH($H19,U$2:$U$35,0),4))","v":""},null,{"$f":"IF(ISERROR(I19),\"\",I19)","v":""},"勝",{"$f":"IF(ISERROR(J19+1),\"\",IF($H18=\"\",J19,J19+1))","v":""},"敗",null,null,null,null,"","",{"$f":"IF(U19=\"\",\"\",INDEX(黒!$C$6:$E$39,MATCH($U19,黒!$E$6:$E$39,0),1))","v":""},{"$f":"IF(ISERROR(INDEX(黒!$E$6:$AT$39,MATCH($A19,黒!$AS$6:$AS$39,0),36)),\"\",INDEX(黒!$E$6:$AT$39,MATCH($A19,黒!$AS$6:$AS$39,0),36))","v":""},{"$f":"IF(ISERROR(INDEX(黒!$E$6:$AT$39,MATCH($A19,黒!$AS$6:$AS$39,0),37)),\"\",INDEX(黒!$E$6:$AT$39,MATCH($A19,黒!$AS$6:$AS$39,0),37))","v":""},0,0,"","",{"$f":"IF(ISERROR(INDEX(黒!$E$6:$AT$39,MATCH($A19,黒!$AS$6:$AS$39,0),38)),\"\",INDEX(黒!$E$6:$AT$39,MATCH($A19,黒!$AS$6:$AS$39,0),38))","v":""},{"$f":"IF(ISERROR(OFFSET(INDEX(黒!$E$6:$AT$39,MATCH($A19,黒!$AS$6:$AS$39,0),38),-1,0)),\"\",OFFSET(INDEX(黒!$E$6:$AT$39,MATCH($A19,黒!$AS$6:$AS$39,0),38),-1,0))","v":""},{"$f":"IF(ISERROR(INDEX(黒!$E$6:$AT$39,MATCH($A19,黒!$AS$6:$AS$39,0),39)),\"\",INDEX(黒!$E$6:$AT$39,MATCH($A19,黒!$AS$6:$AS$39,0),39))","v":""},{"$f":"IF($U19=\"\",0,IF($E19=\"w\",INT($V19*概要設定!$B$6/$V19),INT($E19*概要設定!$B$6/$V19)))","v":0},0,0,0,{"$f":"IF(ISERROR(INDEX(黒!$E$6:$AT$39,MATCH($A19,黒!$AS$6:$AS$39,0),42)),\"\",INDEX(黒!$E$6:$AT$39,MATCH($A19,黒!$AS$6:$AS$39,0),42))","v":""},{"$f":"IF(ISERROR(OFFSET(INDEX(黒!$E$6:$AT$39,MATCH($A19,黒!$AS$6:$AS$39,0),42),-1,0)),\"\",OFFSET(INDEX(黒!$E$6:$AT$39,MATCH($A19,黒!$AS$6:$AS$39,0),42),-1,0))","v":""},{"$f":"IF(ISERROR(INDEX(黒!$E$6:$AU$39,MATCH($A19,黒!$AS$6:$AS$39,0),43)),\"\",INDEX(黒!$E$6:$AU$39,MATCH($A19,黒!$AS$6:$AS$39,0),43))","v":""}]
[10,19,"赤　10",{"$f":"IF(ISERROR(INDEX(赤!$E$6:$AS$39,MATCH($A20,赤!$AS$6:$AS$39,0),1)),\"\",INDEX(赤!$E$6:$AS$39,MATCH($A20,赤!$AS$6:$AS$39,0),1))","v":""},null,null,"１９位",{"$f":"IF($D20=\"\",$D21,IF($D21=\"\",$D20,IF($E20=\"w\",$D20,IF($E21=\"w\",$D21,\"\"))))","v":""},{"$f":"IF(ISERROR(INDEX($U$2:$X$35,MATCH($H20,U$2:$U$35,0),3)),\"\",INDEX($U$2:$X$35,MATCH($H20,U$2:$U$35,0),3))","v":""},{"$f":"IF(ISERROR(INDEX($U$2:$X$35,MATCH($H20,U$2:$U$35,0),4)),\"\",INDEX($U$2:$X$35,MATCH($H20,U$2:$U$35,0),4))","v":""},null,{"$f":"IF(ISERROR(I20+1),\"\",IF($H21=\"\",I20,I20+1))","v":""},"勝",{"$f":"IF(ISERROR(J20),\"\",J20)","v":""},"敗",null,null,null,null,"","",{"$f":"IF(U20=\"\",\"\",INDEX(赤!$C$6:$E$39,MATCH($U20,赤!$E$6:$E$39,0),1))","v":""},{"$f":"IF(ISERROR(INDEX(赤!$E$6:$AT$39,MATCH($A20,赤!$AS$6:$AS$39,0),36)),\"\",INDEX(赤!$E$6:$AT$39,MATCH($A20,赤!$AS$6:$AS$39,0),36))","v":""},{"$f":"IF(ISERROR(INDEX(赤!$E$6:$AT$39,MATCH($A20,赤!$AS$6:$AS$39,0),37)),\"\",INDEX(赤!$E$6:$AT$39,MATCH($A20,赤!$AS$6:$AS$39,0),37))","v":""},0,0,"","",{"$f":"IF(ISERROR(INDEX(赤!$E$6:$AT$39,MATCH($A20,赤!$AS$6:$AS$39,0),38)),\"\",INDEX(赤!$E$6:$AT$39,MATCH($A20,赤!$AS$6:$AS$39,0),38))","v":""},{"$f":"IF(ISERROR(OFFSET(INDEX(赤!$E$6:$AT$39,MATCH($A20,赤!$AS$6:$AS$39,0),38),-1,0)),\"\",OFFSET(INDEX(赤!$E$6:$AT$39,MATCH($A20,赤!$AS$6:$AS$39,0),38),-1,0))","v":""},{"$f":"IF(ISERROR(INDEX(赤!$E$6:$AT$39,MATCH($A20,赤!$AS$6:$AS$39,0),39)),\"\",INDEX(赤!$E$6:$AT$39,MATCH($A20,赤!$AS$6:$AS$39,0),39))","v":""},{"$f":"IF($U20=\"\",0,IF($E20=\"w\",INT($V20*概要設定!$B$6/$V20),INT($E20*概要設定!$B$6/$V20)))","v":0},0,0,0,{"$f":"IF(ISERROR(INDEX(赤!$E$6:$AT$39,MATCH($A20,赤!$AS$6:$AS$39,0),42)),\"\",INDEX(赤!$E$6:$AT$39,MATCH($A20,赤!$AS$6:$AS$39,0),42))","v":""},{"$f":"IF(ISERROR(OFFSET(INDEX(赤!$E$6:$AT$39,MATCH($A20,赤!$AS$6:$AS$39,0),42),-1,0)),\"\",OFFSET(INDEX(赤!$E$6:$AT$39,MATCH($A20,赤!$AS$6:$AS$39,0),42),-1,0))","v":""},{"$f":"IF(ISERROR(INDEX(赤!$E$6:$AU$39,MATCH($A20,赤!$AS$6:$AS$39,0),43)),\"\",INDEX(赤!$E$6:$AU$39,MATCH($A20,赤!$AS$6:$AS$39,0),43))","v":""}]
[10,20,"黒　10",{"$f":"IF(ISERROR(INDEX(黒!$E$6:$AS$39,MATCH($A20,黒!$AS$6:$AS$39,0),1)),\"\",INDEX(黒!$E$6:$AS$39,MATCH($A20,黒!$AS$6:$AS$39,0),1))","v":""},null,null,"２０位",{"$f":"IF($D20=\"\",\"\",IF($E21<>\"w\",$D21,IF($E20<>\"w\",$D20,\"\")))","v":""},{"$f":"IF(ISERROR(INDEX($U$2:$X$35,MATCH($H21,U$2:$U$35,0),3)),\"\",INDEX($U$2:$X$35,MATCH($H21,U$2:$U$35,0),3))","v":""},{"$f":"IF(ISERROR(INDEX($U$2:$X$35,MATCH($H21,U$2:$U$35,0),4)),\"\",INDEX($U$2:$X$35,MATCH($H21,U$2:$U$35,0),4))","v":""},null,{"$f":"IF(ISERROR(I21),\"\",I21)","v":""},"勝",{"$f":"IF(ISERROR(J21+1),\"\",IF($H20=\"\",J21,J21+1))","v":""},"敗",null,null,null,null,"","",{"$f":"IF(U21=\"\",\"\",INDEX(黒!$C$6:$E$39,MATCH($U21,黒!$E$6:$E$39,0),1))","v":""},{"$f":"IF(ISERROR(INDEX(黒!$E$6:$AT$39,MATCH($A21,黒!$AS$6:$AS$39,0),36)),\"\",INDEX(黒!$E$6:$AT$39,MATCH($A21,黒!$AS$6:$AS$39,0),36))","v":""},{"$f":"IF(ISERROR(INDEX(黒!$E$6:$AT$39,MATCH($A21,黒!$AS$6:$AS$39,0),37)),\"\",INDEX(黒!$E$6:$AT$39,MATCH($A21,黒!$AS$6:$AS$39,0),37))","v":""},0,0,"","",{"$f":"IF(ISERROR(INDEX(黒!$E$6:$AT$39,MATCH($A21,黒!$AS$6:$AS$39,0),38)),\"\",INDEX(黒!$E$6:$AT$39,MATCH($A21,黒!$AS$6:$AS$39,0),38))","v":""},{"$f":"IF(ISERROR(OFFSET(INDEX(黒!$E$6:$AT$39,MATCH($A21,黒!$AS$6:$AS$39,0),38),-1,0)),\"\",OFFSET(INDEX(黒!$E$6:$AT$39,MATCH($A21,黒!$AS$6:$AS$39,0),38),-1,0))","v":""},{"$f":"IF(ISERROR(INDEX(黒!$E$6:$AT$39,MATCH($A21,黒!$AS$6:$AS$39,0),39)),\"\",INDEX(黒!$E$6:$AT$39,MATCH($A21,黒!$AS$6:$AS$39,0),39))","v":""},{"$f":"IF($U21=\"\",0,IF($E21=\"w\",INT($V21*概要設定!$B$6/$V21),INT($E21*概要設定!$B$6/$V21)))","v":0},0,0,0,{"$f":"IF(ISERROR(INDEX(黒!$E$6:$AT$39,MATCH($A21,黒!$AS$6:$AS$39,0),42)),\"\",INDEX(黒!$E$6:$AT$39,MATCH($A21,黒!$AS$6:$AS$39,0),42))","v":""},{"$f":"IF(ISERROR(OFFSET(INDEX(黒!$E$6:$AT$39,MATCH($A21,黒!$AS$6:$AS$39,0),42),-1,0)),\"\",OFFSET(INDEX(黒!$E$6:$AT$39,MATCH($A21,黒!$AS$6:$AS$39,0),42),-1,0))","v":""},{"$f":"IF(ISERROR(INDEX(黒!$E$6:$AU$39,MATCH($A21,黒!$AS$6:$AS$39,0),43)),\"\",INDEX(黒!$E$6:$AU$39,MATCH($A21,黒!$AS$6:$AS$39,0),43))","v":""}]
[11,21,"赤　11",{"$f":"IF(ISERROR(INDEX(赤!$E$6:$AS$39,MATCH($A22,赤!$AS$6:$AS$39,0),1)),\"\",INDEX(赤!$E$6:$AS$39,MATCH($A22,赤!$AS$6:$AS$39,0),1))","v":""},null,null,"２１位",{"$f":"IF($D22=\"\",$D23,IF($D23=\"\",$D22,IF($E22=\"w\",$D22,IF($E23=\"w\",$D23,\"\"))))","v":""},{"$f":"IF(ISERROR(INDEX($U$2:$X$35,MATCH($H22,U$2:$U$35,0),3)),\"\",INDEX($U$2:$X$35,MATCH($H22,U$2:$U$35,0),3))","v":""},{"$f":"IF(ISERROR(INDEX($U$2:$X$35,MATCH($H22,U$2:$U$35,0),4)),\"\",INDEX($U$2:$X$35,MATCH($H22,U$2:$U$35,0),4))","v":""},null,{"$f":"IF(ISERROR(I22+1),\"\",IF($H23=\"\",I22,I22+1))","v":""},"勝",{"$f":"IF(ISERROR(J22),\"\",J22)","v":""},"敗",null,null,null,null,"",{"$f":"D22","v":""},{"$f":"IF(U22=\"\",\"\",INDEX(赤!$C$6:$E$39,MATCH($U22,赤!$E$6:$E$39,0),1))","v":""},{"$f":"IF(ISERROR(INDEX(赤!$E$6:$AT$39,MATCH($A22,赤!$AS$6:$AS$39,0),36)),\"\",INDEX(赤!$E$6:$AT$39,MATCH($A22,赤!$AS$6:$AS$39,0),36))","v":""},{"$f":"IF(ISERROR(INDEX(赤!$E$6:$AT$39,MATCH($A22,赤!$AS$6:$AS$39,0),37)),\"\",INDEX(赤!$E$6:$AT$39,MATCH($A22,赤!$AS$6:$AS$39,0),37))","v":""},0,0,"","",{"$f":"IF(ISERROR(INDEX(赤!$E$6:$AT$39,MATCH($A22,赤!$AS$6:$AS$39,0),38)),\"\",INDEX(赤!$E$6:$AT$39,MATCH($A22,赤!$AS$6:$AS$39,0),38))","v":""},{"$f":"IF(ISERROR(OFFSET(INDEX(赤!$E$6:$AT$39,MATCH($A22,赤!$AS$6:$AS$39,0),38),-1,0)),\"\",OFFSET(INDEX(赤!$E$6:$AT$39,MATCH($A22,赤!$AS$6:$AS$39,0),38),-1,0))","v":""},{"$f":"IF(ISERROR(INDEX(赤!$E$6:$AT$39,MATCH($A22,赤!$AS$6:$AS$39,0),39)),\"\",INDEX(赤!$E$6:$AT$39,MATCH($A22,赤!$AS$6:$AS$39,0),39))","v":""},{"$f":"IF($U22=\"\",0,IF($E22=\"w\",INT($V22*概要設定!$B$6/$V22),INT($E22*概要設定!$B$6/$V22)))","v":0},0,0,0,{"$f":"IF(ISERROR(INDEX(赤!$E$6:$AT$39,MATCH($A22,赤!$AS$6:$AS$39,0),42)),\"\",INDEX(赤!$E$6:$AT$39,MATCH($A22,赤!$AS$6:$AS$39,0),42))","v":""},{"$f":"IF(ISERROR(OFFSET(INDEX(赤!$E$6:$AT$39,MATCH($A22,赤!$AS$6:$AS$39,0),42),-1,0)),\"\",OFFSET(INDEX(赤!$E$6:$AT$39,MATCH($A22,赤!$AS$6:$AS$39,0),42),-1,0))","v":""},{"$f":"IF(ISERROR(INDEX(赤!$E$6:$AU$39,MATCH($A22,赤!$AS$6:$AS$39,0),43)),\"\",INDEX(赤!$E$6:$AU$39,MATCH($A22,赤!$AS$6:$AS$39,0),43))","v":""}]
[11,22,"黒　11",{"$f":"IF(ISERROR(INDEX(黒!$E$6:$AS$39,MATCH($A22,黒!$AS$6:$AS$39,0),1)),\"\",INDEX(黒!$E$6:$AS$39,MATCH($A22,黒!$AS$6:$AS$39,0),1))","v":""},null,null,"２２位",{"$f":"IF($D22=\"\",\"\",IF($E23<>\"w\",$D23,IF($E22<>\"w\",$D22,\"\")))","v":""},{"$f":"IF(ISERROR(INDEX($U$2:$X$35,MATCH($H23,U$2:$U$35,0),3)),\"\",INDEX($U$2:$X$35,MATCH($H23,U$2:$U$35,0),3))","v":""},{"$f":"IF(ISERROR(INDEX($U$2:$X$35,MATCH($H23,U$2:$U$35,0),4)),\"\",INDEX($U$2:$X$35,MATCH($H23,U$2:$U$35,0),4))","v":""},null,{"$f":"IF(ISERROR(I23),\"\",I23)","v":""},"勝",{"$f":"IF(ISERROR(J23+1),\"\",IF($H22=\"\",J23,J23+1))","v":""},"敗",null,null,null,null,"","",{"$f":"IF(U23=\"\",\"\",INDEX(黒!$C$6:$E$39,MATCH($U23,黒!$E$6:$E$39,0),1))","v":""},{"$f":"IF(ISERROR(INDEX(黒!$E$6:$AT$39,MATCH($A23,黒!$AS$6:$AS$39,0),36)),\"\",INDEX(黒!$E$6:$AT$39,MATCH($A23,黒!$AS$6:$AS$39,0),36))","v":""},{"$f":"IF(ISERROR(INDEX(黒!$E$6:$AT$39,MATCH($A23,黒!$AS$6:$AS$39,0),37)),\"\",INDEX(黒!$E$6:$AT$39,MATCH($A23,黒!$AS$6:$AS$39,0),37))","v":""},0,0,"","",{"$f":"IF(ISERROR(INDEX(黒!$E$6:$AT$39,MATCH($A23,黒!$AS$6:$AS$39,0),38)),\"\",INDEX(黒!$E$6:$AT$39,MATCH($A23,黒!$AS$6:$AS$39,0),38))","v":""},{"$f":"IF(ISERROR(OFFSET(INDEX(黒!$E$6:$AT$39,MATCH($A23,黒!$AS$6:$AS$39,0),38),-1,0)),\"\",OFFSET(INDEX(黒!$E$6:$AT$39,MATCH($A23,黒!$AS$6:$AS$39,0),38),-1,0))","v":""},{"$f":"IF(ISERROR(INDEX(黒!$E$6:$AT$39,MATCH($A23,黒!$AS$6:$AS$39,0),39)),\"\",INDEX(黒!$E$6:$AT$39,MATCH($A23,黒!$AS$6:$AS$39,0),39))","v":""},{"$f":"IF($U23=\"\",0,IF($E23=\"w\",INT($V23*概要設定!$B$6/$V23),INT($E23*概要設定!$B$6/$V23)))","v":0},0,0,0,{"$f":"IF(ISERROR(INDEX(黒!$E$6:$AT$39,MATCH($A23,黒!$AS$6:$AS$39,0),42)),\"\",INDEX(黒!$E$6:$AT$39,MATCH($A23,黒!$AS$6:$AS$39,0),42))","v":""},{"$f":"IF(ISERROR(OFFSET(INDEX(黒!$E$6:$AT$39,MATCH($A23,黒!$AS$6:$AS$39,0),42),-1,0)),\"\",OFFSET(INDEX(黒!$E$6:$AT$39,MATCH($A23,黒!$AS$6:$AS$39,0),42),-1,0))","v":""},{"$f":"IF(ISERROR(INDEX(黒!$E$6:$AU$39,MATCH($A23,黒!$AS$6:$AS$39,0),43)),\"\",INDEX(黒!$E$6:$AU$39,MATCH($A23,黒!$AS$6:$AS$39,0),43))","v":""}]
[12,23,"赤　12",{"$f":"IF(ISERROR(INDEX(赤!$E$6:$AS$39,MATCH($A24,赤!$AS$6:$AS$39,0),1)),\"\",INDEX(赤!$E$6:$AS$39,MATCH($A24,赤!$AS$6:$AS$39,0),1))","v":""},null,null,"２３位",{"$f":"IF($D24=\"\",$D25,IF($D25=\"\",$D24,IF($E24=\"w\",$D24,IF($E25=\"w\",$D25,\"\"))))","v":""},{"$f":"IF(ISERROR(INDEX($U$2:$X$35,MATCH($H24,U$2:$U$35,0),3)),\"\",INDEX($U$2:$X$35,MATCH($H24,U$2:$U$35,0),3))","v":""},{"$f":"IF(ISERROR(INDEX($U$2:$X$35,MATCH($H24,U$2:$U$35,0),4)),\"\",INDEX($U$2:$X$35,MATCH($H24,U$2:$U$35,0),4))","v":""},null,{"$f":"IF(ISERROR(I24+1),\"\",IF($H25=\"\",I24,I24+1))","v":""},"勝",{"$f":"IF(ISERROR(J24),\"\",J24)","v":""},"敗",null,null,null,null,"","",{"$f":"IF(U24=\"\",\"\",INDEX(赤!$C$6:$E$39,MATCH($U24,赤!$E$6:$E$39,0),1))","v":""},{"$f":"IF(ISERROR(INDEX(赤!$E$6:$AT$39,MATCH($A24,赤!$AS$6:$AS$39,0),36)),\"\",INDEX(赤!$E$6:$AT$39,MATCH($A24,赤!$AS$6:$AS$39,0),36))","v":""},{"$f":"IF(ISERROR(INDEX(赤!$E$6:$AT$39,MATCH($A24,赤!$AS$6:$AS$39,0),37)),\"\",INDEX(赤!$E$6:$AT$39,MATCH($A24,赤!$AS$6:$AS$39,0),37))","v":""},0,0,"","",{"$f":"IF(ISERROR(INDEX(赤!$E$6:$AT$39,MATCH($A24,赤!$AS$6:$AS$39,0),38)),\"\",INDEX(赤!$E$6:$AT$39,MATCH($A24,赤!$AS$6:$AS$39,0),38))","v":""},{"$f":"IF(ISERROR(OFFSET(INDEX(赤!$E$6:$AT$39,MATCH($A24,赤!$AS$6:$AS$39,0),38),-1,0)),\"\",OFFSET(INDEX(赤!$E$6:$AT$39,MATCH($A24,赤!$AS$6:$AS$39,0),38),-1,0))","v":""},{"$f":"IF(ISERROR(INDEX(赤!$E$6:$AT$39,MATCH($A24,赤!$AS$6:$AS$39,0),39)),\"\",INDEX(赤!$E$6:$AT$39,MATCH($A24,赤!$AS$6:$AS$39,0),39))","v":""},{"$f":"IF($U24=\"\",0,IF($E24=\"w\",INT($V24*概要設定!$B$6/$V24),INT($E24*概要設定!$B$6/$V24)))","v":0},0,0,0,{"$f":"IF(ISERROR(INDEX(赤!$E$6:$AT$39,MATCH($A24,赤!$AS$6:$AS$39,0),42)),\"\",INDEX(赤!$E$6:$AT$39,MATCH($A24,赤!$AS$6:$AS$39,0),42))","v":""},{"$f":"IF(ISERROR(OFFSET(INDEX(赤!$E$6:$AT$39,MATCH($A24,赤!$AS$6:$AS$39,0),42),-1,0)),\"\",OFFSET(INDEX(赤!$E$6:$AT$39,MATCH($A24,赤!$AS$6:$AS$39,0),42),-1,0))","v":""},{"$f":"IF(ISERROR(INDEX(赤!$E$6:$AU$39,MATCH($A24,赤!$AS$6:$AS$39,0),43)),\"\",INDEX(赤!$E$6:$AU$39,MATCH($A24,赤!$AS$6:$AS$39,0),43))","v":""}]
[12,24,"黒　12",{"$f":"IF(ISERROR(INDEX(黒!$E$6:$AS$39,MATCH($A24,黒!$AS$6:$AS$39,0),1)),\"\",INDEX(黒!$E$6:$AS$39,MATCH($A24,黒!$AS$6:$AS$39,0),1))","v":""},null,null,"２４位",{"$f":"IF($D24=\"\",\"\",IF($E25<>\"w\",$D25,IF($E24<>\"w\",$D24,\"\")))","v":""},{"$f":"IF(ISERROR(INDEX($U$2:$X$35,MATCH($H25,U$2:$U$35,0),3)),\"\",INDEX($U$2:$X$35,MATCH($H25,U$2:$U$35,0),3))","v":""},{"$f":"IF(ISERROR(INDEX($U$2:$X$35,MATCH($H25,U$2:$U$35,0),4)),\"\",INDEX($U$2:$X$35,MATCH($H25,U$2:$U$35,0),4))","v":""},null,{"$f":"IF(ISERROR(I25),\"\",I25)","v":""},"勝",{"$f":"IF(ISERROR(J25+1),\"\",IF($H24=\"\",J25,J25+1))","v":""},"敗",null,null,null,null,"","",{"$f":"IF(U25=\"\",\"\",INDEX(黒!$C$6:$E$39,MATCH($U25,黒!$E$6:$E$39,0),1))","v":""},{"$f":"IF(ISERROR(INDEX(黒!$E$6:$AT$39,MATCH($A25,黒!$AS$6:$AS$39,0),36)),\"\",INDEX(黒!$E$6:$AT$39,MATCH($A25,黒!$AS$6:$AS$39,0),36))","v":""},{"$f":"IF(ISERROR(INDEX(黒!$E$6:$AT$39,MATCH($A25,黒!$AS$6:$AS$39,0),37)),\"\",INDEX(黒!$E$6:$AT$39,MATCH($A25,黒!$AS$6:$AS$39,0),37))","v":""},0,0,"","",{"$f":"IF(ISERROR(INDEX(黒!$E$6:$AT$39,MATCH($A25,黒!$AS$6:$AS$39,0),38)),\"\",INDEX(黒!$E$6:$AT$39,MATCH($A25,黒!$AS$6:$AS$39,0),38))","v":""},{"$f":"IF(ISERROR(OFFSET(INDEX(黒!$E$6:$AT$39,MATCH($A25,黒!$AS$6:$AS$39,0),38),-1,0)),\"\",OFFSET(INDEX(黒!$E$6:$AT$39,MATCH($A25,黒!$AS$6:$AS$39,0),38),-1,0))","v":""},{"$f":"IF(ISERROR(INDEX(黒!$E$6:$AT$39,MATCH($A25,黒!$AS$6:$AS$39,0),39)),\"\",INDEX(黒!$E$6:$AT$39,MATCH($A25,黒!$AS$6:$AS$39,0),39))","v":""},{"$f":"IF($U25=\"\",0,IF($E25=\"w\",INT($V25*概要設定!$B$6/$V25),INT($E25*概要設定!$B$6/$V25)))","v":0},0,0,0,{"$f":"IF(ISERROR(INDEX(黒!$E$6:$AT$39,MATCH($A25,黒!$AS$6:$AS$39,0),42)),\"\",INDEX(黒!$E$6:$AT$39,MATCH($A25,黒!$AS$6:$AS$39,0),42))","v":""},{"$f":"IF(ISERROR(OFFSET(INDEX(黒!$E$6:$AT$39,MATCH($A25,黒!$AS$6:$AS$39,0),42),-1,0)),\"\",OFFSET(INDEX(黒!$E$6:$AT$39,MATCH($A25,黒!$AS$6:$AS$39,0),42),-1,0))","v":""},{"$f":"IF(ISERROR(INDEX(黒!$E$6:$AU$39,MATCH($A25,黒!$AS$6:$AS$39,0),43)),\"\",INDEX(黒!$E$6:$AU$39,MATCH($A25,黒!$AS$6:$AS$39,0),43))","v":""}]
[13,25,"赤　13",{"$f":"IF(ISERROR(INDEX(赤!$E$6:$AS$39,MATCH($A26,赤!$AS$6:$AS$39,0),1)),\"\",INDEX(赤!$E$6:$AS$39,MATCH($A26,赤!$AS$6:$AS$39,0),1))","v":""},null,null,"２５位",{"$f":"IF($D26=\"\",$D27,IF($D27=\"\",$D26,IF($E26=\"w\",$D26,IF($E27=\"w\",$D27,\"\"))))","v":""},{"$f":"IF(ISERROR(INDEX($U$2:$X$35,MATCH($H26,U$2:$U$35,0),3)),\"\",INDEX($U$2:$X$35,MATCH($H26,U$2:$U$35,0),3))","v":""},{"$f":"IF(ISERROR(INDEX($U$2:$X$35,MATCH($H26,U$2:$U$35,0),4)),\"\",INDEX($U$2:$X$35,MATCH($H26,U$2:$U$35,0),4))","v":""},null,{"$f":"IF(ISERROR(I26+1),\"\",IF($H27=\"\",I26,I26+1))","v":""},"勝",{"$f":"IF(ISERROR(J26),\"\",J26)","v":""},"敗",null,null,null,null,"","",{"$f":"IF(U26=\"\",\"\",INDEX(赤!$C$6:$E$39,MATCH($U26,赤!$E$6:$E$39,0),1))","v":""},{"$f":"IF(ISERROR(INDEX(赤!$E$6:$AT$39,MATCH($A26,赤!$AS$6:$AS$39,0),36)),\"\",INDEX(赤!$E$6:$AT$39,MATCH($A26,赤!$AS$6:$AS$39,0),36))","v":""},{"$f":"IF(ISERROR(INDEX(赤!$E$6:$AT$39,MATCH($A26,赤!$AS$6:$AS$39,0),37)),\"\",INDEX(赤!$E$6:$AT$39,MATCH($A26,赤!$AS$6:$AS$39,0),37))","v":""},0,0,"","",{"$f":"IF(ISERROR(INDEX(赤!$E$6:$AT$39,MATCH($A26,赤!$AS$6:$AS$39,0),38)),\"\",INDEX(赤!$E$6:$AT$39,MATCH($A26,赤!$AS$6:$AS$39,0),38))","v":""},{"$f":"IF(ISERROR(OFFSET(INDEX(赤!$E$6:$AT$39,MATCH($A26,赤!$AS$6:$AS$39,0),38),-1,0)),\"\",OFFSET(INDEX(赤!$E$6:$AT$39,MATCH($A26,赤!$AS$6:$AS$39,0),38),-1,0))","v":""},{"$f":"IF(ISERROR(INDEX(赤!$E$6:$AT$39,MATCH($A26,赤!$AS$6:$AS$39,0),39)),\"\",INDEX(赤!$E$6:$AT$39,MATCH($A26,赤!$AS$6:$AS$39,0),39))","v":""},{"$f":"IF($U26=\"\",0,IF($E26=\"w\",INT($V26*概要設定!$B$6/$V26),INT($E26*概要設定!$B$6/$V26)))","v":0},0,0,0,{"$f":"IF(ISERROR(INDEX(赤!$E$6:$AT$39,MATCH($A26,赤!$AS$6:$AS$39,0),42)),\"\",INDEX(赤!$E$6:$AT$39,MATCH($A26,赤!$AS$6:$AS$39,0),42))","v":""},{"$f":"IF(ISERROR(OFFSET(INDEX(赤!$E$6:$AT$39,MATCH($A26,赤!$AS$6:$AS$39,0),42),-1,0)),\"\",OFFSET(INDEX(赤!$E$6:$AT$39,MATCH($A26,赤!$AS$6:$AS$39,0),42),-1,0))","v":""},{"$f":"IF(ISERROR(INDEX(赤!$E$6:$AU$39,MATCH($A26,赤!$AS$6:$AS$39,0),43)),\"\",INDEX(赤!$E$6:$AU$39,MATCH($A26,赤!$AS$6:$AS$39,0),43))","v":""}]
[13,26,"黒　13",{"$f":"IF(ISERROR(INDEX(黒!$E$6:$AS$39,MATCH($A26,黒!$AS$6:$AS$39,0),1)),\"\",INDEX(黒!$E$6:$AS$39,MATCH($A26,黒!$AS$6:$AS$39,0),1))","v":""},null,null,"２６位",{"$f":"IF($D26=\"\",\"\",IF($E27<>\"w\",$D27,IF($E26<>\"w\",$D26,\"\")))","v":""},{"$f":"IF(ISERROR(INDEX($U$2:$X$35,MATCH($H27,U$2:$U$35,0),3)),\"\",INDEX($U$2:$X$35,MATCH($H27,U$2:$U$35,0),3))","v":""},{"$f":"IF(ISERROR(INDEX($U$2:$X$35,MATCH($H27,U$2:$U$35,0),4)),\"\",INDEX($U$2:$X$35,MATCH($H27,U$2:$U$35,0),4))","v":""},null,{"$f":"IF(ISERROR(I27),\"\",I27)","v":""},"勝",{"$f":"IF(ISERROR(J27+1),\"\",IF($H26=\"\",J27,J27+1))","v":""},"敗",null,null,null,null,"","",{"$f":"IF(U27=\"\",\"\",INDEX(黒!$C$6:$E$39,MATCH($U27,黒!$E$6:$E$39,0),1))","v":""},{"$f":"IF(ISERROR(INDEX(黒!$E$6:$AT$39,MATCH($A27,黒!$AS$6:$AS$39,0),36)),\"\",INDEX(黒!$E$6:$AT$39,MATCH($A27,黒!$AS$6:$AS$39,0),36))","v":""},{"$f":"IF(ISERROR(INDEX(黒!$E$6:$AT$39,MATCH($A27,黒!$AS$6:$AS$39,0),37)),\"\",INDEX(黒!$E$6:$AT$39,MATCH($A27,黒!$AS$6:$AS$39,0),37))","v":""},0,0,"","",{"$f":"IF(ISERROR(INDEX(黒!$E$6:$AT$39,MATCH($A27,黒!$AS$6:$AS$39,0),38)),\"\",INDEX(黒!$E$6:$AT$39,MATCH($A27,黒!$AS$6:$AS$39,0),38))","v":""},{"$f":"IF(ISERROR(OFFSET(INDEX(黒!$E$6:$AT$39,MATCH($A27,黒!$AS$6:$AS$39,0),38),-1,0)),\"\",OFFSET(INDEX(黒!$E$6:$AT$39,MATCH($A27,黒!$AS$6:$AS$39,0),38),-1,0))","v":""},{"$f":"IF(ISERROR(INDEX(黒!$E$6:$AT$39,MATCH($A27,黒!$AS$6:$AS$39,0),39)),\"\",INDEX(黒!$E$6:$AT$39,MATCH($A27,黒!$AS$6:$AS$39,0),39))","v":""},{"$f":"IF($U27=\"\",0,IF($E27=\"w\",INT($V27*概要設定!$B$6/$V27),INT($E27*概要設定!$B$6/$V27)))","v":0},0,0,0,{"$f":"IF(ISERROR(INDEX(黒!$E$6:$AT$39,MATCH($A27,黒!$AS$6:$AS$39,0),42)),\"\",INDEX(黒!$E$6:$AT$39,MATCH($A27,黒!$AS$6:$AS$39,0),42))","v":""},{"$f":"IF(ISERROR(OFFSET(INDEX(黒!$E$6:$AT$39,MATCH($A27,黒!$AS$6:$AS$39,0),42),-1,0)),\"\",OFFSET(INDEX(黒!$E$6:$AT$39,MATCH($A27,黒!$AS$6:$AS$39,0),42),-1,0))","v":""},{"$f":"IF(ISERROR(INDEX(黒!$E$6:$AU$39,MATCH($A27,黒!$AS$6:$AS$39,0),43)),\"\",INDEX(黒!$E$6:$AU$39,MATCH($A27,黒!$AS$6:$AS$39,0),43))","v":""}]
[14,27,"赤　14",{"$f":"IF(ISERROR(INDEX(赤!$E$6:$AS$39,MATCH($A28,赤!$AS$6:$AS$39,0),1)),\"\",INDEX(赤!$E$6:$AS$39,MATCH($A28,赤!$AS$6:$AS$39,0),1))","v":""},null,null,"２７位",{"$f":"IF($D28=\"\",$D29,IF($D29=\"\",$D28,IF($E28=\"w\",$D28,IF($E29=\"w\",$D29,\"\"))))","v":""},{"$f":"IF(ISERROR(INDEX($U$2:$X$35,MATCH($H28,U$2:$U$35,0),3)),\"\",INDEX($U$2:$X$35,MATCH($H28,U$2:$U$35,0),3))","v":""},{"$f":"IF(ISERROR(INDEX($U$2:$X$35,MATCH($H28,U$2:$U$35,0),4)),\"\",INDEX($U$2:$X$35,MATCH($H28,U$2:$U$35,0),4))","v":""},null,{"$f":"IF(ISERROR(I28+1),\"\",IF($H29=\"\",I28,I28+1))","v":""},"勝",{"$f":"IF(ISERROR(J28),\"\",J28)","v":""},"敗",null,null,null,null,"","",{"$f":"IF(U28=\"\",\"\",INDEX(赤!$C$6:$E$39,MATCH($U28,赤!$E$6:$E$39,0),1))","v":""},{"$f":"IF(ISERROR(INDEX(赤!$E$6:$AT$39,MATCH($A28,赤!$AS$6:$AS$39,0),36)),\"\",INDEX(赤!$E$6:$AT$39,MATCH($A28,赤!$AS$6:$AS$39,0),36))","v":""},{"$f":"IF(ISERROR(INDEX(赤!$E$6:$AT$39,MATCH($A28,赤!$AS$6:$AS$39,0),37)),\"\",INDEX(赤!$E$6:$AT$39,MATCH($A28,赤!$AS$6:$AS$39,0),37))","v":""},0,0,"","",{"$f":"IF(ISERROR(INDEX(赤!$E$6:$AT$39,MATCH($A28,赤!$AS$6:$AS$39,0),38)),\"\",INDEX(赤!$E$6:$AT$39,MATCH($A28,赤!$AS$6:$AS$39,0),38))","v":""},{"$f":"IF(ISERROR(OFFSET(INDEX(赤!$E$6:$AT$39,MATCH($A28,赤!$AS$6:$AS$39,0),38),-1,0)),\"\",OFFSET(INDEX(赤!$E$6:$AT$39,MATCH($A28,赤!$AS$6:$AS$39,0),38),-1,0))","v":""},{"$f":"IF(ISERROR(INDEX(赤!$E$6:$AT$39,MATCH($A28,赤!$AS$6:$AS$39,0),39)),\"\",INDEX(赤!$E$6:$AT$39,MATCH($A28,赤!$AS$6:$AS$39,0),39))","v":""},{"$f":"IF($U28=\"\",0,IF($E28=\"w\",INT($V28*概要設定!$B$6/$V28),INT($E28*概要設定!$B$6/$V28)))","v":0},0,0,0,{"$f":"IF(ISERROR(INDEX(赤!$E$6:$AT$39,MATCH($A28,赤!$AS$6:$AS$39,0),42)),\"\",INDEX(赤!$E$6:$AT$39,MATCH($A28,赤!$AS$6:$AS$39,0),42))","v":""},{"$f":"IF(ISERROR(OFFSET(INDEX(赤!$E$6:$AT$39,MATCH($A28,赤!$AS$6:$AS$39,0),42),-1,0)),\"\",OFFSET(INDEX(赤!$E$6:$AT$39,MATCH($A28,赤!$AS$6:$AS$39,0),42),-1,0))","v":""},{"$f":"IF(ISERROR(INDEX(赤!$E$6:$AU$39,MATCH($A28,赤!$AS$6:$AS$39,0),43)),\"\",INDEX(赤!$E$6:$AU$39,MATCH($A28,赤!$AS$6:$AS$39,0),43))","v":""}]
[14,28,"黒　14",{"$f":"IF(ISERROR(INDEX(黒!$E$6:$AS$39,MATCH($A28,黒!$AS$6:$AS$39,0),1)),\"\",INDEX(黒!$E$6:$AS$39,MATCH($A28,黒!$AS$6:$AS$39,0),1))","v":""},null,null,"２８位",{"$f":"IF($D28=\"\",\"\",IF($E29<>\"w\",$D29,IF($E28<>\"w\",$D28,\"\")))","v":""},{"$f":"IF(ISERROR(INDEX($U$2:$X$35,MATCH($H29,U$2:$U$35,0),3)),\"\",INDEX($U$2:$X$35,MATCH($H29,U$2:$U$35,0),3))","v":""},{"$f":"IF(ISERROR(INDEX($U$2:$X$35,MATCH($H29,U$2:$U$35,0),4)),\"\",INDEX($U$2:$X$35,MATCH($H29,U$2:$U$35,0),4))","v":""},null,{"$f":"IF(ISERROR(I29),\"\",I29)","v":""},"勝",{"$f":"IF(ISERROR(J29+1),\"\",IF($H28=\"\",J29,J29+1))","v":""},"敗",null,null,null,null,"","",{"$f":"IF(U29=\"\",\"\",INDEX(黒!$C$6:$E$39,MATCH($U29,黒!$E$6:$E$39,0),1))","v":""},{"$f":"IF(ISERROR(INDEX(黒!$E$6:$AT$39,MATCH($A29,黒!$AS$6:$AS$39,0),36)),\"\",INDEX(黒!$E$6:$AT$39,MATCH($A29,黒!$AS$6:$AS$39,0),36))","v":""},{"$f":"IF(ISERROR(INDEX(黒!$E$6:$AT$39,MATCH($A29,黒!$AS$6:$AS$39,0),37)),\"\",INDEX(黒!$E$6:$AT$39,MATCH($A29,黒!$AS$6:$AS$39,0),37))","v":""},0,0,"","",{"$f":"IF(ISERROR(INDEX(黒!$E$6:$AT$39,MATCH($A29,黒!$AS$6:$AS$39,0),38)),\"\",INDEX(黒!$E$6:$AT$39,MATCH($A29,黒!$AS$6:$AS$39,0),38))","v":""},{"$f":"IF(ISERROR(OFFSET(INDEX(黒!$E$6:$AT$39,MATCH($A29,黒!$AS$6:$AS$39,0),38),-1,0)),\"\",OFFSET(INDEX(黒!$E$6:$AT$39,MATCH($A29,黒!$AS$6:$AS$39,0),38),-1,0))","v":""},{"$f":"IF(ISERROR(INDEX(黒!$E$6:$AT$39,MATCH($A29,黒!$AS$6:$AS$39,0),39)),\"\",INDEX(黒!$E$6:$AT$39,MATCH($A29,黒!$AS$6:$AS$39,0),39))","v":""},{"$f":"IF($U29=\"\",0,IF($E29=\"w\",INT($V29*概要設定!$B$6/$V29),INT($E29*概要設定!$B$6/$V29)))","v":0},0,0,0,{"$f":"IF(ISERROR(INDEX(黒!$E$6:$AT$39,MATCH($A29,黒!$AS$6:$AS$39,0),42)),\"\",INDEX(黒!$E$6:$AT$39,MATCH($A29,黒!$AS$6:$AS$39,0),42))","v":""},{"$f":"IF(ISERROR(OFFSET(INDEX(黒!$E$6:$AT$39,MATCH($A29,黒!$AS$6:$AS$39,0),42),-1,0)),\"\",OFFSET(INDEX(黒!$E$6:$AT$39,MATCH($A29,黒!$AS$6:$AS$39,0),42),-1,0))","v":""},{"$f":"IF(ISERROR(INDEX(黒!$E$6:$AU$39,MATCH($A29,黒!$AS$6:$AS$39,0),43)),\"\",INDEX(黒!$E$6:$AU$39,MATCH($A29,黒!$AS$6:$AS$39,0),43))","v":""}]
[15,29,"赤　15",{"$f":"IF(ISERROR(INDEX(赤!$E$6:$AS$39,MATCH($A30,赤!$AS$6:$AS$39,0),1)),\"\",INDEX(赤!$E$6:$AS$39,MATCH($A30,赤!$AS$6:$AS$39,0),1))","v":""},null,null,"２９位",{"$f":"IF($D30=\"\",$D31,IF($D31=\"\",$D30,IF($E30=\"w\",$D30,IF($E31=\"w\",$D31,\"\"))))","v":""},{"$f":"IF(ISERROR(INDEX($U$2:$X$35,MATCH($H30,U$2:$U$35,0),3)),\"\",INDEX($U$2:$X$35,MATCH($H30,U$2:$U$35,0),3))","v":""},{"$f":"IF(ISERROR(INDEX($U$2:$X$35,MATCH($H30,U$2:$U$35,0),4)),\"\",INDEX($U$2:$X$35,MATCH($H30,U$2:$U$35,0),4))","v":""},null,{"$f":"IF(ISERROR(I30+1),\"\",IF($H31=\"\",I30,I30+1))","v":""},"勝",{"$f":"IF(ISERROR(J30),\"\",J30)","v":""},"敗",null,null,null,null,"","",{"$f":"IF(U30=\"\",\"\",INDEX(赤!$C$6:$E$39,MATCH($U30,赤!$E$6:$E$39,0),1))","v":""},{"$f":"IF(ISERROR(INDEX(赤!$E$6:$AT$39,MATCH($A30,赤!$AS$6:$AS$39,0),36)),\"\",INDEX(赤!$E$6:$AT$39,MATCH($A30,赤!$AS$6:$AS$39,0),36))","v":""},{"$f":"IF(ISERROR(INDEX(赤!$E$6:$AT$39,MATCH($A30,赤!$AS$6:$AS$39,0),37)),\"\",INDEX(赤!$E$6:$AT$39,MATCH($A30,赤!$AS$6:$AS$39,0),37))","v":""},0,0,"","",{"$f":"IF(ISERROR(INDEX(赤!$E$6:$AT$39,MATCH($A30,赤!$AS$6:$AS$39,0),38)),\"\",INDEX(赤!$E$6:$AT$39,MATCH($A30,赤!$AS$6:$AS$39,0),38))","v":""},{"$f":"IF(ISERROR(OFFSET(INDEX(赤!$E$6:$AT$39,MATCH($A30,赤!$AS$6:$AS$39,0),38),-1,0)),\"\",OFFSET(INDEX(赤!$E$6:$AT$39,MATCH($A30,赤!$AS$6:$AS$39,0),38),-1,0))","v":""},{"$f":"IF(ISERROR(INDEX(赤!$E$6:$AT$39,MATCH($A30,赤!$AS$6:$AS$39,0),39)),\"\",INDEX(赤!$E$6:$AT$39,MATCH($A30,赤!$AS$6:$AS$39,0),39))","v":""},{"$f":"IF($U30=\"\",0,IF($E30=\"w\",INT($V30*概要設定!$B$6/$V30),INT($E30*概要設定!$B$6/$V30)))","v":0},0,0,0,{"$f":"IF(ISERROR(INDEX(赤!$E$6:$AT$39,MATCH($A30,赤!$AS$6:$AS$39,0),42)),\"\",INDEX(赤!$E$6:$AT$39,MATCH($A30,赤!$AS$6:$AS$39,0),42))","v":""},{"$f":"IF(ISERROR(OFFSET(INDEX(赤!$E$6:$AT$39,MATCH($A30,赤!$AS$6:$AS$39,0),42),-1,0)),\"\",OFFSET(INDEX(赤!$E$6:$AT$39,MATCH($A30,赤!$AS$6:$AS$39,0),42),-1,0))","v":""},{"$f":"IF(ISERROR(INDEX(赤!$E$6:$AU$39,MATCH($A30,赤!$AS$6:$AS$39,0),43)),\"\",INDEX(赤!$E$6:$AU$39,MATCH($A30,赤!$AS$6:$AS$39,0),43))","v":""}]
[15,30,"黒　15",{"$f":"IF(ISERROR(INDEX(黒!$E$6:$AS$39,MATCH($A30,黒!$AS$6:$AS$39,0),1)),\"\",INDEX(黒!$E$6:$AS$39,MATCH($A30,黒!$AS$6:$AS$39,0),1))","v":""},null,null,"３０位",{"$f":"IF($D30=\"\",\"\",IF($E31<>\"w\",$D31,IF($E30<>\"w\",$D30,\"\")))","v":""},{"$f":"IF(ISERROR(INDEX($U$2:$X$35,MATCH($H31,U$2:$U$35,0),3)),\"\",INDEX($U$2:$X$35,MATCH($H31,U$2:$U$35,0),3))","v":""},{"$f":"IF(ISERROR(INDEX($U$2:$X$35,MATCH($H31,U$2:$U$35,0),4)),\"\",INDEX($U$2:$X$35,MATCH($H31,U$2:$U$35,0),4))","v":""},null,{"$f":"IF(ISERROR(I31),\"\",I31)","v":""},"勝",{"$f":"IF(ISERROR(J31+1),\"\",IF($H30=\"\",J31,J31+1))","v":""},"敗",null,null,null,null,"","",{"$f":"IF(U31=\"\",\"\",INDEX(黒!$C$6:$E$39,MATCH($U31,黒!$E$6:$E$39,0),1))","v":""},{"$f":"IF(ISERROR(INDEX(黒!$E$6:$AT$39,MATCH($A31,黒!$AS$6:$AS$39,0),36)),\"\",INDEX(黒!$E$6:$AT$39,MATCH($A31,黒!$AS$6:$AS$39,0),36))","v":""},{"$f":"IF(ISERROR(INDEX(黒!$E$6:$AT$39,MATCH($A31,黒!$AS$6:$AS$39,0),37)),\"\",INDEX(黒!$E$6:$AT$39,MATCH($A31,黒!$AS$6:$AS$39,0),37))","v":""},0,0,"","",{"$f":"IF(ISERROR(INDEX(黒!$E$6:$AT$39,MATCH($A31,黒!$AS$6:$AS$39,0),38)),\"\",INDEX(黒!$E$6:$AT$39,MATCH($A31,黒!$AS$6:$AS$39,0),38))","v":""},{"$f":"IF(ISERROR(OFFSET(INDEX(黒!$E$6:$AT$39,MATCH($A31,黒!$AS$6:$AS$39,0),38),-1,0)),\"\",OFFSET(INDEX(黒!$E$6:$AT$39,MATCH($A31,黒!$AS$6:$AS$39,0),38),-1,0))","v":""},{"$f":"IF(ISERROR(INDEX(黒!$E$6:$AT$39,MATCH($A31,黒!$AS$6:$AS$39,0),39)),\"\",INDEX(黒!$E$6:$AT$39,MATCH($A31,黒!$AS$6:$AS$39,0),39))","v":""},{"$f":"IF($U31=\"\",0,IF($E31=\"w\",INT($V31*概要設定!$B$6/$V31),INT($E31*概要設定!$B$6/$V31)))","v":0},0,0,0,{"$f":"IF(ISERROR(INDEX(黒!$E$6:$AT$39,MATCH($A31,黒!$AS$6:$AS$39,0),42)),\"\",INDEX(黒!$E$6:$AT$39,MATCH($A31,黒!$AS$6:$AS$39,0),42))","v":""},{"$f":"IF(ISERROR(OFFSET(INDEX(黒!$E$6:$AT$39,MATCH($A31,黒!$AS$6:$AS$39,0),42),-1,0)),\"\",OFFSET(INDEX(黒!$E$6:$AT$39,MATCH($A31,黒!$AS$6:$AS$39,0),42),-1,0))","v":""},{"$f":"IF(ISERROR(INDEX(黒!$E$6:$AU$39,MATCH($A31,黒!$AS$6:$AS$39,0),43)),\"\",INDEX(黒!$E$6:$AU$39,MATCH($A31,黒!$AS$6:$AS$39,0),43))","v":""}]
[16,31,"赤　16",{"$f":"IF(ISERROR(INDEX(赤!$E$6:$AS$39,MATCH($A32,赤!$AS$6:$AS$39,0),1)),\"\",INDEX(赤!$E$6:$AS$39,MATCH($A32,赤!$AS$6:$AS$39,0),1))","v":""},null,null,"３１位",{"$f":"IF($D32=\"\",$D33,IF($D33=\"\",$D32,IF($E32=\"w\",$D32,IF($E33=\"w\",$D33,\"\"))))","v":""},{"$f":"IF(ISERROR(INDEX($U$2:$X$35,MATCH($H32,U$2:$U$35,0),3)),\"\",INDEX($U$2:$X$35,MATCH($H32,U$2:$U$35,0),3))","v":""},{"$f":"IF(ISERROR(INDEX($U$2:$X$35,MATCH($H32,U$2:$U$35,0),4)),\"\",INDEX($U$2:$X$35,MATCH($H32,U$2:$U$35,0),4))","v":""},null,{"$f":"IF(ISERROR(I32+1),\"\",IF($H33=\"\",I32,I32+1))","v":""},"勝",{"$f":"IF(ISERROR(J32),\"\",J32)","v":""},"敗",null,null,null,null,"","",{"$f":"IF(U32=\"\",\"\",INDEX(赤!$C$6:$E$39,MATCH($U32,赤!$E$6:$E$39,0),1))","v":""},{"$f":"IF(ISERROR(INDEX(赤!$E$6:$AT$39,MATCH($A32,赤!$AS$6:$AS$39,0),36)),\"\",INDEX(赤!$E$6:$AT$39,MATCH($A32,赤!$AS$6:$AS$39,0),36))","v":""},{"$f":"IF(ISERROR(INDEX(赤!$E$6:$AT$39,MATCH($A32,赤!$AS$6:$AS$39,0),37)),\"\",INDEX(赤!$E$6:$AT$39,MATCH($A32,赤!$AS$6:$AS$39,0),37))","v":""},0,0,"","",{"$f":"IF(ISERROR(INDEX(赤!$E$6:$AT$39,MATCH($A32,赤!$AS$6:$AS$39,0),38)),\"\",INDEX(赤!$E$6:$AT$39,MATCH($A32,赤!$AS$6:$AS$39,0),38))","v":""},{"$f":"IF(ISERROR(OFFSET(INDEX(赤!$E$6:$AT$39,MATCH($A32,赤!$AS$6:$AS$39,0),38),-1,0)),\"\",OFFSET(INDEX(赤!$E$6:$AT$39,MATCH($A32,赤!$AS$6:$AS$39,0),38),-1,0))","v":""},{"$f":"IF(ISERROR(INDEX(赤!$E$6:$AT$39,MATCH($A32,赤!$AS$6:$AS$39,0),39)),\"\",INDEX(赤!$E$6:$AT$39,MATCH($A32,赤!$AS$6:$AS$39,0),39))","v":""},{"$f":"IF($U32=\"\",0,IF($E32=\"w\",INT($V32*概要設定!$B$6/$V32),INT($E32*概要設定!$B$6/$V32)))","v":0},0,0,0,{"$f":"IF(ISERROR(INDEX(赤!$E$6:$AT$39,MATCH($A32,赤!$AS$6:$AS$39,0),42)),\"\",INDEX(赤!$E$6:$AT$39,MATCH($A32,赤!$AS$6:$AS$39,0),42))","v":""},{"$f":"IF(ISERROR(OFFSET(INDEX(赤!$E$6:$AT$39,MATCH($A32,赤!$AS$6:$AS$39,0),42),-1,0)),\"\",OFFSET(INDEX(赤!$E$6:$AT$39,MATCH($A32,赤!$AS$6:$AS$39,0),42),-1,0))","v":""},{"$f":"IF(ISERROR(INDEX(赤!$E$6:$AU$39,MATCH($A32,赤!$AS$6:$AS$39,0),43)),\"\",INDEX(赤!$E$6:$AU$39,MATCH($A32,赤!$AS$6:$AS$39,0),43))","v":""}]
[16,32,"黒　16",{"$f":"IF(ISERROR(INDEX(黒!$E$6:$AS$39,MATCH($A32,黒!$AS$6:$AS$39,0),1)),\"\",INDEX(黒!$E$6:$AS$39,MATCH($A32,黒!$AS$6:$AS$39,0),1))","v":""},null,null,"３２位",{"$f":"IF($D32=\"\",\"\",IF($E33<>\"w\",$D33,IF($E32<>\"w\",$D32,\"\")))","v":""},{"$f":"IF(ISERROR(INDEX($U$2:$X$35,MATCH($H33,U$2:$U$35,0),3)),\"\",INDEX($U$2:$X$35,MATCH($H33,U$2:$U$35,0),3))","v":""},{"$f":"IF(ISERROR(INDEX($U$2:$X$35,MATCH($H33,U$2:$U$35,0),4)),\"\",INDEX($U$2:$X$35,MATCH($H33,U$2:$U$35,0),4))","v":""},null,{"$f":"IF(ISERROR(I33),\"\",I33)","v":""},"勝",{"$f":"IF(ISERROR(J33+1),\"\",IF($H32=\"\",J33,J33+1))","v":""},"敗",null,null,null,null,"","",{"$f":"IF(U33=\"\",\"\",INDEX(黒!$C$6:$E$39,MATCH($U33,黒!$E$6:$E$39,0),1))","v":""},{"$f":"IF(ISERROR(INDEX(黒!$E$6:$AT$39,MATCH($A33,黒!$AS$6:$AS$39,0),36)),\"\",INDEX(黒!$E$6:$AT$39,MATCH($A33,黒!$AS$6:$AS$39,0),36))","v":""},{"$f":"IF(ISERROR(INDEX(黒!$E$6:$AT$39,MATCH($A33,黒!$AS$6:$AS$39,0),37)),\"\",INDEX(黒!$E$6:$AT$39,MATCH($A33,黒!$AS$6:$AS$39,0),37))","v":""},0,0,"","",{"$f":"IF(ISERROR(INDEX(黒!$E$6:$AT$39,MATCH($A33,黒!$AS$6:$AS$39,0),38)),\"\",INDEX(黒!$E$6:$AT$39,MATCH($A33,黒!$AS$6:$AS$39,0),38))","v":""},{"$f":"IF(ISERROR(OFFSET(INDEX(黒!$E$6:$AT$39,MATCH($A33,黒!$AS$6:$AS$39,0),38),-1,0)),\"\",OFFSET(INDEX(黒!$E$6:$AT$39,MATCH($A33,黒!$AS$6:$AS$39,0),38),-1,0))","v":""},{"$f":"IF(ISERROR(INDEX(黒!$E$6:$AT$39,MATCH($A33,黒!$AS$6:$AS$39,0),39)),\"\",INDEX(黒!$E$6:$AT$39,MATCH($A33,黒!$AS$6:$AS$39,0),39))","v":""},{"$f":"IF($U33=\"\",0,IF($E33=\"w\",INT($V33*概要設定!$B$6/$V33),INT($E33*概要設定!$B$6/$V33)))","v":0},0,0,0,{"$f":"IF(ISERROR(INDEX(黒!$E$6:$AT$39,MATCH($A33,黒!$AS$6:$AS$39,0),42)),\"\",INDEX(黒!$E$6:$AT$39,MATCH($A33,黒!$AS$6:$AS$39,0),42))","v":""},{"$f":"IF(ISERROR(OFFSET(INDEX(黒!$E$6:$AT$39,MATCH($A33,黒!$AS$6:$AS$39,0),42),-1,0)),\"\",OFFSET(INDEX(黒!$E$6:$AT$39,MATCH($A33,黒!$AS$6:$AS$39,0),42),-1,0))","v":""},{"$f":"IF(ISERROR(INDEX(黒!$E$6:$AU$39,MATCH($A33,黒!$AS$6:$AS$39,0),43)),\"\",INDEX(黒!$E$6:$AU$39,MATCH($A33,黒!$AS$6:$AS$39,0),43))","v":""}]
[17,33,"赤　17",{"$f":"IF(ISERROR(INDEX(赤!$E$6:$AS$39,MATCH($A34,赤!$AS$6:$AS$39,0),1)),\"\",INDEX(赤!$E$6:$AS$39,MATCH($A34,赤!$AS$6:$AS$39,0),1))","v":""},null,null,"３３位",{"$f":"IF($D34=\"\",$D35,IF($D35=\"\",$D34,IF($E34=\"w\",$D34,IF($E35=\"w\",$D35,\"\"))))","v":""},{"$f":"IF(ISERROR(INDEX($U$2:$X$35,MATCH($H34,U$2:$U$35,0),3)),\"\",INDEX($U$2:$X$35,MATCH($H34,U$2:$U$35,0),3))","v":""},{"$f":"IF(ISERROR(INDEX($U$2:$X$35,MATCH($H34,U$2:$U$35,0),4)),\"\",INDEX($U$2:$X$35,MATCH($H34,U$2:$U$35,0),4))","v":""},null,{"$f":"IF(ISERROR(I34+1),\"\",IF($H35=\"\",I34,I34+1))","v":""},"勝",{"$f":"IF(ISERROR(J34),\"\",J34)","v":""},"敗",null,null,null,null,"","",{"$f":"IF(U34=\"\",\"\",INDEX(赤!$C$6:$E$39,MATCH($U34,赤!$E$6:$E$39,0),1))","v":""},{"$f":"IF(ISERROR(INDEX(赤!$E$6:$AT$39,MATCH($A34,赤!$AS$6:$AS$39,0),36)),\"\",INDEX(赤!$E$6:$AT$39,MATCH($A34,赤!$AS$6:$AS$39,0),36))","v":""},{"$f":"IF(ISERROR(INDEX(赤!$E$6:$AT$39,MATCH($A34,赤!$AS$6:$AS$39,0),37)),\"\",INDEX(赤!$E$6:$AT$39,MATCH($A34,赤!$AS$6:$AS$39,0),37))","v":""},0,0,"","",{"$f":"IF(ISERROR(INDEX(赤!$E$6:$AT$39,MATCH($A34,赤!$AS$6:$AS$39,0),38)),\"\",INDEX(赤!$E$6:$AT$39,MATCH($A34,赤!$AS$6:$AS$39,0),38))","v":""},{"$f":"IF(ISERROR(OFFSET(INDEX(赤!$E$6:$AT$39,MATCH($A34,赤!$AS$6:$AS$39,0),38),-1,0)),\"\",OFFSET(INDEX(赤!$E$6:$AT$39,MATCH($A34,赤!$AS$6:$AS$39,0),38),-1,0))","v":""},{"$f":"IF(ISERROR(INDEX(赤!$E$6:$AT$39,MATCH($A34,赤!$AS$6:$AS$39,0),39)),\"\",INDEX(赤!$E$6:$AT$39,MATCH($A34,赤!$AS$6:$AS$39,0),39))","v":""},{"$f":"IF($U34=\"\",0,IF($E34=\"w\",INT($V34*概要設定!$B$6/$V34),INT($E34*概要設定!$B$6/$V34)))","v":0},0,0,0,{"$f":"IF(ISERROR(INDEX(赤!$E$6:$AT$39,MATCH($A34,赤!$AS$6:$AS$39,0),42)),\"\",INDEX(赤!$E$6:$AT$39,MATCH($A34,赤!$AS$6:$AS$39,0),42))","v":""},{"$f":"IF(ISERROR(OFFSET(INDEX(赤!$E$6:$AT$39,MATCH($A34,赤!$AS$6:$AS$39,0),42),-1,0)),\"\",OFFSET(INDEX(赤!$E$6:$AT$39,MATCH($A34,赤!$AS$6:$AS$39,0),42),-1,0))","v":""},{"$f":"IF(ISERROR(INDEX(赤!$E$6:$AU$39,MATCH($A34,赤!$AS$6:$AS$39,0),43)),\"\",INDEX(赤!$E$6:$AU$39,MATCH($A34,赤!$AS$6:$AS$39,0),43))","v":""}]
[17,34,"黒　17",{"$f":"IF(ISERROR(INDEX(黒!$E$6:$AS$39,MATCH($A34,黒!$AS$6:$AS$39,0),1)),\"\",INDEX(黒!$E$6:$AS$39,MATCH($A34,黒!$AS$6:$AS$39,0),1))","v":""},null,null,"３４位",{"$f":"IF($D34=\"\",\"\",IF($E35<>\"w\",$D35,IF($E34<>\"w\",$D34,\"\")))","v":""},{"$f":"IF(ISERROR(INDEX($U$2:$X$35,MATCH($H35,U$2:$U$35,0),3)),\"\",INDEX($U$2:$X$35,MATCH($H35,U$2:$U$35,0),3))","v":""},{"$f":"IF(ISERROR(INDEX($U$2:$X$35,MATCH($H35,U$2:$U$35,0),4)),\"\",INDEX($U$2:$X$35,MATCH($H35,U$2:$U$35,0),4))","v":""},null,{"$f":"IF(ISERROR(I35),\"\",I35)","v":""},"勝",{"$f":"IF(ISERROR(J35+1),\"\",IF($H34=\"\",J35,J35+1))","v":""},"敗",null,null,null,null,"","",{"$f":"IF(U35=\"\",\"\",INDEX(黒!$C$6:$E$39,MATCH($U35,黒!$E$6:$E$39,0),1))","v":""},{"$f":"IF(ISERROR(INDEX(黒!$E$6:$AT$39,MATCH($A35,黒!$AS$6:$AS$39,0),36)),\"\",INDEX(黒!$E$6:$AT$39,MATCH($A35,黒!$AS$6:$AS$39,0),36))","v":""},{"$f":"IF(ISERROR(INDEX(黒!$E$6:$AT$39,MATCH($A35,黒!$AS$6:$AS$39,0),37)),\"\",INDEX(黒!$E$6:$AT$39,MATCH($A35,黒!$AS$6:$AS$39,0),37))","v":""},0,0,"","",{"$f":"IF(ISERROR(INDEX(黒!$E$6:$AT$39,MATCH($A35,黒!$AS$6:$AS$39,0),38)),\"\",INDEX(黒!$E$6:$AT$39,MATCH($A35,黒!$AS$6:$AS$39,0),38))","v":""},{"$f":"IF(ISERROR(OFFSET(INDEX(黒!$E$6:$AT$39,MATCH($A35,黒!$AS$6:$AS$39,0),38),-1,0)),\"\",OFFSET(INDEX(黒!$E$6:$AT$39,MATCH($A35,黒!$AS$6:$AS$39,0),38),-1,0))","v":""},{"$f":"IF(ISERROR(INDEX(黒!$E$6:$AT$39,MATCH($A35,黒!$AS$6:$AS$39,0),39)),\"\",INDEX(黒!$E$6:$AT$39,MATCH($A35,黒!$AS$6:$AS$39,0),39))","v":""},{"$f":"IF($U35=\"\",0,IF($E35=\"w\",INT($V35*概要設定!$B$6/$V35),INT($E35*概要設定!$B$6/$V35)))","v":0},0,0,0,{"$f":"IF(ISERROR(INDEX(黒!$E$6:$AT$39,MATCH($A35,黒!$AS$6:$AS$39,0),42)),\"\",INDEX(黒!$E$6:$AT$39,MATCH($A35,黒!$AS$6:$AS$39,0),42))","v":""},{"$f":"IF(ISERROR(OFFSET(INDEX(黒!$E$6:$AT$39,MATCH($A35,黒!$AS$6:$AS$39,0),42),-1,0)),\"\",OFFSET(INDEX(黒!$E$6:$AT$39,MATCH($A35,黒!$AS$6:$AS$39,0),42),-1,0))","v":""},{"$f":"IF(ISERROR(INDEX(黒!$E$6:$AU$39,MATCH($A35,黒!$AS$6:$AS$39,0),43)),\"\",INDEX(黒!$E$6:$AU$39,MATCH($A35,黒!$AS$6:$AS$39,0),43))","v":""}]

{"sheet":"結果","index":10,"n_rows":73,"n_cols":8,"rows_kept":73,"cut":false,"hidden":false,"merged":[[0,1,0,2],[0,5,0,6],[1,5,1,6]]}
["例会",{"$f":"概要設定!B4","v":"和奈対抗戦"},null,null,"会 　場：",{"$f":"概要設定!B8","v":"トップガン"}]
[{"$f":"概要設定!B6&\"点\"","v":"180点"},{"$f":"概要設定!D6","v":"コールショット"},null,null,"開催日：",{"$f":"概要設定!B2 & \"/\" & 概要設定!D2 & \"/\"&概要設定!F2","v":"2016/9/11"}]
[]
[null,"よみがな",null,null,"総合H・C",null,"ABC"]
["総合順位","名      前","総合W","総合L","総合TP","LP","HR","HR+ABC"]
[null,{"$f":"IF(ISERROR(INDEX(概要設定!$J$2:$K$51,MATCH($B7,概要設定!$J$2:$J$51,0),2)),\"\",INDEX(概要設定!$J$2:$K$51,MATCH($B7,概要設定!$J$2:$J$51,0),2))","v":""},null,null,{"$f":"IF(ISERROR(INDEX(順位戦!$T$2:$AL$35,MATCH($A7,順位戦!$T$2:$T$35,0),16)),\"\",INDEX(順位戦!$T$2:$AL$35,MATCH($A7,順位戦!$T$2:$T$35,0),16))","v":""},null,{"$f":"IF(ISERROR(INDEX(順位戦!$T$2:$AL$35,MATCH($A7,順位戦!$T$2:$T$35,0),18)),\"\",INDEX(順位戦!$T$2:$AL$35,MATCH($A7,順位戦!$T$2:$T$35,0),18))","v":""}]
[1,{"$f":"IF(ISERROR(INDEX(順位戦!$T$2:$AL$35,MATCH($A7,順位戦!$T$2:$T$35,0),2)),\"\",INDEX(順位戦!$T$2:$AL$35,MATCH($A7,順位戦!$T$2:$T$35,0),2))","v":""},{"$f":"IF(ISERROR(INDEX(順位戦!$T$2:$AL$35,MATCH($A7,順位戦!$T$2:$T$35,0),8)),\"\",INDEX(順位戦!$T$2:$AL$35,MATCH($A7,順位戦!$T$2:$T$35,0),8))","v":""},{"$f":"IF(ISERROR(INDEX(順位戦!$T$2:$AL$35,MATCH($A7,順位戦!$T$2:$T$35,0),9)),\"\",INDEX(順位戦!$T$2:$AL$35,MATCH($A7,順位戦!$T$2:$T$35,0),9))","v":""},{"$f":"IF(ISERROR(INDEX(順位戦!$T$2:$AL$35,MATCH($A7,順位戦!$T$2:$T$35,0),15)),\"\",INDEX(順位戦!$T$2:$AL$35,MATCH($A7,順位戦!$T$2:$T$35,0),15))","v":""},{"$f":"IF(ISERROR(INDEX(順位戦!$T$2:$AL$35,MATCH($A7,順位戦!$T$2:$T$35,0),12)),\"\",INDEX(順位戦!$T$2:$AL$35,MATCH($A7,順位戦!$T$2:$T$35,0),12))","v":""},{"$f":"IF(ISERROR(INDEX(順位戦!$T$2:$AL$35,MATCH($A7,順位戦!$T$2:$T$35,0),17)),\"\",INDEX(順位戦!$T$2:$AL$35,MATCH($A7,順位戦!$T$2:$T$35,0),17))","v":""},{"$f":"IF(ISERROR(INDEX(順位戦!$T$2:$AL$35,MATCH($A7,順位戦!$T$2:$T$35,0),16)),\"\",INDEX(順位戦!$T$2:$AL$35,MATCH($A7,順位戦!$T$2:$T$35,0),16))","v":""}]
[null,{"$f":"IF(ISERROR(INDEX(概要設定!$J$2:$K$51,MATCH($B9,概要設定!$J$2:$J$51,0),2)),\"\",INDEX(概要設定!$J$2:$K$51,MATCH($B9,概要設定!$J$2:$J$51,0),2))","v":"しらと　きょうこ"},null,null,{"$f":"IF(ISERROR(INDEX(順位戦!$T$2:$AL$35,MATCH($A9,順位戦!$T$2:$T$35,0),16)),\"\",INDEX(順位戦!$T$2:$AL$35,MATCH($A9,順位戦!$T$2:$T$35,0),16))","v":840},null,{"$f":"IF(ISERROR(INDEX(順位戦!$T$2:$AL$35,MATCH($A9,順位戦!$T$2:$T$35,0),18)),\"\",INDEX(順位戦!$T$2:$AL$35,MATCH($A9,順位戦!$T$2:$T$35,0),18))","v":""}]
[2,{"$f":"IF(ISERROR(INDEX(順位戦!$T$2:$AL$35,MATCH($A9,順位戦!$T$2:$T$35,0),2)),\"\",INDEX(順位戦!$T$2:$AL$35,MATCH($A9,順位戦!$T$2:$T$35,0),2))","v":"白戸　恭子"},{"$f":"IF(ISERROR(INDEX(順位戦!$T$2:$AL$35,MATCH($A9,順位戦!$T$2:$T$35,0),8)),\"\",INDEX(順位戦!$T$2:$AL$35,MATCH($A9,順位戦!$T$2:$T$35,0),8))","v":6},{"$f":"IF(ISERROR(INDEX(順位戦!$T$2:$AL$35,MATCH($A9,順位戦!$T$2:$T$35,0),9)),\"\",INDEX(順位戦!$T$2:$AL$35,MATCH($A9,順位戦!$T$2:$T$35,0),9))","v":0},{"$f":"IF(ISERROR(INDEX(順位戦!$T$2:$AL$35,MATCH($A9,順位戦!$T$2:$T$35,0),15)),\"\",INDEX(順位戦!$T$2:$AL$35,MATCH($A9,順位戦!$T$2:$T$35,0),15))","v":1080},{"$f":"IF(ISERROR(INDEX(順位戦!$T$2:$AL$35,MATCH($A9,順位戦!$T$2:$T$35,0),12)),\"\",INDEX(順位戦!$T$2:$AL$35,MATCH($A9,順位戦!$T$2:$T$35,0),12))","v":324},{"$f":"IF(ISERROR(INDEX(順位戦!$T$2:$AL$35,MATCH($A9,順位戦!$T$2:$T$35,0),17)),\"\",INDEX(順位戦!$T$2:$AL$35,MATCH($A9,順位戦!$T$2:$T$35,0),17))","v":103},{"$f":"IF(ISERROR(INDEX(順位戦!$T$2:$AL$35,MATCH($A9,順位戦!$T$2:$T$35,0),16)),\"\",INDEX(順位戦!$T$2:$AL$35,MATCH($A9,順位戦!$T$2:$T$35,0),16))","v":840}]
[null,{"$f":"IF(ISERROR(INDEX(概要設定!$J$2:$K$51,MATCH($B11,概要設定!$J$2:$J$51,0),2)),\"\",INDEX(概要設定!$J$2:$K$51,MATCH($B11,概要設定!$J$2:$J$51,0),2))","v":""},null,null,{"$f":"IF(ISERROR(INDEX(順位戦!$T$2:$AL$35,MATCH($A11,順位戦!$T$2:$T$35,0),16)),\"\",INDEX(順位戦!$T$2:$AL$35,MATCH($A11,順位戦!$T$2:$T$35,0),16))","v":""},null,{"$f":"IF(ISERROR(INDEX(順位戦!$T$2:$AL$35,MATCH($A11,順位戦!$T$2:$T$35,0),18)),\"\",INDEX(順位戦!$T$2:$AL$35,MATCH($A11,順位戦!$T$2:$T$35,0),18))","v":""}]
[3,{"$f":"IF(ISERROR(INDEX(順位戦!$T$2:$AL$35,MATCH($A11,順位戦!$T$2:$T$35,0),2)),\"\",INDEX(順位戦!$T$2:$AL$35,MATCH($A11,順位戦!$T$2:$T$35,0),2))","v":""},{"$f":"IF(ISERROR(INDEX(順位戦!$T$2:$AL$35,MATCH($A11,順位戦!$T$2:$T$35,0),8)),\"\",INDEX(順位戦!$T$2:$AL$35,MATCH($A11,順位戦!$T$2:$T$35,0),8))","v":""},{"$f":"IF(ISERROR(INDEX(順位戦!$T$2:$AL$35,MATCH($A11,順位戦!$T$2:$T$35,0),9)),\"\",INDEX(順位戦!$T$2:$AL$35,MATCH($A11,順位戦!$T$2:$T$35,0),9))","v":""},{"$f":"IF(ISERROR(INDEX(順位戦!$T$2:$AL$35,MATCH($A11,順位戦!$T$2:$T$35,0),15)),\"\",INDEX(順位戦!$T$2:$AL$35,MATCH($A11,順位戦!$T$2:$T$35,0),15))","v":""},{"$f":"IF(ISERROR(INDEX(順位戦!$T$2:$AL$35,MATCH($A11,順位戦!$T$2:$T$35,0),12)),\"\",INDEX(順位戦!$T$2:$AL$35,MATCH($A11,順位戦!$T$2:$T$35,0),12))","v":""},{"$f":"IF(ISERROR(INDEX(順位戦!$T$2:$AL$35,MATCH($A11,順位戦!$T$2:$T$35,0),17)),\"\",INDEX(順位戦!$T$2:$AL$35,MATCH($A11,順位戦!$T$2:$T$35,0),17))","v":""},{"$f":"IF(ISERROR(INDEX(順位戦!$T$2:$AL$35,MATCH($A11,順位戦!$T$2:$T$35,0),16)),\"\",INDEX(順位戦!$T$2:$AL$35,MATCH($A11,順位戦!$T$2:$T$35,0),16))","v":""}]
[null,{"$f":"IF(ISERROR(INDEX(概要設定!$J$2:$K$51,MATCH($B13,概要設定!$J$2:$J$51,0),2)),\"\",INDEX(概要設定!$J$2:$K$51,MATCH($B13,概要設定!$J$2:$J$51,0),2))","v":"やまだ　こうじ"},null,null,{"$f":"IF(ISERROR(INDEX(順位戦!$T$2:$AL$35,MATCH($A13,順位戦!$T$2:$T$35,0),16)),\"\",INDEX(順位戦!$T$2:$AL$35,MATCH($A13,順位戦!$T$2:$T$35,0),16))","v":1064},null,{"$f":"IF(ISERROR(INDEX(順位戦!$T$2:$AL$35,MATCH($A13,順位戦!$T$2:$T$35,0),18)),\"\",INDEX(順位戦!$T$2:$AL$35,MATCH($A13,順位戦!$T$2:$T$35,0),18))","v":""}]
[4,{"$f":"IF(ISERROR(INDEX(順位戦!$T$2:$AL$35,MATCH($A13,順位戦!$T$2:$T$35,0),2)),\"\",INDEX(順位戦!$T$2:$AL$35,MATCH($A13,順位戦!$T$2:$T$35,0),2))","v":"山田　晃司"},{"$f":"IF(ISERROR(INDEX(順位戦!$T$2:$AL$35,MATCH($A13,順位戦!$T$2:$T$35,0),8)),\"\",INDEX(順位戦!$T$2:$AL$35,MATCH($A13,順位戦!$T$2:$T$35,0),8))","v":5},{"$f":"IF(ISERROR(INDEX(順位戦!$T$2:$AL$35,MATCH($A13,順位戦!$T$2:$T$35,0),9)),\"\",INDEX(順位戦!$T$2:$AL$35,MATCH($A13,順位戦!$T$2:$T$35,0),9))","v":1},{"$f":"IF(ISERROR(INDEX(順位戦!$T$2:$AL$35,MATCH($A13,順位戦!$T$2:$T$35,0),15)),\"\",INDEX(順位戦!$T$2:$AL$35,MATCH($A13,順位戦!$T$2:$T$35,0),15))","v":1064},{"$f":"IF(ISERROR(INDEX(順位戦!$T$2:$AL$35,MATCH($A13,順位戦!$T$2:$T$35,0),12)),\"\",INDEX(順位戦!$T$2:$AL$35,MATCH($A13,順位戦!$T$2:$T$35,0),12))","v":671},{"$f":"IF(ISERROR(INDEX(順位戦!$T$2:$AL$35,MATCH($A13,順位戦!$T$2:$T$35,0),17)),\"\",INDEX(順位戦!$T$2:$AL$35,MATCH($A13,順位戦!$T$2:$T$35,0),17))","v":151},{"$f":"IF(ISERROR(INDEX(順位戦!$T$2:$AL$35,MATCH($A13,順位戦!$T$2:$T$35,0),16)),\"\",INDEX(順位戦!$T$2:$AL$35,MATCH($A13,順位戦!$T$2:$T$35,0),16))","v":1064}]
[null,{"$f":"IF(ISERROR(INDEX(概要設定!$J$2:$K$51,MATCH($B15,概要設定!$J$2:$J$51,0),2)),\"\",INDEX(概要設定!$J$2:$K$51,MATCH($B15,概要設定!$J$2:$J$51,0),2))","v":""},null,null,{"$f":"IF(ISERROR(INDEX(順位戦!$T$2:$AL$35,MATCH($A15,順位戦!$T$2:$T$35,0),16)),\"\",INDEX(順位戦!$T$2:$AL$35,MATCH($A15,順位戦!$T$2:$T$35,0),16))","v":""},null,{"$f":"IF(ISERROR(INDEX(順位戦!$T$2:$AL$35,MATCH($A15,順位戦!$T$2:$T$35,0),18)),\"\",INDEX(順位戦!$T$2:$AL$35,MATCH($A15,順位戦!$T$2:$T$35,0),18))","v":""}]
[5,{"$f":"IF(ISERROR(INDEX(順位戦!$T$2:$AL$35,MATCH($A15,順位戦!$T$2:$T$35,0),2)),\"\",INDEX(順位戦!$T$2:$AL$35,MATCH($A15,順位戦!$T$2:$T$35,0),2))","v":""},{"$f":"IF(ISERROR(INDEX(順位戦!$T$2:$AL$35,MATCH($A15,順位戦!$T$2:$T$35,0),8)),\"\",INDEX(順位戦!$T$2:$AL$35,MATCH($A15,順位戦!$T$2:$T$35,0),8))","v":""},{"$f":"IF(ISERROR(INDEX(順位戦!$T$2:$AL$35,MATCH($A15,順位戦!$T$2:$T$35,0),9)),\"\",INDEX(順位戦!$T$2:$AL$35,MATCH($A15,順位戦!$T$2:$T$35,0),9))","v":""},{"$f":"IF(ISERROR(INDEX(順位戦!$T$2:$AL$35,MATCH($A15,順位戦!$T$2:$T$35,0),15)),\"\",INDEX(順位戦!$T$2:$AL$35,MATCH($A15,順位戦!$T$2:$T$35,0),15))","v":""},{"$f":"IF(ISERROR(INDEX(順位戦!$T$2:$AL$35,MATCH($A15,順位戦!$T$2:$T$35,0),12)),\"\",INDEX(順位戦!$T$2:$AL$35,MATCH($A15,順位戦!$T$2:$T$35,0),12))","v":""},{"$f":"IF(ISERROR(INDEX(順位戦!$T$2:$AL$35,MATCH($A15,順位戦!$T$2:$T$35,0),17)),\"\",INDEX(順位戦!$T$2:$AL$35,MATCH($A15,順位戦!$T$2:$T$35,0),17))","v":""},{"$f":"IF(ISERROR(INDEX(順位戦!$T$2:$AL$35,MATCH($A15,順位戦!$T$2:$T$35,0),16)),\"\",INDEX(順位戦!$T$2:$AL$35,MATCH($A15,順位戦!$T$2:$T$35,0),16))","v":""}]
[null,{"$f":"IF(ISERROR(INDEX(概要設定!$J$2:$K$51,MATCH($B17,概要設定!$J$2:$J$51,0),2)),\"\",INDEX(概要設定!$J$2:$K$51,MATCH($B17,概要設定!$J$2:$J$51,0),2))","v":"しらと　れいにん"},null,null,{"$f":"IF(ISERROR(INDEX(順位戦!$T$2:$AL$35,MATCH($A17,順位戦!$T$2:$T$35,0),16)),\"\",INDEX(順位戦!$T$2:$AL$35,MATCH($A17,順位戦!$T$2:$T$35,0),16))","v":860},null,{"$f":"IF(ISERROR(INDEX(順位戦!$T$2:$AL$35,MATCH($A17,順位戦!$T$2:$T$35,0),18)),\"\",INDEX(順位戦!$T$2:$AL$35,MATCH($A17,順位戦!$T$2:$T$35,0),18))","v":""}]
[6,{"$f":"IF(ISERROR(INDEX(順位戦!$T$2:$AL$35,MATCH($A17,順位戦!$T$2:$T$35,0),2)),\"\",INDEX(順位戦!$T$2:$AL$35,MATCH($A17,順位戦!$T$2:$T$35,0),2))","v":"白戸　玲人"},{"$f":"IF(ISERROR(INDEX(順位戦!$T$2:$AL$35,MATCH($A17,順位戦!$T$2:$T$35,0),8)),\"\",INDEX(順位戦!$T$2:$AL$35,MATCH($A17,順位戦!$T$2:$T$35,0),8))","v":4},{"$f":"IF(ISERROR(INDEX(順位戦!$T$2:$AL$35,MATCH($A17,順位戦!$T$2:$T$35,0),9)),\"\",INDEX(順位戦!$T$2:$AL$35,MATCH($A17,順位戦!$T$2:$T$35,0),9))","v":2},{"$f":"IF(ISERROR(INDEX(順位戦!$T$2:$AL$35,MATCH($A17,順位戦!$T$2:$T$35,0),15)),\"\",INDEX(順位戦!$T$2:$AL$35,MATCH($A17,順位戦!$T$2:$T$35,0),15))","v":860},{"$f":"IF(ISERROR(INDEX(順位戦!$T$2:$AL$35,MATCH($A17,順位戦!$T$2:$T$35,0),12)),\"\",INDEX(順位戦!$T$2:$AL$35,MATCH($A17,順位戦!$T$2:$T$35,0),12))","v":376},{"$f":"IF(ISERROR(INDEX(順位戦!$T$2:$AL$35,MATCH($A17,順位戦!$T$2:$T$35,0),17)),\"\",INDEX(順位戦!$T$2:$AL$35,MATCH($A17,順位戦!$T$2:$T$35,0),17))","v":114},{"$f":"IF(ISERROR(INDEX(順位戦!$T$2:$AL$35,MATCH($A17,順位戦!$T$2:$T$35,0),16)),\"\",INDEX(順位戦!$T$2:$AL$35,MATCH($A17,順位戦!$T$2:$T$35,0),16))","v":860}]
[null,{"$f":"IF(ISERROR(INDEX(概要設定!$J$2:$K$51,MATCH($B19,概要設定!$J$2:$J$51,0),2)),\"\",INDEX(概要設定!$J$2:$K$51,MATCH($B19,概要設定!$J$2:$J$51,0),2))","v":""},null,null,{"$f":"IF(ISERROR(INDEX(順位戦!$T$2:$AL$35,MATCH($A19,順位戦!$T$2:$T$35,0),16)),\"\",INDEX(順位戦!$T$2:$AL$35,MATCH($A19,順位戦!$T$2:$T$35,0),16))","v":""},null,{"$f":"IF(ISERROR(INDEX(順位戦!$T$2:$AL$35,MATCH($A19,順位戦!$T$2:$T$35,0),18)),\"\",INDEX(順位戦!$T$2:$AL$35,MATCH($A19,順位戦!$T$2:$T$35,0),18))","v":""}]
[7,{"$f":"IF(ISERROR(INDEX(順位戦!$T$2:$AL$35,MATCH($A19,順位戦!$T$2:$T$35,0),2)),\"\",INDEX(順位戦!$T$2:$AL$35,MATCH($A19,順位戦!$T$2:$T$35,0),2))","v":""},{"$f":"IF(ISERROR(INDEX(順位戦!$T$2:$AL$35,MATCH($A19,順位戦!$T$2:$T$35,0),8)),\"\",INDEX(順位戦!$T$2:$AL$35,MATCH($A19,順位戦!$T$2:$T$35,0),8))","v":""},{"$f":"IF(ISERROR(INDEX(順位戦!$T$2:$AL$35,MATCH($A19,順位戦!$T$2:$T$35,0),9)),\"\",INDEX(順位戦!$T$2:$AL$35,MATCH($A19,順位戦!$T$2:$T$35,0),9))","v":""},{"$f":"IF(ISERROR(INDEX(順位戦!$T$2:$AL$35,MATCH($A19,順位戦!$T$2:$T$35,0),15)),\"\",INDEX(順位戦!$T$2:$AL$35,MATCH($A19,順位戦!$T$2:$T$35,0),15))","v":""},{"$f":"IF(ISERROR(INDEX(順位戦!$T$2:$AL$35,MATCH($A19,順位戦!$T$2:$T$35,0),12)),\"\",INDEX(順位戦!$T$2:$AL$35,MATCH($A19,順位戦!$T$2:$T$35,0),12))","v":""},{"$f":"IF(ISERROR(INDEX(順位戦!$T$2:$AL$35,MATCH($A19,順位戦!$T$2:$T$35,0),17)),\"\",INDEX(順位戦!$T$2:$AL$35,MATCH($A19,順位戦!$T$2:$T$35,0),17))","v":""},{"$f":"IF(ISERROR(INDEX(順位戦!$T$2:$AL$35,MATCH($A19,順位戦!$T$2:$T$35,0),16)),\"\",INDEX(順位戦!$T$2:$AL$35,MATCH($A19,順位戦!$T$2:$T$35,0),16))","v":""}]
[null,{"$f":"IF(ISERROR(INDEX(概要設定!$J$2:$K$51,MATCH($B21,概要設定!$J$2:$J$51,0),2)),\"\",INDEX(概要設定!$J$2:$K$51,MATCH($B21,概要設定!$J$2:$J$51,0),2))","v":"さいとう　ゆうじ"},null,null,{"$f":"IF(ISERROR(INDEX(順位戦!$T$2:$AL$35,MATCH($A21,順位戦!$T$2:$T$35,0),16)),\"\",INDEX(順位戦!$T$2:$AL$35,MATCH($A21,順位戦!$T$2:$T$35,0),16))","v":817},null,{"$f":"IF(ISERROR(INDEX(順位戦!$T$2:$AL$35,MATCH($A21,順位戦!$T$2:$T$35,0),18)),\"\",INDEX(順位戦!$T$2:$AL$35,MATCH($A21,順位戦!$T$2:$T$35,0),18))","v":""}]
[8,{"$f":"IF(ISERROR(INDEX(順位戦!$T$2:$AL$35,MATCH($A21,順位戦!$T$2:$T$35,0),2)),\"\",INDEX(順位戦!$T$2:$AL$35,MATCH($A21,順位戦!$T$2:$T$35,0),2))","v":"斉藤　裕児"},{"$f":"IF(ISERROR(INDEX(順位戦!$T$2:$AL$35,MATCH($A21,順位戦!$T$2:$T$35,0),8)),\"\",INDEX(順位戦!$T$2:$AL$35,MATCH($A21,順位戦!$T$2:$T$35,0),8))","v":3},{"$f":"IF(ISERROR(INDEX(順位戦!$T$2:$AL$35,MATCH($A21,順位戦!$T$2:$T$35,0),9)),\"\",INDEX(順位戦!$T$2:$AL$35,MATCH($A21,順位戦!$T$2:$T$35,0),9))","v":3},{"$f":"IF(ISERROR(INDEX(順位戦!$T$2:$AL$35,MATCH($A21,順位戦!$T$2:$T$35,0),15)),\"\",INDEX(順位戦!$T$2:$AL$35,MATCH($A21,順位戦!$T$2:$T$35,0),15))","v":817},{"$f":"IF(ISERROR(INDEX(順位戦!$T$2:$AL$35,MATCH($A21,順位戦!$T$2:$T$35,0),12)),\"\",INDEX(順位戦!$T$2:$AL$35,MATCH($A21,順位戦!$T$2:$T$35,0),12))","v":166},{"$f":"IF(ISERROR(INDEX(順位戦!$T$2:$AL$35,MATCH($A21,順位戦!$T$2:$T$35,0),17)),\"\",INDEX(順位戦!$T$2:$AL$35,MATCH($A21,順位戦!$T$2:$T$35,0),17))","v":109},{"$f":"IF(ISERROR(INDEX(順位戦!$T$2:$AL$35,MATCH($A21,順位戦!$T$2:$T$35,0),16)),\"\",INDEX(順位戦!$T$2:$AL$35,MATCH($A21,順位戦!$T$2:$T$35,0),16))","v":817}]
[null,{"$f":"IF(ISERROR(INDEX(概要設定!$J$2:$K$51,MATCH($B23,概要設定!$J$2:$J$51,0),2)),\"\",INDEX(概要設定!$J$2:$K$51,MATCH($B23,概要設定!$J$2:$J$51,0),2))","v":""},null,null,{"$f":"IF(ISERROR(INDEX(順位戦!$T$2:$AL$35,MATCH($A23,順位戦!$T$2:$T$35,0),16)),\"\",INDEX(順位戦!$T$2:$AL$35,MATCH($A23,順位戦!$T$2:$T$35,0),16))","v":""},null,{"$f":"IF(ISERROR(INDEX(順位戦!$T$2:$AL$35,MATCH($A23,順位戦!$T$2:$T$35,0),18)),\"\",INDEX(順位戦!$T$2:$AL$35,MATCH($A23,順位戦!$T$2:$T$35,0),18))","v":""}]
[9,{"$f":"IF(ISERROR(INDEX(順位戦!$T$2:$AL$35,MATCH($A23,順位戦!$T$2:$T$35,0),2)),\"\",INDEX(順位戦!$T$2:$AL$35,MATCH($A23,順位戦!$T$2:$T$35,0),2))","v":""},{"$f":"IF(ISERROR(INDEX(順位戦!$T$2:$AL$35,MATCH($A23,順位戦!$T$2:$T$35,0),8)),\"\",INDEX(順位戦!$T$2:$AL$35,MATCH($A23,順位戦!$T$2:$T$35,0),8))","v":""},{"$f":"IF(ISERROR(INDEX(順位戦!$T$2:$AL$35,MATCH($A23,順位戦!$T$2:$T$35,0),9)),\"\",INDEX(順位戦!$T$2:$AL$35,MATCH($A23,順位戦!$T$2:$T$35,0),9))","v":""},{"$f":"IF(ISERROR(INDEX(順位戦!$T$2:$AL$35,MATCH($A23,順位戦!$T$2:$T$35,0),15)),\"\",INDEX(順位戦!$T$2:$AL$35,MATCH($A23,順位戦!$T$2:$T$35,0),15))","v":""},{"$f":"IF(ISERROR(INDEX(順位戦!$T$2:$AL$35,MATCH($A23,順位戦!$T$2:$T$35,0),12)),\"\",INDEX(順位戦!$T$2:$AL$35,MATCH($A23,順位戦!$T$2:$T$35,0),12))","v":""},{"$f":"IF(ISERROR(INDEX(順位戦!$T$2:$AL$35,MATCH($A23,順位戦!$T$2:$T$35,0),17)),\"\",INDEX(順位戦!$T$2:$AL$35,MATCH($A23,順位戦!$T$2:$T$35,0),17))","v":""},{"$f":"IF(ISERROR(INDEX(順位戦!$T$2:$AL$35,MATCH($A23,順位戦!$T$2:$T$35,0),16)),\"\",INDEX(順位戦!$T$2:$AL$35,MATCH($A23,順位戦!$T$2:$T$35,0),16))","v":""}]
[null,{"$f":"IF(ISERROR(INDEX(概要設定!$J$2:$K$51,MATCH($B25,概要設定!$J$2:$J$51,0),2)),\"\",INDEX(概要設定!$J$2:$K$51,MATCH($B25,概要設定!$J$2:$J$51,0),2))","v":"うえだ　しんや"},null,null,{"$f":"IF(ISERROR(INDEX(順位戦!$T$2:$AL$35,MATCH($A25,順位戦!$T$2:$T$35,0),16)),\"\",INDEX(順位戦!$T$2:$AL$35,MATCH($A25,順位戦!$T$2:$T$35,0),16))","v":789},null,{"$f":"IF(ISERROR(INDEX(順位戦!$T$2:$AL$35,MATCH($A25,順位戦!$T$2:$T$35,0),18)),\"\",INDEX(順位戦!$T$2:$AL$35,MATCH($A25,順位戦!$T$2:$T$35,0),18))","v":""}]
[10,{"$f":"IF(ISERROR(INDEX(順位戦!$T$2:$AL$35,MATCH($A25,順位戦!$T$2:$T$35,0),2)),\"\",INDEX(順位戦!$T$2:$AL$35,MATCH($A25,順位戦!$T$2:$T$35,0),2))","v":"植田　慎也"},{"$f":"IF(ISERROR(INDEX(順位戦!$T$2:$AL$35,MATCH($A25,順位戦!$T$2:$T$35,0),8)),\"\",INDEX(順位戦!$T$2:$AL$35,MATCH($A25,順位戦!$T$2:$T$35,0),8))","v":3},{"$f":"IF(ISERROR(INDEX(順位戦!$T$2:$AL$35,MATCH($A25,順位戦!$T$2:$T$35,0),9)),\"\",INDEX(順位戦!$T$2:$AL$35,MATCH($A25,順位戦!$T$2:$T$35,0),9))","v":3},{"$f":"IF(ISERROR(INDEX(順位戦!$T$2:$AL$35,MATCH($A25,順位戦!$T$2:$T$35,0),15)),\"\",INDEX(順位戦!$T$2:$AL$35,MATCH($A25,順位戦!$T$2:$T$35,0),15))","v":789},{"$f":"IF(ISERROR(INDEX(順位戦!$T$2:$AL$35,MATCH($A25,順位戦!$T$2:$T$35,0),12)),\"\",INDEX(順位戦!$T$2:$AL$35,MATCH($A25,順位戦!$T$2:$T$35,0),12))","v":424},{"$f":"IF(ISERROR(INDEX(順位戦!$T$2:$AL$35,MATCH($A25,順位戦!$T$2:$T$35,0),17)),\"\",INDEX(順位戦!$T$2:$AL$35,MATCH($A25,順位戦!$T$2:$T$35,0),17))","v":0},{"$f":"IF(ISERROR(INDEX(順位戦!$T$2:$AL$35,MATCH($A25,順位戦!$T$2:$T$35,0),16)),\"\",INDEX(順位戦!$T$2:$AL$35,MATCH($A25,順位戦!$T$2:$T$35,0),16))","v":789}]
[null,{"$f":"IF(ISERROR(INDEX(概要設定!$J$2:$K$51,MATCH($B27,概要設定!$J$2:$J$51,0),2)),\"\",INDEX(概要設定!$J$2:$K$51,MATCH($B27,概要設定!$J$2:$J$51,0),2))","v":""},null,null,{"$f":"IF(ISERROR(INDEX(順位戦!$T$2:$AL$35,MATCH($A27,順位戦!$T$2:$T$35,0),16)),\"\",INDEX(順位戦!$T$2:$AL$35,MATCH($A27,順位戦!$T$2:$T$35,0),16))","v":""},null,{"$f":"IF(ISERROR(INDEX(順位戦!$T$2:$AL$35,MATCH($A27,順位戦!$T$2:$T$35,0),18)),\"\",INDEX(順位戦!$T$2:$AL$35,MATCH($A27,順位戦!$T$2:$T$35,0),18))","v":""}]
[11,{"$f":"IF(ISERROR(INDEX(順位戦!$T$2:$AL$35,MATCH($A27,順位戦!$T$2:$T$35,0),2)),\"\",INDEX(順位戦!$T$2:$AL$35,MATCH($A27,順位戦!$T$2:$T$35,0),2))","v":""},{"$f":"IF(ISERROR(INDEX(順位戦!$T$2:$AL$35,MATCH($A27,順位戦!$T$2:$T$35,0),8)),\"\",INDEX(順位戦!$T$2:$AL$35,MATCH($A27,順位戦!$T$2:$T$35,0),8))","v":""},{"$f":"IF(ISERROR(INDEX(順位戦!$T$2:$AL$35,MATCH($A27,順位戦!$T$2:$T$35,0),9)),\"\",INDEX(順位戦!$T$2:$AL$35,MATCH($A27,順位戦!$T$2:$T$35,0),9))","v":""},{"$f":"IF(ISERROR(INDEX(順位戦!$T$2:$AL$35,MATCH($A27,順位戦!$T$2:$T$35,0),15)),\"\",INDEX(順位戦!$T$2:$AL$35,MATCH($A27,順位戦!$T$2:$T$35,0),15))","v":""},{"$f":"IF(ISERROR(INDEX(順位戦!$T$2:$AL$35,MATCH($A27,順位戦!$T$2:$T$35,0),12)),\"\",INDEX(順位戦!$T$2:$AL$35,MATCH($A27,順位戦!$T$2:$T$35,0),12))","v":""},{"$f":"IF(ISERROR(INDEX(順位戦!$T$2:$AL$35,MATCH($A27,順位戦!$T$2:$T$35,0),17)),\"\",INDEX(順位戦!$T$2:$AL$35,MATCH($A27,順位戦!$T$2:$T$35,0),17))","v":""},{"$f":"IF(ISERROR(INDEX(順位戦!$T$2:$AL$35,MATCH($A27,順位戦!$T$2:$T$35,0),16)),\"\",INDEX(順位戦!$T$2:$AL$35,MATCH($A27,順位戦!$T$2:$T$35,0),16))","v":""}]
[null,{"$f":"IF(ISERROR(INDEX(概要設定!$J$2:$K$51,MATCH($B29,概要設定!$J$2:$J$51,0),2)),\"\",INDEX(概要設定!$J$2:$K$51,MATCH($B29,概要設定!$J$2:$J$51,0),2))","v":"さいとう　だいすけ"},null,null,{"$f":"IF(ISERROR(INDEX(順位戦!$T$2:$AL$35,MATCH($A29,順位戦!$T$2:$T$35,0),16)),\"\",INDEX(順位戦!$T$2:$AL$35,MATCH($A29,順位戦!$T$2:$T$35,0),16))","v":828},null,{"$f":"IF(ISERROR(INDEX(順位戦!$T$2:$AL$35,MATCH($A29,順位戦!$T$2:$T$35,0),18)),\"\",INDEX(順位戦!$T$2:$AL$35,MATCH($A29,順位戦!$T$2:$T$35,0),18))","v":""}]
[12,{"$f":"IF(ISERROR(INDEX(順位戦!$T$2:$AL$35,MATCH($A29,順位戦!$T$2:$T$35,0),2)),\"\",INDEX(順位戦!$T$2:$AL$35,MATCH($A29,順位戦!$T$2:$T$35,0),2))","v":"斉藤　大輔"},{"$f":"IF(ISERROR(INDEX(順位戦!$T$2:$AL$35,MATCH($A29,順位戦!$T$2:$T$35,0),8)),\"\",INDEX(順位戦!$T$2:$AL$35,MATCH($A29,順位戦!$T$2:$T$35,0),8))","v":1},{"$f":"IF(ISERROR(INDEX(順位戦!$T$2:$AL$35,MATCH($A29,順位戦!$T$2:$T$35,0),9)),\"\",INDEX(順位戦!$T$2:$AL$35,MATCH($A29,順位戦!$T$2:$T$35,0),9))","v":5},{"$f":"IF(ISERROR(INDEX(順位戦!$T$2:$AL$35,MATCH($A29,順位戦!$T$2:$T$35,0),15)),\"\",INDEX(順位戦!$T$2:$AL$35,MATCH($A29,順位戦!$T$2:$T$35,0),15))","v":828},{"$f":"IF(ISERROR(INDEX(順位戦!$T$2:$AL$35,MATCH($A29,順位戦!$T$2:$T$35,0),12)),\"\",INDEX(順位戦!$T$2:$AL$35,MATCH($A29,順位戦!$T$2:$T$35,0),12))","v":101},{"$f":"IF(ISERROR(INDEX(順位戦!$T$2:$AL$35,MATCH($A29,順位戦!$T$2:$T$35,0),17)),\"\",INDEX(順位戦!$T$2:$AL$35,MATCH($A29,順位戦!$T$2:$T$35,0),17))","v":0},{"$f":"IF(ISERROR(INDEX(順位戦!$T$2:$AL$35,MATCH($A29,順位戦!$T$2:$T$35,0),16)),\"\",INDEX(順位戦!$T$2:$AL$35,MATCH($A29,順位戦!$T$2:$T$35,0),16))","v":828}]
[null,{"$f":"IF(ISERROR(INDEX(概要設定!$J$2:$K$51,MATCH($B31,概要設定!$J$2:$J$51,0),2)),\"\",INDEX(概要設定!$J$2:$K$51,MATCH($B31,概要設定!$J$2:$J$51,0),2))","v":""},null,null,{"$f":"IF(ISERROR(INDEX(順位戦!$T$2:$AL$35,MATCH($A31,順位戦!$T$2:$T$35,0),16)),\"\",INDEX(順位戦!$T$2:$AL$35,MATCH($A31,順位戦!$T$2:$T$35,0),16))","v":""},null,{"$f":"IF(ISERROR(INDEX(順位戦!$T$2:$AL$35,MATCH($A31,順位戦!$T$2:$T$35,0),18)),\"\",INDEX(順位戦!$T$2:$AL$35,MATCH($A31,順位戦!$T$2:$T$35,0),18))","v":""}]
[13,{"$f":"IF(ISERROR(INDEX(順位戦!$T$2:$AL$35,MATCH($A31,順位戦!$T$2:$T$35,0),2)),\"\",INDEX(順位戦!$T$2:$AL$35,MATCH($A31,順位戦!$T$2:$T$35,0),2))","v":""},{"$f":"IF(ISERROR(INDEX(順位戦!$T$2:$AL$35,MATCH($A31,順位戦!$T$2:$T$35,0),8)),\"\",INDEX(順位戦!$T$2:$AL$35,MATCH($A31,順位戦!$T$2:$T$35,0),8))","v":""},{"$f":"IF(ISERROR(INDEX(順位戦!$T$2:$AL$35,MATCH($A31,順位戦!$T$2:$T$35,0),9)),\"\",INDEX(順位戦!$T$2:$AL$35,MATCH($A31,順位戦!$T$2:$T$35,0),9))","v":""},{"$f":"IF(ISERROR(INDEX(順位戦!$T$2:$AL$35,MATCH($A31,順位戦!$T$2:$T$35,0),15)),\"\",INDEX(順位戦!$T$2:$AL$35,MATCH($A31,順位戦!$T$2:$T$35,0),15))","v":""},{"$f":"IF(ISERROR(INDEX(順位戦!$T$2:$AL$35,MATCH($A31,順位戦!$T$2:$T$35,0),12)),\"\",INDEX(順位戦!$T$2:$AL$35,MATCH($A31,順位戦!$T$2:$T$35,0),12))","v":""},{"$f":"IF(ISERROR(INDEX(順位戦!$T$2:$AL$35,MATCH($A31,順位戦!$T$2:$T$35,0),17)),\"\",INDEX(順位戦!$T$2:$AL$35,MATCH($A31,順位戦!$T$2:$T$35,0),17))","v":""},{"$f":"IF(ISERROR(INDEX(順位戦!$T$2:$AL$35,MATCH($A31,順位戦!$T$2:$T$35,0),16)),\"\",INDEX(順位戦!$T$2:$AL$35,MATCH($A31,順位戦!$T$2:$T$35,0),16))","v":""}]
[null,{"$f":"IF(ISERROR(INDEX(概要設定!$J$2:$K$51,MATCH($B33,概要設定!$J$2:$J$51,0),2)),\"\",INDEX(概要設定!$J$2:$K$51,MATCH($B33,概要設定!$J$2:$J$51,0),2))","v":"わしお　りゅうと"},null,null,{"$f":"IF(ISERROR(INDEX(順位戦!$T$2:$AL$35,MATCH($A33,順位戦!$T$2:$T$35,0),16)),\"\",INDEX(順位戦!$T$2:$AL$35,MATCH($A33,順位戦!$T$2:$T$35,0),16))","v":625},null,{"$f":"IF(ISERROR(INDEX(順位戦!$T$2:$AL$35,MATCH($A33,順位戦!$T$2:$T$35,0),18)),\"\",INDEX(順位戦!$T$2:$AL$35,MATCH($A33,順位戦!$T$2:$T$35,0),18))","v":""}]
[14,{"$f":"IF(ISERROR(INDEX(順位戦!$T$2:$AL$35,MATCH($A33,順位戦!$T$2:$T$35,0),2)),\"\",INDEX(順位戦!$T$2:$AL$35,MATCH($A33,順位戦!$T$2:$T$35,0),2))","v":"鷲尾　隆杜"},{"$f":"IF(ISERROR(INDEX(順位戦!$T$2:$AL$35,MATCH($A33,順位戦!$T$2:$T$35,0),8)),\"\",INDEX(順位戦!$T$2:$AL$35,MATCH($A33,順位戦!$T$2:$T$35,0),8))","v":1},{"$f":"IF(ISERROR(INDEX(順位戦!$T$2:$AL$35,MATCH($A33,順位戦!$T$2:$T$35,0),9)),\"\",INDEX(順位戦!$T$2:$AL$35,MATCH($A33,順位戦!$T$2:$T$35,0),9))","v":5},{"$f":"IF(ISERROR(INDEX(順位戦!$T$2:$AL$35,MATCH($A33,順位戦!$T$2:$T$35,0),15)),\"\",INDEX(順位戦!$T$2:$AL$35,MATCH($A33,順位戦!$T$2:$T$35,0),15))","v":625},{"$f":"IF(ISERROR(INDEX(順位戦!$T$2:$AL$35,MATCH($A33,順位戦!$T$2:$T$35,0),12)),\"\",INDEX(順位戦!$T$2:$AL$35,MATCH($A33,順位戦!$T$2:$T$35,0),12))","v":140},{"$f":"IF(ISERROR(INDEX(順位戦!$T$2:$AL$35,MATCH($A33,順位戦!$T$2:$T$35,0),17)),\"\",INDEX(順位戦!$T$2:$AL$35,MATCH($A33,順位戦!$T$2:$T$35,0),17))","v":0},{"$f":"IF(ISERROR(INDEX(順位戦!$T$2:$AL$35,MATCH($A33,順位戦!$T$2:$T$35,0),16)),\"\",INDEX(順位戦!$T$2:$AL$35,MATCH($A33,順位戦!$T$2:$T$35,0),16))","v":625}]
[null,{"$f":"IF(ISERROR(INDEX(概要設定!$J$2:$K$51,MATCH($B35,概要設定!$J$2:$J$51,0),2)),\"\",INDEX(概要設定!$J$2:$K$51,MATCH($B35,概要設定!$J$2:$J$51,0),2))","v":""},null,null,{"$f":"IF(ISERROR(INDEX(順位戦!$T$2:$AL$35,MATCH($A35,順位戦!$T$2:$T$35,0),16)),\"\",INDEX(順位戦!$T$2:$AL$35,MATCH($A35,順位戦!$T$2:$T$35,0),16))","v":""},null,{"$f":"IF(ISERROR(INDEX(順位戦!$T$2:$AL$35,MATCH($A35,順位戦!$T$2:$T$35,0),18)),\"\",INDEX(順位戦!$T$2:$AL$35,MATCH($A35,順位戦!$T$2:$T$35,0),18))","v":""}]
[15,{"$f":"IF(ISERROR(INDEX(順位戦!$T$2:$AL$35,MATCH($A35,順位戦!$T$2:$T$35,0),2)),\"\",INDEX(順位戦!$T$2:$AL$35,MATCH($A35,順位戦!$T$2:$T$35,0),2))","v":""},{"$f":"IF(ISERROR(INDEX(順位戦!$T$2:$AL$35,MATCH($A35,順位戦!$T$2:$T$35,0),8)),\"\",INDEX(順位戦!$T$2:$AL$35,MATCH($A35,順位戦!$T$2:$T$35,0),8))","v":""},{"$f":"IF(ISERROR(INDEX(順位戦!$T$2:$AL$35,MATCH($A35,順位戦!$T$2:$T$35,0),9)),\"\",INDEX(順位戦!$T$2:$AL$35,MATCH($A35,順位戦!$T$2:$T$35,0),9))","v":""},{"$f":"IF(ISERROR(INDEX(順位戦!$T$2:$AL$35,MATCH($A35,順位戦!$T$2:$T$35,0),15)),\"\",INDEX(順位戦!$T$2:$AL$35,MATCH($A35,順位戦!$T$2:$T$35,0),15))","v":""},{"$f":"IF(ISERROR(INDEX(順位戦!$T$2:$AL$35,MATCH($A35,順位戦!$T$2:$T$35,0),12)),\"\",INDEX(順位戦!$T$2:$AL$35,MATCH($A35,順位戦!$T$2:$T$35,0),12))","v":""},{"$f":"IF(ISERROR(INDEX(順位戦!$T$2:$AL$35,MATCH($A35,順位戦!$T$2:$T$35,0),17)),\"\",INDEX(順位戦!$T$2:$AL$35,MATCH($A35,順位戦!$T$2:$T$35,0),17))","v":""},{"$f":"IF(ISERROR(INDEX(順位戦!$T$2:$AL$35,MATCH($A35,順位戦!$T$2:$T$35,0),16)),\"\",INDEX(順位戦!$T$2:$AL$35,MATCH($A35,順位戦!$T$2:$T$35,0),16))","v":""}]
[null,{"$f":"IF(ISERROR(INDEX(概要設定!$J$2:$K$51,MATCH($B37,概要設定!$J$2:$J$51,0),2)),\"\",INDEX(概要設定!$J$2:$K$51,MATCH($B37,概要設定!$J$2:$J$51,0),2))","v":"はせがわ　すすむ"},null,null,{"$f":"IF(ISERROR(INDEX(順位戦!$T$2:$AL$35,MATCH($A37,順位戦!$T$2:$T$35,0),16)),\"\",INDEX(順位戦!$T$2:$AL$35,MATCH($A37,順位戦!$T$2:$T$35,0),16))","v":526},null,{"$f":"IF(ISERROR(INDEX(順位戦!$T$2:$AL$35,MATCH($A37,順位戦!$T$2:$T$35,0),18)),\"\",INDEX(順位戦!$T$2:$AL$35,MATCH($A37,順位戦!$T$2:$T$35,0),18))","v":""}]
[16,{"$f":"IF(ISERROR(INDEX(順位戦!$T$2:$AL$35,MATCH($A37,順位戦!$T$2:$T$35,0),2)),\"\",INDEX(順位戦!$T$2:$AL$35,MATCH($A37,順位戦!$T$2:$T$35,0),2))","v":"長谷川　進"},{"$f":"IF(ISERROR(INDEX(順位戦!$T$2:$AL$35,MATCH($A37,順位戦!$T$2:$T$35,0),8)),\"\",INDEX(順位戦!$T$2:$AL$35,MATCH($A37,順位戦!$T$2:$T$35,0),8))","v":1},{"$f":"IF(ISERROR(INDEX(順位戦!$T$2:$AL$35,MATCH($A37,順位戦!$T$2:$T$35,0),9)),\"\",INDEX(順位戦!$T$2:$AL$35,MATCH($A37,順位戦!$T$2:$T$35,0),9))","v":5},{"$f":"IF(ISERROR(INDEX(順位戦!$T$2:$AL$35,MATCH($A37,順位戦!$T$2:$T$35,0),15)),\"\",INDEX(順位戦!$T$2:$AL$35,MATCH($A37,順位戦!$T$2:$T$35,0),15))","v":526},{"$f":"IF(ISERROR(INDEX(順位戦!$T$2:$AL$35,MATCH($A37,順位戦!$T$2:$T$35,0),12)),\"\",INDEX(順位戦!$T$2:$AL$35,MATCH($A37,順位戦!$T$2:$T$35,0),12))","v":67},{"$f":"IF(ISERROR(INDEX(順位戦!$T$2:$AL$35,MATCH($A37,順位戦!$T$2:$T$35,0),17)),\"\",INDEX(順位戦!$T$2:$AL$35,MATCH($A37,順位戦!$T$2:$T$35,0),17))","v":0},{"$f":"IF(ISERROR(INDEX(順位戦!$T$2:$AL$35,MATCH($A37,順位戦!$T$2:$T$35,0),16)),\"\",INDEX(順位戦!$T$2:$AL$35,MATCH($A37,順位戦!$T$2:$T$35,0),16))","v":526}]
[null,{"$f":"IF(ISERROR(INDEX(概要設定!$J$2:$K$51,MATCH($B39,概要設定!$J$2:$J$51,0),2)),\"\",INDEX(概要設定!$J$2:$K$51,MATCH($B39,概要設定!$J$2:$J$51,0),2))","v":""},null,null,{"$f":"IF(ISERROR(INDEX(順位戦!$T$2:$AL$35,MATCH($A39,順位戦!$T$2:$T$35,0),16)),\"\",INDEX(順位戦!$T$2:$AL$35,MATCH($A39,順位戦!$T$2:$T$35,0),16))","v":""},null,{"$f":"IF(ISERROR(INDEX(順位戦!$T$2:$AL$35,MATCH($A39,順位戦!$T$2:$T$35,0),18)),\"\",INDEX(順位戦!$T$2:$AL$35,MATCH($A39,順位戦!$T$2:$T$35,0),18))","v":""}]
[17,{"$f":"IF(ISERROR(INDEX(順位戦!$T$2:$AL$35,MATCH($A39,順位戦!$T$2:$T$35,0),2)),\"\",INDEX(順位戦!$T$2:$AL$35,MATCH($A39,順位戦!$T$2:$T$35,0),2))","v":""},{"$f":"IF(ISERROR(INDEX(順位戦!$T$2:$AL$35,MATCH($A39,順位戦!$T$2:$T$35,0),8)),\"\",INDEX(順位戦!$T$2:$AL$35,MATCH($A39,順位戦!$T$2:$T$35,0),8))","v":""},{"$f":"IF(ISERROR(INDEX(順位戦!$T$2:$AL$35,MATCH($A39,順位戦!$T$2:$T$35,0),9)),\"\",INDEX(順位戦!$T$2:$AL$35,MATCH($A39,順位戦!$T$2:$T$35,0),9))","v":""},{"$f":"IF(ISERROR(INDEX(順位戦!$T$2:$AL$35,MATCH($A39,順位戦!$T$2:$T$35,0),15)),\"\",INDEX(順位戦!$T$2:$AL$35,MATCH($A39,順位戦!$T$2:$T$35,0),15))","v":""},{"$f":"IF(ISERROR(INDEX(順位戦!$T$2:$AL$35,MATCH($A39,順位戦!$T$2:$T$35,0),12)),\"\",INDEX(順位戦!$T$2:$AL$35,MATCH($A39,順位戦!$T$2:$T$35,0),12))","v":""},{"$f":"IF(ISERROR(INDEX(順位戦!$T$2:$AL$35,MATCH($A39,順位戦!$T$2:$T$35,0),17)),\"\",INDEX(順位戦!$T$2:$AL$35,MATCH($A39,順位戦!$T$2:$T$35,0),17))","v":""},{"$f":"IF(ISERROR(INDEX(順位戦!$T$2:$AL$35,MATCH($A39,順位戦!$T$2:$T$35,0),16)),\"\",INDEX(順位戦!$T$2:$AL$35,MATCH($A39,順位戦!$T$2:$T$35,0),16))","v":""}]
[null,{"$f":"IF(ISERROR(INDEX(概要設定!$J$2:$K$51,MATCH($B41,概要設定!$J$2:$J$51,0),2)),\"\",INDEX(概要設定!$J$2:$K$51,MATCH($B41,概要設定!$J$2:$J$51,0),2))","v":""},null,null,{"$f":"IF(ISERROR(INDEX(順位戦!$T$2:$AL$35,MATCH($A41,順位戦!$T$2:$T$35,0),16)),\"\",INDEX(順位戦!$T$2:$AL$35,MATCH($A41,順位戦!$T$2:$T$35,0),16))","v":""},null,{"$f":"IF(ISERROR(INDEX(順位戦!$T$2:$AL$35,MATCH($A41,順位戦!$T$2:$T$35,0),18)),\"\",INDEX(順位戦!$T$2:$AL$35,MATCH($A41,順位戦!$T$2:$T$35,0),18))","v":""}]
[18,{"$f":"IF(ISERROR(INDEX(順位戦!$T$2:$AL$35,MATCH($A41,順位戦!$T$2:$T$35,0),2)),\"\",INDEX(順位戦!$T$2:$AL$35,MATCH($A41,順位戦!$T$2:$T$35,0),2))","v":""},{"$f":"IF(ISERROR(INDEX(順位戦!$T$2:$AL$35,MATCH($A41,順位戦!$T$2:$T$35,0),8)),\"\",INDEX(順位戦!$T$2:$AL$35,MATCH($A41,順位戦!$T$2:$T$35,0),8))","v":""},{"$f":"IF(ISERROR(INDEX(順位戦!$T$2:$AL$35,MATCH($A41,順位戦!$T$2:$T$35,0),9)),\"\",INDEX(順位戦!$T$2:$AL$35,MATCH($A41,順位戦!$T$2:$T$35,0),9))","v":""},{"$f":"IF(ISERROR(INDEX(順位戦!$T$2:$AL$35,MATCH($A41,順位戦!$T$2:$T$35,0),15)),\"\",INDEX(順位戦!$T$2:$AL$35,MATCH($A41,順位戦!$T$2:$T$35,0),15))","v":""},{"$f":"IF(ISERROR(INDEX(順位戦!$T$2:$AL$35,MATCH($A41,順位戦!$T$2:$T$35,0),12)),\"\",INDEX(順位戦!$T$2:$AL$35,MATCH($A41,順位戦!$T$2:$T$35,0),12))","v":""},{"$f":"IF(ISERROR(INDEX(順位戦!$T$2:$AL$35,MATCH($A41,順位戦!$T$2:$T$35,0),17)),\"\",INDEX(順位戦!$T$2:$AL$35,MATCH($A41,順位戦!$T$2:$T$35,0),17))","v":""},{"$f":"IF(ISERROR(INDEX(順位戦!$T$2:$AL$35,MATCH($A41,順位戦!$T$2:$T$35,0),16)),\"\",INDEX(順位戦!$T$2:$AL$35,MATCH($A41,順位戦!$T$2:$T$35,0),16))","v":""}]
[null,{"$f":"IF(ISERROR(INDEX(概要設定!$J$2:$K$51,MATCH($B43,概要設定!$J$2:$J$51,0),2)),\"\",INDEX(概要設定!$J$2:$K$51,MATCH($B43,概要設定!$J$2:$J$51,0),2))","v":""},null,null,{"$f":"IF(ISERROR(INDEX(順位戦!$T$2:$AL$35,MATCH($A43,順位戦!$T$2:$T$35,0),16)),\"\",INDEX(順位戦!$T$2:$AL$35,MATCH($A43,順位戦!$T$2:$T$35,0),16))","v":""},null,{"$f":"IF(ISERROR(INDEX(順位戦!$T$2:$AL$35,MATCH($A43,順位戦!$T$2:$T$35,0),18)),\"\",INDEX(順位戦!$T$2:$AL$35,MATCH($A43,順位戦!$T$2:$T$35,0),18))","v":""}]
[19,{"$f":"IF(ISERROR(INDEX(順位戦!$T$2:$AL$35,MATCH($A43,順位戦!$T$2:$T$35,0),2)),\"\",INDEX(順位戦!$T$2:$AL$35,MATCH($A43,順位戦!$T$2:$T$35,0),2))","v":""},{"$f":"IF(ISERROR(INDEX(順位戦!$T$2:$AL$35,MATCH($A43,順位戦!$T$2:$T$35,0),8)),\"\",INDEX(順位戦!$T$2:$AL$35,MATCH($A43,順位戦!$T$2:$T$35,0),8))","v":""},{"$f":"IF(ISERROR(INDEX(順位戦!$T$2:$AL$35,MATCH($A43,順位戦!$T$2:$T$35,0),9)),\"\",INDEX(順位戦!$T$2:$AL$35,MATCH($A43,順位戦!$T$2:$T$35,0),9))","v":""},{"$f":"IF(ISERROR(INDEX(順位戦!$T$2:$AL$35,MATCH($A43,順位戦!$T$2:$T$35,0),15)),\"\",INDEX(順位戦!$T$2:$AL$35,MATCH($A43,順位戦!$T$2:$T$35,0),15))","v":""},{"$f":"IF(ISERROR(INDEX(順位戦!$T$2:$AL$35,MATCH($A43,順位戦!$T$2:$T$35,0),12)),\"\",INDEX(順位戦!$T$2:$AL$35,MATCH($A43,順位戦!$T$2:$T$35,0),12))","v":""},{"$f":"IF(ISERROR(INDEX(順位戦!$T$2:$AL$35,MATCH($A43,順位戦!$T$2:$T$35,0),17)),\"\",INDEX(順位戦!$T$2:$AL$35,MATCH($A43,順位戦!$T$2:$T$35,0),17))","v":""},{"$f":"IF(ISERROR(INDEX(順位戦!$T$2:$AL$35,MATCH($A43,順位戦!$T$2:$T$35,0),16)),\"\",INDEX(順位戦!$T$2:$AL$35,MATCH($A43,順位戦!$T$2:$T$35,0),16))","v":""}]
[null,{"$f":"IF(ISERROR(INDEX(概要設定!$J$2:$K$51,MATCH($B45,概要設定!$J$2:$J$51,0),2)),\"\",INDEX(概要設定!$J$2:$K$51,MATCH($B45,概要設定!$J$2:$J$51,0),2))","v":""},null,null,{"$f":"IF(ISERROR(INDEX(順位戦!$T$2:$AL$35,MATCH($A45,順位戦!$T$2:$T$35,0),16)),\"\",INDEX(順位戦!$T$2:$AL$35,MATCH($A45,順位戦!$T$2:$T$35,0),16))","v":""},null,{"$f":"IF(ISERROR(INDEX(順位戦!$T$2:$AL$35,MATCH($A45,順位戦!$T$2:$T$35,0),18)),\"\",INDEX(順位戦!$T$2:$AL$35,MATCH($A45,順位戦!$T$2:$T$35,0),18))","v":""}]
[20,{"$f":"IF(ISERROR(INDEX(順位戦!$T$2:$AL$35,MATCH($A45,順位戦!$T$2:$T$35,0),2)),\"\",INDEX(順位戦!$T$2:$AL$35,MATCH($A45,順位戦!$T$2:$T$35,0),2))","v":""},{"$f":"IF(ISERROR(INDEX(順位戦!$T$2:$AL$35,MATCH($A45,順位戦!$T$2:$T$35,0),8)),\"\",INDEX(順位戦!$T$2:$AL$35,MATCH($A45,順位戦!$T$2:$T$35,0),8))","v":""},{"$f":"IF(ISERROR(INDEX(順位戦!$T$2:$AL$35,MATCH($A45,順位戦!$T$2:$T$35,0),9)),\"\",INDEX(順位戦!$T$2:$AL$35,MATCH($A45,順位戦!$T$2:$T$35,0),9))","v":""},{"$f":"IF(ISERROR(INDEX(順位戦!$T$2:$AL$35,MATCH($A45,順位戦!$T$2:$T$35,0),15)),\"\",INDEX(順位戦!$T$2:$AL$35,MATCH($A45,順位戦!$T$2:$T$35,0),15))","v":""},{"$f":"IF(ISERROR(INDEX(順位戦!$T$2:$AL$35,MATCH($A45,順位戦!$T$2:$T$35,0),12)),\"\",INDEX(順位戦!$T$2:$AL$35,MATCH($A45,順位戦!$T$2:$T$35,0),12))","v":""},{"$f":"IF(ISERROR(INDEX(順位戦!$T$2:$AL$35,MATCH($A45,順位戦!$T$2:$T$35,0),17)),\"\",INDEX(順位戦!$T$2:$AL$35,MATCH($A45,順位戦!$T$2:$T$35,0),17))","v":""},{"$f":"IF(ISERROR(INDEX(順位戦!$T$2:$AL$35,MATCH($A45,順位戦!$T$2:$T$35,0),16)),\"\",INDEX(順位戦!$T$2:$AL$35,MATCH($A45,順位戦!$T$2:$T$35,0),16))","v":""}]
[null,{"$f":"IF(ISERROR(INDEX(概要設定!$J$2:$K$51,MATCH($B47,概要設定!$J$2:$J$51,0),2)),\"\",INDEX(概要設定!$J$2:$K$51,MATCH($B47,概要設定!$J$2:$J$51,0),2))","v":""},null,null,{"$f":"IF(ISERROR(INDEX(順位戦!$T$2:$AL$35,MATCH($A47,順位戦!$T$2:$T$35,0),16)),\"\",INDEX(順位戦!$T$2:$AL$35,MATCH($A47,順位戦!$T$2:$T$35,0),16))","v":""},null,{"$f":"IF(ISERROR(INDEX(順位戦!$T$2:$AL$35,MATCH($A47,順位戦!$T$2:$T$35,0),18)),\"\",INDEX(順位戦!$T$2:$AL$35,MATCH($A47,順位戦!$T$2:$T$35,0),18))","v":""}]
[21,{"$f":"IF(ISERROR(INDEX(順位戦!$T$2:$AL$35,MATCH($A47,順位戦!$T$2:$T$35,0),2)),\"\",INDEX(順位戦!$T$2:$AL$35,MATCH($A47,順位戦!$T$2:$T$35,0),2))","v":""},{"$f":"IF(ISERROR(INDEX(順位戦!$T$2:$AL$35,MATCH($A47,順位戦!$T$2:$T$35,0),8)),\"\",INDEX(順位戦!$T$2:$AL$35,MATCH($A47,順位戦!$T$2:$T$35,0),8))","v":""},{"$f":"IF(ISERROR(INDEX(順位戦!$T$2:$AL$35,MATCH($A47,順位戦!$T$2:$T$35,0),9)),\"\",INDEX(順位戦!$T$2:$AL$35,MATCH($A47,順位戦!$T$2:$T$35,0),9))","v":""},{"$f":"IF(ISERROR(INDEX(順位戦!$T$2:$AL$35,MATCH($A47,順位戦!$T$2:$T$35,0),15)),\"\",INDEX(順位戦!$T$2:$AL$35,MATCH($A47,順位戦!$T$2:$T$35,0),15))","v":""},{"$f":"IF(ISERROR(INDEX(順位戦!$T$2:$AL$35,MATCH($A47,順位戦!$T$2:$T$35,0),12)),\"\",INDEX(順位戦!$T$2:$AL$35,MATCH($A47,順位戦!$T$2:$T$35,0),12))","v":""},{"$f":"IF(ISERROR(INDEX(順位戦!$T$2:$AL$35,MATCH($A47,順位戦!$T$2:$T$35,0),17)),\"\",INDEX(順位戦!$T$2:$AL$35,MATCH($A47,順位戦!$T$2:$T$35,0),17))","v":""},{"$f":"IF(ISERROR(INDEX(順位戦!$T$2:$AL$35,MATCH($A47,順位戦!$T$2:$T$35,0),16)),\"\",INDEX(順位戦!$T$2:$AL$35,MATCH($A47,順位戦!$T$2:$T$35,0),16))","v":""}]
[null,{"$f":"IF(ISERROR(INDEX(概要設定!$J$2:$K$51,MATCH($B49,概要設定!$J$2:$J$51,0),2)),\"\",INDEX(概要設定!$J$2:$K$51,MATCH($B49,概要設定!$J$2:$J$51,0),2))","v":""},null,null,{"$f":"IF(ISERROR(INDEX(順位戦!$T$2:$AL$35,MATCH($A49,順位戦!$T$2:$T$35,0),16)),\"\",INDEX(順位戦!$T$2:$AL$35,MATCH($A49,順位戦!$T$2:$T$35,0),16))","v":""},null,{"$f":"IF(ISERROR(INDEX(順位戦!$T$2:$AL$35,MATCH($A49,順位戦!$T$2:$T$35,0),18)),\"\",INDEX(順位戦!$T$2:$AL$35,MATCH($A49,順位戦!$T$2:$T$35,0),18))","v":""}]
[22,{"$f":"IF(ISERROR(INDEX(順位戦!$T$2:$AL$35,MATCH($A49,順位戦!$T$2:$T$35,0),2)),\"\",INDEX(順位戦!$T$2:$AL$35,MATCH($A49,順位戦!$T$2:$T$35,0),2))","v":""},{"$f":"IF(ISERROR(INDEX(順位戦!$T$2:$AL$35,MATCH($A49,順位戦!$T$2:$T$35,0),8)),\"\",INDEX(順位戦!$T$2:$AL$35,MATCH($A49,順位戦!$T$2:$T$35,0),8))","v":""},{"$f":"IF(ISERROR(INDEX(順位戦!$T$2:$AL$35,MATCH($A49,順位戦!$T$2:$T$35,0),9)),\"\",INDEX(順位戦!$T$2:$AL$35,MATCH($A49,順位戦!$T$2:$T$35,0),9))","v":""},{"$f":"IF(ISERROR(INDEX(順位戦!$T$2:$AL$35,MATCH($A49,順位戦!$T$2:$T$35,0),15)),\"\",INDEX(順位戦!$T$2:$AL$35,MATCH($A49,順位戦!$T$2:$T$35,0),15))","v":""},{"$f":"IF(ISERROR(INDEX(順位戦!$T$2:$AL$35,MATCH($A49,順位戦!$T$2:$T$35,0),12)),\"\",INDEX(順位戦!$T$2:$AL$35,MATCH($A49,順位戦!$T$2:$T$35,0),12))","v":""},{"$f":"IF(ISERROR(INDEX(順位戦!$T$2:$AL$35,MATCH($A49,順位戦!$T$2:$T$35,0),17)),\"\",INDEX(順位戦!$T$2:$AL$35,MATCH($A49,順位戦!$T$2:$T$35,0),17))","v":""},{"$f":"IF(ISERROR(INDEX(順位戦!$T$2:$AL$35,MATCH($A49,順位戦!$T$2:$T$35,0),16)),\"\",INDEX(順位戦!$T$2:$AL$35,MATCH($A49,順位戦!$T$2:$T$35,0),16))","v":""}]
[null,{"$f":"IF(ISERROR(INDEX(概要設定!$J$2:$K$51,MATCH($B51,概要設定!$J$2:$J$51,0),2)),\"\",INDEX(概要設定!$J$2:$K$51,MATCH($B51,概要設定!$J$2:$J$51,0),2))","v":""},null,null,{"$f":"IF(ISERROR(INDEX(順位戦!$T$2:$AL$35,MATCH($A51,順位戦!$T$2:$T$35,0),16)),\"\",INDEX(順位戦!$T$2:$AL$35,MATCH($A51,順位戦!$T$2:$T$35,0),16))","v":""},null,{"$f":"IF(ISERROR(INDEX(順位戦!$T$2:$AL$35,MATCH($A51,順位戦!$T$2:$T$35,0),18)),\"\",INDEX(順位戦!$T$2:$AL$35,MATCH($A51,順位戦!$T$2:$T$35,0),18))","v":""}]
[23,{"$f":"IF(ISERROR(INDEX(順位戦!$T$2:$AL$35,MATCH($A51,順位戦!$T$2:$T$35,0),2)),\"\",INDEX(順位戦!$T$2:$AL$35,MATCH($A51,順位戦!$T$2:$T$35,0),2))","v":""},{"$f":"IF(ISERROR(INDEX(順位戦!$T$2:$AL$35,MATCH($A51,順位戦!$T$2:$T$35,0),8)),\"\",INDEX(順位戦!$T$2:$AL$35,MATCH($A51,順位戦!$T$2:$T$35,0),8))","v":""},{"$f":"IF(ISERROR(INDEX(順位戦!$T$2:$AL$35,MATCH($A51,順位戦!$T$2:$T$35,0),9)),\"\",INDEX(順位戦!$T$2:$AL$35,MATCH($A51,順位戦!$T$2:$T$35,0),9))","v":""},{"$f":"IF(ISERROR(INDEX(順位戦!$T$2:$AL$35,MATCH($A51,順位戦!$T$2:$T$35,0),15)),\"\",INDEX(順位戦!$T$2:$AL$35,MATCH($A51,順位戦!$T$2:$T$35,0),15))","v":""},{"$f":"IF(ISERROR(INDEX(順位戦!$T$2:$AL$35,MATCH($A51,順位戦!$T$2:$T$35,0),12)),\"\",INDEX(順位戦!$T$2:$AL$35,MATCH($A51,順位戦!$T$2:$T$35,0),12))","v":""},{"$f":"IF(ISERROR(INDEX(順位戦!$T$2:$AL$35,MATCH($A51,順位戦!$T$2:$T$35,0),17)),\"\",INDEX(順位戦!$T$2:$AL$35,MATCH($A51,順位戦!$T$2:$T$35,0),17))","v":""},{"$f":"IF(ISERROR(INDEX(順位戦!$T$2:$AL$35,MATCH($A51,順位戦!$T$2:$T$35,0),16)),\"\",INDEX(順位戦!$T$2:$AL$35,MATCH($A51,順位戦!$T$2:$T$35,0),16))","v":""}]
[null,{"$f":"IF(ISERROR(INDEX(概要設定!$J$2:$K$51,MATCH($B53,概要設定!$J$2:$J$51,0),2)),\"\",INDEX(概要設定!$J$2:$K$51,MATCH($B53,概要設定!$J$2:$J$51,0),2))","v":""},null,null,{"$f":"IF(ISERROR(INDEX(順位戦!$T$2:$AL$35,MATCH($A53,順位戦!$T$2:$T$35,0),16)),\"\",INDEX(順位戦!$T$2:$AL$35,MATCH($A53,順位戦!$T$2:$T$35,0),16))","v":""},null,{"$f":"IF(ISERROR(INDEX(順位戦!$T$2:$AL$35,MATCH($A53,順位戦!$T$2:$T$35,0),18)),\"\",INDEX(順位戦!$T$2:$AL$35,MATCH($A53,順位戦!$T$2:$T$35,0),18))","v":""}]
[24,{"$f":"IF(ISERROR(INDEX(順位戦!$T$2:$AL$35,MATCH($A53,順位戦!$T$2:$T$35,0),2)),\"\",INDEX(順位戦!$T$2:$AL$35,MATCH($A53,順位戦!$T$2:$T$35,0),2))","v":""},{"$f":"IF(ISERROR(INDEX(順位戦!$T$2:$AL$35,MATCH($A53,順位戦!$T$2:$T$35,0),8)),\"\",INDEX(順位戦!$T$2:$AL$35,MATCH($A53,順位戦!$T$2:$T$35,0),8))","v":""},{"$f":"IF(ISERROR(INDEX(順位戦!$T$2:$AL$35,MATCH($A53,順位戦!$T$2:$T$35,0),9)),\"\",INDEX(順位戦!$T$2:$AL$35,MATCH($A53,順位戦!$T$2:$T$35,0),9))","v":""},{"$f":"IF(ISERROR(INDEX(順位戦!$T$2:$AL$35,MATCH($A53,順位戦!$T$2:$T$35,0),15)),\"\",INDEX(順位戦!$T$2:$AL$35,MATCH($A53,順位戦!$T$2:$T$35,0),15))","v":""},{"$f":"IF(ISERROR(INDEX(順位戦!$T$2:$AL$35,MATCH($A53,順位戦!$T$2:$T$35,0),12)),\"\",INDEX(順位戦!$T$2:$AL$35,MATCH($A53,順位戦!$T$2:$T$35,0),12))","v":""},{"$f":"IF(ISERROR(INDEX(順位戦!$T$2:$AL$35,MATCH($A53,順位戦!$T$2:$T$35,0),17)),\"\",INDEX(順位戦!$T$2:$AL$35,MATCH($A53,順位戦!$T$2:$T$35,0),17))","v":""},{"$f":"IF(ISERROR(INDEX(順位戦!$T$2:$AL$35,MATCH($A53,順位戦!$T$2:$T$35,0),16)),\"\",INDEX(順位戦!$T$2:$AL$35,MATCH($A53,順位戦!$T$2:$T$35,0),16))","v":""}]
[null,{"$f":"IF(ISERROR(INDEX(概要設定!$J$2:$K$51,MATCH($B55,概要設定!$J$2:$J$51,0),2)),\"\",INDEX(概要設定!$J$2:$K$51,MATCH($B55,概要設定!$J$2:$J$51,0),2))","v":""},null,null,{"$f":"IF(ISERROR(INDEX(順位戦!$T$2:$AL$35,MATCH($A55,順位戦!$T$2:$T$35,0),16)),\"\",INDEX(順位戦!$T$2:$AL$35,MATCH($A55,順位戦!$T$2:$T$35,0),16))","v":""},null,{"$f":"IF(ISERROR(INDEX(順位戦!$T$2:$AL$35,MATCH($A55,順位戦!$T$2:$T$35,0),18)),\"\",INDEX(順位戦!$T$2:$AL$35,MATCH($A55,順位戦!$T$2:$T$35,0),18))","v":""}]
[25,{"$f":"IF(ISERROR(INDEX(順位戦!$T$2:$AL$35,MATCH($A55,順位戦!$T$2:$T$35,0),2)),\"\",INDEX(順位戦!$T$2:$AL$35,MATCH($A55,順位戦!$T$2:$T$35,0),2))","v":""},{"$f":"IF(ISERROR(INDEX(順位戦!$T$2:$AL$35,MATCH($A55,順位戦!$T$2:$T$35,0),8)),\"\",INDEX(順位戦!$T$2:$AL$35,MATCH($A55,順位戦!$T$2:$T$35,0),8))","v":""},{"$f":"IF(ISERROR(INDEX(順位戦!$T$2:$AL$35,MATCH($A55,順位戦!$T$2:$T$35,0),9)),\"\",INDEX(順位戦!$T$2:$AL$35,MATCH($A55,順位戦!$T$2:$T$35,0),9))","v":""},{"$f":"IF(ISERROR(INDEX(順位戦!$T$2:$AL$35,MATCH($A55,順位戦!$T$2:$T$35,0),15)),\"\",INDEX(順位戦!$T$2:$AL$35,MATCH($A55,順位戦!$T$2:$T$35,0),15))","v":""},{"$f":"IF(ISERROR(INDEX(順位戦!$T$2:$AL$35,MATCH($A55,順位戦!$T$2:$T$35,0),12)),\"\",INDEX(順位戦!$T$2:$AL$35,MATCH($A55,順位戦!$T$2:$T$35,0),12))","v":""},{"$f":"IF(ISERROR(INDEX(順位戦!$T$2:$AL$35,MATCH($A55,順位戦!$T$2:$T$35,0),17)),\"\",INDEX(順位戦!$T$2:$AL$35,MATCH($A55,順位戦!$T$2:$T$35,0),17))","v":""},{"$f":"IF(ISERROR(INDEX(順位戦!$T$2:$AL$35,MATCH($A55,順位戦!$T$2:$T$35,0),16)),\"\",INDEX(順位戦!$T$2:$AL$35,MATCH($A55,順位戦!$T$2:$T$35,0),16))","v":""}]
[null,{"$f":"IF(ISERROR(INDEX(概要設定!$J$2:$K$51,MATCH($B57,概要設定!$J$2:$J$51,0),2)),\"\",INDEX(概要設定!$J$2:$K$51,MATCH($B57,概要設定!$J$2:$J$51,0),2))","v":""},null,null,{"$f":"IF(ISERROR(INDEX(順位戦!$T$2:$AL$35,MATCH($A57,順位戦!$T$2:$T$35,0),16)),\"\",INDEX(順位戦!$T$2:$AL$35,MATCH($A57,順位戦!$T$2:$T$35,0),16))","v":""},null,{"$f":"IF(ISERROR(INDEX(順位戦!$T$2:$AL$35,MATCH($A57,順位戦!$T$2:$T$35,0),18)),\"\",INDEX(順位戦!$T$2:$AL$35,MATCH($A57,順位戦!$T$2:$T$35,0),18))","v":""}]
[26,{"$f":"IF(ISERROR(INDEX(順位戦!$T$2:$AL$35,MATCH($A57,順位戦!$T$2:$T$35,0),2)),\"\",INDEX(順位戦!$T$2:$AL$35,MATCH($A57,順位戦!$T$2:$T$35,0),2))","v":""},{"$f":"IF(ISERROR(INDEX(順位戦!$T$2:$AL$35,MATCH($A57,順位戦!$T$2:$T$35,0),8)),\"\",INDEX(順位戦!$T$2:$AL$35,MATCH($A57,順位戦!$T$2:$T$35,0),8))","v":""},{"$f":"IF(ISERROR(INDEX(順位戦!$T$2:$AL$35,MATCH($A57,順位戦!$T$2:$T$35,0),9)),\"\",INDEX(順位戦!$T$2:$AL$35,MATCH($A57,順位戦!$T$2:$T$35,0),9))","v":""},{"$f":"IF(ISERROR(INDEX(順位戦!$T$2:$AL$35,MATCH($A57,順位戦!$T$2:$T$35,0),15)),\"\",INDEX(順位戦!$T$2:$AL$35,MATCH($A57,順位戦!$T$2:$T$35,0),15))","v":""},{"$f":"IF(ISERROR(INDEX(順位戦!$T$2:$AL$35,MATCH($A57,順位戦!$T$2:$T$35,0),12)),\"\",INDEX(順位戦!$T$2:$AL$35,MATCH($A57,順位戦!$T$2:$T$35,0),12))","v":""},{"$f":"IF(ISERROR(INDEX(順位戦!$T$2:$AL$35,MATCH($A57,順位戦!$T$2:$T$35,0),17)),\"\",INDEX(順位戦!$T$2:$AL$35,MATCH($A57,順位戦!$T$2:$T$35,0),17))","v":""},{"$f":"IF(ISERROR(INDEX(順位戦!$T$2:$AL$35,MATCH($A57,順位戦!$T$2:$T$35,0),16)),\"\",INDEX(順位戦!$T$2:$AL$35,MATCH($A57,順位戦!$T$2:$T$35,0),16))","v":""}]
[null,{"$f":"IF(ISERROR(INDEX(概要設定!$J$2:$K$51,MATCH($B59,概要設定!$J$2:$J$51,0),2)),\"\",INDEX(概要設定!$J$2:$K$51,MATCH($B59,概要設定!$J$2:$J$51,0),2))","v":""},null,null,{"$f":"IF(ISERROR(INDEX(順位戦!$T$2:$AL$35,MATCH($A59,順位戦!$T$2:$T$35,0),16)),\"\",INDEX(順位戦!$T$2:$AL$35,MATCH($A59,順位戦!$T$2:$T$35,0),16))","v":""},null,{"$f":"IF(ISERROR(INDEX(順位戦!$T$2:$AL$35,MATCH($A59,順位戦!$T$2:$T$35,0),18)),\"\",INDEX(順位戦!$T$2:$AL$35,MATCH($A59,順位戦!$T$2:$T$35,0),18))","v":""}]
[27,{"$f":"IF(ISERROR(INDEX(順位戦!$T$2:$AL$35,MATCH($A59,順位戦!$T$2:$T$35,0),2)),\"\",INDEX(順位戦!$T$2:$AL$35,MATCH($A59,順位戦!$T$2:$T$35,0),2))","v":""},{"$f":"IF(ISERROR(INDEX(順位戦!$T$2:$AL$35,MATCH($A59,順位戦!$T$2:$T$35,0),8)),\"\",INDEX(順位戦!$T$2:$AL$35,MATCH($A59,順位戦!$T$2:$T$35,0),8))","v":""},{"$f":"IF(ISERROR(INDEX(順位戦!$T$2:$AL$35,MATCH($A59,順位戦!$T$2:$T$35,0),9)),\"\",INDEX(順位戦!$T$2:$AL$35,MATCH($A59,順位戦!$T$2:$T$35,0),9))","v":""},{"$f":"IF(ISERROR(INDEX(順位戦!$T$2:$AL$35,MATCH($A59,順位戦!$T$2:$T$35,0),15)),\"\",INDEX(順位戦!$T$2:$AL$35,MATCH($A59,順位戦!$T$2:$T$35,0),15))","v":""},{"$f":"IF(ISERROR(INDEX(順位戦!$T$2:$AL$35,MATCH($A59,順位戦!$T$2:$T$35,0),12)),\"\",INDEX(順位戦!$T$2:$AL$35,MATCH($A59,順位戦!$T$2:$T$35,0),12))","v":""},{"$f":"IF(ISERROR(INDEX(順位戦!$T$2:$AL$35,MATCH($A59,順位戦!$T$2:$T$35,0),17)),\"\",INDEX(順位戦!$T$2:$AL$35,MATCH($A59,順位戦!$T$2:$T$35,0),17))","v":""},{"$f":"IF(ISERROR(INDEX(順位戦!$T$2:$AL$35,MATCH($A59,順位戦!$T$2:$T$35,0),16)),\"\",INDEX(順位戦!$T$2:$AL$35,MATCH($A59,順位戦!$T$2:$T$35,0),16))","v":""}]
[null,{"$f":"IF(ISERROR(INDEX(概要設定!$J$2:$K$51,MATCH($B61,概要設定!$J$2:$J$51,0),2)),\"\",INDEX(概要設定!$J$2:$K$51,MATCH($B61,概要設定!$J$2:$J$51,0),2))","v":""},null,null,{"$f":"IF(ISERROR(INDEX(順位戦!$T$2:$AL$35,MATCH($A61,順位戦!$T$2:$T$35,0),16)),\"\",INDEX(順位戦!$T$2:$AL$35,MATCH($A61,順位戦!$T$2:$T$35,0),16))","v":""},null,{"$f":"IF(ISERROR(INDEX(順位戦!$T$2:$AL$35,MATCH($A61,順位戦!$T$2:$T$35,0),18)),\"\",INDEX(順位戦!$T$2:$AL$35,MATCH($A61,順位戦!$T$2:$T$35,0),18))","v":""}]
[28,{"$f":"IF(ISERROR(INDEX(順位戦!$T$2:$AL$35,MATCH($A61,順位戦!$T$2:$T$35,0),2)),\"\",INDEX(順位戦!$T$2:$AL$35,MATCH($A61,順位戦!$T$2:$T$35,0),2))","v":""},{"$f":"IF(ISERROR(INDEX(順位戦!$T$2:$AL$35,MATCH($A61,順位戦!$T$2:$T$35,0),8)),\"\",INDEX(順位戦!$T$2:$AL$35,MATCH($A61,順位戦!$T$2:$T$35,0),8))","v":""},{"$f":"IF(ISERROR(INDEX(順位戦!$T$2:$AL$35,MATCH($A61,順位戦!$T$2:$T$35,0),9)),\"\",INDEX(順位戦!$T$2:$AL$35,MATCH($A61,順位戦!$T$2:$T$35,0),9))","v":""},{"$f":"IF(ISERROR(INDEX(順位戦!$T$2:$AL$35,MATCH($A61,順位戦!$T$2:$T$35,0),15)),\"\",INDEX(順位戦!$T$2:$AL$35,MATCH($A61,順位戦!$T$2:$T$35,0),15))","v":""},{"$f":"IF(ISERROR(INDEX(順位戦!$T$2:$AL$35,MATCH($A61,順位戦!$T$2:$T$35,0),12)),\"\",INDEX(順位戦!$T$2:$AL$35,MATCH($A61,順位戦!$T$2:$T$35,0),12))","v":""},{"$f":"IF(ISERROR(INDEX(順位戦!$T$2:$AL$35,MATCH($A61,順位戦!$T$2:$T$35,0),17)),\"\",INDEX(順位戦!$T$2:$AL$35,MATCH($A61,順位戦!$T$2:$T$35,0),17))","v":""},{"$f":"IF(ISERROR(INDEX(順位戦!$T$2:$AL$35,MATCH($A61,順位戦!$T$2:$T$35,0),16)),\"\",INDEX(順位戦!$T$2:$AL$35,MATCH($A61,順位戦!$T$2:$T$35,0),16))","v":""}]
[null,{"$f":"IF(ISERROR(INDEX(概要設定!$J$2:$K$51,MATCH($B63,概要設定!$J$2:$J$51,0),2)),\"\",INDEX(概要設定!$J$2:$K$51,MATCH($B63,概要設定!$J$2:$J$51,0),2))","v":""},null,null,{"$f":"IF(ISERROR(INDEX(順位戦!$T$2:$AL$35,MATCH($A63,順位戦!$T$2:$T$35,0),16)),\"\",INDEX(順位戦!$T$2:$AL$35,MATCH($A63,順位戦!$T$2:$T$35,0),16))","v":""},null,{"$f":"IF(ISERROR(INDEX(順位戦!$T$2:$AL$35,MATCH($A63,順位戦!$T$2:$T$35,0),18)),\"\",INDEX(順位戦!$T$2:$AL$35,MATCH($A63,順位戦!$T$2:$T$35,0),18))","v":""}]
[29,{"$f":"IF(ISERROR(INDEX(順位戦!$T$2:$AL$35,MATCH($A63,順位戦!$T$2:$T$35,0),2)),\"\",INDEX(順位戦!$T$2:$AL$35,MATCH($A63,順位戦!$T$2:$T$35,0),2))","v":""},{"$f":"IF(ISERROR(INDEX(順位戦!$T$2:$AL$35,MATCH($A63,順位戦!$T$2:$T$35,0),8)),\"\",INDEX(順位戦!$T$2:$AL$35,MATCH($A63,順位戦!$T$2:$T$35,0),8))","v":""},{"$f":"IF(ISERROR(INDEX(順位戦!$T$2:$AL$35,MATCH($A63,順位戦!$T$2:$T$35,0),9)),\"\",INDEX(順位戦!$T$2:$AL$35,MATCH($A63,順位戦!$T$2:$T$35,0),9))","v":""},{"$f":"IF(ISERROR(INDEX(順位戦!$T$2:$AL$35,MATCH($A63,順位戦!$T$2:$T$35,0),15)),\"\",INDEX(順位戦!$T$2:$AL$35,MATCH($A63,順位戦!$T$2:$T$35,0),15))","v":""},{"$f":"IF(ISERROR(INDEX(順位戦!$T$2:$AL$35,MATCH($A63,順位戦!$T$2:$T$35,0),12)),\"\",INDEX(順位戦!$T$2:$AL$35,MATCH($A63,順位戦!$T$2:$T$35,0),12))","v":""},{"$f":"IF(ISERROR(INDEX(順位戦!$T$2:$AL$35,MATCH($A63,順位戦!$T$2:$T$35,0),17)),\"\",INDEX(順位戦!$T$2:$AL$35,MATCH($A63,順位戦!$T$2:$T$35,0),17))","v":""},{"$f":"IF(ISERROR(INDEX(順位戦!$T$2:$AL$35,MATCH($A63,順位戦!$T$2:$T$35,0),16)),\"\",INDEX(順位戦!$T$2:$AL$35,MATCH($A63,順位戦!$T$2:$T$35,0),16))","v":""}]
[null,{"$f":"IF(ISERROR(INDEX(概要設定!$J$2:$K$51,MATCH($B65,概要設定!$J$2:$J$51,0),2)),\"\",INDEX(概要設定!$J$2:$K$51,MATCH($B65,概要設定!$J$2:$J$51,0),2))","v":""},null,null,{"$f":"IF(ISERROR(INDEX(順位戦!$T$2:$AL$35,MATCH($A65,順位戦!$T$2:$T$35,0),16)),\"\",INDEX(順位戦!$T$2:$AL$35,MATCH($A65,順位戦!$T$2:$T$35,0),16))","v":""},null,{"$f":"IF(ISERROR(INDEX(順位戦!$T$2:$AL$35,MATCH($A65,順位戦!$T$2:$T$35,0),18)),\"\",INDEX(順位戦!$T$2:$AL$35,MATCH($A65,順位戦!$T$2:$T$35,0),18))","v":""}]
[30,{"$f":"IF(ISERROR(INDEX(順位戦!$T$2:$AL$35,MATCH($A65,順位戦!$T$2:$T$35,0),2)),\"\",INDEX(順位戦!$T$2:$AL$35,MATCH($A65,順位戦!$T$2:$T$35,0),2))","v":""},{"$f":"IF(ISERROR(INDEX(順位戦!$T$2:$AL$35,MATCH($A65,順位戦!$T$2:$T$35,0),8)),\"\",INDEX(順位戦!$T$2:$AL$35,MATCH($A65,順位戦!$T$2:$T$35,0),8))","v":""},{"$f":"IF(ISERROR(INDEX(順位戦!$T$2:$AL$35,MATCH($A65,順位戦!$T$2:$T$35,0),9)),\"\",INDEX(順位戦!$T$2:$AL$35,MATCH($A65,順位戦!$T$2:$T$35,0),9))","v":""},{"$f":"IF(ISERROR(INDEX(順位戦!$T$2:$AL$35,MATCH($A65,順位戦!$T$2:$T$35,0),15)),\"\",INDEX(順位戦!$T$2:$AL$35,MATCH($A65,順位戦!$T$2:$T$35,0),15))","v":""},{"$f":"IF(ISERROR(INDEX(順位戦!$T$2:$AL$35,MATCH($A65,順位戦!$T$2:$T$35,0),12)),\"\",INDEX(順位戦!$T$2:$AL$35,MATCH($A65,順位戦!$T$2:$T$35,0),12))","v":""},{"$f":"IF(ISERROR(INDEX(順位戦!$T$2:$AL$35,MATCH($A65,順位戦!$T$2:$T$35,0),17)),\"\",INDEX(順位戦!$T$2:$AL$35,MATCH($A65,順位戦!$T$2:$T$35,0),17))","v":""},{"$f":"IF(ISERROR(INDEX(順位戦!$T$2:$AL$35,MATCH($A65,順位戦!$T$2:$T$35,0),16)),\"\",INDEX(順位戦!$T$2:$AL$35,MATCH($A65,順位戦!$T$2:$T$35,0),16))","v":""}]
[null,{"$f":"IF(ISERROR(INDEX(概要設定!$J$2:$K$51,MATCH($B67,概要設定!$J$2:$J$51,0),2)),\"\",INDEX(概要設定!$J$2:$K$51,MATCH($B67,概要設定!$J$2:$J$51,0),2))","v":""},null,null,{"$f":"IF(ISERROR(INDEX(順位戦!$T$2:$AL$35,MATCH($A67,順位戦!$T$2:$T$35,0),16)),\"\",INDEX(順位戦!$T$2:$AL$35,MATCH($A67,順位戦!$T$2:$T$35,0),16))","v":""},null,{"$f":"IF(ISERROR(INDEX(順位戦!$T$2:$AL$35,MATCH($A67,順位戦!$T$2:$T$35,0),18)),\"\",INDEX(順位戦!$T$2:$AL$35,MATCH($A67,順位戦!$T$2:$T$35,0),18))","v":""}]
[31,{"$f":"IF(ISERROR(INDEX(順位戦!$T$2:$AL$35,MATCH($A67,順位戦!$T$2:$T$35,0),2)),\"\",INDEX(順位戦!$T$2:$AL$35,MATCH($A67,順位戦!$T$2:$T$35,0),2))","v":""},{"$f":"IF(ISERROR(INDEX(順位戦!$T$2:$AL$35,MATCH($A67,順位戦!$T$2:$T$35,0),8)),\"\",INDEX(順位戦!$T$2:$AL$35,MATCH($A67,順位戦!$T$2:$T$35,0),8))","v":""},{"$f":"IF(ISERROR(INDEX(順位戦!$T$2:$AL$35,MATCH($A67,順位戦!$T$2:$T$35,0),9)),\"\",INDEX(順位戦!$T$2:$AL$35,MATCH($A67,順位戦!$T$2:$T$35,0),9))","v":""},{"$f":"IF(ISERROR(INDEX(順位戦!$T$2:$AL$35,MATCH($A67,順位戦!$T$2:$T$35,0),15)),\"\",INDEX(順位戦!$T$2:$AL$35,MATCH($A67,順位戦!$T$2:$T$35,0),15))","v":""},{"$f":"IF(ISERROR(INDEX(順位戦!$T$2:$AL$35,MATCH($A67,順位戦!$T$2:$T$35,0),12)),\"\",INDEX(順位戦!$T$2:$AL$35,MATCH($A67,順位戦!$T$2:$T$35,0),12))","v":""},{"$f":"IF(ISERROR(INDEX(順位戦!$T$2:$AL$35,MATCH($A67,順位戦!$T$2:$T$35,0),17)),\"\",INDEX(順位戦!$T$2:$AL$35,MATCH($A67,順位戦!$T$2:$T$35,0),17))","v":""},{"$f":"IF(ISERROR(INDEX(順位戦!$T$2:$AL$35,MATCH($A67,順位戦!$T$2:$T$35,0),16)),\"\",INDEX(順位戦!$T$2:$AL$35,MATCH($A67,順位戦!$T$2:$T$35,0),16))","v":""}]
[null,{"$f":"IF(ISERROR(INDEX(概要設定!$J$2:$K$51,MATCH($B69,概要設定!$J$2:$J$51,0),2)),\"\",INDEX(概要設定!$J$2:$K$51,MATCH($B69,概要設定!$J$2:$J$51,0),2))","v":""},null,null,{"$f":"IF(ISERROR(INDEX(順位戦!$T$2:$AL$35,MATCH($A69,順位戦!$T$2:$T$35,0),16)),\"\",INDEX(順位戦!$T$2:$AL$35,MATCH($A69,順位戦!$T$2:$T$35,0),16))","v":""},null,{"$f":"IF(ISERROR(INDEX(順位戦!$T$2:$AL$35,MATCH($A69,順位戦!$T$2:$T$35,0),18)),\"\",INDEX(順位戦!$T$2:$AL$35,MATCH($A69,順位戦!$T$2:$T$35,0),18))","v":""}]
[32,{"$f":"IF(ISERROR(INDEX(順位戦!$T$2:$AL$35,MATCH($A69,順位戦!$T$2:$T$35,0),2)),\"\",INDEX(順位戦!$T$2:$AL$35,MATCH($A69,順位戦!$T$2:$T$35,0),2))","v":""},{"$f":"IF(ISERROR(INDEX(順位戦!$T$2:$AL$35,MATCH($A69,順位戦!$T$2:$T$35,0),8)),\"\",INDEX(順位戦!$T$2:$AL$35,MATCH($A69,順位戦!$T$2:$T$35,0),8))","v":""},{"$f":"IF(ISERROR(INDEX(順位戦!$T$2:$AL$35,MATCH($A69,順位戦!$T$2:$T$35,0),9)),\"\",INDEX(順位戦!$T$2:$AL$35,MATCH($A69,順位戦!$T$2:$T$35,0),9))","v":""},{"$f":"IF(ISERROR(INDEX(順位戦!$T$2:$AL$35,MATCH($A69,順位戦!$T$2:$T$35,0),15)),\"\",INDEX(順位戦!$T$2:$AL$35,MATCH($A69,順位戦!$T$2:$T$35,0),15))","v":""},{"$f":"IF(ISERROR(INDEX(順位戦!$T$2:$AL$35,MATCH($A69,順位戦!$T$2:$T$35,0),12)),\"\",INDEX(順位戦!$T$2:$AL$35,MATCH($A69,順位戦!$T$2:$T$35,0),12))","v":""},{"$f":"IF(ISERROR(INDEX(順位戦!$T$2:$AL$35,MATCH($A69,順位戦!$T$2:$T$35,0),17)),\"\",INDEX(順位戦!$T$2:$AL$35,MATCH($A69,順位戦!$T$2:$T$35,0),17))","v":""},{"$f":"IF(ISERROR(INDEX(順位戦!$T$2:$AL$35,MATCH($A69,順位戦!$T$2:$T$35,0),16)),\"\",INDEX(順位戦!$T$2:$AL$35,MATCH($A69,順位戦!$T$2:$T$35,0),16))","v":""}]
[null,{"$f":"IF(ISERROR(INDEX(概要設定!$J$2:$K$51,MATCH($B71,概要設定!$J$2:$J$51,0),2)),\"\",INDEX(概要設定!$J$2:$K$51,MATCH($B71,概要設定!$J$2:$J$51,0),2))","v":""},null,null,{"$f":"IF(ISERROR(INDEX(順位戦!$T$2:$AL$35,MATCH($A71,順位戦!$T$2:$T$35,0),16)),\"\",INDEX(順位戦!$T$2:$AL$35,MATCH($A71,順位戦!$T$2:$T$35,0),16))","v":""},null,{"$f":"IF(ISERROR(INDEX(順位戦!$T$2:$AL$35,MATCH($A71,順位戦!$T$2:$T$35,0),18)),\"\",INDEX(順位戦!$T$2:$AL$35,MATCH($A71,順位戦!$T$2:$T$35,0),18))","v":""}]
[33,{"$f":"IF(ISERROR(INDEX(順位戦!$T$2:$AL$35,MATCH($A71,順位戦!$T$2:$T$35,0),2)),\"\",INDEX(順位戦!$T$2:$AL$35,MATCH($A71,順位戦!$T$2:$T$35,0),2))","v":""},{"$f":"IF(ISERROR(INDEX(順位戦!$T$2:$AL$35,MATCH($A71,順位戦!$T$2:$T$35,0),8)),\"\",INDEX(順位戦!$T$2:$AL$35,MATCH($A71,順位戦!$T$2:$T$35,0),8))","v":""},{"$f":"IF(ISERROR(INDEX(順位戦!$T$2:$AL$35,MATCH($A71,順位戦!$T$2:$T$35,0),9)),\"\",INDEX(順位戦!$T$2:$AL$35,MATCH($A71,順位戦!$T$2:$T$35,0),9))","v":""},{"$f":"IF(ISERROR(INDEX(順位戦!$T$2:$AL$35,MATCH($A71,順位戦!$T$2:$T$35,0),15)),\"\",INDEX(順位戦!$T$2:$AL$35,MATCH($A71,順位戦!$T$2:$T$35,0),15))","v":""},{"$f":"IF(ISERROR(INDEX(順位戦!$T$2:$AL$35,MATCH($A71,順位戦!$T$2:$T$35,0),12)),\"\",INDEX(順位戦!$T$2:$AL$35,MATCH($A71,順位戦!$T$2:$T$35,0),12))","v":""},{"$f":"IF(ISERROR(INDEX(順位戦!$T$2:$AL$35,MATCH($A71,順位戦!$T$2:$T$35,0),17)),\"\",INDEX(順位戦!$T$2:$AL$35,MATCH($A71,順位戦!$T$2:$T$35,0),17))","v":""},{"$f":"IF(ISERROR(INDEX(順位戦!$T$2:$AL$35,MATCH($A71,順位戦!$T$2:$T$35,0),16)),\"\",INDEX(順位戦!$T$2:$AL$35,MATCH($A71,順位戦!$T$2:$T$35,0),16))","v":""}]
[null,{"$f":"IF(ISERROR(INDEX(概要設定!$J$2:$K$51,MATCH($B73,概要設定!$J$2:$J$51,0),2)),\"\",INDEX(概要設定!$J$2:$K$51,MATCH($B73,概要設定!$J$2:$J$51,0),2))","v":""},null,null,{"$f":"IF(ISERROR(INDEX(順位戦!$T$2:$AL$35,MATCH($A73,順位戦!$T$2:$T$35,0),16)),\"\",INDEX(順位戦!$T$2:$AL$35,MATCH($A73,順位戦!$T$2:$T$35,0),16))","v":""},null,{"$f":"IF(ISERROR(INDEX(順位戦!$T$2:$AL$35,MATCH($A73,順位戦!$T$2:$T$35,0),18)),\"\",INDEX(順位戦!$T$2:$AL$35,MATCH($A73,順位戦!$T$2:$T$35,0),18))","v":""}]
[34,{"$f":"IF(ISERROR(INDEX(順位戦!$T$2:$AL$35,MATCH($A73,順位戦!$T$2:$T$35,0),2)),\"\",INDEX(順位戦!$T$2:$AL$35,MATCH($A73,順位戦!$T$2:$T$35,0),2))","v":""},{"$f":"IF(ISERROR(INDEX(順位戦!$T$2:$AL$35,MATCH($A73,順位戦!$T$2:$T$35,0),8)),\"\",INDEX(順位戦!$T$2:$AL$35,MATCH($A73,順位戦!$T$2:$T$35,0),8))","v":""},{"$f":"IF(ISERROR(INDEX(順位戦!$T$2:$AL$35,MATCH($A73,順位戦!$T$2:$T$35,0),9)),\"\",INDEX(順位戦!$T$2:$AL$35,MATCH($A73,順位戦!$T$2:$T$35,0),9))","v":""},{"$f":"IF(ISERROR(INDEX(順位戦!$T$2:$AL$35,MATCH($A73,順位戦!$T$2:$T$35,0),15)),\"\",INDEX(順位戦!$T$2:$AL$35,MATCH($A73,順位戦!$T$2:$T$35,0),15))","v":""},{"$f":"IF(ISERROR(INDEX(順位戦!$T$2:$AL$35,MATCH($A73,順位戦!$T$2:$T$35,0),12)),\"\",INDEX(順位戦!$T$2:$AL$35,MATCH($A73,順位戦!$T$2:$T$35,0),12))","v":""},{"$f":"IF(ISERROR(INDEX(順位戦!$T$2:$AL$35,MATCH($A73,順位戦!$T$2:$T$35,0),17)),\"\",INDEX(順位戦!$T$2:$AL$35,MATCH($A73,順位戦!$T$2:$T$35,0),17))","v":""},{"$f":"IF(ISERROR(INDEX(順位戦!$T$2:$AL$35,MATCH($A73,順位戦!$T$2:$T$35,0),16)),\"\",INDEX(順位戦!$T$2:$AL$35,MATCH($A73,順位戦!$T$2:$T$35,0),16))","v":""}]