{"text_format":"1","workbook":"xlsx","n_sheets":7,"sheets":["取扱説明","概要設定","list","1組","RT","ラベル","結果"],"not_rendered":{"charts":0,"images":0,"macros":1,"external_links":0,"defined_names":5,"comments":0,"pivot_tables":0},"unopened":[],"bounds":{"document_bytes":16777216,"sheet_cells":100000,"rows_first":2000,"rows_last":500,"rows_between":2000,"halvings":0,"cell_chars":16384,"cell_head_chars":4096},"cells_cut":0,"cells_raw":0,"read":"whole","date_system":"1900"}

{"sheet":"取扱説明","index":0,"n_rows":48,"n_cols":13,"rows_kept":48,"cut":false,"hidden":false,"merged":[]}
[null,"【取扱説明】"]
[null,null,null,null,null,null,null,null,null,null,null,"ver.1.5改","by：にんにん"]
[null,"◆","概要設定"]
[null,null,"まずはじめに、名前、ハンデ者には\"-\"を事前に入力します。"]
[null,null,"基準点、ハンデ点はデフォルトのままで良いです。（２４０点まで対応）"]
[null,null,"開催日、対抗戦名を入力し、ルール（基準点）、会場名をプルダウンメニューから選んでください。"]
[null,null,"注）同姓同名の場合は違う名前にして登録お願いします。"]
[null,null,"　　例）　山田太郎A　山田太郎B"]
[]
[null,"◆","list"]
[null,null,"ラウンドテーブル表を設定します。（３人～１７人に対応）",null,null,null,null,"16人・17人は新◯ｐの協力ｗ"]
[]
[null,"◆","一組"]
[null,null,"名前をプルダウンメニューから選択（１７人まで対応）"]
[null,null,"女子のハンデにも対応し名前左隣に\"△\"が表示されます。"]
[null,null,"（ハンデ者は事前に概要設定の名前の右隣ハンデに”-”を選択してください。）"]
[null,null,"勝者は半角小文字\"w\"、敗者は得点を入力。（半角大文字\"W\"、全角小文字\"ｗ\"、全角大文字\"Ｗ\"は自動で半角小文字に変換）"]
[null,null,"新たにHRを入力出来る様にし、結果表に反映されます。"]
[null,null,"「入力アシスト機能」"]
[null,null,"負けスコア入力後”w”が自動表示、「Ctrl+q」は自分相手クリア、「Ctrl+f」は全てクリア、「Ctrl+k」は対戦マス目のみクリア"]
[null,null,"印刷する時はマス目以外の所でクリック（A1セル）、対戦相手のマゼンダ色が表示されるからです。"]
[]
[null,"◆","RT"]
[null,null,"新機能、ラウンドテーブル表から節毎に対戦相手、ラベルを自動表示され、スコア、A・B、HRの入力が出来ます。"]
[null,null,"3人～17人対応　RT作成ボタンで対戦相手が表示されラベルも同時に作成されます。"]
[null,null," ※注）RT、一組で入力したスコアは消えます。"]
[null,null,"RT作成ボタンを押す前に、1組の選手を登録すると人数が自動表示されます。（人数は入力しないで下さい。）"]
[null,null,"節数を入力しRT作成ボタンを押すと、入力節まで表示されます。（”９９”と入力すると全節が表示され”０”だと全節クリアされます。）"]
[null,null,"スコア入力後、1組へ反映ボタンを押すと、1組にスコアが反映されます。※注）１組で入力したスコアは消えます。"]
[null,null,"１組からRTへの反映は出来ません。"]
[null,null,"敗者側のスコアを入力すると相手側に”ｗ”が自動表示されます。"]
[null,null,"一組および、RT画面からスコアを入力する場合はどちらか一方のみにして下さい。（結果表はどちらで入力しても同じです。）"]
[]
[null,"◆","ラベル（運営カード）"]
[null,null,"運営カードシートで運営カードを印刷してください。"]
[null,null,"A6またはハガキサイズで印刷されます。（offes２００７は大丈夫ですが、２０１３はページがうまくいかないみたい？）"]
[]
[null,"◆","結果"]
[null,"順位、名前、W数、L数、TP、LP、HRが集計されます。"]
[null,"HR者の最高得点者には点数に色が表示されます。"]
[null,"「順位判定」"]
[null,"W数多い＞TP多い（ハンデに対応）＞総失点少ない(”w”を除いた合計、又失点のハンデは未対応)」で判定"]
[null,"同率の場合は手入力でお願いします。"]
[]
[null,null,"女子のハンデにも対応しました。（１組および、結果のＴＰの内訳は、横合計＊180/140　　\"w\"はハンデ点とします。）"]
[null,null,"例）"]
[null,null,"花子　△","（ハンデ者）","w　　100","w　　50","　　→","（140＋100＋140＋50）＊180/140＝552点　（小数点以下切り捨て）"]
[null,null,"太郎",null,"w　　100","w　　50","　　→","（180＋100＋180＋50）＊180/180＝510点　（小数点以下切り捨て）"]

{"sheet":"概要設定","index":1,"n_rows":16,"n_cols":13,"rows_kept":16,"cut":false,"hidden":false,"merged":[[14,1,14,2],[15,1,15,2],[3,1,3,6],[7,1,7,6],[10,1,10,2],[11,1,11,2],[12,1,12,2]]}
[null,null,null,null,null,null,null,null,null,"名　　前","ハンデ","基準点数","ハンデ点数"]
["開催日",2016,"年",3,"月",13,"日",null,null,"山田　晋之",null,120,100]
[null,null,null,null,null,null,null,null,null,"吉向",null,160,120]
["試合名","京奈対抗戦",null,null,null,null,null,null,null,"金澤",null,180,140]
[null,null,null,null,null,null,null,null,null,"白戸",null,240,200]
["ルール",180,"点","コールショット",null,null,null,null,null,"近藤"]
[null,null,null,null,null,null,null,null,null,"斎藤裕児"]
["会場名","キングスポット",null,null,null,null,null,null,null,"斎藤大輔"]
[null,null,null,null,null,null,null,null,null,"長谷川"]
[null,null,null,null,null,null,null,null,null,"宮野","-"]
[null,"会　場",null,null,null,null,null,null,null,"植田"]
[null,"トップガン",null,null,null,null,null,null,null,"谷野"]
[null,"キングスポット",null,null,null,null,null,null,null,"水田"]
[null,"プールギャング",null,null,null,null,null,null,null,"山田晃司"]
[null,null,null,null,null,null,null,null,null,"鷲尾"]
[null,null,null,null,null,null,null,null,null,"岩本"]

{"sheet":"list","index":2,"n_rows":146,"n_cols":75,"rows_kept":146,"cut":false,"hidden":false,"merged":[[29,0,32,0],[29,1,32,1],[29,2,32,2],[29,3,32,3],[29,4,32,4]]}
[null,3,"人",null,null,null,4,"人",null,null,null,5,"人",null,null,null,6,"人",null,null,null,7,"人",null,null,null,8,"人",null,null,null,9,"人",null,null,null,10,"人",null,null,null,11,"人",null,null,null,12,"人",null,null,null,13,"人",null,null,null,14,"人",null,null,null,15,"人",null,null,null,16,"人",null,null,null,17,"人"]
[1,{"$f":"A2+1","v":2},{"$f":"B2+1","v":3},{"$f":"C2+1","v":4},5,6,7,8,9,10,11,12,13,14,15,16,17,18,19,20,21,22,23,24,25,26,27,28,29,30,31,32,33,34,35,36,37,38,39,40,41,42,43,44,45,46,47,48,49,50,51,52,53,54,55,56,57,58,59,{"$f":"BG2+1","v":60},{"$f":"BH2+1","v":61},{"$f":"BI2+1","v":62},{"$f":"BJ2+1","v":63},{"$f":"BK2+1","v":64},{"$f":"BL2+1","v":65},{"$f":"BM2+1","v":66},{"$f":"BN2+1","v":67},{"$f":"BO2+1","v":68},{"$f":"BP2+1","v":69},{"$f":"BQ2+1","v":70},{"$f":"BR2+1","v":71},{"$f":"BS2+1","v":72},{"$f":"BT2+1","v":73},{"$f":"BU2+1","v":74},75]
[null,"一節",null,null,1,null,"一節",null,null,1,null,"一節",null,null,1,null,"一節",null,null,1,null,"一節",null,null,1,null,"一節",null,null,1,null,"一節",null,null,1,null,"一節",null,null,1,null,"一節",null,null,1,null,"一節",null,null,1,null,"一節",null,null,1,null,"一節",null,null,1,null,"一節",null,null,1,null,"一節",null,null,1,null,"一節",null,null,1]
[1,2,"-",3,1,1,2,"-",3,1,1,2,"-",5,1,1,3,"-",4,1,1,2,"-",4,1,1,4,"-",5,1,1,2,"-",4,1,1,5,"-",6,1,1,2,"-",4,1,1,6,"-",7,1,1,2,"-",4,1,1,7,"-",8,1,1,2,"-",4,1,1,8,"-",9,1,1,2,"-",4,1]
[{"$f":"A4+1","v":2},1,"-",3,1,{"$f":"F4+1","v":2},1,"-",4,1,{"$f":"K4+1","v":2},3,"-",4,1,2,2,"-",5,1,2,3,"-",6,1,2,3,"-",6,1,2,3,"-",6,1,2,4,"-",7,1,2,3,"-",6,1,2,5,"-",8,1,2,3,"-",6,1,2,6,"-",9,1,2,3,"-",6,1,2,7,"-",10,1,2,3,"-",6,1]
[{"$f":"A5+1","v":3},1,"-",2,1,{"$f":"F5+1","v":3},4,"-",2,1,{"$f":"K5+1","v":3},1,"-",5,1,3,1,"-",6,1,3,5,"-",7,1,3,2,"-",7,1,3,5,"-",8,1,3,3,"-",8,1,3,5,"-",8,1,3,4,"-",9,1,3,5,"-",8,1,3,5,"-",10,1,3,5,"-",8,1,3,6,"-",11,1,3,5,"-",8,1]
[null,null,null,null,null,4,1,"-",3,1,4,3,"-",2,1,null,"二節",null,null,2,4,4,"-",1,1,4,1,"-",8,1,4,7,"-",9,1,4,2,"-",9,1,4,7,"-",10,1,4,3,"-",10,1,4,10,"-",7,1,4,4,"-",11,1,4,7,"-",10,1,4,5,"-",12,1,4,7,"-",10,1]
[null,null,null,null,null,5,3,"-",4,1,5,1,"-",4,1,4,2,"-",3,2,5,2,"-",6,1,null,"二節",null,null,2,5,4,"-",1,1,5,1,"-",10,1,5,9,"-",11,1,5,2,"-",11,1,5,9,"-",12,1,5,3,"-",12,1,5,9,"-",12,1,5,4,"-",13,1,5,9,"-",12,1]
[null,null,null,null,null,6,1,"-",2,1,6,3,"-",5,1,5,6,"-",4,2,6,3,"-",7,1,5,3,"-",4,2,6,2,"-",6,1,null,"二節",null,null,2,6,4,"-",1,1,6,1,"-",12,1,6,11,"-",13,1,6,2,"-",13,1,6,11,"-",14,1,6,3,"-",14,1,6,11,"-",14,1]
[null,null,null,null,null,null,null,null,null,null,7,4,"-",2,1,6,1,"-",5,2,7,1,"-",5,1,6,2,"-",5,2,7,3,"-",8,1,6,4,"-",5,2,7,2,"-",6,1,null,"二節",null,null,2,7,4,"-",1,1,7,1,"-",14,1,7,13,"-",15,1,7,2,"-",15,1,7,13,"-",16,1]
[null,null,null,null,null,null,null,null,null,null,8,3,"-",1,1,null,"三節",null,null,3,null,"二節",null,null,2,7,8,"-",6,2,8,5,"-",9,1,7,3,"-",6,2,8,3,"-",8,1,7,5,"-",6,2,8,2,"-",6,1,null,"二節",null,null,2,8,4,"-",1,1,8,1,"-",16,1,8,15,"-",17,1]
[null,null,null,null,null,null,null,null,null,null,9,4,"-",5,1,7,6,"-",2,3,8,4,"-",6,2,8,1,"-",7,2,9,1,"-",7,1,8,2,"-",7,2,9,5,"-",10,1,8,4,"-",7,2,9,3,"-",8,1,8,6,"-",7,2,9,2,"-",6,1,null,"二節",null,null,2,9,4,"-",1,1]
[null,null,null,null,null,null,null,null,null,null,10,1,"-",2,1,8,5,"-",3,3,9,2,"-",7,2,null,"三節",null,null,3,null,"二節",null,null,2,9,10,"-",8,2,10,7,"-",11,1,9,3,"-",8,2,10,5,"-",10,1,9,5,"-",8,2,10,3,"-",8,1,9,7,"-",8,2,10,2,"-",6,1]
[null,null,null,null,null,null,null,null,null,null,null,null,null,null,null,9,1,"-",4,3,10,3,"-",5,2,9,2,"-",3,3,10,4,"-",6,2,10,1,"-",9,2,11,1,"-",9,1,10,2,"-",9,2,11,7,"-",12,1,10,4,"-",9,2,11,5,"-",10,1,10,6,"-",9,2,11,3,"-",8,1]
[null,null,null,null,null,null,null,null,null,null,null,null,null,null,null,null,"四節",null,null,4,11,6,"-",1,2,10,8,"-",4,3,11,2,"-",8,2,null,"三節",null,null,3,null,"二節",null,null,2,11,12,"-",10,2,12,9,"-",13,1,11,3,"-",10,2,12,7,"-",12,1,11,5,"-",10,2,12,5,"-",10,1]
[null,null,null,null,null,null,null,null,null,null,null,null,null,null,null,10,5,"-",6,4,12,4,"-",7,2,11,7,"-",5,3,12,3,"-",9,2,11,3,"-",4,3,12,4,"-",6,2,12,1,"-",11,2,13,1,"-",11,1,12,2,"-",11,2,13,9,"-",14,1,12,4,"-",11,2,13,7,"-",12,1]
[null,null,null,null,null,null,null,null,null,null,null,null,null,null,null,11,4,"-",2,4,13,2,"-",5,2,12,1,"-",6,3,13,5,"-",7,2,12,2,"-",5,3,13,2,"-",8,2,null,"三節",null,null,3,null,"二節",null,null,2,13,14,"-",12,2,14,11,"-",15,1,13,3,"-",12,2,14,9,"-",14,1]
[null,null,null,null,null,null,null,null,null,null,null,null,null,null,null,12,1,"-",3,4,14,1,"-",3,2,null,"四節",null,null,4,14,6,"-",1,2,13,10,"-",6,3,14,3,"-",10,2,13,4,"-",5,3,14,4,"-",6,2,14,1,"-",13,2,15,1,"-",13,1,14,2,"-",13,2,15,11,"-",16,1]
[null,null,null,null,null,null,null,null,null,null,null,null,null,null,null,null,"五節",null,null,5,null,"三節",null,null,3,13,8,"-",2,4,15,4,"-",8,2,14,9,"-",7,3,15,5,"-",11,2,14,3,"-",6,3,15,2,"-",8,2,null,"三節",null,null,3,null,"二節",null,null,2,15,16,"-",14,2,16,13,"-",17,1]
[null,null,null,null,null,null,null,null,null,null,null,null,null,null,null,13,4,"-",5,5,15,6,"-",7,3,14,7,"-",3,4,16,2,"-",9,2,15,1,"-",8,3,16,7,"-",9,2,15,2,"-",7,3,16,3,"-",10,2,15,5,"-",6,3,16,4,"-",6,2,16,1,"-",15,2,17,1,"-",15,1]
[null,null,null,null,null,null,null,null,null,null,null,null,null,null,null,14,3,"-",6,5,16,4,"-",5,3,15,6,"-",4,4,17,3,"-",7,2,null,"四節",null,null,4,17,6,"-",1,2,16,12,"-",8,3,17,5,"-",12,2,16,4,"-",7,3,17,2,"-",8,2,null,"三節",null,null,3,null,"二節",null,null,2]
[null,null,null,null,null,null,null,null,null,null,null,null,null,null,null,15,1,"-",2,5,17,2,"-",3,3,16,1,"-",5,4,18,1,"-",5,2,16,2,"-",3,4,18,4,"-",8,2,17,11,"-",9,3,18,7,"-",13,2,17,3,"-",8,3,18,3,"-",10,2,17,6,"-",7,3,18,4,"-",6,2]
[null,null,null,null,null,null,null,null,null,null,null,null,null,null,null,null,null,null,null,null,18,1,"-",7,3,null,"五節",null,null,5,null,"三節",null,null,3,17,10,"-",4,4,19,2,"-",10,2,18,1,"-",10,3,19,9,"-",11,2,18,2,"-",9,3,19,5,"-",12,2,18,5,"-",8,3,19,2,"-",8,2]
[null,null,null,null,null,null,null,null,null,null,null,null,null,null,null,null,null,null,null,null,19,5,"-",6,3,17,7,"-",8,5,19,6,"-",8,3,18,9,"-",5,4,20,3,"-",11,2,null,"四節",null,null,4,20,6,"-",1,2,19,14,"-",10,3,20,7,"-",14,2,19,4,"-",9,3,20,3,"-",10,2]
[null,null,null,null,null,null,null,null,null,null,null,null,null,null,null,null,null,null,null,null,20,3,"-",4,3,18,6,"-",2,5,20,4,"-",9,3,19,8,"-",6,4,21,5,"-",9,2,19,3,"-",4,4,21,4,"-",8,2,20,13,"-",11,3,21,9,"-",15,2,20,3,"-",10,3,21,5,"-",12,2]
["ラウンドテーブル表",null,null,null,null,null,null,null,null,null,null,null,null,null,null,null,null,null,null,null,21,1,"-",2,3,19,5,"-",3,5,21,2,"-",7,3,20,1,"-",7,4,22,1,"-",7,2,20,2,"-",5,4,22,2,"-",10,2,21,1,"-",12,3,22,11,"-",13,2,21,2,"-",11,3,22,7,"-",14,2]
[null,"人","数",null,null,null,null,null,null,null,null,null,null,null,null,null,null,null,null,null,null,null,null,null,null,20,1,"-",4,5,22,3,"-",5,3,null,"五節",null,null,5,null,"三節",null,null,3,21,12,"-",6,4,23,3,"-",12,2,null,"四節",null,null,4,23,6,"-",1,2,22,16,"-",12,3,23,9,"-",16,2]
[null,"列セル数",null,null,null,null,null,null,null,null,null,null,null,null,null,null,null,null,null,null,null,null,null,null,null,null,"六節",null,null,6,23,8,"-",1,3,21,10,"-",2,5,23,6,"-",8,3,22,11,"-",7,4,24,5,"-",13,2,22,4,"-",5,4,24,4,"-",8,2,23,15,"-",13,3,24,11,"-",17,2]
[null,"節タイトル",null,null,null,null,null,null,null,null,null,null,null,null,null,null,null,null,null,null,null,null,null,null,null,21,6,"-",7,6,24,6,"-",9,3,22,9,"-",3,5,24,4,"-",10,3,23,10,"-",8,4,25,7,"-",11,2,23,3,"-",6,4,25,2,"-",10,2,24,1,"-",14,3,25,13,"-",15,2]
["試合数","左Ｎｏ","-","右Ｎｏ","節　数",null,null,null,null,null,null,null,null,null,null,null,null,null,null,null,null,null,null,null,null,22,5,"-",8,6,25,4,"-",7,3,23,8,"-",4,5,25,2,"-",11,3,24,1,"-",9,4,26,1,"-",9,2,24,2,"-",7,4,26,3,"-",12,2,null,"四節",null,null,4,26,6,"-",1,2]
[null,null,null,null,null,null,null,null,null,null,null,null,null,null,null,null,null,null,null,null,null,null,null,null,null,23,4,"-",2,6,26,2,"-",5,3,24,7,"-",5,5,26,3,"-",9,3,null,"五節",null,null,5,null,"三節",null,null,3,25,14,"-",8,4,27,5,"-",14,2,25,5,"-",6,4,27,4,"-",8,2]
[null,null,null,null,null,null,null,null,null,null,null,null,null,null,null,null,null,null,null,null,null,null,null,null,null,24,1,"-",3,6,27,1,"-",3,3,25,1,"-",6,5,27,5,"-",7,3,25,2,"-",3,5,27,6,"-",8,3,26,13,"-",9,4,28,7,"-",15,2,26,4,"-",7,4,28,2,"-",10,2]
[null,null,null,null,null,null,null,null,null,null,null,null,null,null,null,null,null,null,null,null,null,null,null,null,null,null,"七節",null,null,7,null,"四節",null,null,4,null,"六節",null,null,6,28,8,"-",1,3,26,12,"-",4,5,28,4,"-",10,3,27,12,"-",10,4,29,9,"-",13,2,27,3,"-",8,4,29,3,"-",12,2]
[null,null,null,null,null,null,null,null,null,null,null,null,null,null,null,null,null,null,null,null,null,null,null,null,null,25,5,"-",6,7,28,8,"-",9,4,26,9,"-",10,6,29,6,"-",10,3,27,11,"-",5,5,29,2,"-",12,3,28,1,"-",11,4,30,1,"-",11,2,28,2,"-",9,4,30,5,"-",14,2]
["出場人員＊（出場人員－１）＊２＝総試合数",null,null,null,null,null,null,null,null,null,null,null,null,null,null,null,null,null,null,null,null,null,null,null,null,26,4,"-",7,7,29,6,"-",7,4,27,8,"-",2,6,30,4,"-",11,3,28,10,"-",6,5,30,3,"-",13,3,null,"五節",null,null,5,null,"三節",null,null,3,29,16,"-",10,4,31,7,"-",16,2]
["奇数の場合：節を抜く毎に２ゲームずつ減る",null,null,null,null,null,null,null,null,null,null,null,null,null,null,null,null,null,null,null,null,null,null,null,null,27,3,"-",8,7,30,4,"-",5,4,28,7,"-",3,6,31,2,"-",9,3,29,9,"-",7,5,31,5,"-",11,3,29,3,"-",4,5,31,6,"-",8,3,30,15,"-",11,4,32,9,"-",17,2]
["偶数の場合：節を抜く毎に１ゲームずつ減る",null,null,null,null,null,null,null,null,null,null,null,null,null,null,null,null,null,null,null,null,null,null,null,null,28,1,"-",2,7,31,2,"-",3,4,29,6,"-",4,6,32,3,"-",7,3,30,1,"-",8,5,32,7,"-",9,3,30,2,"-",5,5,32,4,"-",10,3,31,14,"-",12,4,33,11,"-",15,2]
[null,null,null,null,null,null,null,null,null,null,null,null,null,null,null,null,null,null,null,null,null,null,null,null,null,null,null,null,null,null,32,9,"-",1,4,30,1,"-",5,6,33,1,"-",5,3,null,"六節",null,null,6,33,8,"-",1,3,31,14,"-",6,5,33,2,"-",12,3,32,1,"-",13,4,34,1,"-",13,2]
["例）出場人員が７人の場合（奇数人）",null,null,null,null,null,null,null,null,null,null,null,null,null,null,null,null,null,null,null,null,null,null,null,null,null,null,null,null,null,33,7,"-",8,4,null,"七節",null,null,7,null,"四節",null,null,4,31,12,"-",2,6,34,6,"-",10,3,32,13,"-",7,5,34,3,"-",14,3,null,"五節",null,null,5,null,"三節",null,null,3]
["　　７人＊（７人－１人）＊２＝全２１試合",null,null,null,null,null,null,null,null,null,null,null,null,null,null,null,null,null,null,null,null,null,null,null,null,null,null,null,null,null,34,5,"-",6,4,31,8,"-",9,7,34,8,"-",10,4,32,11,"-",3,6,35,4,"-",12,3,33,12,"-",8,5,35,5,"-",15,3,33,4,"-",5,5,35,6,"-",8,3]
["　　７人で三節を１つ抜くと全節一人に対して６ゲームですが、４ゲームとなる",null,null,null,null,null,null,null,null,null,null,null,null,null,null,null,null,null,null,null,null,null,null,null,null,null,null,null,null,null,35,3,"-",4,4,32,7,"-",10,7,35,6,"-",11,4,33,10,"-",4,6,36,2,"-",13,3,34,11,"-",9,5,36,7,"-",13,3,34,3,"-",6,5,36,4,"-",10,3]
["例）出場人員が８人の場合（偶数人）",null,null,null,null,null,null,null,null,null,null,null,null,null,null,null,null,null,null,null,null,null,null,null,null,null,null,null,null,null,36,1,"-",2,4,33,6,"-",2,7,36,4,"-",9,4,34,9,"-",5,6,37,3,"-",11,3,35,1,"-",10,5,37,9,"-",11,3,35,2,"-",7,5,37,2,"-",12,3]
["　　８人＊（８人－１人）＊２＝全２８試合",null,null,null,null,null,null,null,null,null,null,null,null,null,null,null,null,null,null,null,null,null,null,null,null,null,null,null,null,null,null,null,null,null,null,34,5,"-",3,7,37,2,"-",7,4,35,8,"-",6,6,38,5,"-",9,3,null,"六節",null,null,6,38,8,"-",1,3,36,16,"-",8,5,38,3,"-",14,3]
["　　８人で六・七節を２つ抜くと全節一人に対して７ゲームですが、５ゲームとなる",null,null,null,null,null,null,null,null,null,null,null,null,null,null,null,null,null,null,null,null,null,null,null,null,null,null,null,null,null,null,null,null,null,null,35,1,"-",4,7,38,3,"-",5,4,36,1,"-",7,6,39,1,"-",7,3,36,2,"-",3,6,39,6,"-",10,3,37,15,"-",9,5,39,5,"-",16,3]
[null,null,null,null,null,null,null,null,null,null,null,null,null,null,null,null,null,null,null,null,null,null,null,null,null,null,null,null,null,null,null,null,null,null,null,null,"八節",null,null,8,39,10,"-",1,4,null,"七節",null,null,7,null,"四節",null,null,4,37,14,"-",4,6,40,4,"-",12,3,38,14,"-",10,5,40,7,"-",17,3]
[null,null,null,null,null,null,null,null,null,null,null,null,null,null,null,null,null,null,null,null,null,null,null,null,null,null,null,null,null,null,null,null,null,null,null,36,7,"-",8,8,40,8,"-",11,4,37,11,"-",12,7,40,8,"-",10,4,38,13,"-",5,6,41,2,"-",14,3,39,13,"-",11,5,41,9,"-",15,3]
[null,null,null,null,null,null,null,null,null,null,null,null,null,null,null,null,null,null,null,null,null,null,null,null,null,null,null,null,null,null,null,null,null,null,null,37,6,"-",9,8,41,6,"-",9,4,38,10,"-",2,7,41,6,"-",12,4,39,12,"-",6,6,42,3,"-",15,3,40,1,"-",12,5,42,11,"-",13,3]
[null,null,null,null,null,null,null,null,null,null,null,null,null,null,null,null,null,null,null,null,null,null,null,null,null,null,null,null,null,null,null,null,null,null,null,38,5,"-",10,8,42,4,"-",7,4,39,9,"-",3,7,42,4,"-",13,4,40,11,"-",7,6,43,5,"-",13,3,null,"六節",null,null,6,43,8,"-",1,3]
[null,null,null,null,null,null,null,null,null,null,null,null,null,null,null,null,null,null,null,null,null,null,null,null,null,null,null,null,null,null,null,null,null,null,null,39,4,"-",2,8,43,2,"-",5,4,40,8,"-",4,7,43,2,"-",11,4,41,10,"-",8,6,44,7,"-",11,3,41,3,"-",4,6,44,6,"-",10,3]
[null,null,null,null,null,null,null,null,null,null,null,null,null,null,null,null,null,null,null,null,null,null,null,null,null,null,null,null,null,null,null,null,null,null,null,40,1,"-",3,8,44,1,"-",3,4,41,7,"-",5,7,44,3,"-",9,4,42,1,"-",9,6,45,1,"-",9,3,42,2,"-",5,6,45,4,"-",12,3]
[null,null,null,null,null,null,null,null,null,null,null,null,null,null,null,null,null,null,null,null,null,null,null,null,null,null,null,null,null,null,null,null,null,null,null,null,"九節",null,null,9,null,"五節",null,null,5,42,1,"-",6,7,45,5,"-",7,4,null,"七節",null,null,7,null,"四節",null,null,4,43,16,"-",6,6,46,2,"-",14,3]
[null,null,null,null,null,null,null,null,null,null,null,null,null,null,null,null,null,null,null,null,null,null,null,null,null,null,null,null,null,null,null,null,null,null,null,41,6,"-",7,9,45,10,"-",11,5,null,"八節",null,null,8,46,10,"-",1,4,43,14,"-",2,7,46,8,"-",10,4,44,15,"-",7,6,47,3,"-",16,3]
[null,null,null,null,null,null,null,null,null,null,null,null,null,null,null,null,null,null,null,null,null,null,null,null,null,null,null,null,null,null,null,null,null,null,null,42,5,"-",8,9,46,8,"-",9,5,43,10,"-",11,8,47,8,"-",12,4,44,13,"-",3,7,47,6,"-",12,4,45,14,"-",8,6,48,5,"-",17,3]
[null,null,null,null,null,null,null,null,null,null,null,null,null,null,null,null,null,null,null,null,null,null,null,null,null,null,null,null,null,null,null,null,null,null,null,43,4,"-",9,9,47,6,"-",7,5,44,9,"-",12,8,48,6,"-",13,4,45,12,"-",4,7,48,4,"-",14,4,46,13,"-",9,6,49,7,"-",15,3]
[null,null,null,null,null,null,null,null,null,null,null,null,null,null,null,null,null,null,null,null,null,null,null,null,null,null,null,null,null,null,null,null,null,null,null,44,3,"-",10,9,48,4,"-",5,5,45,8,"-",2,8,49,4,"-",11,4,46,11,"-",5,7,49,2,"-",15,4,47,12,"-",10,6,50,9,"-",13,3]
[null,null,null,null,null,null,null,null,null,null,null,null,null,null,null,null,null,null,null,null,null,null,null,null,null,null,null,null,null,null,null,null,null,null,null,45,1,"-",2,9,49,2,"-",3,5,46,7,"-",3,8,50,2,"-",9,4,47,10,"-",6,7,50,3,"-",13,4,48,1,"-",11,6,51,1,"-",11,3]
[null,null,null,null,null,null,null,null,null,null,null,null,null,null,null,null,null,null,null,null,null,null,null,null,null,null,null,null,null,null,null,null,null,null,null,null,null,null,null,null,50,11,"-",1,5,47,6,"-",4,8,51,3,"-",7,4,48,9,"-",7,7,51,5,"-",11,4,null,"七節",null,null,7,null,"四節",null,null,4]
[null,null,null,null,null,null,null,null,null,null,null,null,null,null,null,null,null,null,null,null,null,null,null,null,null,null,null,null,null,null,null,null,null,null,null,null,null,null,null,null,51,9,"-",10,5,48,1,"-",5,8,52,1,"-",5,4,49,1,"-",8,7,52,7,"-",9,4,49,2,"-",3,7,52,8,"-",10,4]
[null,null,null,null,null,null,null,null,null,null,null,null,null,null,null,null,null,null,null,null,null,null,null,null,null,null,null,null,null,null,null,null,null,null,null,null,null,null,null,null,52,7,"-",8,5,null,"九節",null,null,9,null,"五節",null,null,5,null,"八節",null,null,8,53,10,"-",1,4,50,16,"-",4,7,53,6,"-",12,4]
[null,null,null,null,null,null,null,null,null,null,null,null,null,null,null,null,null,null,null,null,null,null,null,null,null,null,null,null,null,null,null,null,null,null,null,null,null,null,null,null,53,5,"-",6,5,49,9,"-",10,9,53,10,"-",12,5,50,13,"-",14,8,54,8,"-",12,4,51,15,"-",5,7,54,4,"-",14,4]
[null,null,null,null,null,null,null,null,null,null,null,null,null,null,null,null,null,null,null,null,null,null,null,null,null,null,null,null,null,null,null,null,null,null,null,null,null,null,null,null,54,3,"-",4,5,50,8,"-",11,9,54,8,"-",13,5,51,12,"-",2,8,55,6,"-",14,4,52,14,"-",6,7,55,2,"-",16,4]
[null,null,null,null,null,null,null,null,null,null,null,null,null,null,null,null,null,null,null,null,null,null,null,null,null,null,null,null,null,null,null,null,null,null,null,null,null,null,null,null,55,1,"-",2,5,51,7,"-",12,9,55,6,"-",11,5,52,11,"-",3,8,56,4,"-",15,4,53,13,"-",7,7,56,3,"-",17,4]
[null,null,null,null,null,null,null,null,null,null,null,null,null,null,null,null,null,null,null,null,null,null,null,null,null,null,null,null,null,null,null,null,null,null,null,null,null,null,null,null,null,null,null,null,null,52,6,"-",2,9,56,4,"-",9,5,53,10,"-",4,8,57,2,"-",13,4,54,12,"-",8,7,57,5,"-",15,4]
[null,null,null,null,null,null,null,null,null,null,null,null,null,null,null,null,null,null,null,null,null,null,null,null,null,null,null,null,null,null,null,null,null,null,null,null,null,null,null,null,null,null,null,null,null,53,5,"-",3,9,57,2,"-",7,5,54,9,"-",5,8,58,3,"-",11,4,55,11,"-",9,7,58,7,"-",13,4]
[null,null,null,null,null,null,null,null,null,null,null,null,null,null,null,null,null,null,null,null,null,null,null,null,null,null,null,null,null,null,null,null,null,null,null,null,null,null,null,null,null,null,null,null,null,54,1,"-",4,9,58,3,"-",5,5,55,8,"-",6,8,59,5,"-",9,4,56,1,"-",10,7,59,9,"-",11,4]
[null,null,null,null,null,null,null,null,null,null,null,null,null,null,null,null,null,null,null,null,null,null,null,null,null,null,null,null,null,null,null,null,null,null,null,null,null,null,null,null,null,null,null,null,null,null,"十節",null,null,10,59,12,"-",1,5,56,1,"-",7,8,60,1,"-",7,4,null,"八節",null,null,8,60,10,"-",1,4]
[null,null,null,null,null,null,null,null,null,null,null,null,null,null,null,null,null,null,null,null,null,null,null,null,null,null,null,null,null,null,null,null,null,null,null,null,null,null,null,null,null,null,null,null,null,55,8,"-",9,10,60,10,"-",13,5,null,"九節",null,null,9,null,"五節",null,null,5,57,16,"-",2,8,61,8,"-",12,4]
[null,null,null,null,null,null,null,null,null,null,null,null,null,null,null,null,null,null,null,null,null,null,null,null,null,null,null,null,null,null,null,null,null,null,null,null,null,null,null,null,null,null,null,null,null,56,7,"-",10,10,61,8,"-",11,5,57,12,"-",13,9,61,10,"-",12,5,58,15,"-",3,8,62,6,"-",14,4]
[null,null,null,null,null,null,null,null,null,null,null,null,null,null,null,null,null,null,null,null,null,null,null,null,null,null,null,null,null,null,null,null,null,null,null,null,null,null,null,null,null,null,null,null,null,57,6,"-",11,10,62,6,"-",9,5,58,11,"-",14,9,62,8,"-",14,5,59,14,"-",4,8,63,4,"-",16,4]
[null,null,null,null,null,null,null,null,null,null,null,null,null,null,null,null,null,null,null,null,null,null,null,null,null,null,null,null,null,null,null,null,null,null,null,null,null,null,null,null,null,null,null,null,null,58,5,"-",12,10,63,4,"-",7,5,59,10,"-",2,9,63,6,"-",15,5,60,13,"-",5,8,64,2,"-",17,4]
[null,null,null,null,null,null,null,null,null,null,null,null,null,null,null,null,null,null,null,null,null,null,null,null,null,null,null,null,null,null,null,null,null,null,null,null,null,null,null,null,null,null,null,null,null,59,4,"-",2,10,64,2,"-",5,5,60,9,"-",3,9,64,4,"-",13,5,61,12,"-",6,8,65,3,"-",15,4]
[null,null,null,null,null,null,null,null,null,null,null,null,null,null,null,null,null,null,null,null,null,null,null,null,null,null,null,null,null,null,null,null,null,null,null,null,null,null,null,null,null,null,null,null,null,60,1,"-",3,10,65,1,"-",3,5,61,8,"-",4,9,65,2,"-",11,5,62,11,"-",7,8,66,5,"-",13,4]
[null,null,null,null,null,null,null,null,null,null,null,null,null,null,null,null,null,null,null,null,null,null,null,null,null,null,null,null,null,null,null,null,null,null,null,null,null,null,null,null,null,null,null,null,null,null,"十一節",null,null,11,null,"六節",null,null,6,62,7,"-",5,9,66,3,"-",9,5,63,10,"-",8,8,67,7,"-",11,4]
[null,null,null,null,null,null,null,null,null,null,null,null,null,null,null,null,null,null,null,null,null,null,null,null,null,null,null,null,null,null,null,null,null,null,null,null,null,null,null,null,null,null,null,null,null,61,7,"-",8,11,66,12,"-",13,6,63,1,"-",6,9,67,5,"-",7,5,64,1,"-",9,8,68,1,"-",9,4]
[null,null,null,null,null,null,null,null,null,null,null,null,null,null,null,null,null,null,null,null,null,null,null,null,null,null,null,null,null,null,null,null,null,null,null,null,null,null,null,null,null,null,null,null,null,62,6,"-",9,11,67,10,"-",11,6,null,"十節",null,null,10,68,12,"-",1,5,null,"九節",null,null,9,null,"五節",null,null,5]
[null,null,null,null,null,null,null,null,null,null,null,null,null,null,null,null,null,null,null,null,null,null,null,null,null,null,null,null,null,null,null,null,null,null,null,null,null,null,null,null,null,null,null,null,null,63,5,"-",10,11,68,8,"-",9,6,64,11,"-",12,10,69,10,"-",14,5,65,15,"-",16,9,69,10,"-",12,5]
[null,null,null,null,null,null,null,null,null,null,null,null,null,null,null,null,null,null,null,null,null,null,null,null,null,null,null,null,null,null,null,null,null,null,null,null,null,null,null,null,null,null,null,null,null,64,4,"-",11,11,69,6,"-",7,6,65,10,"-",13,10,70,8,"-",15,5,66,14,"-",2,9,70,8,"-",14,5]
[null,null,null,null,null,null,null,null,null,null,null,null,null,null,null,null,null,null,null,null,null,null,null,null,null,null,null,null,null,null,null,null,null,null,null,null,null,null,null,null,null,null,null,null,null,65,3,"-",12,11,70,4,"-",5,6,66,9,"-",14,10,71,6,"-",13,5,67,13,"-",3,9,71,6,"-",16,5]
[null,null,null,null,null,null,null,null,null,null,null,null,null,null,null,null,null,null,null,null,null,null,null,null,null,null,null,null,null,null,null,null,null,null,null,null,null,null,null,null,null,null,null,null,null,66,1,"-",2,11,71,2,"-",3,6,67,8,"-",2,10,72,4,"-",11,5,68,12,"-",4,9,72,4,"-",17,5]
[null,null,null,null,null,null,null,null,null,null,null,null,null,null,null,null,null,null,null,null,null,null,null,null,null,null,null,null,null,null,null,null,null,null,null,null,null,null,null,null,null,null,null,null,null,null,null,null,null,null,72,13,"-",1,6,68,7,"-",3,10,73,2,"-",9,5,69,11,"-",5,9,73,2,"-",15,5]
[null,null,null,null,null,null,null,null,null,null,null,null,null,null,null,null,null,null,null,null,null,null,null,null,null,null,null,null,null,null,null,null,null,null,null,null,null,null,null,null,null,null,null,null,null,null,null,null,null,null,73,11,"-",12,6,69,6,"-",4,10,74,3,"-",7,5,70,10,"-",6,9,74,3,"-",13,5]
[null,null,null,null,null,null,null,null,null,null,null,null,null,null,null,null,null,null,null,null,null,null,null,null,null,null,null,null,null,null,null,null,null,null,null,null,null,null,null,null,null,null,null,null,null,null,null,null,null,null,74,9,"-",10,6,70,1,"-",5,10,75,1,"-",5,5,71,9,"-",7,9,75,5,"-",11,5]
[null,null,null,null,null,null,null,null,null,null,null,null,null,null,null,null,null,null,null,null,null,null,null,null,null,null,null,null,null,null,null,null,null,null,null,null,null,null,null,null,null,null,null,null,null,null,null,null,null,null,75,7,"-",8,6,null,"十一節",null,null,11,null,"六節",null,null,6,72,1,"-",8,9,76,7,"-",9,5]
[null,null,null,null,null,null,null,null,null,null,null,null,null,null,null,null,null,null,null,null,null,null,null,null,null,null,null,null,null,null,null,null,null,null,null,null,null,null,null,null,null,null,null,null,null,null,null,null,null,null,76,5,"-",6,6,71,10,"-",11,11,76,12,"-",14,6,null,"十節",null,null,10,77,12,"-",1,5]
[null,null,null,null,null,null,null,null,null,null,null,null,null,null,null,null,null,null,null,null,null,null,null,null,null,null,null,null,null,null,null,null,null,null,null,null,null,null,null,null,null,null,null,null,null,null,null,null,null,null,77,3,"-",4,6,72,9,"-",12,11,77,10,"-",15,6,73,14,"-",15,10,78,10,"-",14,5]
[null,null,null,null,null,null,null,null,null,null,null,null,null,null,null,null,null,null,null,null,null,null,null,null,null,null,null,null,null,null,null,null,null,null,null,null,null,null,null,null,null,null,null,null,null,null,null,null,null,null,78,1,"-",2,6,73,8,"-",13,11,78,8,"-",13,6,74,13,"-",16,10,79,8,"-",16,5]
[null,null,null,null,null,null,null,null,null,null,null,null,null,null,null,null,null,null,null,null,null,null,null,null,null,null,null,null,null,null,null,null,null,null,null,null,null,null,null,null,null,null,null,null,null,null,null,null,null,null,null,null,null,null,null,74,7,"-",14,11,79,6,"-",11,6,75,12,"-",2,10,80,6,"-",17,5]
[null,null,null,null,null,null,null,null,null,null,null,null,null,null,null,null,null,null,null,null,null,null,null,null,null,null,null,null,null,null,null,null,null,null,null,null,null,null,null,null,null,null,null,null,null,null,null,null,null,null,null,null,null,null,null,75,6,"-",2,11,80,4,"-",9,6,76,11,"-",3,10,81,4,"-",15,5]
[null,null,null,null,null,null,null,null,null,null,null,null,null,null,null,null,null,null,null,null,null,null,null,null,null,null,null,null,null,null,null,null,null,null,null,null,null,null,null,null,null,null,null,null,null,null,null,null,null,null,null,null,null,null,null,76,5,"-",3,11,81,2,"-",7,6,77,10,"-",4,10,82,2,"-",13,5]
[null,null,null,null,null,null,null,null,null,null,null,null,null,null,null,null,null,null,null,null,null,null,null,null,null,null,null,null,null,null,null,null,null,null,null,null,null,null,null,null,null,null,null,null,null,null,null,null,null,null,null,null,null,null,null,77,1,"-",4,11,82,3,"-",5,6,78,9,"-",5,10,83,3,"-",11,5]
[null,null,null,null,null,null,null,null,null,null,null,null,null,null,null,null,null,null,null,null,null,null,null,null,null,null,null,null,null,null,null,null,null,null,null,null,null,null,null,null,null,null,null,null,null,null,null,null,null,null,null,null,null,null,null,null,"十二節",null,null,12,83,14,"-",1,6,79,8,"-",6,10,84,5,"-",9,5]
[null,null,null,null,null,null,null,null,null,null,null,null,null,null,null,null,null,null,null,null,null,null,null,null,null,null,null,null,null,null,null,null,null,null,null,null,null,null,null,null,null,null,null,null,null,null,null,null,null,null,null,null,null,null,null,78,9,"-",10,12,84,12,"-",15,6,80,1,"-",7,10,85,1,"-",7,5]
[null,null,null,null,null,null,null,null,null,null,null,null,null,null,null,null,null,null,null,null,null,null,null,null,null,null,null,null,null,null,null,null,null,null,null,null,null,null,null,null,null,null,null,null,null,null,null,null,null,null,null,null,null,null,null,79,8,"-",11,12,85,10,"-",13,6,null,"十一節",null,null,11,null,"六節",null,null,6]
[null,null,null,null,null,null,null,null,null,null,null,null,null,null,null,null,null,null,null,null,null,null,null,null,null,null,null,null,null,null,null,null,null,null,null,null,null,null,null,null,null,null,null,null,null,null,null,null,null,null,null,null,null,null,null,80,7,"-",12,12,86,8,"-",11,6,81,13,"-",14,11,86,12,"-",14,6]
[null,null,null,null,null,null,null,null,null,null,null,null,null,null,null,null,null,null,null,null,null,null,null,null,null,null,null,null,null,null,null,null,null,null,null,null,null,null,null,null,null,null,null,null,null,null,null,null,null,null,null,null,null,null,null,81,6,"-",13,12,87,6,"-",9,6,82,12,"-",15,11,87,10,"-",16,6]
[null,null,null,null,null,null,null,null,null,null,null,null,null,null,null,null,null,null,null,null,null,null,null,null,null,null,null,null,null,null,null,null,null,null,null,null,null,null,null,null,null,null,null,null,null,null,null,null,null,null,null,null,null,null,null,82,5,"-",14,12,88,4,"-",7,6,83,11,"-",16,11,88,8,"-",17,6]
[null,null,null,null,null,null,null,null,null,null,null,null,null,null,null,null,null,null,null,null,null,null,null,null,null,null,null,null,null,null,null,null,null,null,null,null,null,null,null,null,null,null,null,null,null,null,null,null,null,null,null,null,null,null,null,83,4,"-",2,12,89,2,"-",5,6,84,10,"-",2,11,89,6,"-",15,6]
[null,null,null,null,null,null,null,null,null,null,null,null,null,null,null,null,null,null,null,null,null,null,null,null,null,null,null,null,null,null,null,null,null,null,null,null,null,null,null,null,null,null,null,null,null,null,null,null,null,null,null,null,null,null,null,84,1,"-",3,12,90,1,"-",3,6,85,9,"-",3,11,90,4,"-",13,6]
[null,null,null,null,null,null,null,null,null,null,null,null,null,null,null,null,null,null,null,null,null,null,null,null,null,null,null,null,null,null,null,null,null,null,null,null,null,null,null,null,null,null,null,null,null,null,null,null,null,null,null,null,null,null,null,null,"十三節",null,null,13,null,"七節",null,null,7,86,8,"-",4,11,91,2,"-",11,6]
[null,null,null,null,null,null,null,null,null,null,null,null,null,null,null,null,null,null,null,null,null,null,null,null,null,null,null,null,null,null,null,null,null,null,null,null,null,null,null,null,null,null,null,null,null,null,null,null,null,null,null,null,null,null,null,85,8,"-",9,13,91,14,"-",15,7,87,7,"-",5,11,92,3,"-",9,6]
[null,null,null,null,null,null,null,null,null,null,null,null,null,null,null,null,null,null,null,null,null,null,null,null,null,null,null,null,null,null,null,null,null,null,null,null,null,null,null,null,null,null,null,null,null,null,null,null,null,null,null,null,null,null,null,86,7,"-",10,13,92,12,"-",13,7,88,1,"-",6,11,93,5,"-",7,6]
[null,null,null,null,null,null,null,null,null,null,null,null,null,null,null,null,null,null,null,null,null,null,null,null,null,null,null,null,null,null,null,null,null,null,null,null,null,null,null,null,null,null,null,null,null,null,null,null,null,null,null,null,null,null,null,87,6,"-",11,13,93,10,"-",11,7,null,"十二節",null,null,12,94,14,"-",1,6]
[null,null,null,null,null,null,null,null,null,null,null,null,null,null,null,null,null,null,null,null,null,null,null,null,null,null,null,null,null,null,null,null,null,null,null,null,null,null,null,null,null,null,null,null,null,null,null,null,null,null,null,null,null,null,null,88,5,"-",12,13,94,8,"-",9,7,89,12,"-",13,12,95,12,"-",16,6]
[null,null,null,null,null,null,null,null,null,null,null,null,null,null,null,null,null,null,null,null,null,null,null,null,null,null,null,null,null,null,null,null,null,null,null,null,null,null,null,null,null,null,null,null,null,null,null,null,null,null,null,null,null,null,null,89,4,"-",13,13,95,6,"-",7,7,90,11,"-",14,12,96,10,"-",17,6]
[null,null,null,null,null,null,null,null,null,null,null,null,null,null,null,null,null,null,null,null,null,null,null,null,null,null,null,null,null,null,null,null,null,null,null,null,null,null,null,null,null,null,null,null,null,null,null,null,null,null,null,null,null,null,null,90,3,"-",14,13,96,4,"-",5,7,91,10,"-",15,12,97,8,"-",15,6]
[null,null,null,null,null,null,null,null,null,null,null,null,null,null,null,null,null,null,null,null,null,null,null,null,null,null,null,null,null,null,null,null,null,null,null,null,null,null,null,null,null,null,null,null,null,null,null,null,null,null,null,null,null,null,null,91,1,"-",2,13,97,2,"-",3,7,92,9,"-",16,12,98,6,"-",13,6]
[null,null,null,null,null,null,null,null,null,null,null,null,null,null,null,null,null,null,null,null,null,null,null,null,null,null,null,null,null,null,null,null,null,null,null,null,null,null,null,null,null,null,null,null,null,null,null,null,null,null,null,null,null,null,null,null,null,null,null,null,98,15,"-",1,7,93,8,"-",2,12,99,4,"-",11,6]
[null,null,null,null,null,null,null,null,null,null,null,null,null,null,null,null,null,null,null,null,null,null,null,null,null,null,null,null,null,null,null,null,null,null,null,null,null,null,null,null,null,null,null,null,null,null,null,null,null,null,null,null,null,null,null,null,null,null,null,null,99,13,"-",14,7,94,7,"-",3,12,100,2,"-",9,6]
[null,null,null,null,null,null,null,null,null,null,null,null,null,null,null,null,null,null,null,null,null,null,null,null,null,null,null,null,null,null,null,null,null,null,null,null,null,null,null,null,null,null,null,null,null,null,null,null,null,null,null,null,null,null,null,null,null,null,null,null,100,11,"-",12,7,95,6,"-",4,12,101,3,"-",7,6]
[null,null,null,null,null,null,null,null,null,null,null,null,null,null,null,null,null,null,null,null,null,null,null,null,null,null,null,null,null,null,null,null,null,null,null,null,null,null,null,null,null,null,null,null,null,null,null,null,null,null,null,null,null,null,null,null,null,null,null,null,101,9,"-",10,7,96,1,"-",5,12,102,1,"-",5,6]
[null,null,null,null,null,null,null,null,null,null,null,null,null,null,null,null,null,null,null,null,null,null,null,null,null,null,null,null,null,null,null,null,null,null,null,null,null,null,null,null,null,null,null,null,null,null,null,null,null,null,null,null,null,null,null,null,null,null,null,null,102,7,"-",8,7,null,"十三節",null,null,13,null,"七節",null,null,7]
[null,null,null,null,null,null,null,null,null,null,null,null,null,null,null,null,null,null,null,null,null,null,null,null,null,null,null,null,null,null,null,null,null,null,null,null,null,null,null,null,null,null,null,null,null,null,null,null,null,null,null,null,null,null,null,null,null,null,null,null,103,5,"-",6,7,97,11,"-",12,13,103,14,"-",16,7]
[null,null,null,null,null,null,null,null,null,null,null,null,null,null,null,null,null,null,null,null,null,null,null,null,null,null,null,null,null,null,null,null,null,null,null,null,null,null,null,null,null,null,null,null,null,null,null,null,null,null,null,null,null,null,null,null,null,null,null,null,104,3,"-",4,7,98,10,"-",13,13,104,12,"-",17,7]
[null,null,null,null,null,null,null,null,null,null,null,null,null,null,null,null,null,null,null,null,null,null,null,null,null,null,null,null,null,null,null,null,null,null,null,null,null,null,null,null,null,null,null,null,null,null,null,null,null,null,null,null,null,null,null,null,null,null,null,null,105,1,"-",2,7,99,9,"-",14,13,105,10,"-",15,7]
[null,null,null,null,null,null,null,null,null,null,null,null,null,null,null,null,null,null,null,null,null,null,null,null,null,null,null,null,null,null,null,null,null,null,null,null,null,null,null,null,null,null,null,null,null,null,null,null,null,null,null,null,null,null,null,null,null,null,null,null,null,null,null,null,null,100,8,"-",15,13,106,8,"-",13,7]
[null,null,null,null,null,null,null,null,null,null,null,null,null,null,null,null,null,null,null,null,null,null,null,null,null,null,null,null,null,null,null,null,null,null,null,null,null,null,null,null,null,null,null,null,null,null,null,null,null,null,null,null,null,null,null,null,null,null,null,null,null,null,null,null,null,101,7,"-",16,13,107,6,"-",11,7]
[null,null,null,null,null,null,null,null,null,null,null,null,null,null,null,null,null,null,null,null,null,null,null,null,null,null,null,null,null,null,null,null,null,null,null,null,null,null,null,null,null,null,null,null,null,null,null,null,null,null,null,null,null,null,null,null,null,null,null,null,null,null,null,null,null,102,6,"-",2,13,108,4,"-",9,7]
[null,null,null,null,null,null,null,null,null,null,null,null,null,null,null,null,null,null,null,null,null,null,null,null,null,null,null,null,null,null,null,null,null,null,null,null,null,null,null,null,null,null,null,null,null,null,null,null,null,null,null,null,null,null,null,null,null,null,null,null,null,null,null,null,null,103,5,"-",3,13,109,2,"-",7,7]
[null,null,null,null,null,null,null,null,null,null,null,null,null,null,null,null,null,null,null,null,null,null,null,null,null,null,null,null,null,null,null,null,null,null,null,null,null,null,null,null,null,null,null,null,null,null,null,null,null,null,null,null,null,null,null,null,null,null,null,null,null,null,null,null,null,104,1,"-",4,13,110,3,"-",5,7]
[null,null,null,null,null,null,null,null,null,null,null,null,null,null,null,null,null,null,null,null,null,null,null,null,null,null,null,null,null,null,null,null,null,null,null,null,null,null,null,null,null,null,null,null,null,null,null,null,null,null,null,null,null,null,null,null,null,null,null,null,null,null,null,null,null,null,"十四節",null,null,14,111,16,"-",1,7]
[null,null,null,null,null,null,null,null,null,null,null,null,null,null,null,null,null,null,null,null,null,null,null,null,null,null,null,null,null,null,null,null,null,null,null,null,null,null,null,null,null,null,null,null,null,null,null,null,null,null,null,null,null,null,null,null,null,null,null,null,null,null,null,null,null,105,10,"-",11,14,112,14,"-",17,7]
[null,null,null,null,null,null,null,null,null,null,null,null,null,null,null,null,null,null,null,null,null,null,null,null,null,null,null,null,null,null,null,null,null,null,null,null,null,null,null,null,null,null,null,null,null,null,null,null,null,null,null,null,null,null,null,null,null,null,null,null,null,null,null,null,null,106,9,"-",12,14,113,12,"-",15,7]
[null,null,null,null,null,null,null,null,null,null,null,null,null,null,null,null,null,null,null,null,null,null,null,null,null,null,null,null,null,null,null,null,null,null,null,null,null,null,null,null,null,null,null,null,null,null,null,null,null,null,null,null,null,null,null,null,null,null,null,null,null,null,null,null,null,107,8,"-",13,14,114,10,"-",13,7]
[null,null,null,null,null,null,null,null,null,null,null,null,null,null,null,null,null,null,null,null,null,null,null,null,null,null,null,null,null,null,null,null,null,null,null,null,null,null,null,null,null,null,null,null,null,null,null,null,null,null,null,null,null,null,null,null,null,null,null,null,null,null,null,null,null,108,7,"-",14,14,115,8,"-",11,7]
[null,null,null,null,null,null,null,null,null,null,null,null,null,null,null,null,null,null,null,null,null,null,null,null,null,null,null,null,null,null,null,null,null,null,null,null,null,null,null,null,null,null,null,null,null,null,null,null,null,null,null,null,null,null,null,null,null,null,null,null,null,null,null,null,null,109,6,"-",15,14,116,6,"-",9,7]
[null,null,null,null,null,null,null,null,null,null,null,null,null,null,null,null,null,null,null,null,null,null,null,null,null,null,null,null,null,null,null,null,null,null,null,null,null,null,null,null,null,null,null,null,null,null,null,null,null,null,null,null,null,null,null,null,null,null,null,null,null,null,null,null,null,110,5,"-",16,14,117,4,"-",7,7]
[null,null,null,null,null,null,null,null,null,null,null,null,null,null,null,null,null,null,null,null,null,null,null,null,null,null,null,null,null,null,null,null,null,null,null,null,null,null,null,null,null,null,null,null,null,null,null,null,null,null,null,null,null,null,null,null,null,null,null,null,null,null,null,null,null,111,4,"-",2,14,118,2,"-",5,7]
[null,null,null,null,null,null,null,null,null,null,null,null,null,null,null,null,null,null,null,null,null,null,null,null,null,null,null,null,null,null,null,null,null,null,null,null,null,null,null,null,null,null,null,null,null,null,null,null,null,null,null,null,null,null,null,null,null,null,null,null,null,null,null,null,null,112,1,"-",3,14,119,1,"-",3,7]
[null,null,null,null,null,null,null,null,null,null,null,null,null,null,null,null,null,null,null,null,null,null,null,null,null,null,null,null,null,null,null,null,null,null,null,null,null,null,null,null,null,null,null,null,null,null,null,null,null,null,null,null,null,null,null,null,null,null,null,null,null,null,null,null,null,null,"十五節",null,null,15,null,"八節",null,null,8]
[null,null,null,null,null,null,null,null,null,null,null,null,null,null,null,null,null,null,null,null,null,null,null,null,null,null,null,null,null,null,null,null,null,null,null,null,null,null,null,null,null,null,null,null,null,null,null,null,null,null,null,null,null,null,null,null,null,null,null,null,null,null,null,null,null,113,9,"-",10,15,120,16,"-",17,8]
[null,null,null,null,null,null,null,null,null,null,null,null,null,null,null,null,null,null,null,null,null,null,null,null,null,null,null,null,null,null,null,null,null,null,null,null,null,null,null,null,null,null,null,null,null,null,null,null,null,null,null,null,null,null,null,null,null,null,null,null,null,null,null,null,null,114,8,"-",11,15,121,14,"-",15,8]
[null,null,null,null,null,null,null,null,null,null,null,null,null,null,null,null,null,null,null,null,null,null,null,null,null,null,null,null,null,null,null,null,null,null,null,null,null,null,null,null,null,null,null,null,null,null,null,null,null,null,null,null,null,null,null,null,null,null,null,null,null,null,null,null,null,115,7,"-",12,15,122,12,"-",13,8]
[null,null,null,null,null,null,null,null,null,null,null,null,null,null,null,null,null,null,null,null,null,null,null,null,null,null,null,null,null,null,null,null,null,null,null,null,null,null,null,null,null,null,null,null,null,null,null,null,null,null,null,null,null,null,null,null,null,null,null,null,null,null,null,null,null,116,6,"-",13,15,123,10,"-",11,8]
[null,null,null,null,null,null,null,null,null,null,null,null,null,null,null,null,null,null,null,null,null,null,null,null,null,null,null,null,null,null,null,null,null,null,null,null,null,null,null,null,null,null,null,null,null,null,null,null,null,null,null,null,null,null,null,null,null,null,null,null,null,null,null,null,null,117,5,"-",14,15,124,8,"-",9,8]
[null,null,null,null,null,null,null,null,null,null,null,null,null,null,null,null,null,null,null,null,null,null,null,null,null,null,null,null,null,null,null,null,null,null,null,null,null,null,null,null,null,null,null,null,null,null,null,null,null,null,null,null,null,null,null,null,null,null,null,null,null,null,null,null,null,118,4,"-",15,15,125,6,"-",7,8]
[null,null,null,null,null,null,null,null,null,null,null,null,null,null,null,null,null,null,null,null,null,null,null,null,null,null,null,null,null,null,null,null,null,null,null,null,null,null,null,null,null,null,null,null,null,null,null,null,null,null,null,null,null,null,null,null,null,null,null,null,null,null,null,null,null,119,3,"-",16,15,126,4,"-",5,8]
[null,null,null,null,null,null,null,null,null,null,null,null,null,null,null,null,null,null,null,null,null,null,null,null,null,null,null,null,null,null,null,null,null,null,null,null,null,null,null,null,null,null,null,null,null,null,null,null,null,null,null,null,null,null,null,null,null,null,null,null,null,null,null,null,null,120,1,"-",2,15,127,2,"-",3,8]
[null,null,null,null,null,null,null,null,null,null,null,null,null,null,null,null,null,null,null,null,null,null,null,null,null,null,null,null,null,null,null,null,null,null,null,null,null,null,null,null,null,null,null,null,null,null,null,null,null,null,null,null,null,null,null,null,null,null,null,null,null,null,null,null,null,null,null,null,null,null,128,17,"-",1,8]
[null,null,null,null,null,null,null,null,null,null,null,null,null,null,null,null,null,null,null,null,null,null,null,null,null,null,null,null,null,null,null,null,null,null,null,null,null,null,null,null,null,null,null,null,null,null,null,null,null,null,null,null,null,null,null,null,null,null,null,null,null,null,null,null,null,null,null,null,null,null,129,15,"-",16,8]
[null,null,null,null,null,null,null,null,null,null,null,null,null,null,null,null,null,null,null,null,null,null,null,null,null,null,null,null,null,null,null,null,null,null,null,null,null,null,null,null,null,null,null,null,null,null,null,null,null,null,null,null,null,null,null,null,null,null,null,null,null,null,null,null,null,null,null,null,null,null,130,13,"-",14,8]
[null,null,null,null,null,null,null,null,null,null,null,null,null,null,null,null,null,null,null,null,null,null,null,null,null,null,null,null,null,null,null,null,null,null,null,null,null,null,null,null,null,null,null,null,null,null,null,null,null,null,null,null,null,null,null,null,null,null,null,null,null,null,null,null,null,null,null,null,null,null,131,11,"-",12,8]
[null,null,null,null,null,null,null,null,null,null,null,null,null,null,null,null,null,null,null,null,null,null,null,null,null,null,null,null,null,null,null,null,null,null,null,null,null,null,null,null,null,null,null,null,null,null,null,null,null,null,null,null,null,null,null,null,null,null,null,null,null,null,null,null,null,null,null,null,null,null,132,9,"-",10,8]
[null,null,null,null,null,null,null,null,null,null,null,null,null,null,null,null,null,null,null,null,null,null,null,null,null,null,null,null,null,null,null,null,null,null,null,null,null,null,null,null,null,null,null,null,null,null,null,null,null,null,null,null,null,null,null,null,null,null,null,null,null,null,null,null,null,null,null,null,null,null,133,7,"-",8,8]
[null,null,null,null,null,null,null,null,null,null,null,null,null,null,null,null,null,null,null,null,null,null,null,null,null,null,null,null,null,null,null,null,null,null,null,null,null,null,null,null,null,null,null,null,null,null,null,null,null,null,null,null,null,null,null,null,null,null,null,null,null,null,null,null,null,null,null,null,null,null,134,5,"-",6,8]
[null,null,null,null,null,null,null,null,null,null,null,null,null,null,null,null,null,null,null,null,null,null,null,null,null,null,null,null,null,null,null,null,null,null,null,null,null,null,null,null,null,null,null,null,null,null,null,null,null,null,null,null,null,null,null,null,null,null,null,null,null,null,null,null,null,null,null,null,null,null,135,3,"-",4,8]
[null,null,null,null,null,null,null,null,null,null,null,null,null,null,null,null,null,null,null,null,null,null,null,null,null,null,null,null,null,null,null,null,null,null,null,null,null,null,null,null,null,null,null,null,null,null,null,null,null,null,null,null,null,null,null,null,null,null,null,null,null,null,null,null,null,null,null,null,null,null,136,1,"-",2,8]

{"sheet":"1組","index":3,"n_rows":43,"n_cols":46,"rows_kept":43,"cut":false,"hidden":false,"merged":[[33,44,34,44],[35,44,36,44],[8,37,8,38],[12,21,12,22],[12,23,12,24],[12,27,12,28],[10,21,10,22],[10,25,10,26],[12,25,12,26],[16,25,16,26],[18,25,18,26],[10,23,10,24],[8,23,8,24],[18,27,18,28],[18,23,18,24],[20,25,20,26],[22,25,22,26],[22,21,22,22],[16,21,16,22],[16,27,16,28],[16,23,16,24],[34,23,34,24],[34,25,34,26],[28,27,28,28],[37,44,38,44],[42,7,42,8],[5,4,6,4],[7,4,8,4],[9,4,10,4],[10,5,10,6],[21,44,22,44],[23,44,24,44],[25,44,26,44],[27,44,28,44],[29,44,30,44],[31,44,32,44],[23,4,24,4],[17,4,18,4],[19,4,20,4],[24,13,24,14],[24,17,24,18],[24,19,24,20],[24,27,24,28],[24,31,24,32],[39,4,39,44],[6,5,6,6],[12,7,12,8],[6,7,6,8],[0,15,0,20],[17,44,18,44],[19,44,20,44],[5,44,6,44],[16,15,16,16],[18,17,18,18],[20,19,20,20],[7,44,8,44],[9,44,10,44],[11,44,12,44],[13,44,14,44],[15,44,16,44],[20,27,20,28],[20,31,20,32],[8,21,8,22],[18,15,18,16],[20,15,20,16],[14,21,14,22],[8,35,8,36],[14,25,14,26],[10,27,10,28],[14,27,14,28],[10,29,10,30],[12,29,12,30],[14,5,14,6],[11,4,12,4],[27,1,28,1],[13,4,14,4],[15,4,16,4],[21,4,22,4],[23,1,24,1],[25,1,26,1],[23,3,24,3],[25,3,26,3],[25,4,26,4],[18,5,18,6],[3,1,4,1],[4,5,4,6],[4,7,4,8],[28,15,28,16],[4,11,4,12],[8,5,8,6],[8,11,8,12],[14,7,14,8],[14,9,14,10],[12,11,12,12],[3,5,3,6],[3,7,3,8],[3,9,3,10],[3,11,3,12],[3,13,3,14],[18,11,18,12],[20,9,20,10],[20,7,20,8],[14,13,14,14],[18,13,18,14],[16,13,16,14],[20,13,20,14],[18,7,18,8],[18,9,18,10],[35,1,36,1],[37,1,38,1],[8,7,8,8],[16,9,16,10],[16,7,16,8],[12,9,12,10],[38,5,38,6],[38,7,38,8],[38,9,38,10],[20,5,20,6],[16,5,16,6],[37,4,38,4],[31,4,32,4],[35,4,36,4],[36,5,36,6],[17,1,18,1],[19,1,20,1],[21,1,22,1],[31,1,32,1],[33,1,34,1],[29,1,30,1],[28,5,28,6],[28,7,28,8],[27,4,28,4],[22,9,22,10],[24,7,24,8],[24,9,24,10],[32,13,32,14],[26,5,26,6],[28,11,28,12],[28,9,28,10],[28,13,28,14],[26,7,26,8],[26,9,26,10],[26,11,26,12],[32,7,32,8],[22,5,22,6],[24,5,24,6],[22,7,22,8],[30,7,30,8],[30,9,30,10],[34,5,34,6],[32,5,32,6],[38,11,38,12],[36,13,36,14],[38,13,38,14],[38,15,38,16],[38,17,38,18],[38,19,38,20],[36,7,36,8],[36,9,36,10],[36,15,36,16],[36,17,36,18],[36,19,36,20],[14,19,14,20],[14,11,14,12],[16,11,16,12],[20,11,20,12],[12,13,12,14],[16,17,16,18],[16,19,16,20],[34,17,34,18],[36,21,36,22],[30,11,30,12],[30,13,30,14],[22,13,22,14],[22,17,22,18],[22,19,22,20],[26,15,26,16],[28,21,28,22],[28,17,28,18],[28,19,28,20],[36,11,36,12],[42,11,42,12],[32,9,32,10],[32,11,32,12],[42,15,42,16],[38,23,38,24],[26,13,26,14],[36,23,36,24],[28,23,28,24],[24,11,24,12],[24,15,24,16],[38,21,38,22],[32,27,32,28],[3,15,3,16],[32,23,32,24],[32,15,32,16],[32,17,32,18],[32,19,32,20],[22,15,22,16],[3,23,3,24],[3,17,3,18],[3,19,3,20],[3,21,3,22],[14,23,14,24],[6,21,6,22],[6,23,6,24],[6,17,6,18],[6,19,6,20],[6,15,6,16],[32,21,32,22],[18,21,18,22],[14,17,14,18],[20,21,20,22],[24,23,24,24],[20,17,20,18],[18,19,18,20],[29,4,30,4],[30,5,30,6],[30,21,30,22],[30,15,30,16],[30,31,30,32],[30,17,30,18],[1,21,1,24],[26,23,26,24],[22,23,22,24],[20,23,20,24],[26,21,26,22],[24,21,24,22],[22,27,22,28],[26,27,26,28],[12,19,12,20],[26,17,26,18],[26,19,26,20],[22,31,22,32],[30,19,30,20],[16,29,16,30],[8,29,8,30],[14,15,14,16],[12,15,12,16],[12,17,12,18],[33,4,34,4],[34,19,34,20],[34,21,34,22],[26,31,26,32],[30,23,30,24],[30,25,30,26],[30,27,30,28],[26,29,26,30],[22,11,22,12],[28,31,28,32],[28,29,28,30],[34,27,34,28],[28,25,28,26],[24,25,24,26],[26,25,26,26],[32,25,32,26],[34,7,34,8],[34,9,34,10],[34,11,34,12],[34,13,34,14],[34,15,34,16],[34,29,34,30],[34,31,34,32],[32,31,32,32],[5,1,6,1],[7,1,8,1],[9,1,10,1],[11,1,12,1],[13,1,14,1],[15,1,16,1],[6,31,6,32],[8,31,8,32],[10,31,10,32],[12,31,12,32],[6,9,6,10],[10,9,10,10],[10,7,10,8],[10,11,10,12],[10,13,10,14],[10,15,10,16],[10,17,10,18],[10,19,10,20],[8,13,8,14],[8,15,8,16],[8,17,8,18],[8,19,8,20],[8,9,8,10],[12,5,12,6],[36,37,36,38],[36,35,36,36],[36,33,36,34],[36,25,36,26],[36,27,36,28],[36,29,36,30],[36,31,36,32],[38,29,38,30],[38,31,38,32],[38,37,38,38],[38,35,38,36],[38,33,38,34],[38,25,38,26],[38,27,38,28],[34,37,34,38],[34,35,34,36],[34,33,34,34],[32,35,32,36],[32,33,32,34],[14,31,14,32],[16,31,16,32],[18,31,18,32],[20,29,20,30],[22,29,22,30],[24,29,24,30],[14,29,14,30],[18,37,18,38],[18,35,18,36],[18,33,18,34],[16,37,16,38],[16,35,16,36],[16,33,16,34],[14,37,14,38],[14,35,14,36],[14,33,14,34],[20,37,20,38],[20,35,20,36],[20,33,20,34],[30,29,30,30],[30,35,30,36],[30,33,30,34],[32,29,32,30],[32,37,32,38],[10,37,10,38],[10,35,10,36],[10,33,10,34],[12,37,12,38],[12,35,12,36],[12,33,12,34],[28,37,28,38],[30,37,30,38],[28,35,28,36],[28,33,28,34],[26,37,26,38],[26,35,26,36],[26,33,26,34],[24,37,24,38],[24,35,24,36],[18,29,18,30],[6,37,6,38],[6,35,6,36],[6,33,6,34],[22,35,22,36],[22,33,22,34],[24,33,24,34],[22,37,22,38],[3,33,3,34],[3,35,3,36],[3,37,3,38],[4,35,4,36],[4,37,4,38],[3,25,3,26],[3,27,3,28],[4,29,4,30],[4,31,4,32],[8,25,8,26],[8,27,8,28],[3,29,3,30],[3,31,3,32],[4,33,4,34],[6,29,6,30],[8,33,8,34],[4,13,4,14],[4,15,4,16],[4,17,4,18],[4,19,4,20],[4,21,4,22],[4,23,4,24],[4,25,4,26],[4,9,4,10],[6,27,6,28],[6,25,6,26],[6,13,6,14],[6,11,6,12],[4,27,4,28],[5,39,6,39],[5,40,6,40],[5,41,6,41],[5,42,6,42],[5,43,6,43],[5,45,6,45],[7,45,8,45],[9,45,10,45],[11,45,12,45],[7,39,8,39],[7,40,8,40],[7,41,8,41],[7,42,8,42],[7,43,8,43],[9,39,10,39],[9,40,10,40],[9,41,10,41],[9,42,10,42],[9,43,10,43],[11,39,12,39],[11,40,12,40],[11,41,12,41],[11,42,12,42],[11,43,12,43],[31,45,32,45],[33,45,34,45],[35,45,36,45],[37,45,38,45],[13,45,14,45],[15,45,16,45],[17,45,18,45],[19,45,20,45],[21,45,22,45],[23,45,24,45],[25,45,26,45],[27,45,28,45],[29,45,30,45],[13,39,14,39],[13,40,14,40],[13,41,14,41],[13,42,14,42],[13,43,14,43],[15,39,16,39],[15,40,16,40],[15,41,16,41],[15,42,16,42],[15,43,16,43],[17,39,18,39],[17,40,18,40],[17,41,18,41],[17,42,18,42],[17,43,18,43],[19,39,20,39],[19,40,20,40],[19,41,20,41],[19,42,20,42],[19,43,20,43],[21,39,22,39],[21,40,22,40],[21,41,22,41],[21,42,22,42],[21,43,22,43],[23,39,24,39],[23,40,24,40],[23,41,24,41],[23,42,24,42],[23,43,24,43],[31,42,32,42],[31,43,32,43],[25,39,26,39],[25,40,26,40],[25,41,26,41],[25,42,26,42],[25,43,26,43],[27,39,28,39],[27,40,28,40],[27,41,28,41],[27,42,28,42],[27,43,28,43],[1,40,1,44],[37,39,38,39],[37,40,38,40],[37,41,38,41],[37,42,38,42],[37,43,38,43],[33,39,34,39],[33,40,34,40],[33,41,34,41],[33,42,34,42],[33,43,34,43],[35,39,36,39],[35,40,36,40],[35,41,36,41],[35,42,36,42],[35,43,36,43],[29,39,30,39],[29,40,30,40],[29,41,30,41],[29,42,30,42],[29,43,30,43],[31,39,32,39],[31,40,32,40],[31,41,32,41],[35,3,36,3],[37,3,38,3],[3,3,4,3],[5,3,6,3],[7,3,8,3],[9,3,10,3],[11,3,12,3],[13,3,14,3],[15,3,16,3],[17,3,18,3],[19,3,20,3],[21,3,22,3],[27,3,28,3],[29,3,30,3],[31,3,32,3],[33,3,34,3]]}
[null,null,null,null,{"$f":"概要設定!B2","v":2016},"年",null,null,{"$f":"概要設定!D2","v":3},"月",null,"例会",null,null,null,{"$f":"概要設定!B4","v":"京奈対抗戦"}]
[null,null,null,null,null,null,null,{"$f":"COUNTA(E6:E29)","v":12},"人",null,{"$f":"概要設定!B6","v":180},"点コールショット",null,null,null,null,null,null,null,"開催日：",null,{"$f":"E1&\"/\"&I1&\"/\"&概要設定!F2","v":"2016/3/13"},null,null,null,null,null,null,null,null,null,null,null,null,null,null,null,null,null,"会場：",{"$f":"概要設定!B8","v":"キングスポット"}]
[]
[null,"No","ハンデ","ハンデ","No.",1,null,2,null,3,null,4,null,5,null,6,null,7,null,8,null,9,null,10,null,11,null,12,null,13,null,14,null,15,null,16,null,17]
[null,null,"得点",null,null,{"$f":"IF($E6=\"\",\"\",$E6)","v":"白戸"},null,{"$f":"IF($E8=\"\",\"\",$E8)","v":"近藤"},null,{"$f":"IF($E10=\"\",\"\",$E10)","v":"吉向"},null,{"$f":"IF($E12=\"\",\"\",$E12)","v":"山田　晋之"},null,{"$f":"IF($E14=\"\",\"\",$E14)","v":"山田晃司"},null,{"$f":"IF($E16=\"\",\"\",$E16)","v":"長谷川"},null,{"$f":"IF($E18=\"\",\"\",$E18)","v":"植田"},null,{"$f":"IF($E20=\"\",\"\",$E20)","v":"金澤"},null,{"$f":"IF($E22=\"\",\"\",$E22)","v":"宮野"},null,{"$f":"IF($E24=\"\",\"\",$E24)","v":"岩本"},null,{"$f":"IF($E26=\"\",\"\",$E26)","v":"水田"},null,{"$f":"IF($E28=\"\",\"\",$E28)","v":"斎藤裕児"},null,{"$f":"IF($E30=\"\",\"\",$E30)","v":"鷲尾"},null,{"$f":"IF($E32=\"\",\"\",$E32)","v":""},null,{"$f":"IF($E34=\"\",\"\",$E34)","v":""},null,{"$f":"IF($E36=\"\",\"\",$E36)","v":""},null,{"$f":"IF($E38=\"\",\"\",$E38)","v":""},null,"W","L","TP","LP","R_POINT","R","HR"]
[null,1,{"$f":"IF($E6=\"\",\"\",INDEX(概要設定!$J$2:$K$21,MATCH($E6, 概要設定!$J$2:$J$21,0),2))","v":0},{"$f":"IF($C6=\"-\",\"△\",\"\")","v":""},"白戸",null,null,null,null,null,null,null,null,null,null,null,110,null,null,null,108,null,null,null,null,null,null,null,null,null,null,null,null,null,null,null,null,null,null,{"$f":"IF(E6=\"\",\"\",COUNTIF($F7:AL7,\"w\"))","v":5},{"$f":"IF(E6=\"\",\"\",COUNTIF(F7:AL7,\">=0\"))","v":1},{"$f":"IF(E6=\"\",\"\",INT((SUM(F7:AM7)+($C7*AN6))*$K$2/$C7))","v":1073},{"$f":"IF($E6=\"\",\"\",SUM(F$7:F$39))","v":263},{"$f":"IF(E6=\"\",\"\",AN6*100000000+AP6*10000-AQ6)","v":510729737},{"$f":"IF(E6=\"\",\"\",RANK(AR6,$AR$6:$AR$39)+COUNTIF($AR$6:AR6,AR6)-1)","v":1},{"$f":"MAX($G6:$AM6)","v":110}]
[null,null,{"$f":"IF($E6=\"\",\"\",IF($C6<>\"-\",概要設定!$B$6,INDEX(概要設定!$L$2:$M$6,MATCH(概要設定!$B$6, 概要設定!$L$2:$L$6,0),2)))","v":180},null,null,null,null,null,null,null,null,"w",null,null,null,"w",null,173,null,"w",null,"w",null,null,null,"w"]
[null,2,{"$f":"IF($E8=\"\",\"\",INDEX(概要設定!$J$2:$K$21,MATCH($E8, 概要設定!$J$2:$J$21,0),2))","v":0},{"$f":"IF($C8=\"-\",\"△\",\"\")","v":""},"近藤",null,null,null,null,null,null,null,null,null,null,null,null,null,null,null,null,null,null,null,null,null,null,null,null,null,null,null,null,null,null,null,null,null,null,{"$f":"IF(E8=\"\",\"\",COUNTIF($F9:AL9,\"w\"))","v":4},{"$f":"IF(E8=\"\",\"\",COUNTIF(F9:AL9,\">=0\"))","v":2},{"$f":"IF(E8=\"\",\"\",INT((SUM(F9:AM9)+($C9*AN8))*$K$2/$C9))","v":829},{"$f":"IF($E8=\"\",\"\",SUM(H$7:H$39))","v":343},{"$f":"IF(E8=\"\",\"\",AN8*100000000+AP8*10000-AQ8)","v":408289657},{"$f":"IF(E8=\"\",\"\",RANK(AR8,$AR$6:$AR$39)+COUNTIF($AR$6:AR8,AR8)-1)","v":5},{"$f":"MAX($G8:$AM8)","v":0}]
[null,null,{"$f":"IF($E8=\"\",\"\",IF($C8<>\"-\",概要設定!$B$6,INDEX(概要設定!$L$2:$M$6,MATCH(概要設定!$B$6, 概要設定!$L$2:$L$6,0),2)))","v":180},null,null,null,null,null,null,null,null,"w",null,null,null,"w",null,null,null,34,null,null,null,"w",null,null,null,75,null,"w"]
[null,3,{"$f":"IF($E10=\"\",\"\",INDEX(概要設定!$J$2:$K$21,MATCH($E10, 概要設定!$J$2:$J$21,0),2))","v":0},{"$f":"IF($C10=\"-\",\"△\",\"\")","v":""},"吉向",null,null,null,null,null,null,null,null,null,null,null,105,null,null,null,104,null,null,null,null,null,null,null,null,null,null,null,null,null,null,null,null,null,null,{"$f":"IF(E10=\"\",\"\",COUNTIF($F11:AL11,\"w\"))","v":5},{"$f":"IF(E10=\"\",\"\",COUNTIF(F11:AL11,\">=0\"))","v":1},{"$f":"IF(E10=\"\",\"\",INT((SUM(F11:AM11)+($C11*AN10))*$K$2/$C11))","v":1065},{"$f":"IF($E10=\"\",\"\",SUM(J$7:J$39))","v":316},{"$f":"IF(E10=\"\",\"\",AN10*100000000+AP10*10000-AQ10)","v":510649684},{"$f":"IF(E10=\"\",\"\",RANK(AR10,$AR$6:$AR$39)+COUNTIF($AR$6:AR10,AR10)-1)","v":2},{"$f":"MAX($G10:$AM10)","v":105}]
[null,null,{"$f":"IF($E10=\"\",\"\",IF($C10<>\"-\",概要設定!$B$6,INDEX(概要設定!$L$2:$M$6,MATCH(概要設定!$B$6, 概要設定!$L$2:$L$6,0),2)))","v":180},null,null,null,null,null,null,null,null,null,null,null,null,"w",null,null,null,"w",null,null,null,"w",null,"w",null,"w",null,165]
[null,4,{"$f":"IF($E12=\"\",\"\",INDEX(概要設定!$J$2:$K$21,MATCH($E12, 概要設定!$J$2:$J$21,0),2))","v":0},{"$f":"IF($C12=\"-\",\"△\",\"\")","v":""},"山田　晋之",null,null,null,null,null,null,null,null,null,null,null,null,null,null,null,null,null,null,null,null,null,null,null,null,null,null,null,null,null,null,null,null,null,null,{"$f":"IF(E12=\"\",\"\",COUNTIF($F13:AL13,\"w\"))","v":2},{"$f":"IF(E12=\"\",\"\",COUNTIF(F13:AL13,\">=0\"))","v":4},{"$f":"IF(E12=\"\",\"\",INT((SUM(F13:AM13)+($C13*AN12))*$K$2/$C13))","v":757},{"$f":"IF($E12=\"\",\"\",SUM(L$7:L$39))","v":293},{"$f":"IF(E12=\"\",\"\",AN12*100000000+AP12*10000-AQ12)","v":207569707},{"$f":"IF(E12=\"\",\"\",RANK(AR12,$AR$6:$AR$39)+COUNTIF($AR$6:AR12,AR12)-1)","v":10},{"$f":"MAX($G12:$AM12)","v":0}]
[null,null,{"$f":"IF($E12=\"\",\"\",IF($C12<>\"-\",概要設定!$B$6,INDEX(概要設定!$L$2:$M$6,MATCH(概要設定!$B$6, 概要設定!$L$2:$L$6,0),2)))","v":180},null,null,95,null,100,null,null,null,null,null,null,null,"w",null,null,null,"w",null,null,null,59,null,null,null,143]
[null,5,{"$f":"IF($E14=\"\",\"\",INDEX(概要設定!$J$2:$K$21,MATCH($E14, 概要設定!$J$2:$J$21,0),2))","v":0},{"$f":"IF($C14=\"-\",\"△\",\"\")","v":""},"山田晃司",null,null,null,null,null,null,null,null,null,null,null,null,null,null,null,null,null,null,null,null,null,null,null,null,null,null,null,null,null,null,null,null,null,null,{"$f":"IF(E14=\"\",\"\",COUNTIF($F15:AL15,\"w\"))","v":5},{"$f":"IF(E14=\"\",\"\",COUNTIF(F15:AL15,\">=0\"))","v":1},{"$f":"IF(E14=\"\",\"\",INT((SUM(F15:AM15)+($C15*AN14))*$K$2/$C15))","v":1018},{"$f":"IF($E14=\"\",\"\",SUM(N$7:N$39))","v":648},{"$f":"IF(E14=\"\",\"\",AN14*100000000+AP14*10000-AQ14)","v":510179352},{"$f":"IF(E14=\"\",\"\",RANK(AR14,$AR$6:$AR$39)+COUNTIF($AR$6:AR14,AR14)-1)","v":3},{"$f":"MAX($G14:$AM14)","v":0}]
[null,null,{"$f":"IF($E14=\"\",\"\",IF($C14<>\"-\",概要設定!$B$6,INDEX(概要設定!$L$2:$M$6,MATCH(概要設定!$B$6, 概要設定!$L$2:$L$6,0),2)))","v":180},null,null,null,null,null,null,null,null,null,null,null,null,null,null,null,null,"w",null,"w",null,"w",null,"w",null,118,null,"w"]
[null,6,{"$f":"IF($E16=\"\",\"\",INDEX(概要設定!$J$2:$K$21,MATCH($E16, 概要設定!$J$2:$J$21,0),2))","v":0},{"$f":"IF($C16=\"-\",\"△\",\"\")","v":""},"長谷川",null,null,null,null,null,null,null,null,null,null,null,null,null,null,null,null,null,null,null,null,null,null,null,null,null,null,null,null,null,null,null,null,null,null,{"$f":"IF(E16=\"\",\"\",COUNTIF($F17:AL17,\"w\"))","v":1},{"$f":"IF(E16=\"\",\"\",COUNTIF(F17:AL17,\">=0\"))","v":5},{"$f":"IF(E16=\"\",\"\",INT((SUM(F17:AM17)+($C17*AN16))*$K$2/$C17))","v":518},{"$f":"IF($E16=\"\",\"\",SUM(P$7:P$39))","v":102},{"$f":"IF(E16=\"\",\"\",AN16*100000000+AP16*10000-AQ16)","v":105179898},{"$f":"IF(E16=\"\",\"\",RANK(AR16,$AR$6:$AR$39)+COUNTIF($AR$6:AR16,AR16)-1)","v":13},{"$f":"MAX($G16:$AM16)","v":0}]
[null,null,{"$f":"IF($E16=\"\",\"\",IF($C16<>\"-\",概要設定!$B$6,INDEX(概要設定!$L$2:$M$6,MATCH(概要設定!$B$6, 概要設定!$L$2:$L$6,0),2)))","v":180},null,null,16,null,69,null,26,null,162,null,null,null,null,null,null,null,65,null,null,null,"w"]
[null,7,{"$f":"IF($E18=\"\",\"\",INDEX(概要設定!$J$2:$K$21,MATCH($E18, 概要設定!$J$2:$J$21,0),2))","v":0},{"$f":"IF($C18=\"-\",\"△\",\"\")","v":""},"植田",null,null,null,null,null,null,null,null,null,null,null,null,null,null,null,null,null,null,null,null,null,null,null,null,null,null,null,null,null,null,null,null,null,null,{"$f":"IF(E18=\"\",\"\",COUNTIF($F19:AL19,\"w\"))","v":3},{"$f":"IF(E18=\"\",\"\",COUNTIF(F19:AL19,\">=0\"))","v":3},{"$f":"IF(E18=\"\",\"\",INT((SUM(F19:AM19)+($C19*AN18))*$K$2/$C19))","v":902},{"$f":"IF($E18=\"\",\"\",SUM(R$7:R$39))","v":393},{"$f":"IF(E18=\"\",\"\",AN18*100000000+AP18*10000-AQ18)","v":309019607},{"$f":"IF(E18=\"\",\"\",RANK(AR18,$AR$6:$AR$39)+COUNTIF($AR$6:AR18,AR18)-1)","v":6},{"$f":"MAX($G18:$AM18)","v":0}]
[null,null,{"$f":"IF($E18=\"\",\"\",IF($C18<>\"-\",概要設定!$B$6,INDEX(概要設定!$L$2:$M$6,MATCH(概要設定!$B$6, 概要設定!$L$2:$L$6,0),2)))","v":180},null,null,"w",null,null,null,null,null,null,null,null,null,null,null,null,null,null,null,"w",null,170,null,122,null,70,null,"w"]
[null,8,{"$f":"IF($E20=\"\",\"\",INDEX(概要設定!$J$2:$K$21,MATCH($E20, 概要設定!$J$2:$J$21,0),2))","v":0},{"$f":"IF($C20=\"-\",\"△\",\"\")","v":""},"金澤",null,null,null,120,null,null,null,null,null,null,null,null,null,null,null,null,null,null,null,null,null,null,null,null,null,null,null,null,null,null,null,null,null,null,{"$f":"IF(E20=\"\",\"\",COUNTIF($F21:AL21,\"w\"))","v":2},{"$f":"IF(E20=\"\",\"\",COUNTIF(F21:AL21,\">=0\"))","v":4},{"$f":"IF(E20=\"\",\"\",INT((SUM(F21:AM21)+($C21*AN20))*$K$2/$C21))","v":804},{"$f":"IF($E20=\"\",\"\",SUM(T$7:T$39))","v":99},{"$f":"IF(E20=\"\",\"\",AN20*100000000+AP20*10000-AQ20)","v":208039901},{"$f":"IF(E20=\"\",\"\",RANK(AR20,$AR$6:$AR$39)+COUNTIF($AR$6:AR20,AR20)-1)","v":8},{"$f":"MAX($G20:$AM20)","v":120}]
[null,null,{"$f":"IF($E20=\"\",\"\",IF($C20<>\"-\",概要設定!$B$6,INDEX(概要設定!$L$2:$M$6,MATCH(概要設定!$B$6, 概要設定!$L$2:$L$6,0),2)))","v":180},null,null,45,null,"w",null,124,null,131,null,144,null,"w"]
[null,9,{"$f":"IF($E22=\"\",\"\",INDEX(概要設定!$J$2:$K$21,MATCH($E22, 概要設定!$J$2:$J$21,0),2))","v":"-"},{"$f":"IF($C22=\"-\",\"△\",\"\")","v":"△"},"宮野",null,null,null,null,null,null,null,null,null,null,null,null,null,null,null,null,null,null,null,null,null,null,null,null,null,null,null,null,null,null,null,null,null,null,{"$f":"IF(E22=\"\",\"\",COUNTIF($F23:AL23,\"w\"))","v":1},{"$f":"IF(E22=\"\",\"\",COUNTIF(F23:AL23,\">=0\"))","v":5},{"$f":"IF(E22=\"\",\"\",INT((SUM(F23:AM23)+($C23*AN22))*$K$2/$C23))","v":528},{"$f":"IF($E22=\"\",\"\",SUM(V$7:V$39))","v":141},{"$f":"IF(E22=\"\",\"\",AN22*100000000+AP22*10000-AQ22)","v":105279859},{"$f":"IF(E22=\"\",\"\",RANK(AR22,$AR$6:$AR$39)+COUNTIF($AR$6:AR22,AR22)-1)","v":12},{"$f":"MAX($G22:$AM22)","v":0}]
[null,null,{"$f":"IF($E22=\"\",\"\",IF($C22<>\"-\",概要設定!$B$6,INDEX(概要設定!$L$2:$M$6,MATCH(概要設定!$B$6, 概要設定!$L$2:$L$6,0),2)))","v":140},null,null,0,null,null,null,null,null,null,null,122,null,null,null,95,null,null,null,null,null,null,null,54,null,0,null,"w"]
[null,10,{"$f":"IF($E24=\"\",\"\",INDEX(概要設定!$J$2:$K$21,MATCH($E24, 概要設定!$J$2:$J$21,0),2))","v":0},{"$f":"IF($C24=\"-\",\"△\",\"\")","v":""},"岩本",null,null,null,null,null,null,null,null,null,null,null,null,null,null,null,null,null,null,null,null,null,null,null,null,null,null,null,null,null,null,null,null,null,null,{"$f":"IF(E24=\"\",\"\",COUNTIF($F25:AL25,\"w\"))","v":2},{"$f":"IF(E24=\"\",\"\",COUNTIF(F25:AL25,\">=0\"))","v":4},{"$f":"IF(E24=\"\",\"\",INT((SUM(F25:AM25)+($C25*AN24))*$K$2/$C25))","v":860},{"$f":"IF($E24=\"\",\"\",SUM(X$7:X$39))","v":229},{"$f":"IF(E24=\"\",\"\",AN24*100000000+AP24*10000-AQ24)","v":208599771},{"$f":"IF(E24=\"\",\"\",RANK(AR24,$AR$6:$AR$39)+COUNTIF($AR$6:AR24,AR24)-1)","v":7},{"$f":"MAX($G24:$AM24)","v":0}]
[null,null,{"$f":"IF($E24=\"\",\"\",IF($C24<>\"-\",概要設定!$B$6,INDEX(概要設定!$L$2:$M$6,MATCH(概要設定!$B$6, 概要設定!$L$2:$L$6,0),2)))","v":180},null,null,null,null,166,null,60,null,"w",null,172,null,102,null,"w"]
[null,11,{"$f":"IF($E26=\"\",\"\",INDEX(概要設定!$J$2:$K$21,MATCH($E26, 概要設定!$J$2:$J$21,0),2))","v":0},{"$f":"IF($C26=\"-\",\"△\",\"\")","v":""},"水田",null,null,null,null,null,null,null,null,null,null,null,null,null,null,null,null,null,null,null,null,null,null,null,null,null,null,null,null,null,null,null,null,null,null,{"$f":"IF(E26=\"\",\"\",COUNTIF($F27:AL27,\"w\"))","v":2},{"$f":"IF(E26=\"\",\"\",COUNTIF(F27:AL27,\">=0\"))","v":4},{"$f":"IF(E26=\"\",\"\",INT((SUM(F27:AM27)+($C27*AN26))*$K$2/$C27))","v":691},{"$f":"IF($E26=\"\",\"\",SUM(Z$7:Z$39))","v":176},{"$f":"IF(E26=\"\",\"\",AN26*100000000+AP26*10000-AQ26)","v":206909824},{"$f":"IF(E26=\"\",\"\",RANK(AR26,$AR$6:$AR$39)+COUNTIF($AR$6:AR26,AR26)-1)","v":11},{"$f":"MAX($G26:$AM26)","v":0}]
[null,null,{"$f":"IF($E26=\"\",\"\",IF($C26<>\"-\",概要設定!$B$6,INDEX(概要設定!$L$2:$M$6,MATCH(概要設定!$B$6, 概要設定!$L$2:$L$6,0),2)))","v":180},null,null,107,null,null,null,42,null,null,null,59,null,null,null,"w",null,null,null,"w",null,null,null,null,null,null,null,123]
[null,12,{"$f":"IF($E28=\"\",\"\",INDEX(概要設定!$J$2:$K$21,MATCH($E28, 概要設定!$J$2:$J$21,0),2))","v":0},{"$f":"IF($C28=\"-\",\"△\",\"\")","v":""},"斎藤裕児",null,null,null,null,null,null,null,null,null,105,null,null,null,106,null,null,null,null,null,null,null,null,null,null,null,null,null,null,null,null,null,null,null,null,{"$f":"IF(E28=\"\",\"\",COUNTIF($F29:AL29,\"w\"))","v":5},{"$f":"IF(E28=\"\",\"\",COUNTIF(F29:AL29,\">=0\"))","v":1},{"$f":"IF(E28=\"\",\"\",INT((SUM(F29:AM29)+($C29*AN28))*$K$2/$C29))","v":964},{"$f":"IF($E28=\"\",\"\",SUM(AB$7:AB$39))","v":406},{"$f":"IF(E28=\"\",\"\",AN28*100000000+AP28*10000-AQ28)","v":509639594},{"$f":"IF(E28=\"\",\"\",RANK(AR28,$AR$6:$AR$39)+COUNTIF($AR$6:AR28,AR28)-1)","v":4}]
[null,null,{"$f":"IF($E28=\"\",\"\",IF($C28<>\"-\",概要設定!$B$6,INDEX(概要設定!$L$2:$M$6,MATCH(概要設定!$B$6, 概要設定!$L$2:$L$6,0),2)))","v":180},null,null,null,null,"w",null,64,null,"w",null,"w",null,null,null,"w",null,null,null,"w"]
[null,13,{"$f":"IF($E30=\"\",\"\",INDEX(概要設定!$J$2:$K$21,MATCH($E30, 概要設定!$J$2:$J$21,0),2))","v":0},{"$f":"IF($C30=\"-\",\"△\",\"\")","v":""},"鷲尾",null,null,null,null,null,null,null,null,null,null,null,null,null,null,null,null,null,null,null,null,null,103,null,null,null,null,null,null,null,null,null,null,null,null,{"$f":"IF(E30=\"\",\"\",COUNTIF($F31:AL31,\"w\"))","v":2},{"$f":"IF(E30=\"\",\"\",COUNTIF(F31:AL31,\">=0\"))","v":4},{"$f":"IF(E30=\"\",\"\",INT((SUM(F31:AM31)+($C31*AN30))*$K$2/$C31))","v":785},{"$f":"IF($E30=\"\",\"\",SUM(AD$7:AD$39))","v":288},{"$f":"IF(E30=\"\",\"\",AN30*100000000+AP30*10000-AQ30)","v":207849712},{"$f":"IF(E30=\"\",\"\",RANK(AR30,$AR$6:$AR$39)+COUNTIF($AR$6:AR30,AR30)-1)","v":9},{"$f":"MAX($G30:$AM30)","v":103}]
[null,null,{"$f":"IF($E30=\"\",\"\",IF($C30<>\"-\",概要設定!$B$6,INDEX(概要設定!$L$2:$M$6,MATCH(概要設定!$B$6, 概要設定!$L$2:$L$6,0),2)))","v":180},null,null,null,null,8,null,"w",null,null,null,151,null,null,null,125,null,null,null,141,null,null,null,"w"]
[null,14,{"$f":"IF($E32=\"\",\"\",INDEX(概要設定!$J$2:$K$21,MATCH($E32, 概要設定!$J$2:$J$21,0),2))","v":""},{"$f":"IF($C32=\"-\",\"△\",\"\")","v":""},null,null,null,null,null,null,null,null,null,null,null,null,null,null,null,null,null,null,null,null,null,null,null,null,null,null,null,null,null,null,null,null,null,null,null,{"$f":"IF(E32=\"\",\"\",COUNTIF($F33:AL33,\"w\"))","v":""},{"$f":"IF(E32=\"\",\"\",COUNTIF(F33:AL33,\">=0\"))","v":""},{"$f":"IF(E32=\"\",\"\",INT((SUM(F33:AM33)+($C33*AN32))*$K$2/$C33))","v":""},{"$f":"IF($E32=\"\",\"\",SUM(AF$7:AF$39))","v":""},{"$f":"IF(E32=\"\",\"\",AN32*100000000+AP32*10000-AQ32)","v":""},{"$f":"IF(E32=\"\",\"\",RANK(AR32,$AR$6:$AR$39)+COUNTIF($AR$6:AR32,AR32)-1)","v":""},{"$f":"MAX($G32:$AM32)","v":0}]
[null,null,{"$f":"IF($E32=\"\",\"\",IF($C32<>\"-\",概要設定!$B$6,INDEX(概要設定!$L$2:$M$6,MATCH(概要設定!$B$6, 概要設定!$L$2:$L$6,0),2)))","v":""}]
[null,15,{"$f":"IF($E34=\"\",\"\",INDEX(概要設定!$J$2:$K$21,MATCH($E34, 概要設定!$J$2:$J$21,0),2))","v":""},{"$f":"IF($C34=\"-\",\"△\",\"\")","v":""},null,null,null,null,null,null,null,null,null,null,null,null,null,null,null,null,null,null,null,null,null,null,null,null,null,null,null,null,null,null,null,null,null,null,null,{"$f":"IF(E34=\"\",\"\",COUNTIF($F35:AL35,\"w\"))","v":""},{"$f":"IF(E34=\"\",\"\",COUNTIF(F35:AL35,\">=0\"))","v":""},{"$f":"IF(E34=\"\",\"\",INT((SUM(F35:AM35)+($C35*AN34))*$K$2/$C35))","v":""},{"$f":"IF($E34=\"\",\"\",SUM(AH$7:AH$39))","v":""},{"$f":"IF(E34=\"\",\"\",AN34*100000000+AP34*10000-AQ34)","v":""},{"$f":"IF(E34=\"\",\"\",RANK(AR34,$AR$6:$AR$39)+COUNTIF($AR$6:AR34,AR34)-1)","v":""},{"$f":"MAX($G34:$AM34)","v":0}]
[null,null,{"$f":"IF($E34=\"\",\"\",IF($C34<>\"-\",概要設定!$B$6,INDEX(概要設定!$L$2:$M$6,MATCH(概要設定!$B$6, 概要設定!$L$2:$L$6,0),2)))","v":""}]
[null,16,{"$f":"IF($E36=\"\",\"\",INDEX(概要設定!$J$2:$K$21,MATCH($E36, 概要設定!$J$2:$J$21,0),2))","v":""},{"$f":"IF($C36=\"-\",\"△\",\"\")","v":""},null,null,null,null,null,null,null,null,null,null,null,null,null,null,null,null,null,null,null,null,null,null,null,null,null,null,null,null,null,null,null,null,null,null,null,{"$f":"IF(E36=\"\",\"\",COUNTIF($F37:AL37,\"w\"))","v":""},{"$f":"IF(E36=\"\",\"\",COUNTIF(F37:AL37,\">=0\"))","v":""},{"$f":"IF(E36=\"\",\"\",INT((SUM(F37:AM37)+($C37*AN36))*$K$2/$C37))","v":""},{"$f":"IF($E36=\"\",\"\",SUM(AJ$7:AJ$39))","v":""},{"$f":"IF(E36=\"\",\"\",AN36*100000000+AP36*10000-AQ36)","v":""},{"$f":"IF(E36=\"\",\"\",RANK(AR36,$AR$6:$AR$39)+COUNTIF($AR$6:AR36,AR36)-1)","v":""},{"$f":"MAX($G36:$AM36)","v":0}]
[null,null,{"$f":"IF($E36=\"\",\"\",IF($C36<>\"-\",概要設定!$B$6,INDEX(概要設定!$L$2:$M$6,MATCH(概要設定!$B$6, 概要設定!$L$2:$L$6,0),2)))","v":""}]
[null,17,{"$f":"IF($E38=\"\",\"\",INDEX(概要設定!$J$2:$K$21,MATCH($E38, 概要設定!$J$2:$J$21,0),2))","v":""},{"$f":"IF($C38=\"-\",\"△\",\"\")","v":""},null,null,null,null,null,null,null,null,null,null,null,null,null,null,null,null,null,null,null,null,null,null,null,null,null,null,null,null,null,null,null,null,null,null,null,{"$f":"IF(E38=\"\",\"\",COUNTIF($F39:AL39,\"w\"))","v":""},{"$f":"IF(E38=\"\",\"\",COUNTIF(F39:AL39,\">=0\"))","v":""},{"$f":"IF(E38=\"\",\"\",INT((SUM(F39:AM39)+($C39*AN38))*$K$2/$C39))","v":""},{"$f":"IF($E38=\"\",\"\",SUM(AL$7:AL$39))","v":""},{"$f":"IF(E38=\"\",\"\",AN38*100000000+AP38*10000-AQ38)","v":""},{"$f":"IF(E38=\"\",\"\",RANK(AR38,$AR$6:$AR$39)+COUNTIF($AR$6:AR38,AR38)-1)","v":""},{"$f":"MAX($G38:$AM38)","v":0}]
[null,null,{"$f":"IF($E38=\"\",\"\",IF($C38<>\"-\",概要設定!$B$6,INDEX(概要設定!$L$2:$M$6,MATCH(概要設定!$B$6, 概要設定!$L$2:$L$6,0),2)))","v":""}]
[null,null,null,null,"※注1）17人まで対応　※注2）印刷する時はマス目以外の所でクリック（A1）　※注3）負けスコア入力後”w”が自動表示、Ctrl+qは自分相手クリア、Ctrl+f は全てクリア、Ctrl+k は対戦マス目のみクリア"]
[]
[null,null,null,null,null,"記入例",null,"A",120,null,null,"B",120,null,null,null,115]
[null,null,null,null,null,null,null,"w",null,null,null,"w",null,null,null,"w"]

{"sheet":"RT","index":4,"n_rows":329,"n_cols":37,"rows_kept":329,"cut":false,"hidden":false,"merged":[[284,3,284,4],[284,5,284,6],[274,3,274,4],[274,5,274,6],[276,3,276,4],[300,3,300,4],[300,5,300,6],[302,3,302,4],[302,5,302,6],[276,5,276,6],[278,3,278,4],[278,5,278,6],[304,3,304,4],[304,5,304,6],[306,3,306,4],[306,5,306,6],[308,3,308,4],[308,5,308,6],[280,3,280,4],[280,5,280,6],[282,3,282,4],[282,5,282,6],[298,3,298,4],[298,5,298,6],[292,3,292,4],[292,5,292,6],[294,3,294,4],[294,5,294,6],[296,3,296,4],[296,5,296,6],[286,3,286,4],[286,5,286,6],[288,3,288,4],[288,5,288,6],[290,3,290,4],[290,5,290,6],[326,3,326,4],[326,5,326,6],[328,3,328,4],[328,5,328,6],[310,3,310,4],[310,5,310,6],[312,3,312,4],[312,5,312,6],[314,3,314,4],[314,5,314,6],[316,3,316,4],[316,5,316,6],[318,3,318,4],[318,5,318,6],[320,3,320,4],[320,5,320,6],[322,3,322,4],[322,5,322,6],[324,3,324,4],[324,5,324,6],[268,3,268,4],[268,5,268,6],[270,3,270,4],[270,5,270,6],[272,3,272,4],[272,5,272,6],[262,3,262,4],[262,5,262,6],[264,3,264,4],[264,5,264,6],[266,3,266,4],[266,5,266,6],[256,3,256,4],[256,5,256,6],[258,3,258,4],[258,5,258,6],[260,3,260,4],[260,5,260,6],[250,3,250,4],[250,5,250,6],[252,3,252,4],[252,5,252,6],[254,3,254,4],[254,5,254,6],[244,3,244,4],[244,5,244,6],[246,3,246,4],[246,5,246,6],[248,3,248,4],[248,5,248,6],[238,3,238,4],[238,5,238,6],[240,3,240,4],[240,5,240,6],[242,3,242,4],[242,5,242,6],[232,3,232,4],[232,5,232,6],[234,3,234,4],[234,5,234,6],[236,3,236,4],[236,5,236,6],[226,3,226,4],[226,5,226,6],[228,3,228,4],[228,5,228,6],[230,3,230,4],[230,5,230,6],[220,3,220,4],[220,5,220,6],[222,3,222,4],[222,5,222,6],[224,3,224,4],[224,5,224,6],[214,3,214,4],[214,5,214,6],[216,3,216,4],[216,5,216,6],[218,3,218,4],[218,5,218,6],[208,3,208,4],[208,5,208,6],[210,3,210,4],[210,5,210,6],[212,3,212,4],[212,5,212,6],[202,3,202,4],[202,5,202,6],[204,3,204,4],[204,5,204,6],[206,3,206,4],[206,5,206,6],[196,3,196,4],[196,5,196,6],[198,3,198,4],[198,5,198,6],[200,3,200,4],[200,5,200,6],[190,3,190,4],[190,5,190,6],[192,3,192,4],[192,5,192,6],[194,3,194,4],[194,5,194,6],[184,3,184,4],[184,5,184,6],[186,3,186,4],[186,5,186,6],[188,3,188,4],[188,5,188,6],[178,3,178,4],[178,5,178,6],[180,3,180,4],[180,5,180,6],[182,3,182,4],[182,5,182,6],[172,3,172,4],[172,5,172,6],[174,3,174,4],[174,5,174,6],[176,3,176,4],[176,5,176,6],[166,3,166,4],[166,5,166,6],[168,3,168,4],[168,5,168,6],[170,3,170,4],[170,5,170,6],[160,3,160,4],[160,5,160,6],[162,3,162,4],[162,5,162,6],[164,3,164,4],[164,5,164,6],[154,3,154,4],[154,5,154,6],[156,3,156,4],[156,5,156,6],[158,3,158,4],[158,5,158,6],[148,3,148,4],[148,5,148,6],[150,3,150,4],[150,5,150,6],[152,3,152,4],[152,5,152,6],[142,3,142,4],[142,5,142,6],[144,3,144,4],[144,5,144,6],[146,3,146,4],[146,5,146,6],[136,3,136,4],[136,5,136,6],[138,3,138,4],[138,5,138,6],[140,3,140,4],[140,5,140,6],[130,3,130,4],[130,5,130,6],[132,3,132,4],[132,5,132,6],[134,3,134,4],[134,5,134,6],[124,3,124,4],[124,5,124,6],[126,3,126,4],[126,5,126,6],[128,3,128,4],[128,5,128,6],[118,3,118,4],[118,5,118,6],[120,3,120,4],[120,5,120,6],[122,3,122,4],[122,5,122,6],[112,3,112,4],[112,5,112,6],[114,3,114,4],[114,5,114,6],[116,3,116,4],[116,5,116,6],[106,3,106,4],[106,5,106,6],[108,3,108,4],[108,5,108,6],[110,3,110,4],[110,5,110,6],[100,3,100,4],[100,5,100,6],[102,3,102,4],[102,5,102,6],[104,3,104,4],[104,5,104,6],[94,3,94,4],[94,5,94,6],[96,3,96,4],[96,5,96,6],[98,3,98,4],[98,5,98,6],[88,3,88,4],[88,5,88,6],[90,3,90,4],[90,5,90,6],[92,3,92,4],[92,5,92,6],[82,3,82,4],[82,5,82,6],[84,3,84,4],[84,5,84,6],[86,3,86,4],[86,5,86,6],[76,3,76,4],[76,5,76,6],[78,3,78,4],[78,5,78,6],[80,3,80,4],[80,5,80,6],[70,3,70,4],[70,5,70,6],[72,3,72,4],[72,5,72,6],[74,3,74,4],[74,5,74,6],[64,3,64,4],[64,5,64,6],[66,3,66,4],[66,5,66,6],[68,3,68,4],[68,5,68,6],[58,3,58,4],[58,5,58,6],[60,3,60,4],[60,5,60,6],[62,3,62,4],[62,5,62,6],[52,3,52,4],[52,5,52,6],[54,3,54,4],[54,5,54,6],[56,3,56,4],[56,5,56,6],[46,3,46,4],[46,5,46,6],[48,3,48,4],[48,5,48,6],[50,3,50,4],[50,5,50,6],[40,3,40,4],[40,5,40,6],[42,3,42,4],[42,5,42,6],[44,3,44,4],[44,5,44,6],[34,3,34,4],[34,5,34,6],[36,3,36,4],[36,5,36,6],[38,3,38,4],[38,5,38,6],[30,3,30,4],[30,5,30,6],[32,3,32,4],[32,5,32,6],[28,3,28,4],[28,5,28,6],[4,3,4,4],[4,5,4,6],[26,3,26,4],[26,5,26,6],[20,3,20,4],[20,5,20,6],[22,3,22,4],[22,5,22,6],[24,3,24,4],[24,5,24,6],[18,3,18,4],[18,5,18,6],[4,28,4,44],[0,28,0,44],[2,3,2,4],[2,5,2,6],[6,3,6,4],[6,5,6,6],[14,3,14,4],[14,5,14,6],[16,3,16,4],[16,5,16,6],[8,3,8,4],[8,5,8,6],[10,3,10,4],[10,5,10,6],[12,3,12,4],[12,5,12,6],[0,3,0,7],[1,3,1,7],[1,28,1,42],[2,28,2,42],[10,29,10,30],[10,32,10,33],[10,35,10,36]]}
[null,null,null,"人数により自動でRTを作成→",null,null,null,null,null,"人数は：",{"$f":"IF('1組'!$E6=\"\",\"\",34 - COUNTIF('1組'!$E$6:$E$39,\"\") )","v":13},"人","列数は：",{"$f":"IF($K$1=\"\",\"\",HLOOKUP($K$1,list!$A$1:$BW$2,2,FALSE))","v":52},"列","(listセルの開始列数)",null,null,null,null,null,null,null,null,null,null,null,null,"3人～17人対応　RT作成ボタンで対戦相手が表示されラベルも同時に作成されます。 ※注）RT、一組で入力したスコアは消えます。"]
[null,null,null,"←スコアを1組セルに反映",null,null,null,null,null,"何節まで：",3,"節",null,null,null,"１組側の行と列変換",null,null,null,null,null,null,null,null,null,null,null,null,"RT作成ボタンを押す前に、1組の選手を登録すると人数が自動表示されます。（人数は入力しないで下さい。）"]
["試合数","節数/No.","名　前","スコア",null,"スコア",null,"名　前","No.",null,null,null,"スコアL行","スコアL列","ABL行","ABL列","HRL行","HRL列","ハンデ左","スコアL行","スコアL列","ABR行","ABR列","HRR行","HRR列","ハンデ右",null,null,"節数を入力しRT作成ボタンを押すと、入力節まで表示されます。（”９９”と入力すると全節が表示され”０”だと全節クリアされます。）"]
[]
[null,"一節",{"$f":"IF(AND($B5>=1,$B5<=17),INDEX('1組'!$B$6:$E$39,MATCH($B5,'1組'!$B$6:$B$39,0),4),\"\")","v":""},null,null,null,null,{"$f":"IF(AND($I5>=1,$I5<=17),INDEX('1組'!$B$6:$E$39,MATCH($I5,'1組'!$B$6:$B$39,0),4),\"\")","v":""},null,null,null,null,{"$f":"IF($A5=\"\",\"\",$B5+$B5+5)","v":""},{"$f":"IF($A5=\"\",\"\",$I5+$I5+4)","v":""},null,null,null,null,null,{"$f":"IF($A5=\"\",\"\",$I5+$I5+5)","v":""},{"$f":"IF($A5=\"\",\"\",$B5+$B5+4)","v":""},null,null,null,null,null,null,null,"スコア入力後、1組へ反映ボタンを押すと、1組にスコアが反映されます。※注）１組で入力したスコアは消えます。"]
[]
[1,2,{"$f":"IF(AND($B7>=1,$B7<=17),INDEX('1組'!$B$6:$E$39,MATCH($B7,'1組'!$B$6:$B$39,0),4),\"\")","v":"近藤"},"w",null,100,null,{"$f":"IF(AND($I7>=1,$I7<=17),INDEX('1組'!$B$6:$E$39,MATCH($I7,'1組'!$B$6:$B$39,0),4),\"\")","v":"山田　晋之"},4,null,null,null,{"$f":"IF($A7=\"\",\"\",$B7+$B7+5)","v":9},{"$f":"IF($A7=\"\",\"\",$I7+$I7+4)","v":12},{"$f":"IF($A7=\"\",\"\",$M7-1)","v":8},{"$f":"IF($A7=\"\",\"\",$N7)","v":12},{"$f":"IF($A7=\"\",\"\",$M7-1)","v":8},{"$f":"IF($A7=\"\",\"\",$N7+1)","v":13},{"$f":"IF(AND($B7>=1,$B7<=17),OFFSET(INDEX('1組'!$B$6:$E$39,MATCH($B7,'1組'!$B$6:$B$39,0),2),1,0),\"\")","v":180},{"$f":"IF($A7=\"\",\"\",$I7+$I7+5)","v":13},{"$f":"IF($A7=\"\",\"\",$B7+$B7+4)","v":8},{"$f":"IF($A7=\"\",\"\",$T7-1)","v":12},{"$f":"IF($A7=\"\",\"\",$U7)","v":8},{"$f":"IF($A7=\"\",\"\",$T7-1)","v":12},{"$f":"IF($A7=\"\",\"\",$U7+1)","v":9},{"$f":"IF(AND($I7>=1,$I7<=17),OFFSET(INDEX('1組'!$B$6:$E$39,MATCH($I7,'1組'!$B$6:$B$39,0),2),1,0),\"\")","v":180},null,null,"１組からRTへの反映は出来ません。"]
[null,null,null,null,105]
[2,3,{"$f":"IF(AND($B9>=1,$B9<=17),INDEX('1組'!$B$6:$E$39,MATCH($B9,'1組'!$B$6:$B$39,0),4),\"\")","v":"吉向"},"w",null,26,null,{"$f":"IF(AND($I9>=1,$I9<=17),INDEX('1組'!$B$6:$E$39,MATCH($I9,'1組'!$B$6:$B$39,0),4),\"\")","v":"長谷川"},6,null,null,null,{"$f":"IF($A9=\"\",\"\",$B9+$B9+5)","v":11},{"$f":"IF($A9=\"\",\"\",$I9+$I9+4)","v":16},{"$f":"IF($A9=\"\",\"\",$M9-1)","v":10},{"$f":"IF($A9=\"\",\"\",$N9)","v":16},{"$f":"IF($A9=\"\",\"\",$M9-1)","v":10},{"$f":"IF($A9=\"\",\"\",$N9+1)","v":17},{"$f":"IF(AND($B9>=1,$B9<=17),OFFSET(INDEX('1組'!$B$6:$E$39,MATCH($B9,'1組'!$B$6:$B$39,0),2),1,0),\"\")","v":180},{"$f":"IF($A9=\"\",\"\",$I9+$I9+5)","v":17},{"$f":"IF($A9=\"\",\"\",$B9+$B9+4)","v":10},{"$f":"IF($A9=\"\",\"\",$T9-1)","v":16},{"$f":"IF($A9=\"\",\"\",$U9)","v":10},{"$f":"IF($A9=\"\",\"\",$T9-1)","v":16},{"$f":"IF($A9=\"\",\"\",$U9+1)","v":11},{"$f":"IF(AND($I9>=1,$I9<=17),OFFSET(INDEX('1組'!$B$6:$E$39,MATCH($I9,'1組'!$B$6:$B$39,0),2),1,0),\"\")","v":180}]
[null,null,null,null,null,null,null,null,null,null,null,null,null,null,null,null,null,null,null,null,null,null,null,null,null,null,null,null,"記入例","A",110,null,"B",110,null,null,110]
[3,5,{"$f":"IF(AND($B11>=1,$B11<=17),INDEX('1組'!$B$6:$E$39,MATCH($B11,'1組'!$B$6:$B$39,0),4),\"\")","v":"山田晃司"},"w",null,144,null,{"$f":"IF(AND($I11>=1,$I11<=17),INDEX('1組'!$B$6:$E$39,MATCH($I11,'1組'!$B$6:$B$39,0),4),\"\")","v":"金澤"},8,null,null,null,{"$f":"IF($A11=\"\",\"\",$B11+$B11+5)","v":15},{"$f":"IF($A11=\"\",\"\",$I11+$I11+4)","v":20},{"$f":"IF($A11=\"\",\"\",$M11-1)","v":14},{"$f":"IF($A11=\"\",\"\",$N11)","v":20},{"$f":"IF($A11=\"\",\"\",$M11-1)","v":14},{"$f":"IF($A11=\"\",\"\",$N11+1)","v":21},{"$f":"IF(AND($B11>=1,$B11<=17),OFFSET(INDEX('1組'!$B$6:$E$39,MATCH($B11,'1組'!$B$6:$B$39,0),2),1,0),\"\")","v":180},{"$f":"IF($A11=\"\",\"\",$I11+$I11+5)","v":21},{"$f":"IF($A11=\"\",\"\",$B11+$B11+4)","v":14},{"$f":"IF($A11=\"\",\"\",$T11-1)","v":20},{"$f":"IF($A11=\"\",\"\",$U11)","v":14},{"$f":"IF($A11=\"\",\"\",$T11-1)","v":20},{"$f":"IF($A11=\"\",\"\",$U11+1)","v":15},{"$f":"IF(AND($I11>=1,$I11<=17),OFFSET(INDEX('1組'!$B$6:$E$39,MATCH($I11,'1組'!$B$6:$B$39,0),2),1,0),\"\")","v":180},null,null,null,"w",null,null,"w",null,null,125]
[]
[4,10,{"$f":"IF(AND($B13>=1,$B13<=17),INDEX('1組'!$B$6:$E$39,MATCH($B13,'1組'!$B$6:$B$39,0),4),\"\")","v":"岩本"},"w",null,170,null,{"$f":"IF(AND($I13>=1,$I13<=17),INDEX('1組'!$B$6:$E$39,MATCH($I13,'1組'!$B$6:$B$39,0),4),\"\")","v":"植田"},7,null,null,null,{"$f":"IF($A13=\"\",\"\",$B13+$B13+5)","v":25},{"$f":"IF($A13=\"\",\"\",$I13+$I13+4)","v":18},{"$f":"IF($A13=\"\",\"\",$M13-1)","v":24},{"$f":"IF($A13=\"\",\"\",$N13)","v":18},{"$f":"IF($A13=\"\",\"\",$M13-1)","v":24},{"$f":"IF($A13=\"\",\"\",$N13+1)","v":19},{"$f":"IF(AND($B13>=1,$B13<=17),OFFSET(INDEX('1組'!$B$6:$E$39,MATCH($B13,'1組'!$B$6:$B$39,0),2),1,0),\"\")","v":180},{"$f":"IF($A13=\"\",\"\",$I13+$I13+5)","v":19},{"$f":"IF($A13=\"\",\"\",$B13+$B13+4)","v":24},{"$f":"IF($A13=\"\",\"\",$T13-1)","v":18},{"$f":"IF($A13=\"\",\"\",$U13)","v":24},{"$f":"IF($A13=\"\",\"\",$T13-1)","v":18},{"$f":"IF($A13=\"\",\"\",$U13+1)","v":25},{"$f":"IF(AND($I13>=1,$I13<=17),OFFSET(INDEX('1組'!$B$6:$E$39,MATCH($I13,'1組'!$B$6:$B$39,0),2),1,0),\"\")","v":180},null,null,null,"勝者は\"w\"半角小文字で入力して下さい。"]
[]
[5,9,{"$f":"IF(AND($B15>=1,$B15<=17),INDEX('1組'!$B$6:$E$39,MATCH($B15,'1組'!$B$6:$B$39,0),4),\"\")","v":"宮野"},0,null,"w",null,{"$f":"IF(AND($I15>=1,$I15<=17),INDEX('1組'!$B$6:$E$39,MATCH($I15,'1組'!$B$6:$B$39,0),4),\"\")","v":"斎藤裕児"},12,null,null,null,{"$f":"IF($A15=\"\",\"\",$B15+$B15+5)","v":23},{"$f":"IF($A15=\"\",\"\",$I15+$I15+4)","v":28},{"$f":"IF($A15=\"\",\"\",$M15-1)","v":22},{"$f":"IF($A15=\"\",\"\",$N15)","v":28},{"$f":"IF($A15=\"\",\"\",$M15-1)","v":22},{"$f":"IF($A15=\"\",\"\",$N15+1)","v":29},{"$f":"IF(AND($B15>=1,$B15<=17),OFFSET(INDEX('1組'!$B$6:$E$39,MATCH($B15,'1組'!$B$6:$B$39,0),2),1,0),\"\")","v":140},{"$f":"IF($A15=\"\",\"\",$I15+$I15+5)","v":29},{"$f":"IF($A15=\"\",\"\",$B15+$B15+4)","v":22},{"$f":"IF($A15=\"\",\"\",$T15-1)","v":28},{"$f":"IF($A15=\"\",\"\",$U15)","v":22},{"$f":"IF($A15=\"\",\"\",$T15-1)","v":28},{"$f":"IF($A15=\"\",\"\",$U15+1)","v":23},{"$f":"IF(AND($I15>=1,$I15<=17),OFFSET(INDEX('1組'!$B$6:$E$39,MATCH($I15,'1組'!$B$6:$B$39,0),2),1,0),\"\")","v":180},null,null,null,"敗者側のスコアを入力すると相手側に”ｗ”が自動表示されます。"]
[null,null,null,null,null,null,103]
[6,11,{"$f":"IF(AND($B17>=1,$B17<=17),INDEX('1組'!$B$6:$E$39,MATCH($B17,'1組'!$B$6:$B$39,0),4),\"\")","v":"水田"},123,null,"w",null,{"$f":"IF(AND($I17>=1,$I17<=17),INDEX('1組'!$B$6:$E$39,MATCH($I17,'1組'!$B$6:$B$39,0),4),\"\")","v":"鷲尾"},13,null,null,null,{"$f":"IF($A17=\"\",\"\",$B17+$B17+5)","v":27},{"$f":"IF($A17=\"\",\"\",$I17+$I17+4)","v":30},{"$f":"IF($A17=\"\",\"\",$M17-1)","v":26},{"$f":"IF($A17=\"\",\"\",$N17)","v":30},{"$f":"IF($A17=\"\",\"\",$M17-1)","v":26},{"$f":"IF($A17=\"\",\"\",$N17+1)","v":31},{"$f":"IF(AND($B17>=1,$B17<=17),OFFSET(INDEX('1組'!$B$6:$E$39,MATCH($B17,'1組'!$B$6:$B$39,0),2),1,0),\"\")","v":180},{"$f":"IF($A17=\"\",\"\",$I17+$I17+5)","v":31},{"$f":"IF($A17=\"\",\"\",$B17+$B17+4)","v":26},{"$f":"IF($A17=\"\",\"\",$T17-1)","v":30},{"$f":"IF($A17=\"\",\"\",$U17)","v":26},{"$f":"IF($A17=\"\",\"\",$T17-1)","v":30},{"$f":"IF($A17=\"\",\"\",$U17+1)","v":27},{"$f":"IF(AND($I17>=1,$I17<=17),OFFSET(INDEX('1組'!$B$6:$E$39,MATCH($I17,'1組'!$B$6:$B$39,0),2),1,0),\"\")","v":180}]
[]
[7,4,{"$f":"IF(AND($B19>=1,$B19<=17),INDEX('1組'!$B$6:$E$39,MATCH($B19,'1組'!$B$6:$B$39,0),4),\"\")","v":"山田　晋之"},95,null,"w",null,{"$f":"IF(AND($I19>=1,$I19<=17),INDEX('1組'!$B$6:$E$39,MATCH($I19,'1組'!$B$6:$B$39,0),4),\"\")","v":"白戸"},1,null,null,null,{"$f":"IF($A19=\"\",\"\",$B19+$B19+5)","v":13},{"$f":"IF($A19=\"\",\"\",$I19+$I19+4)","v":6},{"$f":"IF($A19=\"\",\"\",$M19-1)","v":12},{"$f":"IF($A19=\"\",\"\",$N19)","v":6},{"$f":"IF($A19=\"\",\"\",$M19-1)","v":12},{"$f":"IF($A19=\"\",\"\",$N19+1)","v":7},{"$f":"IF(AND($B19>=1,$B19<=17),OFFSET(INDEX('1組'!$B$6:$E$39,MATCH($B19,'1組'!$B$6:$B$39,0),2),1,0),\"\")","v":180},{"$f":"IF($A19=\"\",\"\",$I19+$I19+5)","v":7},{"$f":"IF($A19=\"\",\"\",$B19+$B19+4)","v":12},{"$f":"IF($A19=\"\",\"\",$T19-1)","v":6},{"$f":"IF($A19=\"\",\"\",$U19)","v":12},{"$f":"IF($A19=\"\",\"\",$T19-1)","v":6},{"$f":"IF($A19=\"\",\"\",$U19+1)","v":13},{"$f":"IF(AND($I19>=1,$I19<=17),OFFSET(INDEX('1組'!$B$6:$E$39,MATCH($I19,'1組'!$B$6:$B$39,0),2),1,0),\"\")","v":180}]
[]
[8,2,{"$f":"IF(AND($B21>=1,$B21<=17),INDEX('1組'!$B$6:$E$39,MATCH($B21,'1組'!$B$6:$B$39,0),4),\"\")","v":"近藤"},"w",null,69,null,{"$f":"IF(AND($I21>=1,$I21<=17),INDEX('1組'!$B$6:$E$39,MATCH($I21,'1組'!$B$6:$B$39,0),4),\"\")","v":"長谷川"},6,null,null,null,{"$f":"IF($A21=\"\",\"\",$B21+$B21+5)","v":9},{"$f":"IF($A21=\"\",\"\",$I21+$I21+4)","v":16},{"$f":"IF($A21=\"\",\"\",$M21-1)","v":8},{"$f":"IF($A21=\"\",\"\",$N21)","v":16},{"$f":"IF($A21=\"\",\"\",$M21-1)","v":8},{"$f":"IF($A21=\"\",\"\",$N21+1)","v":17},{"$f":"IF(AND($B21>=1,$B21<=17),OFFSET(INDEX('1組'!$B$6:$E$39,MATCH($B21,'1組'!$B$6:$B$39,0),2),1,0),\"\")","v":180},{"$f":"IF($A21=\"\",\"\",$I21+$I21+5)","v":17},{"$f":"IF($A21=\"\",\"\",$B21+$B21+4)","v":8},{"$f":"IF($A21=\"\",\"\",$T21-1)","v":16},{"$f":"IF($A21=\"\",\"\",$U21)","v":8},{"$f":"IF($A21=\"\",\"\",$T21-1)","v":16},{"$f":"IF($A21=\"\",\"\",$U21+1)","v":9},{"$f":"IF(AND($I21>=1,$I21<=17),OFFSET(INDEX('1組'!$B$6:$E$39,MATCH($I21,'1組'!$B$6:$B$39,0),2),1,0),\"\")","v":180}]
[null,null,null,null,104]
[9,3,{"$f":"IF(AND($B23>=1,$B23<=17),INDEX('1組'!$B$6:$E$39,MATCH($B23,'1組'!$B$6:$B$39,0),4),\"\")","v":"吉向"},"w",null,124,null,{"$f":"IF(AND($I23>=1,$I23<=17),INDEX('1組'!$B$6:$E$39,MATCH($I23,'1組'!$B$6:$B$39,0),4),\"\")","v":"金澤"},8,null,null,null,{"$f":"IF($A23=\"\",\"\",$B23+$B23+5)","v":11},{"$f":"IF($A23=\"\",\"\",$I23+$I23+4)","v":20},{"$f":"IF($A23=\"\",\"\",$M23-1)","v":10},{"$f":"IF($A23=\"\",\"\",$N23)","v":20},{"$f":"IF($A23=\"\",\"\",$M23-1)","v":10},{"$f":"IF($A23=\"\",\"\",$N23+1)","v":21},{"$f":"IF(AND($B23>=1,$B23<=17),OFFSET(INDEX('1組'!$B$6:$E$39,MATCH($B23,'1組'!$B$6:$B$39,0),2),1,0),\"\")","v":180},{"$f":"IF($A23=\"\",\"\",$I23+$I23+5)","v":21},{"$f":"IF($A23=\"\",\"\",$B23+$B23+4)","v":10},{"$f":"IF($A23=\"\",\"\",$T23-1)","v":20},{"$f":"IF($A23=\"\",\"\",$U23)","v":10},{"$f":"IF($A23=\"\",\"\",$T23-1)","v":20},{"$f":"IF($A23=\"\",\"\",$U23+1)","v":11},{"$f":"IF(AND($I23>=1,$I23<=17),OFFSET(INDEX('1組'!$B$6:$E$39,MATCH($I23,'1組'!$B$6:$B$39,0),2),1,0),\"\")","v":180}]
[]
[10,5,{"$f":"IF(AND($B25>=1,$B25<=17),INDEX('1組'!$B$6:$E$39,MATCH($B25,'1組'!$B$6:$B$39,0),4),\"\")","v":"山田晃司"},"w",null,172,null,{"$f":"IF(AND($I25>=1,$I25<=17),INDEX('1組'!$B$6:$E$39,MATCH($I25,'1組'!$B$6:$B$39,0),4),\"\")","v":"岩本"},10,null,null,null,{"$f":"IF($A25=\"\",\"\",$B25+$B25+5)","v":15},{"$f":"IF($A25=\"\",\"\",$I25+$I25+4)","v":24},{"$f":"IF($A25=\"\",\"\",$M25-1)","v":14},{"$f":"IF($A25=\"\",\"\",$N25)","v":24},{"$f":"IF($A25=\"\",\"\",$M25-1)","v":14},{"$f":"IF($A25=\"\",\"\",$N25+1)","v":25},{"$f":"IF(AND($B25>=1,$B25<=17),OFFSET(INDEX('1組'!$B$6:$E$39,MATCH($B25,'1組'!$B$6:$B$39,0),2),1,0),\"\")","v":180},{"$f":"IF($A25=\"\",\"\",$I25+$I25+5)","v":25},{"$f":"IF($A25=\"\",\"\",$B25+$B25+4)","v":14},{"$f":"IF($A25=\"\",\"\",$T25-1)","v":24},{"$f":"IF($A25=\"\",\"\",$U25)","v":14},{"$f":"IF($A25=\"\",\"\",$T25-1)","v":24},{"$f":"IF($A25=\"\",\"\",$U25+1)","v":15},{"$f":"IF(AND($I25>=1,$I25<=17),OFFSET(INDEX('1組'!$B$6:$E$39,MATCH($I25,'1組'!$B$6:$B$39,0),2),1,0),\"\")","v":180}]
[null,null,null,null,null,null,106]
[11,7,{"$f":"IF(AND($B27>=1,$B27<=17),INDEX('1組'!$B$6:$E$39,MATCH($B27,'1組'!$B$6:$B$39,0),4),\"\")","v":"植田"},70,null,"w",null,{"$f":"IF(AND($I27>=1,$I27<=17),INDEX('1組'!$B$6:$E$39,MATCH($I27,'1組'!$B$6:$B$39,0),4),\"\")","v":"斎藤裕児"},12,null,null,null,{"$f":"IF($A27=\"\",\"\",$B27+$B27+5)","v":19},{"$f":"IF($A27=\"\",\"\",$I27+$I27+4)","v":28},{"$f":"IF($A27=\"\",\"\",$M27-1)","v":18},{"$f":"IF($A27=\"\",\"\",$N27)","v":28},{"$f":"IF($A27=\"\",\"\",$M27-1)","v":18},{"$f":"IF($A27=\"\",\"\",$N27+1)","v":29},{"$f":"IF(AND($B27>=1,$B27<=17),OFFSET(INDEX('1組'!$B$6:$E$39,MATCH($B27,'1組'!$B$6:$B$39,0),2),1,0),\"\")","v":180},{"$f":"IF($A27=\"\",\"\",$I27+$I27+5)","v":29},{"$f":"IF($A27=\"\",\"\",$B27+$B27+4)","v":18},{"$f":"IF($A27=\"\",\"\",$T27-1)","v":28},{"$f":"IF($A27=\"\",\"\",$U27)","v":18},{"$f":"IF($A27=\"\",\"\",$T27-1)","v":28},{"$f":"IF($A27=\"\",\"\",$U27+1)","v":19},{"$f":"IF(AND($I27>=1,$I27<=17),OFFSET(INDEX('1組'!$B$6:$E$39,MATCH($I27,'1組'!$B$6:$B$39,0),2),1,0),\"\")","v":180}]
[]
[12,9,{"$f":"IF(AND($B29>=1,$B29<=17),INDEX('1組'!$B$6:$E$39,MATCH($B29,'1組'!$B$6:$B$39,0),4),\"\")","v":"宮野"},"w",null,141,null,{"$f":"IF(AND($I29>=1,$I29<=17),INDEX('1組'!$B$6:$E$39,MATCH($I29,'1組'!$B$6:$B$39,0),4),\"\")","v":"鷲尾"},13,null,null,null,{"$f":"IF($A29=\"\",\"\",$B29+$B29+5)","v":23},{"$f":"IF($A29=\"\",\"\",$I29+$I29+4)","v":30},{"$f":"IF($A29=\"\",\"\",$M29-1)","v":22},{"$f":"IF($A29=\"\",\"\",$N29)","v":30},{"$f":"IF($A29=\"\",\"\",$M29-1)","v":22},{"$f":"IF($A29=\"\",\"\",$N29+1)","v":31},{"$f":"IF(AND($B29>=1,$B29<=17),OFFSET(INDEX('1組'!$B$6:$E$39,MATCH($B29,'1組'!$B$6:$B$39,0),2),1,0),\"\")","v":140},{"$f":"IF($A29=\"\",\"\",$I29+$I29+5)","v":31},{"$f":"IF($A29=\"\",\"\",$B29+$B29+4)","v":22},{"$f":"IF($A29=\"\",\"\",$T29-1)","v":30},{"$f":"IF($A29=\"\",\"\",$U29)","v":22},{"$f":"IF($A29=\"\",\"\",$T29-1)","v":30},{"$f":"IF($A29=\"\",\"\",$U29+1)","v":23},{"$f":"IF(AND($I29>=1,$I29<=17),OFFSET(INDEX('1組'!$B$6:$E$39,MATCH($I29,'1組'!$B$6:$B$39,0),2),1,0),\"\")","v":180}]
[]
[13,1,{"$f":"IF(AND($B31>=1,$B31<=17),INDEX('1組'!$B$6:$E$39,MATCH($B31,'1組'!$B$6:$B$39,0),4),\"\")","v":"白戸"},"w",null,107,null,{"$f":"IF(AND($I31>=1,$I31<=17),INDEX('1組'!$B$6:$E$39,MATCH($I31,'1組'!$B$6:$B$39,0),4),\"\")","v":"水田"},11,null,null,null,{"$f":"IF($A31=\"\",\"\",$B31+$B31+5)","v":7},{"$f":"IF($A31=\"\",\"\",$I31+$I31+4)","v":26},{"$f":"IF($A31=\"\",\"\",$M31-1)","v":6},{"$f":"IF($A31=\"\",\"\",$N31)","v":26},{"$f":"IF($A31=\"\",\"\",$M31-1)","v":6},{"$f":"IF($A31=\"\",\"\",$N31+1)","v":27},{"$f":"IF(AND($B31>=1,$B31<=17),OFFSET(INDEX('1組'!$B$6:$E$39,MATCH($B31,'1組'!$B$6:$B$39,0),2),1,0),\"\")","v":180},{"$f":"IF($A31=\"\",\"\",$I31+$I31+5)","v":27},{"$f":"IF($A31=\"\",\"\",$B31+$B31+4)","v":6},{"$f":"IF($A31=\"\",\"\",$T31-1)","v":26},{"$f":"IF($A31=\"\",\"\",$U31)","v":6},{"$f":"IF($A31=\"\",\"\",$T31-1)","v":26},{"$f":"IF($A31=\"\",\"\",$U31+1)","v":7},{"$f":"IF(AND($I31>=1,$I31<=17),OFFSET(INDEX('1組'!$B$6:$E$39,MATCH($I31,'1組'!$B$6:$B$39,0),2),1,0),\"\")","v":180}]
[]
[null,"二節",{"$f":"IF(AND($B33>=1,$B33<=17),INDEX('1組'!$B$6:$E$39,MATCH($B33,'1組'!$B$6:$B$39,0),4),\"\")","v":""},null,null,null,null,{"$f":"IF(AND($I33>=1,$I33<=17),INDEX('1組'!$B$6:$E$39,MATCH($I33,'1組'!$B$6:$B$39,0),4),\"\")","v":""},null,null,null,null,{"$f":"IF($A33=\"\",\"\",$B33+$B33+5)","v":""},{"$f":"IF($A33=\"\",\"\",$I33+$I33+4)","v":""},{"$f":"IF($A33=\"\",\"\",$M33-1)","v":""},{"$f":"IF($A33=\"\",\"\",$N33)","v":""},{"$f":"IF($A33=\"\",\"\",$M33-1)","v":""},{"$f":"IF($A33=\"\",\"\",$N33+1)","v":""},{"$f":"IF(AND($B33>=1,$B33<=17),OFFSET(INDEX('1組'!$B$6:$E$39,MATCH($B33,'1組'!$B$6:$B$39,0),2),1,0),\"\")","v":""},{"$f":"IF($A33=\"\",\"\",$I33+$I33+5)","v":""},{"$f":"IF($A33=\"\",\"\",$B33+$B33+4)","v":""},{"$f":"IF($A33=\"\",\"\",$T33-1)","v":""},{"$f":"IF($A33=\"\",\"\",$U33)","v":""},{"$f":"IF($A33=\"\",\"\",$T33-1)","v":""},{"$f":"IF($A33=\"\",\"\",$U33+1)","v":""},{"$f":"IF(AND($I33>=1,$I33<=17),OFFSET(INDEX('1組'!$B$6:$E$39,MATCH($I33,'1組'!$B$6:$B$39,0),2),1,0),\"\")","v":""}]
[]
[14,4,{"$f":"IF(AND($B35>=1,$B35<=17),INDEX('1組'!$B$6:$E$39,MATCH($B35,'1組'!$B$6:$B$39,0),4),\"\")","v":"山田　晋之"},"w",null,162,null,{"$f":"IF(AND($I35>=1,$I35<=17),INDEX('1組'!$B$6:$E$39,MATCH($I35,'1組'!$B$6:$B$39,0),4),\"\")","v":"長谷川"},6,null,null,null,{"$f":"IF($A35=\"\",\"\",$B35+$B35+5)","v":13},{"$f":"IF($A35=\"\",\"\",$I35+$I35+4)","v":16},{"$f":"IF($A35=\"\",\"\",$M35-1)","v":12},{"$f":"IF($A35=\"\",\"\",$N35)","v":16},{"$f":"IF($A35=\"\",\"\",$M35-1)","v":12},{"$f":"IF($A35=\"\",\"\",$N35+1)","v":17},{"$f":"IF(AND($B35>=1,$B35<=17),OFFSET(INDEX('1組'!$B$6:$E$39,MATCH($B35,'1組'!$B$6:$B$39,0),2),1,0),\"\")","v":180},{"$f":"IF($A35=\"\",\"\",$I35+$I35+5)","v":17},{"$f":"IF($A35=\"\",\"\",$B35+$B35+4)","v":12},{"$f":"IF($A35=\"\",\"\",$T35-1)","v":16},{"$f":"IF($A35=\"\",\"\",$U35)","v":12},{"$f":"IF($A35=\"\",\"\",$T35-1)","v":16},{"$f":"IF($A35=\"\",\"\",$U35+1)","v":13},{"$f":"IF(AND($I35>=1,$I35<=17),OFFSET(INDEX('1組'!$B$6:$E$39,MATCH($I35,'1組'!$B$6:$B$39,0),2),1,0),\"\")","v":180}]
[null,null,null,null,null,null,120]
[15,2,{"$f":"IF(AND($B37>=1,$B37<=17),INDEX('1組'!$B$6:$E$39,MATCH($B37,'1組'!$B$6:$B$39,0),4),\"\")","v":"近藤"},34,null,"w",null,{"$f":"IF(AND($I37>=1,$I37<=17),INDEX('1組'!$B$6:$E$39,MATCH($I37,'1組'!$B$6:$B$39,0),4),\"\")","v":"金澤"},8,null,null,null,{"$f":"IF($A37=\"\",\"\",$B37+$B37+5)","v":9},{"$f":"IF($A37=\"\",\"\",$I37+$I37+4)","v":20},{"$f":"IF($A37=\"\",\"\",$M37-1)","v":8},{"$f":"IF($A37=\"\",\"\",$N37)","v":20},{"$f":"IF($A37=\"\",\"\",$M37-1)","v":8},{"$f":"IF($A37=\"\",\"\",$N37+1)","v":21},{"$f":"IF(AND($B37>=1,$B37<=17),OFFSET(INDEX('1組'!$B$6:$E$39,MATCH($B37,'1組'!$B$6:$B$39,0),2),1,0),\"\")","v":180},{"$f":"IF($A37=\"\",\"\",$I37+$I37+5)","v":21},{"$f":"IF($A37=\"\",\"\",$B37+$B37+4)","v":8},{"$f":"IF($A37=\"\",\"\",$T37-1)","v":20},{"$f":"IF($A37=\"\",\"\",$U37)","v":8},{"$f":"IF($A37=\"\",\"\",$T37-1)","v":20},{"$f":"IF($A37=\"\",\"\",$U37+1)","v":9},{"$f":"IF(AND($I37>=1,$I37<=17),OFFSET(INDEX('1組'!$B$6:$E$39,MATCH($I37,'1組'!$B$6:$B$39,0),2),1,0),\"\")","v":180}]
[]
[16,3,{"$f":"IF(AND($B39>=1,$B39<=17),INDEX('1組'!$B$6:$E$39,MATCH($B39,'1組'!$B$6:$B$39,0),4),\"\")","v":"吉向"},"w",null,60,null,{"$f":"IF(AND($I39>=1,$I39<=17),INDEX('1組'!$B$6:$E$39,MATCH($I39,'1組'!$B$6:$B$39,0),4),\"\")","v":"岩本"},10,null,null,null,{"$f":"IF($A39=\"\",\"\",$B39+$B39+5)","v":11},{"$f":"IF($A39=\"\",\"\",$I39+$I39+4)","v":24},{"$f":"IF($A39=\"\",\"\",$M39-1)","v":10},{"$f":"IF($A39=\"\",\"\",$N39)","v":24},{"$f":"IF($A39=\"\",\"\",$M39-1)","v":10},{"$f":"IF($A39=\"\",\"\",$N39+1)","v":25},{"$f":"IF(AND($B39>=1,$B39<=17),OFFSET(INDEX('1組'!$B$6:$E$39,MATCH($B39,'1組'!$B$6:$B$39,0),2),1,0),\"\")","v":180},{"$f":"IF($A39=\"\",\"\",$I39+$I39+5)","v":25},{"$f":"IF($A39=\"\",\"\",$B39+$B39+4)","v":10},{"$f":"IF($A39=\"\",\"\",$T39-1)","v":24},{"$f":"IF($A39=\"\",\"\",$U39)","v":10},{"$f":"IF($A39=\"\",\"\",$T39-1)","v":24},{"$f":"IF($A39=\"\",\"\",$U39+1)","v":11},{"$f":"IF(AND($I39>=1,$I39<=17),OFFSET(INDEX('1組'!$B$6:$E$39,MATCH($I39,'1組'!$B$6:$B$39,0),2),1,0),\"\")","v":180}]
[null,null,null,null,null,null,105]
[17,5,{"$f":"IF(AND($B41>=1,$B41<=17),INDEX('1組'!$B$6:$E$39,MATCH($B41,'1組'!$B$6:$B$39,0),4),\"\")","v":"山田晃司"},118,null,"w",null,{"$f":"IF(AND($I41>=1,$I41<=17),INDEX('1組'!$B$6:$E$39,MATCH($I41,'1組'!$B$6:$B$39,0),4),\"\")","v":"斎藤裕児"},12,null,null,null,{"$f":"IF($A41=\"\",\"\",$B41+$B41+5)","v":15},{"$f":"IF($A41=\"\",\"\",$I41+$I41+4)","v":28},{"$f":"IF($A41=\"\",\"\",$M41-1)","v":14},{"$f":"IF($A41=\"\",\"\",$N41)","v":28},{"$f":"IF($A41=\"\",\"\",$M41-1)","v":14},{"$f":"IF($A41=\"\",\"\",$N41+1)","v":29},{"$f":"IF(AND($B41>=1,$B41<=17),OFFSET(INDEX('1組'!$B$6:$E$39,MATCH($B41,'1組'!$B$6:$B$39,0),2),1,0),\"\")","v":180},{"$f":"IF($A41=\"\",\"\",$I41+$I41+5)","v":29},{"$f":"IF($A41=\"\",\"\",$B41+$B41+4)","v":14},{"$f":"IF($A41=\"\",\"\",$T41-1)","v":28},{"$f":"IF($A41=\"\",\"\",$U41)","v":14},{"$f":"IF($A41=\"\",\"\",$T41-1)","v":28},{"$f":"IF($A41=\"\",\"\",$U41+1)","v":15},{"$f":"IF(AND($I41>=1,$I41<=17),OFFSET(INDEX('1組'!$B$6:$E$39,MATCH($I41,'1組'!$B$6:$B$39,0),2),1,0),\"\")","v":180}]
[]
[18,7,{"$f":"IF(AND($B43>=1,$B43<=17),INDEX('1組'!$B$6:$E$39,MATCH($B43,'1組'!$B$6:$B$39,0),4),\"\")","v":"植田"},"w",null,125,null,{"$f":"IF(AND($I43>=1,$I43<=17),INDEX('1組'!$B$6:$E$39,MATCH($I43,'1組'!$B$6:$B$39,0),4),\"\")","v":"鷲尾"},13,null,null,null,{"$f":"IF($A43=\"\",\"\",$B43+$B43+5)","v":19},{"$f":"IF($A43=\"\",\"\",$I43+$I43+4)","v":30},{"$f":"IF($A43=\"\",\"\",$M43-1)","v":18},{"$f":"IF($A43=\"\",\"\",$N43)","v":30},{"$f":"IF($A43=\"\",\"\",$M43-1)","v":18},{"$f":"IF($A43=\"\",\"\",$N43+1)","v":31},{"$f":"IF(AND($B43>=1,$B43<=17),OFFSET(INDEX('1組'!$B$6:$E$39,MATCH($B43,'1組'!$B$6:$B$39,0),2),1,0),\"\")","v":180},{"$f":"IF($A43=\"\",\"\",$I43+$I43+5)","v":31},{"$f":"IF($A43=\"\",\"\",$B43+$B43+4)","v":18},{"$f":"IF($A43=\"\",\"\",$T43-1)","v":30},{"$f":"IF($A43=\"\",\"\",$U43)","v":18},{"$f":"IF($A43=\"\",\"\",$T43-1)","v":30},{"$f":"IF($A43=\"\",\"\",$U43+1)","v":19},{"$f":"IF(AND($I43>=1,$I43<=17),OFFSET(INDEX('1組'!$B$6:$E$39,MATCH($I43,'1組'!$B$6:$B$39,0),2),1,0),\"\")","v":180}]
[]
[19,9,{"$f":"IF(AND($B45>=1,$B45<=17),INDEX('1組'!$B$6:$E$39,MATCH($B45,'1組'!$B$6:$B$39,0),4),\"\")","v":"宮野"},54,null,"w",null,{"$f":"IF(AND($I45>=1,$I45<=17),INDEX('1組'!$B$6:$E$39,MATCH($I45,'1組'!$B$6:$B$39,0),4),\"\")","v":"水田"},11,null,null,null,{"$f":"IF($A45=\"\",\"\",$B45+$B45+5)","v":23},{"$f":"IF($A45=\"\",\"\",$I45+$I45+4)","v":26},{"$f":"IF($A45=\"\",\"\",$M45-1)","v":22},{"$f":"IF($A45=\"\",\"\",$N45)","v":26},{"$f":"IF($A45=\"\",\"\",$M45-1)","v":22},{"$f":"IF($A45=\"\",\"\",$N45+1)","v":27},{"$f":"IF(AND($B45>=1,$B45<=17),OFFSET(INDEX('1組'!$B$6:$E$39,MATCH($B45,'1組'!$B$6:$B$39,0),2),1,0),\"\")","v":140},{"$f":"IF($A45=\"\",\"\",$I45+$I45+5)","v":27},{"$f":"IF($A45=\"\",\"\",$B45+$B45+4)","v":22},{"$f":"IF($A45=\"\",\"\",$T45-1)","v":26},{"$f":"IF($A45=\"\",\"\",$U45)","v":22},{"$f":"IF($A45=\"\",\"\",$T45-1)","v":26},{"$f":"IF($A45=\"\",\"\",$U45+1)","v":23},{"$f":"IF(AND($I45>=1,$I45<=17),OFFSET(INDEX('1組'!$B$6:$E$39,MATCH($I45,'1組'!$B$6:$B$39,0),2),1,0),\"\")","v":180}]
[null,null,null,null,null,null,110]
[20,6,{"$f":"IF(AND($B47>=1,$B47<=17),INDEX('1組'!$B$6:$E$39,MATCH($B47,'1組'!$B$6:$B$39,0),4),\"\")","v":"長谷川"},16,null,"w",null,{"$f":"IF(AND($I47>=1,$I47<=17),INDEX('1組'!$B$6:$E$39,MATCH($I47,'1組'!$B$6:$B$39,0),4),\"\")","v":"白戸"},1,null,null,null,{"$f":"IF($A47=\"\",\"\",$B47+$B47+5)","v":17},{"$f":"IF($A47=\"\",\"\",$I47+$I47+4)","v":6},{"$f":"IF($A47=\"\",\"\",$M47-1)","v":16},{"$f":"IF($A47=\"\",\"\",$N47)","v":6},{"$f":"IF($A47=\"\",\"\",$M47-1)","v":16},{"$f":"IF($A47=\"\",\"\",$N47+1)","v":7},{"$f":"IF(AND($B47>=1,$B47<=17),OFFSET(INDEX('1組'!$B$6:$E$39,MATCH($B47,'1組'!$B$6:$B$39,0),2),1,0),\"\")","v":180},{"$f":"IF($A47=\"\",\"\",$I47+$I47+5)","v":7},{"$f":"IF($A47=\"\",\"\",$B47+$B47+4)","v":16},{"$f":"IF($A47=\"\",\"\",$T47-1)","v":6},{"$f":"IF($A47=\"\",\"\",$U47)","v":16},{"$f":"IF($A47=\"\",\"\",$T47-1)","v":6},{"$f":"IF($A47=\"\",\"\",$U47+1)","v":17},{"$f":"IF(AND($I47>=1,$I47<=17),OFFSET(INDEX('1組'!$B$6:$E$39,MATCH($I47,'1組'!$B$6:$B$39,0),2),1,0),\"\")","v":180}]
[]
[21,4,{"$f":"IF(AND($B49>=1,$B49<=17),INDEX('1組'!$B$6:$E$39,MATCH($B49,'1組'!$B$6:$B$39,0),4),\"\")","v":"山田　晋之"},"w",null,131,null,{"$f":"IF(AND($I49>=1,$I49<=17),INDEX('1組'!$B$6:$E$39,MATCH($I49,'1組'!$B$6:$B$39,0),4),\"\")","v":"金澤"},8,null,null,null,{"$f":"IF($A49=\"\",\"\",$B49+$B49+5)","v":13},{"$f":"IF($A49=\"\",\"\",$I49+$I49+4)","v":20},{"$f":"IF($A49=\"\",\"\",$M49-1)","v":12},{"$f":"IF($A49=\"\",\"\",$N49)","v":20},{"$f":"IF($A49=\"\",\"\",$M49-1)","v":12},{"$f":"IF($A49=\"\",\"\",$N49+1)","v":21},{"$f":"IF(AND($B49>=1,$B49<=17),OFFSET(INDEX('1組'!$B$6:$E$39,MATCH($B49,'1組'!$B$6:$B$39,0),2),1,0),\"\")","v":180},{"$f":"IF($A49=\"\",\"\",$I49+$I49+5)","v":21},{"$f":"IF($A49=\"\",\"\",$B49+$B49+4)","v":12},{"$f":"IF($A49=\"\",\"\",$T49-1)","v":20},{"$f":"IF($A49=\"\",\"\",$U49)","v":12},{"$f":"IF($A49=\"\",\"\",$T49-1)","v":20},{"$f":"IF($A49=\"\",\"\",$U49+1)","v":13},{"$f":"IF(AND($I49>=1,$I49<=17),OFFSET(INDEX('1組'!$B$6:$E$39,MATCH($I49,'1組'!$B$6:$B$39,0),2),1,0),\"\")","v":180}]
[]
[22,2,{"$f":"IF(AND($B51>=1,$B51<=17),INDEX('1組'!$B$6:$E$39,MATCH($B51,'1組'!$B$6:$B$39,0),4),\"\")","v":"近藤"},"w",null,166,null,{"$f":"IF(AND($I51>=1,$I51<=17),INDEX('1組'!$B$6:$E$39,MATCH($I51,'1組'!$B$6:$B$39,0),4),\"\")","v":"岩本"},10,null,null,null,{"$f":"IF($A51=\"\",\"\",$B51+$B51+5)","v":9},{"$f":"IF($A51=\"\",\"\",$I51+$I51+4)","v":24},{"$f":"IF($A51=\"\",\"\",$M51-1)","v":8},{"$f":"IF($A51=\"\",\"\",$N51)","v":24},{"$f":"IF($A51=\"\",\"\",$M51-1)","v":8},{"$f":"IF($A51=\"\",\"\",$N51+1)","v":25},{"$f":"IF(AND($B51>=1,$B51<=17),OFFSET(INDEX('1組'!$B$6:$E$39,MATCH($B51,'1組'!$B$6:$B$39,0),2),1,0),\"\")","v":180},{"$f":"IF($A51=\"\",\"\",$I51+$I51+5)","v":25},{"$f":"IF($A51=\"\",\"\",$B51+$B51+4)","v":8},{"$f":"IF($A51=\"\",\"\",$T51-1)","v":24},{"$f":"IF($A51=\"\",\"\",$U51)","v":8},{"$f":"IF($A51=\"\",\"\",$T51-1)","v":24},{"$f":"IF($A51=\"\",\"\",$U51+1)","v":9},{"$f":"IF(AND($I51>=1,$I51<=17),OFFSET(INDEX('1組'!$B$6:$E$39,MATCH($I51,'1組'!$B$6:$B$39,0),2),1,0),\"\")","v":180}]
[]
[23,3,{"$f":"IF(AND($B53>=1,$B53<=17),INDEX('1組'!$B$6:$E$39,MATCH($B53,'1組'!$B$6:$B$39,0),4),\"\")","v":"吉向"},"w",null,64,null,{"$f":"IF(AND($I53>=1,$I53<=17),INDEX('1組'!$B$6:$E$39,MATCH($I53,'1組'!$B$6:$B$39,0),4),\"\")","v":"斎藤裕児"},12,null,null,null,{"$f":"IF($A53=\"\",\"\",$B53+$B53+5)","v":11},{"$f":"IF($A53=\"\",\"\",$I53+$I53+4)","v":28},{"$f":"IF($A53=\"\",\"\",$M53-1)","v":10},{"$f":"IF($A53=\"\",\"\",$N53)","v":28},{"$f":"IF($A53=\"\",\"\",$M53-1)","v":10},{"$f":"IF($A53=\"\",\"\",$N53+1)","v":29},{"$f":"IF(AND($B53>=1,$B53<=17),OFFSET(INDEX('1組'!$B$6:$E$39,MATCH($B53,'1組'!$B$6:$B$39,0),2),1,0),\"\")","v":180},{"$f":"IF($A53=\"\",\"\",$I53+$I53+5)","v":29},{"$f":"IF($A53=\"\",\"\",$B53+$B53+4)","v":10},{"$f":"IF($A53=\"\",\"\",$T53-1)","v":28},{"$f":"IF($A53=\"\",\"\",$U53)","v":10},{"$f":"IF($A53=\"\",\"\",$T53-1)","v":28},{"$f":"IF($A53=\"\",\"\",$U53+1)","v":11},{"$f":"IF(AND($I53>=1,$I53<=17),OFFSET(INDEX('1組'!$B$6:$E$39,MATCH($I53,'1組'!$B$6:$B$39,0),2),1,0),\"\")","v":180}]
[]
[24,5,{"$f":"IF(AND($B55>=1,$B55<=17),INDEX('1組'!$B$6:$E$39,MATCH($B55,'1組'!$B$6:$B$39,0),4),\"\")","v":"山田晃司"},"w",null,151,null,{"$f":"IF(AND($I55>=1,$I55<=17),INDEX('1組'!$B$6:$E$39,MATCH($I55,'1組'!$B$6:$B$39,0),4),\"\")","v":"鷲尾"},13,null,null,null,{"$f":"IF($A55=\"\",\"\",$B55+$B55+5)","v":15},{"$f":"IF($A55=\"\",\"\",$I55+$I55+4)","v":30},{"$f":"IF($A55=\"\",\"\",$M55-1)","v":14},{"$f":"IF($A55=\"\",\"\",$N55)","v":30},{"$f":"IF($A55=\"\",\"\",$M55-1)","v":14},{"$f":"IF($A55=\"\",\"\",$N55+1)","v":31},{"$f":"IF(AND($B55>=1,$B55<=17),OFFSET(INDEX('1組'!$B$6:$E$39,MATCH($B55,'1組'!$B$6:$B$39,0),2),1,0),\"\")","v":180},{"$f":"IF($A55=\"\",\"\",$I55+$I55+5)","v":31},{"$f":"IF($A55=\"\",\"\",$B55+$B55+4)","v":14},{"$f":"IF($A55=\"\",\"\",$T55-1)","v":30},{"$f":"IF($A55=\"\",\"\",$U55)","v":14},{"$f":"IF($A55=\"\",\"\",$T55-1)","v":30},{"$f":"IF($A55=\"\",\"\",$U55+1)","v":15},{"$f":"IF(AND($I55>=1,$I55<=17),OFFSET(INDEX('1組'!$B$6:$E$39,MATCH($I55,'1組'!$B$6:$B$39,0),2),1,0),\"\")","v":180}]
[]
[25,7,{"$f":"IF(AND($B57>=1,$B57<=17),INDEX('1組'!$B$6:$E$39,MATCH($B57,'1組'!$B$6:$B$39,0),4),\"\")","v":"植田"},122,null,"w",null,{"$f":"IF(AND($I57>=1,$I57<=17),INDEX('1組'!$B$6:$E$39,MATCH($I57,'1組'!$B$6:$B$39,0),4),\"\")","v":"水田"},11,null,null,null,{"$f":"IF($A57=\"\",\"\",$B57+$B57+5)","v":19},{"$f":"IF($A57=\"\",\"\",$I57+$I57+4)","v":26},{"$f":"IF($A57=\"\",\"\",$M57-1)","v":18},{"$f":"IF($A57=\"\",\"\",$N57)","v":26},{"$f":"IF($A57=\"\",\"\",$M57-1)","v":18},{"$f":"IF($A57=\"\",\"\",$N57+1)","v":27},{"$f":"IF(AND($B57>=1,$B57<=17),OFFSET(INDEX('1組'!$B$6:$E$39,MATCH($B57,'1組'!$B$6:$B$39,0),2),1,0),\"\")","v":180},{"$f":"IF($A57=\"\",\"\",$I57+$I57+5)","v":27},{"$f":"IF($A57=\"\",\"\",$B57+$B57+4)","v":18},{"$f":"IF($A57=\"\",\"\",$T57-1)","v":26},{"$f":"IF($A57=\"\",\"\",$U57)","v":18},{"$f":"IF($A57=\"\",\"\",$T57-1)","v":26},{"$f":"IF($A57=\"\",\"\",$U57+1)","v":19},{"$f":"IF(AND($I57>=1,$I57<=17),OFFSET(INDEX('1組'!$B$6:$E$39,MATCH($I57,'1組'!$B$6:$B$39,0),2),1,0),\"\")","v":180}]
[]
[26,1,{"$f":"IF(AND($B59>=1,$B59<=17),INDEX('1組'!$B$6:$E$39,MATCH($B59,'1組'!$B$6:$B$39,0),4),\"\")","v":"白戸"},"w",null,0,null,{"$f":"IF(AND($I59>=1,$I59<=17),INDEX('1組'!$B$6:$E$39,MATCH($I59,'1組'!$B$6:$B$39,0),4),\"\")","v":"宮野"},9,null,null,null,{"$f":"IF($A59=\"\",\"\",$B59+$B59+5)","v":7},{"$f":"IF($A59=\"\",\"\",$I59+$I59+4)","v":22},{"$f":"IF($A59=\"\",\"\",$M59-1)","v":6},{"$f":"IF($A59=\"\",\"\",$N59)","v":22},{"$f":"IF($A59=\"\",\"\",$M59-1)","v":6},{"$f":"IF($A59=\"\",\"\",$N59+1)","v":23},{"$f":"IF(AND($B59>=1,$B59<=17),OFFSET(INDEX('1組'!$B$6:$E$39,MATCH($B59,'1組'!$B$6:$B$39,0),2),1,0),\"\")","v":180},{"$f":"IF($A59=\"\",\"\",$I59+$I59+5)","v":23},{"$f":"IF($A59=\"\",\"\",$B59+$B59+4)","v":6},{"$f":"IF($A59=\"\",\"\",$T59-1)","v":22},{"$f":"IF($A59=\"\",\"\",$U59)","v":6},{"$f":"IF($A59=\"\",\"\",$T59-1)","v":22},{"$f":"IF($A59=\"\",\"\",$U59+1)","v":7},{"$f":"IF(AND($I59>=1,$I59<=17),OFFSET(INDEX('1組'!$B$6:$E$39,MATCH($I59,'1組'!$B$6:$B$39,0),2),1,0),\"\")","v":140}]
[]
[null,"三節",{"$f":"IF(AND($B61>=1,$B61<=17),INDEX('1組'!$B$6:$E$39,MATCH($B61,'1組'!$B$6:$B$39,0),4),\"\")","v":""},null,null,null,null,{"$f":"IF(AND($I61>=1,$I61<=17),INDEX('1組'!$B$6:$E$39,MATCH($I61,'1組'!$B$6:$B$39,0),4),\"\")","v":""},null,null,null,null,{"$f":"IF($A61=\"\",\"\",$B61+$B61+5)","v":""},{"$f":"IF($A61=\"\",\"\",$I61+$I61+4)","v":""},{"$f":"IF($A61=\"\",\"\",$M61-1)","v":""},{"$f":"IF($A61=\"\",\"\",$N61)","v":""},{"$f":"IF($A61=\"\",\"\",$M61-1)","v":""},{"$f":"IF($A61=\"\",\"\",$N61+1)","v":""},{"$f":"IF(AND($B61>=1,$B61<=17),OFFSET(INDEX('1組'!$B$6:$E$39,MATCH($B61,'1組'!$B$6:$B$39,0),2),1,0),\"\")","v":""},{"$f":"IF($A61=\"\",\"\",$I61+$I61+5)","v":""},{"$f":"IF($A61=\"\",\"\",$B61+$B61+4)","v":""},{"$f":"IF($A61=\"\",\"\",$T61-1)","v":""},{"$f":"IF($A61=\"\",\"\",$U61)","v":""},{"$f":"IF($A61=\"\",\"\",$T61-1)","v":""},{"$f":"IF($A61=\"\",\"\",$U61+1)","v":""},{"$f":"IF(AND($I61>=1,$I61<=17),OFFSET(INDEX('1組'!$B$6:$E$39,MATCH($I61,'1組'!$B$6:$B$39,0),2),1,0),\"\")","v":""}]
[]
[27,6,{"$f":"IF(AND($B63>=1,$B63<=17),INDEX('1組'!$B$6:$E$39,MATCH($B63,'1組'!$B$6:$B$39,0),4),\"\")","v":"長谷川"},65,null,"w",null,{"$f":"IF(AND($I63>=1,$I63<=17),INDEX('1組'!$B$6:$E$39,MATCH($I63,'1組'!$B$6:$B$39,0),4),\"\")","v":"金澤"},8,null,null,null,{"$f":"IF($A63=\"\",\"\",$B63+$B63+5)","v":17},{"$f":"IF($A63=\"\",\"\",$I63+$I63+4)","v":20},{"$f":"IF($A63=\"\",\"\",$M63-1)","v":16},{"$f":"IF($A63=\"\",\"\",$N63)","v":20},{"$f":"IF($A63=\"\",\"\",$M63-1)","v":16},{"$f":"IF($A63=\"\",\"\",$N63+1)","v":21},{"$f":"IF(AND($B63>=1,$B63<=17),OFFSET(INDEX('1組'!$B$6:$E$39,MATCH($B63,'1組'!$B$6:$B$39,0),2),1,0),\"\")","v":180},{"$f":"IF($A63=\"\",\"\",$I63+$I63+5)","v":21},{"$f":"IF($A63=\"\",\"\",$B63+$B63+4)","v":16},{"$f":"IF($A63=\"\",\"\",$T63-1)","v":20},{"$f":"IF($A63=\"\",\"\",$U63)","v":16},{"$f":"IF($A63=\"\",\"\",$T63-1)","v":20},{"$f":"IF($A63=\"\",\"\",$U63+1)","v":17},{"$f":"IF(AND($I63>=1,$I63<=17),OFFSET(INDEX('1組'!$B$6:$E$39,MATCH($I63,'1組'!$B$6:$B$39,0),2),1,0),\"\")","v":180}]
[]
[28,4,{"$f":"IF(AND($B65>=1,$B65<=17),INDEX('1組'!$B$6:$E$39,MATCH($B65,'1組'!$B$6:$B$39,0),4),\"\")","v":"山田　晋之"},59,null,"w",null,{"$f":"IF(AND($I65>=1,$I65<=17),INDEX('1組'!$B$6:$E$39,MATCH($I65,'1組'!$B$6:$B$39,0),4),\"\")","v":"岩本"},10,null,null,null,{"$f":"IF($A65=\"\",\"\",$B65+$B65+5)","v":13},{"$f":"IF($A65=\"\",\"\",$I65+$I65+4)","v":24},{"$f":"IF($A65=\"\",\"\",$M65-1)","v":12},{"$f":"IF($A65=\"\",\"\",$N65)","v":24},{"$f":"IF($A65=\"\",\"\",$M65-1)","v":12},{"$f":"IF($A65=\"\",\"\",$N65+1)","v":25},{"$f":"IF(AND($B65>=1,$B65<=17),OFFSET(INDEX('1組'!$B$6:$E$39,MATCH($B65,'1組'!$B$6:$B$39,0),2),1,0),\"\")","v":180},{"$f":"IF($A65=\"\",\"\",$I65+$I65+5)","v":25},{"$f":"IF($A65=\"\",\"\",$B65+$B65+4)","v":12},{"$f":"IF($A65=\"\",\"\",$T65-1)","v":24},{"$f":"IF($A65=\"\",\"\",$U65)","v":12},{"$f":"IF($A65=\"\",\"\",$T65-1)","v":24},{"$f":"IF($A65=\"\",\"\",$U65+1)","v":13},{"$f":"IF(AND($I65>=1,$I65<=17),OFFSET(INDEX('1組'!$B$6:$E$39,MATCH($I65,'1組'!$B$6:$B$39,0),2),1,0),\"\")","v":180}]
[]
[29,2,{"$f":"IF(AND($B67>=1,$B67<=17),INDEX('1組'!$B$6:$E$39,MATCH($B67,'1組'!$B$6:$B$39,0),4),\"\")","v":"近藤"},75,null,"w",null,{"$f":"IF(AND($I67>=1,$I67<=17),INDEX('1組'!$B$6:$E$39,MATCH($I67,'1組'!$B$6:$B$39,0),4),\"\")","v":"斎藤裕児"},12,null,null,null,{"$f":"IF($A67=\"\",\"\",$B67+$B67+5)","v":9},{"$f":"IF($A67=\"\",\"\",$I67+$I67+4)","v":28},{"$f":"IF($A67=\"\",\"\",$M67-1)","v":8},{"$f":"IF($A67=\"\",\"\",$N67)","v":28},{"$f":"IF($A67=\"\",\"\",$M67-1)","v":8},{"$f":"IF($A67=\"\",\"\",$N67+1)","v":29},{"$f":"IF(AND($B67>=1,$B67<=17),OFFSET(INDEX('1組'!$B$6:$E$39,MATCH($B67,'1組'!$B$6:$B$39,0),2),1,0),\"\")","v":180},{"$f":"IF($A67=\"\",\"\",$I67+$I67+5)","v":29},{"$f":"IF($A67=\"\",\"\",$B67+$B67+4)","v":8},{"$f":"IF($A67=\"\",\"\",$T67-1)","v":28},{"$f":"IF($A67=\"\",\"\",$U67)","v":8},{"$f":"IF($A67=\"\",\"\",$T67-1)","v":28},{"$f":"IF($A67=\"\",\"\",$U67+1)","v":9},{"$f":"IF(AND($I67>=1,$I67<=17),OFFSET(INDEX('1組'!$B$6:$E$39,MATCH($I67,'1組'!$B$6:$B$39,0),2),1,0),\"\")","v":180}]
[]
[30,3,{"$f":"IF(AND($B69>=1,$B69<=17),INDEX('1組'!$B$6:$E$39,MATCH($B69,'1組'!$B$6:$B$39,0),4),\"\")","v":"吉向"},165,null,"w",null,{"$f":"IF(AND($I69>=1,$I69<=17),INDEX('1組'!$B$6:$E$39,MATCH($I69,'1組'!$B$6:$B$39,0),4),\"\")","v":"鷲尾"},13,null,null,null,{"$f":"IF($A69=\"\",\"\",$B69+$B69+5)","v":11},{"$f":"IF($A69=\"\",\"\",$I69+$I69+4)","v":30},{"$f":"IF($A69=\"\",\"\",$M69-1)","v":10},{"$f":"IF($A69=\"\",\"\",$N69)","v":30},{"$f":"IF($A69=\"\",\"\",$M69-1)","v":10},{"$f":"IF($A69=\"\",\"\",$N69+1)","v":31},{"$f":"IF(AND($B69>=1,$B69<=17),OFFSET(INDEX('1組'!$B$6:$E$39,MATCH($B69,'1組'!$B$6:$B$39,0),2),1,0),\"\")","v":180},{"$f":"IF($A69=\"\",\"\",$I69+$I69+5)","v":31},{"$f":"IF($A69=\"\",\"\",$B69+$B69+4)","v":10},{"$f":"IF($A69=\"\",\"\",$T69-1)","v":30},{"$f":"IF($A69=\"\",\"\",$U69)","v":10},{"$f":"IF($A69=\"\",\"\",$T69-1)","v":30},{"$f":"IF($A69=\"\",\"\",$U69+1)","v":11},{"$f":"IF(AND($I69>=1,$I69<=17),OFFSET(INDEX('1組'!$B$6:$E$39,MATCH($I69,'1組'!$B$6:$B$39,0),2),1,0),\"\")","v":180}]
[]
[31,5,{"$f":"IF(AND($B71>=1,$B71<=17),INDEX('1組'!$B$6:$E$39,MATCH($B71,'1組'!$B$6:$B$39,0),4),\"\")","v":"山田晃司"},"w",null,59,null,{"$f":"IF(AND($I71>=1,$I71<=17),INDEX('1組'!$B$6:$E$39,MATCH($I71,'1組'!$B$6:$B$39,0),4),\"\")","v":"水田"},11,null,null,null,{"$f":"IF($A71=\"\",\"\",$B71+$B71+5)","v":15},{"$f":"IF($A71=\"\",\"\",$I71+$I71+4)","v":26},{"$f":"IF($A71=\"\",\"\",$M71-1)","v":14},{"$f":"IF($A71=\"\",\"\",$N71)","v":26},{"$f":"IF($A71=\"\",\"\",$M71-1)","v":14},{"$f":"IF($A71=\"\",\"\",$N71+1)","v":27},{"$f":"IF(AND($B71>=1,$B71<=17),OFFSET(INDEX('1組'!$B$6:$E$39,MATCH($B71,'1組'!$B$6:$B$39,0),2),1,0),\"\")","v":180},{"$f":"IF($A71=\"\",\"\",$I71+$I71+5)","v":27},{"$f":"IF($A71=\"\",\"\",$B71+$B71+4)","v":14},{"$f":"IF($A71=\"\",\"\",$T71-1)","v":26},{"$f":"IF($A71=\"\",\"\",$U71)","v":14},{"$f":"IF($A71=\"\",\"\",$T71-1)","v":26},{"$f":"IF($A71=\"\",\"\",$U71+1)","v":15},{"$f":"IF(AND($I71>=1,$I71<=17),OFFSET(INDEX('1組'!$B$6:$E$39,MATCH($I71,'1組'!$B$6:$B$39,0),2),1,0),\"\")","v":180}]
[]
[32,7,{"$f":"IF(AND($B73>=1,$B73<=17),INDEX('1組'!$B$6:$E$39,MATCH($B73,'1組'!$B$6:$B$39,0),4),\"\")","v":"植田"},"w",null,95,null,{"$f":"IF(AND($I73>=1,$I73<=17),INDEX('1組'!$B$6:$E$39,MATCH($I73,'1組'!$B$6:$B$39,0),4),\"\")","v":"宮野"},9,null,null,null,{"$f":"IF($A73=\"\",\"\",$B73+$B73+5)","v":19},{"$f":"IF($A73=\"\",\"\",$I73+$I73+4)","v":22},{"$f":"IF($A73=\"\",\"\",$M73-1)","v":18},{"$f":"IF($A73=\"\",\"\",$N73)","v":22},{"$f":"IF($A73=\"\",\"\",$M73-1)","v":18},{"$f":"IF($A73=\"\",\"\",$N73+1)","v":23},{"$f":"IF(AND($B73>=1,$B73<=17),OFFSET(INDEX('1組'!$B$6:$E$39,MATCH($B73,'1組'!$B$6:$B$39,0),2),1,0),\"\")","v":180},{"$f":"IF($A73=\"\",\"\",$I73+$I73+5)","v":23},{"$f":"IF($A73=\"\",\"\",$B73+$B73+4)","v":18},{"$f":"IF($A73=\"\",\"\",$T73-1)","v":22},{"$f":"IF($A73=\"\",\"\",$U73)","v":18},{"$f":"IF($A73=\"\",\"\",$T73-1)","v":22},{"$f":"IF($A73=\"\",\"\",$U73+1)","v":19},{"$f":"IF(AND($I73>=1,$I73<=17),OFFSET(INDEX('1組'!$B$6:$E$39,MATCH($I73,'1組'!$B$6:$B$39,0),2),1,0),\"\")","v":140}]
[null,null,null,null,null,null,108]
[33,8,{"$f":"IF(AND($B75>=1,$B75<=17),INDEX('1組'!$B$6:$E$39,MATCH($B75,'1組'!$B$6:$B$39,0),4),\"\")","v":"金澤"},45,null,"w",null,{"$f":"IF(AND($I75>=1,$I75<=17),INDEX('1組'!$B$6:$E$39,MATCH($I75,'1組'!$B$6:$B$39,0),4),\"\")","v":"白戸"},1,null,null,null,{"$f":"IF($A75=\"\",\"\",$B75+$B75+5)","v":21},{"$f":"IF($A75=\"\",\"\",$I75+$I75+4)","v":6},{"$f":"IF($A75=\"\",\"\",$M75-1)","v":20},{"$f":"IF($A75=\"\",\"\",$N75)","v":6},{"$f":"IF($A75=\"\",\"\",$M75-1)","v":20},{"$f":"IF($A75=\"\",\"\",$N75+1)","v":7},{"$f":"IF(AND($B75>=1,$B75<=17),OFFSET(INDEX('1組'!$B$6:$E$39,MATCH($B75,'1組'!$B$6:$B$39,0),2),1,0),\"\")","v":180},{"$f":"IF($A75=\"\",\"\",$I75+$I75+5)","v":7},{"$f":"IF($A75=\"\",\"\",$B75+$B75+4)","v":20},{"$f":"IF($A75=\"\",\"\",$T75-1)","v":6},{"$f":"IF($A75=\"\",\"\",$U75)","v":20},{"$f":"IF($A75=\"\",\"\",$T75-1)","v":6},{"$f":"IF($A75=\"\",\"\",$U75+1)","v":21},{"$f":"IF(AND($I75>=1,$I75<=17),OFFSET(INDEX('1組'!$B$6:$E$39,MATCH($I75,'1組'!$B$6:$B$39,0),2),1,0),\"\")","v":180}]
[]
[34,6,{"$f":"IF(AND($B77>=1,$B77<=17),INDEX('1組'!$B$6:$E$39,MATCH($B77,'1組'!$B$6:$B$39,0),4),\"\")","v":"長谷川"},"w",null,102,null,{"$f":"IF(AND($I77>=1,$I77<=17),INDEX('1組'!$B$6:$E$39,MATCH($I77,'1組'!$B$6:$B$39,0),4),\"\")","v":"岩本"},10,null,null,null,{"$f":"IF($A77=\"\",\"\",$B77+$B77+5)","v":17},{"$f":"IF($A77=\"\",\"\",$I77+$I77+4)","v":24},{"$f":"IF($A77=\"\",\"\",$M77-1)","v":16},{"$f":"IF($A77=\"\",\"\",$N77)","v":24},{"$f":"IF($A77=\"\",\"\",$M77-1)","v":16},{"$f":"IF($A77=\"\",\"\",$N77+1)","v":25},{"$f":"IF(AND($B77>=1,$B77<=17),OFFSET(INDEX('1組'!$B$6:$E$39,MATCH($B77,'1組'!$B$6:$B$39,0),2),1,0),\"\")","v":180},{"$f":"IF($A77=\"\",\"\",$I77+$I77+5)","v":25},{"$f":"IF($A77=\"\",\"\",$B77+$B77+4)","v":16},{"$f":"IF($A77=\"\",\"\",$T77-1)","v":24},{"$f":"IF($A77=\"\",\"\",$U77)","v":16},{"$f":"IF($A77=\"\",\"\",$T77-1)","v":24},{"$f":"IF($A77=\"\",\"\",$U77+1)","v":17},{"$f":"IF(AND($I77>=1,$I77<=17),OFFSET(INDEX('1組'!$B$6:$E$39,MATCH($I77,'1組'!$B$6:$B$39,0),2),1,0),\"\")","v":180}]
[]
[35,4,{"$f":"IF(AND($B79>=1,$B79<=17),INDEX('1組'!$B$6:$E$39,MATCH($B79,'1組'!$B$6:$B$39,0),4),\"\")","v":"山田　晋之"},143,null,"w",null,{"$f":"IF(AND($I79>=1,$I79<=17),INDEX('1組'!$B$6:$E$39,MATCH($I79,'1組'!$B$6:$B$39,0),4),\"\")","v":"斎藤裕児"},12,null,null,null,{"$f":"IF($A79=\"\",\"\",$B79+$B79+5)","v":13},{"$f":"IF($A79=\"\",\"\",$I79+$I79+4)","v":28},{"$f":"IF($A79=\"\",\"\",$M79-1)","v":12},{"$f":"IF($A79=\"\",\"\",$N79)","v":28},{"$f":"IF($A79=\"\",\"\",$M79-1)","v":12},{"$f":"IF($A79=\"\",\"\",$N79+1)","v":29},{"$f":"IF(AND($B79>=1,$B79<=17),OFFSET(INDEX('1組'!$B$6:$E$39,MATCH($B79,'1組'!$B$6:$B$39,0),2),1,0),\"\")","v":180},{"$f":"IF($A79=\"\",\"\",$I79+$I79+5)","v":29},{"$f":"IF($A79=\"\",\"\",$B79+$B79+4)","v":12},{"$f":"IF($A79=\"\",\"\",$T79-1)","v":28},{"$f":"IF($A79=\"\",\"\",$U79)","v":12},{"$f":"IF($A79=\"\",\"\",$T79-1)","v":28},{"$f":"IF($A79=\"\",\"\",$U79+1)","v":13},{"$f":"IF(AND($I79>=1,$I79<=17),OFFSET(INDEX('1組'!$B$6:$E$39,MATCH($I79,'1組'!$B$6:$B$39,0),2),1,0),\"\")","v":180}]
[]
[36,2,{"$f":"IF(AND($B81>=1,$B81<=17),INDEX('1組'!$B$6:$E$39,MATCH($B81,'1組'!$B$6:$B$39,0),4),\"\")","v":"近藤"},"w",null,8,null,{"$f":"IF(AND($I81>=1,$I81<=17),INDEX('1組'!$B$6:$E$39,MATCH($I81,'1組'!$B$6:$B$39,0),4),\"\")","v":"鷲尾"},13,null,null,null,{"$f":"IF($A81=\"\",\"\",$B81+$B81+5)","v":9},{"$f":"IF($A81=\"\",\"\",$I81+$I81+4)","v":30},{"$f":"IF($A81=\"\",\"\",$M81-1)","v":8},{"$f":"IF($A81=\"\",\"\",$N81)","v":30},{"$f":"IF($A81=\"\",\"\",$M81-1)","v":8},{"$f":"IF($A81=\"\",\"\",$N81+1)","v":31},{"$f":"IF(AND($B81>=1,$B81<=17),OFFSET(INDEX('1組'!$B$6:$E$39,MATCH($B81,'1組'!$B$6:$B$39,0),2),1,0),\"\")","v":180},{"$f":"IF($A81=\"\",\"\",$I81+$I81+5)","v":31},{"$f":"IF($A81=\"\",\"\",$B81+$B81+4)","v":8},{"$f":"IF($A81=\"\",\"\",$T81-1)","v":30},{"$f":"IF($A81=\"\",\"\",$U81)","v":8},{"$f":"IF($A81=\"\",\"\",$T81-1)","v":30},{"$f":"IF($A81=\"\",\"\",$U81+1)","v":9},{"$f":"IF(AND($I81>=1,$I81<=17),OFFSET(INDEX('1組'!$B$6:$E$39,MATCH($I81,'1組'!$B$6:$B$39,0),2),1,0),\"\")","v":180}]
[]
[37,3,{"$f":"IF(AND($B83>=1,$B83<=17),INDEX('1組'!$B$6:$E$39,MATCH($B83,'1組'!$B$6:$B$39,0),4),\"\")","v":"吉向"},"w",null,42,null,{"$f":"IF(AND($I83>=1,$I83<=17),INDEX('1組'!$B$6:$E$39,MATCH($I83,'1組'!$B$6:$B$39,0),4),\"\")","v":"水田"},11,null,null,null,{"$f":"IF($A83=\"\",\"\",$B83+$B83+5)","v":11},{"$f":"IF($A83=\"\",\"\",$I83+$I83+4)","v":26},{"$f":"IF($A83=\"\",\"\",$M83-1)","v":10},{"$f":"IF($A83=\"\",\"\",$N83)","v":26},{"$f":"IF($A83=\"\",\"\",$M83-1)","v":10},{"$f":"IF($A83=\"\",\"\",$N83+1)","v":27},{"$f":"IF(AND($B83>=1,$B83<=17),OFFSET(INDEX('1組'!$B$6:$E$39,MATCH($B83,'1組'!$B$6:$B$39,0),2),1,0),\"\")","v":180},{"$f":"IF($A83=\"\",\"\",$I83+$I83+5)","v":27},{"$f":"IF($A83=\"\",\"\",$B83+$B83+4)","v":10},{"$f":"IF($A83=\"\",\"\",$T83-1)","v":26},{"$f":"IF($A83=\"\",\"\",$U83)","v":10},{"$f":"IF($A83=\"\",\"\",$T83-1)","v":26},{"$f":"IF($A83=\"\",\"\",$U83+1)","v":11},{"$f":"IF(AND($I83>=1,$I83<=17),OFFSET(INDEX('1組'!$B$6:$E$39,MATCH($I83,'1組'!$B$6:$B$39,0),2),1,0),\"\")","v":180}]
[]
[38,5,{"$f":"IF(AND($B85>=1,$B85<=17),INDEX('1組'!$B$6:$E$39,MATCH($B85,'1組'!$B$6:$B$39,0),4),\"\")","v":"山田晃司"},"w",null,122,null,{"$f":"IF(AND($I85>=1,$I85<=17),INDEX('1組'!$B$6:$E$39,MATCH($I85,'1組'!$B$6:$B$39,0),4),\"\")","v":"宮野"},9,null,null,null,{"$f":"IF($A85=\"\",\"\",$B85+$B85+5)","v":15},{"$f":"IF($A85=\"\",\"\",$I85+$I85+4)","v":22},{"$f":"IF($A85=\"\",\"\",$M85-1)","v":14},{"$f":"IF($A85=\"\",\"\",$N85)","v":22},{"$f":"IF($A85=\"\",\"\",$M85-1)","v":14},{"$f":"IF($A85=\"\",\"\",$N85+1)","v":23},{"$f":"IF(AND($B85>=1,$B85<=17),OFFSET(INDEX('1組'!$B$6:$E$39,MATCH($B85,'1組'!$B$6:$B$39,0),2),1,0),\"\")","v":180},{"$f":"IF($A85=\"\",\"\",$I85+$I85+5)","v":23},{"$f":"IF($A85=\"\",\"\",$B85+$B85+4)","v":14},{"$f":"IF($A85=\"\",\"\",$T85-1)","v":22},{"$f":"IF($A85=\"\",\"\",$U85)","v":14},{"$f":"IF($A85=\"\",\"\",$T85-1)","v":22},{"$f":"IF($A85=\"\",\"\",$U85+1)","v":15},{"$f":"IF(AND($I85>=1,$I85<=17),OFFSET(INDEX('1組'!$B$6:$E$39,MATCH($I85,'1組'!$B$6:$B$39,0),2),1,0),\"\")","v":140}]
[]
[39,1,{"$f":"IF(AND($B87>=1,$B87<=17),INDEX('1組'!$B$6:$E$39,MATCH($B87,'1組'!$B$6:$B$39,0),4),\"\")","v":"白戸"},173,null,"w",null,{"$f":"IF(AND($I87>=1,$I87<=17),INDEX('1組'!$B$6:$E$39,MATCH($I87,'1組'!$B$6:$B$39,0),4),\"\")","v":"植田"},7,null,null,null,{"$f":"IF($A87=\"\",\"\",$B87+$B87+5)","v":7},{"$f":"IF($A87=\"\",\"\",$I87+$I87+4)","v":18},{"$f":"IF($A87=\"\",\"\",$M87-1)","v":6},{"$f":"IF($A87=\"\",\"\",$N87)","v":18},{"$f":"IF($A87=\"\",\"\",$M87-1)","v":6},{"$f":"IF($A87=\"\",\"\",$N87+1)","v":19},{"$f":"IF(AND($B87>=1,$B87<=17),OFFSET(INDEX('1組'!$B$6:$E$39,MATCH($B87,'1組'!$B$6:$B$39,0),2),1,0),\"\")","v":180},{"$f":"IF($A87=\"\",\"\",$I87+$I87+5)","v":19},{"$f":"IF($A87=\"\",\"\",$B87+$B87+4)","v":6},{"$f":"IF($A87=\"\",\"\",$T87-1)","v":18},{"$f":"IF($A87=\"\",\"\",$U87)","v":6},{"$f":"IF($A87=\"\",\"\",$T87-1)","v":18},{"$f":"IF($A87=\"\",\"\",$U87+1)","v":7},{"$f":"IF(AND($I87>=1,$I87<=17),OFFSET(INDEX('1組'!$B$6:$E$39,MATCH($I87,'1組'!$B$6:$B$39,0),2),1,0),\"\")","v":180}]
[]
[null,null,{"$f":"IF(AND($B89>=1,$B89<=17),INDEX('1組'!$B$6:$E$39,MATCH($B89,'1組'!$B$6:$B$39,0),4),\"\")","v":""},null,null,null,null,{"$f":"IF(AND($I89>=1,$I89<=17),INDEX('1組'!$B$6:$E$39,MATCH($I89,'1組'!$B$6:$B$39,0),4),\"\")","v":""},null,null,null,null,{"$f":"IF($A89=\"\",\"\",$B89+$B89+5)","v":""},{"$f":"IF($A89=\"\",\"\",$I89+$I89+4)","v":""},{"$f":"IF($A89=\"\",\"\",$M89-1)","v":""},{"$f":"IF($A89=\"\",\"\",$N89)","v":""},{"$f":"IF($A89=\"\",\"\",$M89-1)","v":""},{"$f":"IF($A89=\"\",\"\",$N89+1)","v":""},{"$f":"IF(AND($B89>=1,$B89<=17),OFFSET(INDEX('1組'!$B$6:$E$39,MATCH($B89,'1組'!$B$6:$B$39,0),2),1,0),\"\")","v":""},{"$f":"IF($A89=\"\",\"\",$I89+$I89+5)","v":""},{"$f":"IF($A89=\"\",\"\",$B89+$B89+4)","v":""},{"$f":"IF($A89=\"\",\"\",$T89-1)","v":""},{"$f":"IF($A89=\"\",\"\",$U89)","v":""},{"$f":"IF($A89=\"\",\"\",$T89-1)","v":""},{"$f":"IF($A89=\"\",\"\",$U89+1)","v":""},{"$f":"IF(AND($I89>=1,$I89<=17),OFFSET(INDEX('1組'!$B$6:$E$39,MATCH($I89,'1組'!$B$6:$B$39,0),2),1,0),\"\")","v":""}]
[]
[null,null,{"$f":"IF(AND($B91>=1,$B91<=17),INDEX('1組'!$B$6:$E$39,MATCH($B91,'1組'!$B$6:$B$39,0),4),\"\")","v":""},null,null,null,null,{"$f":"IF(AND($I91>=1,$I91<=17),INDEX('1組'!$B$6:$E$39,MATCH($I91,'1組'!$B$6:$B$39,0),4),\"\")","v":""},null,null,null,null,{"$f":"IF($A91=\"\",\"\",$B91+$B91+5)","v":""},{"$f":"IF($A91=\"\",\"\",$I91+$I91+4)","v":""},{"$f":"IF($A91=\"\",\"\",$M91-1)","v":""},{"$f":"IF($A91=\"\",\"\",$N91)","v":""},{"$f":"IF($A91=\"\",\"\",$M91-1)","v":""},{"$f":"IF($A91=\"\",\"\",$N91+1)","v":""},{"$f":"IF(AND($B91>=1,$B91<=17),OFFSET(INDEX('1組'!$B$6:$E$39,MATCH($B91,'1組'!$B$6:$B$39,0),2),1,0),\"\")","v":""},{"$f":"IF($A91=\"\",\"\",$I91+$I91+5)","v":""},{"$f":"IF($A91=\"\",\"\",$B91+$B91+4)","v":""},{"$f":"IF($A91=\"\",\"\",$T91-1)","v":""},{"$f":"IF($A91=\"\",\"\",$U91)","v":""},{"$f":"IF($A91=\"\",\"\",$T91-1)","v":""},{"$f":"IF($A91=\"\",\"\",$U91+1)","v":""},{"$f":"IF(AND($I91>=1,$I91<=17),OFFSET(INDEX('1組'!$B$6:$E$39,MATCH($I91,'1組'!$B$6:$B$39,0),2),1,0),\"\")","v":""}]
[]
[null,null,{"$f":"IF(AND($B93>=1,$B93<=17),INDEX('1組'!$B$6:$E$39,MATCH($B93,'1組'!$B$6:$B$39,0),4),\"\")","v":""},null,null,null,null,{"$f":"IF(AND($I93>=1,$I93<=17),INDEX('1組'!$B$6:$E$39,MATCH($I93,'1組'!$B$6:$B$39,0),4),\"\")","v":""},null,null,null,null,{"$f":"IF($A93=\"\",\"\",$B93+$B93+5)","v":""},{"$f":"IF($A93=\"\",\"\",$I93+$I93+4)","v":""},{"$f":"IF($A93=\"\",\"\",$M93-1)","v":""},{"$f":"IF($A93=\"\",\"\",$N93)","v":""},{"$f":"IF($A93=\"\",\"\",$M93-1)","v":""},{"$f":"IF($A93=\"\",\"\",$N93+1)","v":""},{"$f":"IF(AND($B93>=1,$B93<=17),OFFSET(INDEX('1組'!$B$6:$E$39,MATCH($B93,'1組'!$B$6:$B$39,0),2),1,0),\"\")","v":""},{"$f":"IF($A93=\"\",\"\",$I93+$I93+5)","v":""},{"$f":"IF($A93=\"\",\"\",$B93+$B93+4)","v":""},{"$f":"IF($A93=\"\",\"\",$T93-1)","v":""},{"$f":"IF($A93=\"\",\"\",$U93)","v":""},{"$f":"IF($A93=\"\",\"\",$T93-1)","v":""},{"$f":"IF($A93=\"\",\"\",$U93+1)","v":""},{"$f":"IF(AND($I93>=1,$I93<=17),OFFSET(INDEX('1組'!$B$6:$E$39,MATCH($I93,'1組'!$B$6:$B$39,0),2),1,0),\"\")","v":""}]
[]
[null,null,{"$f":"IF(AND($B95>=1,$B95<=17),INDEX('1組'!$B$6:$E$39,MATCH($B95,'1組'!$B$6:$B$39,0),4),\"\")","v":""},null,null,null,null,{"$f":"IF(AND($I95>=1,$I95<=17),INDEX('1組'!$B$6:$E$39,MATCH($I95,'1組'!$B$6:$B$39,0),4),\"\")","v":""},null,null,null,null,{"$f":"IF($A95=\"\",\"\",$B95+$B95+5)","v":""},{"$f":"IF($A95=\"\",\"\",$I95+$I95+4)","v":""},{"$f":"IF($A95=\"\",\"\",$M95-1)","v":""},{"$f":"IF($A95=\"\",\"\",$N95)","v":""},{"$f":"IF($A95=\"\",\"\",$M95-1)","v":""},{"$f":"IF($A95=\"\",\"\",$N95+1)","v":""},{"$f":"IF(AND($B95>=1,$B95<=17),OFFSET(INDEX('1組'!$B$6:$E$39,MATCH($B95,'1組'!$B$6:$B$39,0),2),1,0),\"\")","v":""},{"$f":"IF($A95=\"\",\"\",$I95+$I95+5)","v":""},{"$f":"IF($A95=\"\",\"\",$B95+$B95+4)","v":""},{"$f":"IF($A95=\"\",\"\",$T95-1)","v":""},{"$f":"IF($A95=\"\",\"\",$U95)","v":""},{"$f":"IF($A95=\"\",\"\",$T95-1)","v":""},{"$f":"IF($A95=\"\",\"\",$U95+1)","v":""},{"$f":"IF(AND($I95>=1,$I95<=17),OFFSET(INDEX('1組'!$B$6:$E$39,MATCH($I95,'1組'!$B$6:$B$39,0),2),1,0),\"\")","v":""}]
[]
[null,null,{"$f":"IF(AND($B97>=1,$B97<=17),INDEX('1組'!$B$6:$E$39,MATCH($B97,'1組'!$B$6:$B$39,0),4),\"\")","v":""},null,null,null,null,{"$f":"IF(AND($I97>=1,$I97<=17),INDEX('1組'!$B$6:$E$39,MATCH($I97,'1組'!$B$6:$B$39,0),4),\"\")","v":""},null,null,null,null,{"$f":"IF($A97=\"\",\"\",$B97+$B97+5)","v":""},{"$f":"IF($A97=\"\",\"\",$I97+$I97+4)","v":""},{"$f":"IF($A97=\"\",\"\",$M97-1)","v":""},{"$f":"IF($A97=\"\",\"\",$N97)","v":""},{"$f":"IF($A97=\"\",\"\",$M97-1)","v":""},{"$f":"IF($A97=\"\",\"\",$N97+1)","v":""},{"$f":"IF(AND($B97>=1,$B97<=17),OFFSET(INDEX('1組'!$B$6:$E$39,MATCH($B97,'1組'!$B$6:$B$39,0),2),1,0),\"\")","v":""},{"$f":"IF($A97=\"\",\"\",$I97+$I97+5)","v":""},{"$f":"IF($A97=\"\",\"\",$B97+$B97+4)","v":""},{"$f":"IF($A97=\"\",\"\",$T97-1)","v":""},{"$f":"IF($A97=\"\",\"\",$U97)","v":""},{"$f":"IF($A97=\"\",\"\",$T97-1)","v":""},{"$f":"IF($A97=\"\",\"\",$U97+1)","v":""},{"$f":"IF(AND($I97>=1,$I97<=17),OFFSET(INDEX('1組'!$B$6:$E$39,MATCH($I97,'1組'!$B$6:$B$39,0),2),1,0),\"\")","v":""}]
[]
[null,null,{"$f":"IF(AND($B99>=1,$B99<=17),INDEX('1組'!$B$6:$E$39,MATCH($B99,'1組'!$B$6:$B$39,0),4),\"\")","v":""},null,null,null,null,{"$f":"IF(AND($I99>=1,$I99<=17),INDEX('1組'!$B$6:$E$39,MATCH($I99,'1組'!$B$6:$B$39,0),4),\"\")","v":""},null,null,null,null,{"$f":"IF($A99=\"\",\"\",$B99+$B99+5)","v":""},{"$f":"IF($A99=\"\",\"\",$I99+$I99+4)","v":""},{"$f":"IF($A99=\"\",\"\",$M99-1)","v":""},{"$f":"IF($A99=\"\",\"\",$N99)","v":""},{"$f":"IF($A99=\"\",\"\",$M99-1)","v":""},{"$f":"IF($A99=\"\",\"\",$N99+1)","v":""},{"$f":"IF(AND($B99>=1,$B99<=17),OFFSET(INDEX('1組'!$B$6:$E$39,MATCH($B99,'1組'!$B$6:$B$39,0),2),1,0),\"\")","v":""},{"$f":"IF($A99=\"\",\"\",$I99+$I99+5)","v":""},{"$f":"IF($A99=\"\",\"\",$B99+$B99+4)","v":""},{"$f":"IF($A99=\"\",\"\",$T99-1)","v":""},{"$f":"IF($A99=\"\",\"\",$U99)","v":""},{"$f":"IF($A99=\"\",\"\",$T99-1)","v":""},{"$f":"IF($A99=\"\",\"\",$U99+1)","v":""},{"$f":"IF(AND($I99>=1,$I99<=17),OFFSET(INDEX('1組'!$B$6:$E$39,MATCH($I99,'1組'!$B$6:$B$39,0),2),1,0),\"\")","v":""}]
[]
[null,null,{"$f":"IF(AND($B101>=1,$B101<=17),INDEX('1組'!$B$6:$E$39,MATCH($B101,'1組'!$B$6:$B$39,0),4),\"\")","v":""},null,null,null,null,{"$f":"IF(AND($I101>=1,$I101<=17),INDEX('1組'!$B$6:$E$39,MATCH($I101,'1組'!$B$6:$B$39,0),4),\"\")","v":""},null,null,null,null,{"$f":"IF($A101=\"\",\"\",$B101+$B101+5)","v":""},{"$f":"IF($A101=\"\",\"\",$I101+$I101+4)","v":""},{"$f":"IF($A101=\"\",\"\",$M101-1)","v":""},{"$f":"IF($A101=\"\",\"\",$N101)","v":""},{"$f":"IF($A101=\"\",\"\",$M101-1)","v":""},{"$f":"IF($A101=\"\",\"\",$N101+1)","v":""},{"$f":"IF(AND($B101>=1,$B101<=17),OFFSET(INDEX('1組'!$B$6:$E$39,MATCH($B101,'1組'!$B$6:$B$39,0),2),1,0),\"\")","v":""},{"$f":"IF($A101=\"\",\"\",$I101+$I101+5)","v":""},{"$f":"IF($A101=\"\",\"\",$B101+$B101+4)","v":""},{"$f":"IF($A101=\"\",\"\",$T101-1)","v":""},{"$f":"IF($A101=\"\",\"\",$U101)","v":""},{"$f":"IF($A101=\"\",\"\",$T101-1)","v":""},{"$f":"IF($A101=\"\",\"\",$U101+1)","v":""},{"$f":"IF(AND($I101>=1,$I101<=17),OFFSET(INDEX('1組'!$B$6:$E$39,MATCH($I101,'1組'!$B$6:$B$39,0),2),1,0),\"\")","v":""}]
[]
[null,null,{"$f":"IF(AND($B103>=1,$B103<=17),INDEX('1組'!$B$6:$E$39,MATCH($B103,'1組'!$B$6:$B$39,0),4),\"\")","v":""},null,null,null,null,{"$f":"IF(AND($I103>=1,$I103<=17),INDEX('1組'!$B$6:$E$39,MATCH($I103,'1組'!$B$6:$B$39,0),4),\"\")","v":""},null,null,null,null,{"$f":"IF($A103=\"\",\"\",$B103+$B103+5)","v":""},{"$f":"IF($A103=\"\",\"\",$I103+$I103+4)","v":""},{"$f":"IF($A103=\"\",\"\",$M103-1)","v":""},{"$f":"IF($A103=\"\",\"\",$N103)","v":""},{"$f":"IF($A103=\"\",\"\",$M103-1)","v":""},{"$f":"IF($A103=\"\",\"\",$N103+1)","v":""},{"$f":"IF(AND($B103>=1,$B103<=17),OFFSET(INDEX('1組'!$B$6:$E$39,MATCH($B103,'1組'!$B$6:$B$39,0),2),1,0),\"\")","v":""},{"$f":"IF($A103=\"\",\"\",$I103+$I103+5)","v":""},{"$f":"IF($A103=\"\",\"\",$B103+$B103+4)","v":""},{"$f":"IF($A103=\"\",\"\",$T103-1)","v":""},{"$f":"IF($A103=\"\",\"\",$U103)","v":""},{"$f":"IF($A103=\"\",\"\",$T103-1)","v":""},{"$f":"IF($A103=\"\",\"\",$U103+1)","v":""},{"$f":"IF(AND($I103>=1,$I103<=17),OFFSET(INDEX('1組'!$B$6:$E$39,MATCH($I103,'1組'!$B$6:$B$39,0),2),1,0),\"\")","v":""}]
[]
[null,null,{"$f":"IF(AND($B105>=1,$B105<=17),INDEX('1組'!$B$6:$E$39,MATCH($B105,'1組'!$B$6:$B$39,0),4),\"\")","v":""},null,null,null,null,{"$f":"IF(AND($I105>=1,$I105<=17),INDEX('1組'!$B$6:$E$39,MATCH($I105,'1組'!$B$6:$B$39,0),4),\"\")","v":""},null,null,null,null,{"$f":"IF($A105=\"\",\"\",$B105+$B105+5)","v":""},{"$f":"IF($A105=\"\",\"\",$I105+$I105+4)","v":""},{"$f":"IF($A105=\"\",\"\",$M105-1)","v":""},{"$f":"IF($A105=\"\",\"\",$N105)","v":""},{"$f":"IF($A105=\"\",\"\",$M105-1)","v":""},{"$f":"IF($A105=\"\",\"\",$N105+1)","v":""},{"$f":"IF(AND($B105>=1,$B105<=17),OFFSET(INDEX('1組'!$B$6:$E$39,MATCH($B105,'1組'!$B$6:$B$39,0),2),1,0),\"\")","v":""},{"$f":"IF($A105=\"\",\"\",$I105+$I105+5)","v":""},{"$f":"IF($A105=\"\",\"\",$B105+$B105+4)","v":""},{"$f":"IF($A105=\"\",\"\",$T105-1)","v":""},{"$f":"IF($A105=\"\",\"\",$U105)","v":""},{"$f":"IF($A105=\"\",\"\",$T105-1)","v":""},{"$f":"IF($A105=\"\",\"\",$U105+1)","v":""},{"$f":"IF(AND($I105>=1,$I105<=17),OFFSET(INDEX('1組'!$B$6:$E$39,MATCH($I105,'1組'!$B$6:$B$39,0),2),1,0),\"\")","v":""}]
[]
[null,null,{"$f":"IF(AND($B107>=1,$B107<=17),INDEX('1組'!$B$6:$E$39,MATCH($B107,'1組'!$B$6:$B$39,0),4),\"\")","v":""},null,null,null,null,{"$f":"IF(AND($I107>=1,$I107<=17),INDEX('1組'!$B$6:$E$39,MATCH($I107,'1組'!$B$6:$B$39,0),4),\"\")","v":""},null,null,null,null,{"$f":"IF($A107=\"\",\"\",$B107+$B107+5)","v":""},{"$f":"IF($A107=\"\",\"\",$I107+$I107+4)","v":""},{"$f":"IF($A107=\"\",\"\",$M107-1)","v":""},{"$f":"IF($A107=\"\",\"\",$N107)","v":""},{"$f":"IF($A107=\"\",\"\",$M107-1)","v":""},{"$f":"IF($A107=\"\",\"\",$N107+1)","v":""},{"$f":"IF(AND($B107>=1,$B107<=17),OFFSET(INDEX('1組'!$B$6:$E$39,MATCH($B107,'1組'!$B$6:$B$39,0),2),1,0),\"\")","v":""},{"$f":"IF($A107=\"\",\"\",$I107+$I107+5)","v":""},{"$f":"IF($A107=\"\",\"\",$B107+$B107+4)","v":""},{"$f":"IF($A107=\"\",\"\",$T107-1)","v":""},{"$f":"IF($A107=\"\",\"\",$U107)","v":""},{"$f":"IF($A107=\"\",\"\",$T107-1)","v":""},{"$f":"IF($A107=\"\",\"\",$U107+1)","v":""},{"$f":"IF(AND($I107>=1,$I107<=17),OFFSET(INDEX('1組'!$B$6:$E$39,MATCH($I107,'1組'!$B$6:$B$39,0),2),1,0),\"\")","v":""}]
[]
[null,null,{"$f":"IF(AND($B109>=1,$B109<=17),INDEX('1組'!$B$6:$E$39,MATCH($B109,'1組'!$B$6:$B$39,0),4),\"\")","v":""},null,null,null,null,{"$f":"IF(AND($I109>=1,$I109<=17),INDEX('1組'!$B$6:$E$39,MATCH($I109,'1組'!$B$6:$B$39,0),4),\"\")","v":""},null,null,null,null,{"$f":"IF($A109=\"\",\"\",$B109+$B109+5)","v":""},{"$f":"IF($A109=\"\",\"\",$I109+$I109+4)","v":""},{"$f":"IF($A109=\"\",\"\",$M109-1)","v":""},{"$f":"IF($A109=\"\",\"\",$N109)","v":""},{"$f":"IF($A109=\"\",\"\",$M109-1)","v":""},{"$f":"IF($A109=\"\",\"\",$N109+1)","v":""},{"$f":"IF(AND($B109>=1,$B109<=17),OFFSET(INDEX('1組'!$B$6:$E$39,MATCH($B109,'1組'!$B$6:$B$39,0),2),1,0),\"\")","v":""},{"$f":"IF($A109=\"\",\"\",$I109+$I109+5)","v":""},{"$f":"IF($A109=\"\",\"\",$B109+$B109+4)","v":""},{"$f":"IF($A109=\"\",\"\",$T109-1)","v":""},{"$f":"IF($A109=\"\",\"\",$U109)","v":""},{"$f":"IF($A109=\"\",\"\",$T109-1)","v":""},{"$f":"IF($A109=\"\",\"\",$U109+1)","v":""},{"$f":"IF(AND($I109>=1,$I109<=17),OFFSET(INDEX('1組'!$B$6:$E$39,MATCH($I109,'1組'!$B$6:$B$39,0),2),1,0),\"\")","v":""}]
[]
[null,null,{"$f":"IF(AND($B111>=1,$B111<=17),INDEX('1組'!$B$6:$E$39,MATCH($B111,'1組'!$B$6:$B$39,0),4),\"\")","v":""},null,null,null,null,{"$f":"IF(AND($I111>=1,$I111<=17),INDEX('1組'!$B$6:$E$39,MATCH($I111,'1組'!$B$6:$B$39,0),4),\"\")","v":""},null,null,null,null,{"$f":"IF($A111=\"\",\"\",$B111+$B111+5)","v":""},{"$f":"IF($A111=\"\",\"\",$I111+$I111+4)","v":""},{"$f":"IF($A111=\"\",\"\",$M111-1)","v":""},{"$f":"IF($A111=\"\",\"\",$N111)","v":""},{"$f":"IF($A111=\"\",\"\",$M111-1)","v":""},{"$f":"IF($A111=\"\",\"\",$N111+1)","v":""},{"$f":"IF(AND($B111>=1,$B111<=17),OFFSET(INDEX('1組'!$B$6:$E$39,MATCH($B111,'1組'!$B$6:$B$39,0),2),1,0),\"\")","v":""},{"$f":"IF($A111=\"\",\"\",$I111+$I111+5)","v":""},{"$f":"IF($A111=\"\",\"\",$B111+$B111+4)","v":""},{"$f":"IF($A111=\"\",\"\",$T111-1)","v":""},{"$f":"IF($A111=\"\",\"\",$U111)","v":""},{"$f":"IF($A111=\"\",\"\",$T111-1)","v":""},{"$f":"IF($A111=\"\",\"\",$U111+1)","v":""},{"$f":"IF(AND($I111>=1,$I111<=17),OFFSET(INDEX('1組'!$B$6:$E$39,MATCH($I111,'1組'!$B$6:$B$39,0),2),1,0),\"\")","v":""}]
[]
[null,null,{"$f":"IF(AND($B113>=1,$B113<=17),INDEX('1組'!$B$6:$E$39,MATCH($B113,'1組'!$B$6:$B$39,0),4),\"\")","v":""},null,null,null,null,{"$f":"IF(AND($I113>=1,$I113<=17),INDEX('1組'!$B$6:$E$39,MATCH($I113,'1組'!$B$6:$B$39,0),4),\"\")","v":""},null,null,null,null,{"$f":"IF($A113=\"\",\"\",$B113+$B113+5)","v":""},{"$f":"IF($A113=\"\",\"\",$I113+$I113+4)","v":""},{"$f":"IF($A113=\"\",\"\",$M113-1)","v":""},{"$f":"IF($A113=\"\",\"\",$N113)","v":""},{"$f":"IF($A113=\"\",\"\",$M113-1)","v":""},{"$f":"IF($A113=\"\",\"\",$N113+1)","v":""},{"$f":"IF(AND($B113>=1,$B113<=17),OFFSET(INDEX('1組'!$B$6:$E$39,MATCH($B113,'1組'!$B$6:$B$39,0),2),1,0),\"\")","v":""},{"$f":"IF($A113=\"\",\"\",$I113+$I113+5)","v":""},{"$f":"IF($A113=\"\",\"\",$B113+$B113+4)","v":""},{"$f":"IF($A113=\"\",\"\",$T113-1)","v":""},{"$f":"IF($A113=\"\",\"\",$U113)","v":""},{"$f":"IF($A113=\"\",\"\",$T113-1)","v":""},{"$f":"IF($A113=\"\",\"\",$U113+1)","v":""},{"$f":"IF(AND($I113>=1,$I113<=17),OFFSET(INDEX('1組'!$B$6:$E$39,MATCH($I113,'1組'!$B$6:$B$39,0),2),1,0),\"\")","v":""}]
[]
[null,null,{"$f":"IF(AND($B115>=1,$B115<=17),INDEX('1組'!$B$6:$E$39,MATCH($B115,'1組'!$B$6:$B$39,0),4),\"\")","v":""},null,null,null,null,{"$f":"IF(AND($I115>=1,$I115<=17),INDEX('1組'!$B$6:$E$39,MATCH($I115,'1組'!$B$6:$B$39,0),4),\"\")","v":""},null,null,null,null,{"$f":"IF($A115=\"\",\"\",$B115+$B115+5)","v":""},{"$f":"IF($A115=\"\",\"\",$I115+$I115+4)","v":""},{"$f":"IF($A115=\"\",\"\",$M115-1)","v":""},{"$f":"IF($A115=\"\",\"\",$N115)","v":""},{"$f":"IF($A115=\"\",\"\",$M115-1)","v":""},{"$f":"IF($A115=\"\",\"\",$N115+1)","v":""},{"$f":"IF(AND($B115>=1,$B115<=17),OFFSET(INDEX('1組'!$B$6:$E$39,MATCH($B115,'1組'!$B$6:$B$39,0),2),1,0),\"\")","v":""},{"$f":"IF($A115=\"\",\"\",$I115+$I115+5)","v":""},{"$f":"IF($A115=\"\",\"\",$B115+$B115+4)","v":""},{"$f":"IF($A115=\"\",\"\",$T115-1)","v":""},{"$f":"IF($A115=\"\",\"\",$U115)","v":""},{"$f":"IF($A115=\"\",\"\",$T115-1)","v":""},{"$f":"IF($A115=\"\",\"\",$U115+1)","v":""},{"$f":"IF(AND($I115>=1,$I115<=17),OFFSET(INDEX('1組'!$B$6:$E$39,MATCH($I115,'1組'!$B$6:$B$39,0),2),1,0),\"\")","v":""}]
[]
[null,null,{"$f":"IF(AND($B117>=1,$B117<=17),INDEX('1組'!$B$6:$E$39,MATCH($B117,'1組'!$B$6:$B$39,0),4),\"\")","v":""},null,null,null,null,{"$f":"IF(AND($I117>=1,$I117<=17),INDEX('1組'!$B$6:$E$39,MATCH($I117,'1組'!$B$6:$B$39,0),4),\"\")","v":""},null,null,null,null,{"$f":"IF($A117=\"\",\"\",$B117+$B117+5)","v":""},{"$f":"IF($A117=\"\",\"\",$I117+$I117+4)","v":""},{"$f":"IF($A117=\"\",\"\",$M117-1)","v":""},{"$f":"IF($A117=\"\",\"\",$N117)","v":""},{"$f":"IF($A117=\"\",\"\",$M117-1)","v":""},{"$f":"IF($A117=\"\",\"\",$N117+1)","v":""},{"$f":"IF(AND($B117>=1,$B117<=17),OFFSET(INDEX('1組'!$B$6:$E$39,MATCH($B117,'1組'!$B$6:$B$39,0),2),1,0),\"\")","v":""},{"$f":"IF($A117=\"\",\"\",$I117+$I117+5)","v":""},{"$f":"IF($A117=\"\",\"\",$B117+$B117+4)","v":""},{"$f":"IF($A117=\"\",\"\",$T117-1)","v":""},{"$f":"IF($A117=\"\",\"\",$U117)","v":""},{"$f":"IF($A117=\"\",\"\",$T117-1)","v":""},{"$f":"IF($A117=\"\",\"\",$U117+1)","v":""},{"$f":"IF(AND($I117>=1,$I117<=17),OFFSET(INDEX('1組'!$B$6:$E$39,MATCH($I117,'1組'!$B$6:$B$39,0),2),1,0),\"\")","v":""}]
[]
[null,null,{"$f":"IF(AND($B119>=1,$B119<=17),INDEX('1組'!$B$6:$E$39,MATCH($B119,'1組'!$B$6:$B$39,0),4),\"\")","v":""},null,null,null,null,{"$f":"IF(AND($I119>=1,$I119<=17),INDEX('1組'!$B$6:$E$39,MATCH($I119,'1組'!$B$6:$B$39,0),4),\"\")","v":""},null,null,null,null,{"$f":"IF($A119=\"\",\"\",$B119+$B119+5)","v":""},{"$f":"IF($A119=\"\",\"\",$I119+$I119+4)","v":""},{"$f":"IF($A119=\"\",\"\",$M119-1)","v":""},{"$f":"IF($A119=\"\",\"\",$N119)","v":""},{"$f":"IF($A119=\"\",\"\",$M119-1)","v":""},{"$f":"IF($A119=\"\",\"\",$N119+1)","v":""},{"$f":"IF(AND($B119>=1,$B119<=17),OFFSET(INDEX('1組'!$B$6:$E$39,MATCH($B119,'1組'!$B$6:$B$39,0),2),1,0),\"\")","v":""},{"$f":"IF($A119=\"\",\"\",$I119+$I119+5)","v":""},{"$f":"IF($A119=\"\",\"\",$B119+$B119+4)","v":""},{"$f":"IF($A119=\"\",\"\",$T119-1)","v":""},{"$f":"IF($A119=\"\",\"\",$U119)","v":""},{"$f":"IF($A119=\"\",\"\",$T119-1)","v":""},{"$f":"IF($A119=\"\",\"\",$U119+1)","v":""},{"$f":"IF(AND($I119>=1,$I119<=17),OFFSET(INDEX('1組'!$B$6:$E$39,MATCH($I119,'1組'!$B$6:$B$39,0),2),1,0),\"\")","v":""}]
[]
[null,null,{"$f":"IF(AND($B121>=1,$B121<=17),INDEX('1組'!$B$6:$E$39,MATCH($B121,'1組'!$B$6:$B$39,0),4),\"\")","v":""},null,null,null,null,{"$f":"IF(AND($I121>=1,$I121<=17),INDEX('1組'!$B$6:$E$39,MATCH($I121,'1組'!$B$6:$B$39,0),4),\"\")","v":""},null,null,null,null,{"$f":"IF($A121=\"\",\"\",$B121+$B121+5)","v":""},{"$f":"IF($A121=\"\",\"\",$I121+$I121+4)","v":""},{"$f":"IF($A121=\"\",\"\",$M121-1)","v":""},{"$f":"IF($A121=\"\",\"\",$N121)","v":""},{"$f":"IF($A121=\"\",\"\",$M121-1)","v":""},{"$f":"IF($A121=\"\",\"\",$N121+1)","v":""},{"$f":"IF(AND($B121>=1,$B121<=17),OFFSET(INDEX('1組'!$B$6:$E$39,MATCH($B121,'1組'!$B$6:$B$39,0),2),1,0),\"\")","v":""},{"$f":"IF($A121=\"\",\"\",$I121+$I121+5)","v":""},{"$f":"IF($A121=\"\",\"\",$B121+$B121+4)","v":""},{"$f":"IF($A121=\"\",\"\",$T121-1)","v":""},{"$f":"IF($A121=\"\",\"\",$U121)","v":""},{"$f":"IF($A121=\"\",\"\",$T121-1)","v":""},{"$f":"IF($A121=\"\",\"\",$U121+1)","v":""},{"$f":"IF(AND($I121>=1,$I121<=17),OFFSET(INDEX('1組'!$B$6:$E$39,MATCH($I121,'1組'!$B$6:$B$39,0),2),1,0),\"\")","v":""}]
[]
[null,null,{"$f":"IF(AND($B123>=1,$B123<=17),INDEX('1組'!$B$6:$E$39,MATCH($B123,'1組'!$B$6:$B$39,0),4),\"\")","v":""},null,null,null,null,{"$f":"IF(AND($I123>=1,$I123<=17),INDEX('1組'!$B$6:$E$39,MATCH($I123,'1組'!$B$6:$B$39,0),4),\"\")","v":""},null,null,null,null,{"$f":"IF($A123=\"\",\"\",$B123+$B123+5)","v":""},{"$f":"IF($A123=\"\",\"\",$I123+$I123+4)","v":""},{"$f":"IF($A123=\"\",\"\",$M123-1)","v":""},{"$f":"IF($A123=\"\",\"\",$N123)","v":""},{"$f":"IF($A123=\"\",\"\",$M123-1)","v":""},{"$f":"IF($A123=\"\",\"\",$N123+1)","v":""},{"$f":"IF(AND($B123>=1,$B123<=17),OFFSET(INDEX('1組'!$B$6:$E$39,MATCH($B123,'1組'!$B$6:$B$39,0),2),1,0),\"\")","v":""},{"$f":"IF($A123=\"\",\"\",$I123+$I123+5)","v":""},{"$f":"IF($A123=\"\",\"\",$B123+$B123+4)","v":""},{"$f":"IF($A123=\"\",\"\",$T123-1)","v":""},{"$f":"IF($A123=\"\",\"\",$U123)","v":""},{"$f":"IF($A123=\"\",\"\",$T123-1)","v":""},{"$f":"IF($A123=\"\",\"\",$U123+1)","v":""},{"$f":"IF(AND($I123>=1,$I123<=17),OFFSET(INDEX('1組'!$B$6:$E$39,MATCH($I123,'1組'!$B$6:$B$39,0),2),1,0),\"\")","v":""}]
[]
[null,null,{"$f":"IF(AND($B125>=1,$B125<=17),INDEX('1組'!$B$6:$E$39,MATCH($B125,'1組'!$B$6:$B$39,0),4),\"\")","v":""},null,null,null,null,{"$f":"IF(AND($I125>=1,$I125<=17),INDEX('1組'!$B$6:$E$39,MATCH($I125,'1組'!$B$6:$B$39,0),4),\"\")","v":""},null,null,null,null,{"$f":"IF($A125=\"\",\"\",$B125+$B125+5)","v":""},{"$f":"IF($A125=\"\",\"\",$I125+$I125+4)","v":""},{"$f":"IF($A125=\"\",\"\",$M125-1)","v":""},{"$f":"IF($A125=\"\",\"\",$N125)","v":""},{"$f":"IF($A125=\"\",\"\",$M125-1)","v":""},{"$f":"IF($A125=\"\",\"\",$N125+1)","v":""},{"$f":"IF(AND($B125>=1,$B125<=17),OFFSET(INDEX('1組'!$B$6:$E$39,MATCH($B125,'1組'!$B$6:$B$39,0),2),1,0),\"\")","v":""},{"$f":"IF($A125=\"\",\"\",$I125+$I125+5)","v":""},{"$f":"IF($A125=\"\",\"\",$B125+$B125+4)","v":""},{"$f":"IF($A125=\"\",\"\",$T125-1)","v":""},{"$f":"IF($A125=\"\",\"\",$U125)","v":""},{"$f":"IF($A125=\"\",\"\",$T125-1)","v":""},{"$f":"IF($A125=\"\",\"\",$U125+1)","v":""},{"$f":"IF(AND($I125>=1,$I125<=17),OFFSET(INDEX('1組'!$B$6:$E$39,MATCH($I125,'1組'!$B$6:$B$39,0),2),1,0),\"\")","v":""}]
[]
[null,null,{"$f":"IF(AND($B127>=1,$B127<=17),INDEX('1組'!$B$6:$E$39,MATCH($B127,'1組'!$B$6:$B$39,0),4),\"\")","v":""},null,null,null,null,{"$f":"IF(AND($I127>=1,$I127<=17),INDEX('1組'!$B$6:$E$39,MATCH($I127,'1組'!$B$6:$B$39,0),4),\"\")","v":""},null,null,null,null,{"$f":"IF($A127=\"\",\"\",$B127+$B127+5)","v":""},{"$f":"IF($A127=\"\",\"\",$I127+$I127+4)","v":""},{"$f":"IF($A127=\"\",\"\",$M127-1)","v":""},{"$f":"IF($A127=\"\",\"\",$N127)","v":""},{"$f":"IF($A127=\"\",\"\",$M127-1)","v":""},{"$f":"IF($A127=\"\",\"\",$N127+1)","v":""},{"$f":"IF(AND($B127>=1,$B127<=17),OFFSET(INDEX('1組'!$B$6:$E$39,MATCH($B127,'1組'!$B$6:$B$39,0),2),1,0),\"\")","v":""},{"$f":"IF($A127=\"\",\"\",$I127+$I127+5)","v":""},{"$f":"IF($A127=\"\",\"\",$B127+$B127+4)","v":""},{"$f":"IF($A127=\"\",\"\",$T127-1)","v":""},{"$f":"IF($A127=\"\",\"\",$U127)","v":""},{"$f":"IF($A127=\"\",\"\",$T127-1)","v":""},{"$f":"IF($A127=\"\",\"\",$U127+1)","v":""},{"$f":"IF(AND($I127>=1,$I127<=17),OFFSET(INDEX('1組'!$B$6:$E$39,MATCH($I127,'1組'!$B$6:$B$39,0),2),1,0),\"\")","v":""}]
[]
[null,null,{"$f":"IF(AND($B129>=1,$B129<=17),INDEX('1組'!$B$6:$E$39,MATCH($B129,'1組'!$B$6:$B$39,0),4),\"\")","v":""},null,null,null,null,{"$f":"IF(AND($I129>=1,$I129<=17),INDEX('1組'!$B$6:$E$39,MATCH($I129,'1組'!$B$6:$B$39,0),4),\"\")","v":""},null,null,null,null,{"$f":"IF($A129=\"\",\"\",$B129+$B129+5)","v":""},{"$f":"IF($A129=\"\",\"\",$I129+$I129+4)","v":""},{"$f":"IF($A129=\"\",\"\",$M129-1)","v":""},{"$f":"IF($A129=\"\",\"\",$N129)","v":""},{"$f":"IF($A129=\"\",\"\",$M129-1)","v":""},{"$f":"IF($A129=\"\",\"\",$N129+1)","v":""},{"$f":"IF(AND($B129>=1,$B129<=17),OFFSET(INDEX('1組'!$B$6:$E$39,MATCH($B129,'1組'!$B$6:$B$39,0),2),1,0),\"\")","v":""},{"$f":"IF($A129=\"\",\"\",$I129+$I129+5)","v":""},{"$f":"IF($A129=\"\",\"\",$B129+$B129+4)","v":""},{"$f":"IF($A129=\"\",\"\",$T129-1)","v":""},{"$f":"IF($A129=\"\",\"\",$U129)","v":""},{"$f":"IF($A129=\"\",\"\",$T129-1)","v":""},{"$f":"IF($A129=\"\",\"\",$U129+1)","v":""},{"$f":"IF(AND($I129>=1,$I129<=17),OFFSET(INDEX('1組'!$B$6:$E$39,MATCH($I129,'1組'!$B$6:$B$39,0),2),1,0),\"\")","v":""}]
[]
[null,null,{"$f":"IF(AND($B131>=1,$B131<=17),INDEX('1組'!$B$6:$E$39,MATCH($B131,'1組'!$B$6:$B$39,0),4),\"\")","v":""},null,null,null,null,{"$f":"IF(AND($I131>=1,$I131<=17),INDEX('1組'!$B$6:$E$39,MATCH($I131,'1組'!$B$6:$B$39,0),4),\"\")","v":""},null,null,null,null,{"$f":"IF($A131=\"\",\"\",$B131+$B131+5)","v":""},{"$f":"IF($A131=\"\",\"\",$I131+$I131+4)","v":""},{"$f":"IF($A131=\"\",\"\",$M131-1)","v":""},{"$f":"IF($A131=\"\",\"\",$N131)","v":""},{"$f":"IF($A131=\"\",\"\",$M131-1)","v":""},{"$f":"IF($A131=\"\",\"\",$N131+1)","v":""},{"$f":"IF(AND($B131>=1,$B131<=17),OFFSET(INDEX('1組'!$B$6:$E$39,MATCH($B131,'1組'!$B$6:$B$39,0),2),1,0),\"\")","v":""},{"$f":"IF($A131=\"\",\"\",$I131+$I131+5)","v":""},{"$f":"IF($A131=\"\",\"\",$B131+$B131+4)","v":""},{"$f":"IF($A131=\"\",\"\",$T131-1)","v":""},{"$f":"IF($A131=\"\",\"\",$U131)","v":""},{"$f":"IF($A131=\"\",\"\",$T131-1)","v":""},{"$f":"IF($A131=\"\",\"\",$U131+1)","v":""},{"$f":"IF(AND($I131>=1,$I131<=17),OFFSET(INDEX('1組'!$B$6:$E$39,MATCH($I131,'1組'!$B$6:$B$39,0),2),1,0),\"\")","v":""}]
[]
[null,null,{"$f":"IF(AND($B133>=1,$B133<=17),INDEX('1組'!$B$6:$E$39,MATCH($B133,'1組'!$B$6:$B$39,0),4),\"\")","v":""},null,null,null,null,{"$f":"IF(AND($I133>=1,$I133<=17),INDEX('1組'!$B$6:$E$39,MATCH($I133,'1組'!$B$6:$B$39,0),4),\"\")","v":""},null,null,null,null,{"$f":"IF($A133=\"\",\"\",$B133+$B133+5)","v":""},{"$f":"IF($A133=\"\",\"\",$I133+$I133+4)","v":""},{"$f":"IF($A133=\"\",\"\",$M133-1)","v":""},{"$f":"IF($A133=\"\",\"\",$N133)","v":""},{"$f":"IF($A133=\"\",\"\",$M133-1)","v":""},{"$f":"IF($A133=\"\",\"\",$N133+1)","v":""},{"$f":"IF(AND($B133>=1,$B133<=17),OFFSET(INDEX('1組'!$B$6:$E$39,MATCH($B133,'1組'!$B$6:$B$39,0),2),1,0),\"\")","v":""},{"$f":"IF($A133=\"\",\"\",$I133+$I133+5)","v":""},{"$f":"IF($A133=\"\",\"\",$B133+$B133+4)","v":""},{"$f":"IF($A133=\"\",\"\",$T133-1)","v":""},{"$f":"IF($A133=\"\",\"\",$U133)","v":""},{"$f":"IF($A133=\"\",\"\",$T133-1)","v":""},{"$f":"IF($A133=\"\",\"\",$U133+1)","v":""},{"$f":"IF(AND($I133>=1,$I133<=17),OFFSET(INDEX('1組'!$B$6:$E$39,MATCH($I133,'1組'!$B$6:$B$39,0),2),1,0),\"\")","v":""}]
[]
[null,null,{"$f":"IF(AND($B135>=1,$B135<=17),INDEX('1組'!$B$6:$E$39,MATCH($B135,'1組'!$B$6:$B$39,0),4),\"\")","v":""},null,null,null,null,{"$f":"IF(AND($I135>=1,$I135<=17),INDEX('1組'!$B$6:$E$39,MATCH($I135,'1組'!$B$6:$B$39,0),4),\"\")","v":""},null,null,null,null,{"$f":"IF($A135=\"\",\"\",$B135+$B135+5)","v":""},{"$f":"IF($A135=\"\",\"\",$I135+$I135+4)","v":""},{"$f":"IF($A135=\"\",\"\",$M135-1)","v":""},{"$f":"IF($A135=\"\",\"\",$N135)","v":""},{"$f":"IF($A135=\"\",\"\",$M135-1)","v":""},{"$f":"IF($A135=\"\",\"\",$N135+1)","v":""},{"$f":"IF(AND($B135>=1,$B135<=17),OFFSET(INDEX('1組'!$B$6:$E$39,MATCH($B135,'1組'!$B$6:$B$39,0),2),1,0),\"\")","v":""},{"$f":"IF($A135=\"\",\"\",$I135+$I135+5)","v":""},{"$f":"IF($A135=\"\",\"\",$B135+$B135+4)","v":""},{"$f":"IF($A135=\"\",\"\",$T135-1)","v":""},{"$f":"IF($A135=\"\",\"\",$U135)","v":""},{"$f":"IF($A135=\"\",\"\",$T135-1)","v":""},{"$f":"IF($A135=\"\",\"\",$U135+1)","v":""},{"$f":"IF(AND($I135>=1,$I135<=17),OFFSET(INDEX('1組'!$B$6:$E$39,MATCH($I135,'1組'!$B$6:$B$39,0),2),1,0),\"\")","v":""}]
[]
[null,null,{"$f":"IF(AND($B137>=1,$B137<=17),INDEX('1組'!$B$6:$E$39,MATCH($B137,'1組'!$B$6:$B$39,0),4),\"\")","v":""},null,null,null,null,{"$f":"IF(AND($I137>=1,$I137<=17),INDEX('1組'!$B$6:$E$39,MATCH($I137,'1組'!$B$6:$B$39,0),4),\"\")","v":""},null,null,null,null,{"$f":"IF($A137=\"\",\"\",$B137+$B137+5)","v":""},{"$f":"IF($A137=\"\",\"\",$I137+$I137+4)","v":""},{"$f":"IF($A137=\"\",\"\",$M137-1)","v":""},{"$f":"IF($A137=\"\",\"\",$N137)","v":""},{"$f":"IF($A137=\"\",\"\",$M137-1)","v":""},{"$f":"IF($A137=\"\",\"\",$N137+1)","v":""},{"$f":"IF(AND($B137>=1,$B137<=17),OFFSET(INDEX('1組'!$B$6:$E$39,MATCH($B137,'1組'!$B$6:$B$39,0),2),1,0),\"\")","v":""},{"$f":"IF($A137=\"\",\"\",$I137+$I137+5)","v":""},{"$f":"IF($A137=\"\",\"\",$B137+$B137+4)","v":""},{"$f":"IF($A137=\"\",\"\",$T137-1)","v":""},{"$f":"IF($A137=\"\",\"\",$U137)","v":""},{"$f":"IF($A137=\"\",\"\",$T137-1)","v":""},{"$f":"IF($A137=\"\",\"\",$U137+1)","v":""},{"$f":"IF(AND($I137>=1,$I137<=17),OFFSET(INDEX('1組'!$B$6:$E$39,MATCH($I137,'1組'!$B$6:$B$39,0),2),1,0),\"\")","v":""}]
[]
[null,null,{"$f":"IF(AND($B139>=1,$B139<=17),INDEX('1組'!$B$6:$E$39,MATCH($B139,'1組'!$B$6:$B$39,0),4),\"\")","v":""},null,null,null,null,{"$f":"IF(AND($I139>=1,$I139<=17),INDEX('1組'!$B$6:$E$39,MATCH($I139,'1組'!$B$6:$B$39,0),4),\"\")","v":""},null,null,null,null,{"$f":"IF($A139=\"\",\"\",$B139+$B139+5)","v":""},{"$f":"IF($A139=\"\",\"\",$I139+$I139+4)","v":""},{"$f":"IF($A139=\"\",\"\",$M139-1)","v":""},{"$f":"IF($A139=\"\",\"\",$N139)","v":""},{"$f":"IF($A139=\"\",\"\",$M139-1)","v":""},{"$f":"IF($A139=\"\",\"\",$N139+1)","v":""},{"$f":"IF(AND($B139>=1,$B139<=17),OFFSET(INDEX('1組'!$B$6:$E$39,MATCH($B139,'1組'!$B$6:$B$39,0),2),1,0),\"\")","v":""},{"$f":"IF($A139=\"\",\"\",$I139+$I139+5)","v":""},{"$f":"IF($A139=\"\",\"\",$B139+$B139+4)","v":""},{"$f":"IF($A139=\"\",\"\",$T139-1)","v":""},{"$f":"IF($A139=\"\",\"\",$U139)","v":""},{"$f":"IF($A139=\"\",\"\",$T139-1)","v":""},{"$f":"IF($A139=\"\",\"\",$U139+1)","v":""},{"$f":"IF(AND($I139>=1,$I139<=17),OFFSET(INDEX('1組'!$B$6:$E$39,MATCH($I139,'1組'!$B$6:$B$39,0),2),1,0),\"\")","v":""}]
[]
[null,null,{"$f":"IF(AND($B141>=1,$B141<=17),INDEX('1組'!$B$6:$E$39,MATCH($B141,'1組'!$B$6:$B$39,0),4),\"\")","v":""},null,null,null,null,{"$f":"IF(AND($I141>=1,$I141<=17),INDEX('1組'!$B$6:$E$39,MATCH($I141,'1組'!$B$6:$B$39,0),4),\"\")","v":""},null,null,null,null,{"$f":"IF($A141=\"\",\"\",$B141+$B141+5)","v":""},{"$f":"IF($A141=\"\",\"\",$I141+$I141+4)","v":""},{"$f":"IF($A141=\"\",\"\",$M141-1)","v":""},{"$f":"IF($A141=\"\",\"\",$N141)","v":""},{"$f":"IF($A141=\"\",\"\",$M141-1)","v":""},{"$f":"IF($A141=\"\",\"\",$N141+1)","v":""},{"$f":"IF(AND($B141>=1,$B141<=17),OFFSET(INDEX('1組'!$B$6:$E$39,MATCH($B141,'1組'!$B$6:$B$39,0),2),1,0),\"\")","v":""},{"$f":"IF($A141=\"\",\"\",$I141+$I141+5)","v":""},{"$f":"IF($A141=\"\",\"\",$B141+$B141+4)","v":""},{"$f":"IF($A141=\"\",\"\",$T141-1)","v":""},{"$f":"IF($A141=\"\",\"\",$U141)","v":""},{"$f":"IF($A141=\"\",\"\",$T141-1)","v":""},{"$f":"IF($A141=\"\",\"\",$U141+1)","v":""},{"$f":"IF(AND($I141>=1,$I141<=17),OFFSET(INDEX('1組'!$B$6:$E$39,MATCH($I141,'1組'!$B$6:$B$39,0),2),1,0),\"\")","v":""}]
[]
[null,null,{"$f":"IF(AND($B143>=1,$B143<=17),INDEX('1組'!$B$6:$E$39,MATCH($B143,'1組'!$B$6:$B$39,0),4),\"\")","v":""},null,null,null,null,{"$f":"IF(AND($I143>=1,$I143<=17),INDEX('1組'!$B$6:$E$39,MATCH($I143,'1組'!$B$6:$B$39,0),4),\"\")","v":""},null,null,null,null,{"$f":"IF($A143=\"\",\"\",$B143+$B143+5)","v":""},{"$f":"IF($A143=\"\",\"\",$I143+$I143+4)","v":""},{"$f":"IF($A143=\"\",\"\",$M143-1)","v":""},{"$f":"IF($A143=\"\",\"\",$N143)","v":""},{"$f":"IF($A143=\"\",\"\",$M143-1)","v":""},{"$f":"IF($A143=\"\",\"\",$N143+1)","v":""},{"$f":"IF(AND($B143>=1,$B143<=17),OFFSET(INDEX('1組'!$B$6:$E$39,MATCH($B143,'1組'!$B$6:$B$39,0),2),1,0),\"\")","v":""},{"$f":"IF($A143=\"\",\"\",$I143+$I143+5)","v":""},{"$f":"IF($A143=\"\",\"\",$B143+$B143+4)","v":""},{"$f":"IF($A143=\"\",\"\",$T143-1)","v":""},{"$f":"IF($A143=\"\",\"\",$U143)","v":""},{"$f":"IF($A143=\"\",\"\",$T143-1)","v":""},{"$f":"IF($A143=\"\",\"\",$U143+1)","v":""},{"$f":"IF(AND($I143>=1,$I143<=17),OFFSET(INDEX('1組'!$B$6:$E$39,MATCH($I143,'1組'!$B$6:$B$39,0),2),1,0),\"\")","v":""}]
[]
[null,null,{"$f":"IF(AND($B145>=1,$B145<=17),INDEX('1組'!$B$6:$E$39,MATCH($B145,'1組'!$B$6:$B$39,0),4),\"\")","v":""},null,null,null,null,{"$f":"IF(AND($I145>=1,$I145<=17),INDEX('1組'!$B$6:$E$39,MATCH($I145,'1組'!$B$6:$B$39,0),4),\"\")","v":""},null,null,null,null,{"$f":"IF($A145=\"\",\"\",$B145+$B145+5)","v":""},{"$f":"IF($A145=\"\",\"\",$I145+$I145+4)","v":""},{"$f":"IF($A145=\"\",\"\",$M145-1)","v":""},{"$f":"IF($A145=\"\",\"\",$N145)","v":""},{"$f":"IF($A145=\"\",\"\",$M145-1)","v":""},{"$f":"IF($A145=\"\",\"\",$N145+1)","v":""},{"$f":"IF(AND($B145>=1,$B145<=17),OFFSET(INDEX('1組'!$B$6:$E$39,MATCH($B145,'1組'!$B$6:$B$39,0),2),1,0),\"\")","v":""},{"$f":"IF($A145=\"\",\"\",$I145+$I145+5)","v":""},{"$f":"IF($A145=\"\",\"\",$B145+$B145+4)","v":""},{"$f":"IF($A145=\"\",\"\",$T145-1)","v":""},{"$f":"IF($A145=\"\",\"\",$U145)","v":""},{"$f":"IF($A145=\"\",\"\",$T145-1)","v":""},{"$f":"IF($A145=\"\",\"\",$U145+1)","v":""},{"$f":"IF(AND($I145>=1,$I145<=17),OFFSET(INDEX('1組'!$B$6:$E$39,MATCH($I145,'1組'!$B$6:$B$39,0),2),1,0),\"\")","v":""}]
[]
[null,null,{"$f":"IF(AND($B147>=1,$B147<=17),INDEX('1組'!$B$6:$E$39,MATCH($B147,'1組'!$B$6:$B$39,0),4),\"\")","v":""},null,null,null,null,{"$f":"IF(AND($I147>=1,$I147<=17),INDEX('1組'!$B$6:$E$39,MATCH($I147,'1組'!$B$6:$B$39,0),4),\"\")","v":""},null,null,null,null,{"$f":"IF($A147=\"\",\"\",$B147+$B147+5)","v":""},{"$f":"IF($A147=\"\",\"\",$I147+$I147+4)","v":""},{"$f":"IF($A147=\"\",\"\",$M147-1)","v":""},{"$f":"IF($A147=\"\",\"\",$N147)","v":""},{"$f":"IF($A147=\"\",\"\",$M147-1)","v":""},{"$f":"IF($A147=\"\",\"\",$N147+1)","v":""},{"$f":"IF(AND($B147>=1,$B147<=17),OFFSET(INDEX('1組'!$B$6:$E$39,MATCH($B147,'1組'!$B$6:$B$39,0),2),1,0),\"\")","v":""},{"$f":"IF($A147=\"\",\"\",$I147+$I147+5)","v":""},{"$f":"IF($A147=\"\",\"\",$B147+$B147+4)","v":""},{"$f":"IF($A147=\"\",\"\",$T147-1)","v":""},{"$f":"IF($A147=\"\",\"\",$U147)","v":""},{"$f":"IF($A147=\"\",\"\",$T147-1)","v":""},{"$f":"IF($A147=\"\",\"\",$U147+1)","v":""},{"$f":"IF(AND($I147>=1,$I147<=17),OFFSET(INDEX('1組'!$B$6:$E$39,MATCH($I147,'1組'!$B$6:$B$39,0),2),1,0),\"\")","v":""}]
[]
[null,null,{"$f":"IF(AND($B149>=1,$B149<=17),INDEX('1組'!$B$6:$E$39,MATCH($B149,'1組'!$B$6:$B$39,0),4),\"\")","v":""},null,null,null,null,{"$f":"IF(AND($I149>=1,$I149<=17),INDEX('1組'!$B$6:$E$39,MATCH($I149,'1組'!$B$6:$B$39,0),4),\"\")","v":""},null,null,null,null,{"$f":"IF($A149=\"\",\"\",$B149+$B149+5)","v":""},{"$f":"IF($A149=\"\",\"\",$I149+$I149+4)","v":""},{"$f":"IF($A149=\"\",\"\",$M149-1)","v":""},{"$f":"IF($A149=\"\",\"\",$N149)","v":""},{"$f":"IF($A149=\"\",\"\",$M149-1)","v":""},{"$f":"IF($A149=\"\",\"\",$N149+1)","v":""},{"$f":"IF(AND($B149>=1,$B149<=17),OFFSET(INDEX('1組'!$B$6:$E$39,MATCH($B149,'1組'!$B$6:$B$39,0),2),1,0),\"\")","v":""},{"$f":"IF($A149=\"\",\"\",$I149+$I149+5)","v":""},{"$f":"IF($A149=\"\",\"\",$B149+$B149+4)","v":""},{"$f":"IF($A149=\"\",\"\",$T149-1)","v":""},{"$f":"IF($A149=\"\",\"\",$U149)","v":""},{"$f":"IF($A149=\"\",\"\",$T149-1)","v":""},{"$f":"IF($A149=\"\",\"\",$U149+1)","v":""},{"$f":"IF(AND($I149>=1,$I149<=17),OFFSET(INDEX('1組'!$B$6:$E$39,MATCH($I149,'1組'!$B$6:$B$39,0),2),1,0),\"\")","v":""}]
[]
[null,null,{"$f":"IF(AND($B151>=1,$B151<=17),INDEX('1組'!$B$6:$E$39,MATCH($B151,'1組'!$B$6:$B$39,0),4),\"\")","v":""},null,null,null,null,{"$f":"IF(AND($I151>=1,$I151<=17),INDEX('1組'!$B$6:$E$39,MATCH($I151,'1組'!$B$6:$B$39,0),4),\"\")","v":""},null,null,null,null,{"$f":"IF($A151=\"\",\"\",$B151+$B151+5)","v":""},{"$f":"IF($A151=\"\",\"\",$I151+$I151+4)","v":""},{"$f":"IF($A151=\"\",\"\",$M151-1)","v":""},{"$f":"IF($A151=\"\",\"\",$N151)","v":""},{"$f":"IF($A151=\"\",\"\",$M151-1)","v":""},{"$f":"IF($A151=\"\",\"\",$N151+1)","v":""},{"$f":"IF(AND($B151>=1,$B151<=17),OFFSET(INDEX('1組'!$B$6:$E$39,MATCH($B151,'1組'!$B$6:$B$39,0),2),1,0),\"\")","v":""},{"$f":"IF($A151=\"\",\"\",$I151+$I151+5)","v":""},{"$f":"IF($A151=\"\",\"\",$B151+$B151+4)","v":""},{"$f":"IF($A151=\"\",\"\",$T151-1)","v":""},{"$f":"IF($A151=\"\",\"\",$U151)","v":""},{"$f":"IF($A151=\"\",\"\",$T151-1)","v":""},{"$f":"IF($A151=\"\",\"\",$U151+1)","v":""},{"$f":"IF(AND($I151>=1,$I151<=17),OFFSET(INDEX('1組'!$B$6:$E$39,MATCH($I151,'1組'!$B$6:$B$39,0),2),1,0),\"\")","v":""}]
[]
[null,null,{"$f":"IF(AND($B153>=1,$B153<=17),INDEX('1組'!$B$6:$E$39,MATCH($B153,'1組'!$B$6:$B$39,0),4),\"\")","v":""},null,null,null,null,{"$f":"IF(AND($I153>=1,$I153<=17),INDEX('1組'!$B$6:$E$39,MATCH($I153,'1組'!$B$6:$B$39,0),4),\"\")","v":""},null,null,null,null,{"$f":"IF($A153=\"\",\"\",$B153+$B153+5)","v":""},{"$f":"IF($A153=\"\",\"\",$I153+$I153+4)","v":""},{"$f":"IF($A153=\"\",\"\",$M153-1)","v":""},{"$f":"IF($A153=\"\",\"\",$N153)","v":""},{"$f":"IF($A153=\"\",\"\",$M153-1)","v":""},{"$f":"IF($A153=\"\",\"\",$N153+1)","v":""},{"$f":"IF(AND($B153>=1,$B153<=17),OFFSET(INDEX('1組'!$B$6:$E$39,MATCH($B153,'1組'!$B$6:$B$39,0),2),1,0),\"\")","v":""},{"$f":"IF($A153=\"\",\"\",$I153+$I153+5)","v":""},{"$f":"IF($A153=\"\",\"\",$B153+$B153+4)","v":""},{"$f":"IF($A153=\"\",\"\",$T153-1)","v":""},{"$f":"IF($A153=\"\",\"\",$U153)","v":""},{"$f":"IF($A153=\"\",\"\",$T153-1)","v":""},{"$f":"IF($A153=\"\",\"\",$U153+1)","v":""},{"$f":"IF(AND($I153>=1,$I153<=17),OFFSET(INDEX('1組'!$B$6:$E$39,MATCH($I153,'1組'!$B$6:$B$39,0),2),1,0),\"\")","v":""}]
[]
[null,null,{"$f":"IF(AND($B155>=1,$B155<=17),INDEX('1組'!$B$6:$E$39,MATCH($B155,'1組'!$B$6:$B$39,0),4),\"\")","v":""},null,null,null,null,{"$f":"IF(AND($I155>=1,$I155<=17),INDEX('1組'!$B$6:$E$39,MATCH($I155,'1組'!$B$6:$B$39,0),4),\"\")","v":""},null,null,null,null,{"$f":"IF($A155=\"\",\"\",$B155+$B155+5)","v":""},{"$f":"IF($A155=\"\",\"\",$I155+$I155+4)","v":""},{"$f":"IF($A155=\"\",\"\",$M155-1)","v":""},{"$f":"IF($A155=\"\",\"\",$N155)","v":""},{"$f":"IF($A155=\"\",\"\",$M155-1)","v":""},{"$f":"IF($A155=\"\",\"\",$N155+1)","v":""},{"$f":"IF(AND($B155>=1,$B155<=17),OFFSET(INDEX('1組'!$B$6:$E$39,MATCH($B155,'1組'!$B$6:$B$39,0),2),1,0),\"\")","v":""},{"$f":"IF($A155=\"\",\"\",$I155+$I155+5)","v":""},{"$f":"IF($A155=\"\",\"\",$B155+$B155+4)","v":""},{"$f":"IF($A155=\"\",\"\",$T155-1)","v":""},{"$f":"IF($A155=\"\",\"\",$U155)","v":""},{"$f":"IF($A155=\"\",\"\",$T155-1)","v":""},{"$f":"IF($A155=\"\",\"\",$U155+1)","v":""},{"$f":"IF(AND($I155>=1,$I155<=17),OFFSET(INDEX('1組'!$B$6:$E$39,MATCH($I155,'1組'!$B$6:$B$39,0),2),1,0),\"\")","v":""}]
[]
[null,null,{"$f":"IF(AND($B157>=1,$B157<=17),INDEX('1組'!$B$6:$E$39,MATCH($B157,'1組'!$B$6:$B$39,0),4),\"\")","v":""},null,null,null,null,{"$f":"IF(AND($I157>=1,$I157<=17),INDEX('1組'!$B$6:$E$39,MATCH($I157,'1組'!$B$6:$B$39,0),4),\"\")","v":""},null,null,null,null,{"$f":"IF($A157=\"\",\"\",$B157+$B157+5)","v":""},{"$f":"IF($A157=\"\",\"\",$I157+$I157+4)","v":""},{"$f":"IF($A157=\"\",\"\",$M157-1)","v":""},{"$f":"IF($A157=\"\",\"\",$N157)","v":""},{"$f":"IF($A157=\"\",\"\",$M157-1)","v":""},{"$f":"IF($A157=\"\",\"\",$N157+1)","v":""},{"$f":"IF(AND($B157>=1,$B157<=17),OFFSET(INDEX('1組'!$B$6:$E$39,MATCH($B157,'1組'!$B$6:$B$39,0),2),1,0),\"\")","v":""},{"$f":"IF($A157=\"\",\"\",$I157+$I157+5)","v":""},{"$f":"IF($A157=\"\",\"\",$B157+$B157+4)","v":""},{"$f":"IF($A157=\"\",\"\",$T157-1)","v":""},{"$f":"IF($A157=\"\",\"\",$U157)","v":""},{"$f":"IF($A157=\"\",\"\",$T157-1)","v":""},{"$f":"IF($A157=\"\",\"\",$U157+1)","v":""},{"$f":"IF(AND($I157>=1,$I157<=17),OFFSET(INDEX('1組'!$B$6:$E$39,MATCH($I157,'1組'!$B$6:$B$39,0),2),1,0),\"\")","v":""}]
[]
[null,null,{"$f":"IF(AND($B159>=1,$B159<=17),INDEX('1組'!$B$6:$E$39,MATCH($B159,'1組'!$B$6:$B$39,0),4),\"\")","v":""},null,null,null,null,{"$f":"IF(AND($I159>=1,$I159<=17),INDEX('1組'!$B$6:$E$39,MATCH($I159,'1組'!$B$6:$B$39,0),4),\"\")","v":""},null,null,null,null,{"$f":"IF($A159=\"\",\"\",$B159+$B159+5)","v":""},{"$f":"IF($A159=\"\",\"\",$I159+$I159+4)","v":""},{"$f":"IF($A159=\"\",\"\",$M159-1)","v":""},{"$f":"IF($A159=\"\",\"\",$N159)","v":""},{"$f":"IF($A159=\"\",\"\",$M159-1)","v":""},{"$f":"IF($A159=\"\",\"\",$N159+1)","v":""},{"$f":"IF(AND($B159>=1,$B159<=17),OFFSET(INDEX('1組'!$B$6:$E$39,MATCH($B159,'1組'!$B$6:$B$39,0),2),1,0),\"\")","v":""},{"$f":"IF($A159=\"\",\"\",$I159+$I159+5)","v":""},{"$f":"IF($A159=\"\",\"\",$B159+$B159+4)","v":""},{"$f":"IF($A159=\"\",\"\",$T159-1)","v":""},{"$f":"IF($A159=\"\",\"\",$U159)","v":""},{"$f":"IF($A159=\"\",\"\",$T159-1)","v":""},{"$f":"IF($A159=\"\",\"\",$U159+1)","v":""},{"$f":"IF(AND($I159>=1,$I159<=17),OFFSET(INDEX('1組'!$B$6:$E$39,MATCH($I159,'1組'!$B$6:$B$39,0),2),1,0),\"\")","v":""}]
[]
[null,null,{"$f":"IF(AND($B161>=1,$B161<=17),INDEX('1組'!$B$6:$E$39,MATCH($B161,'1組'!$B$6:$B$39,0),4),\"\")","v":""},null,null,null,null,{"$f":"IF(AND($I161>=1,$I161<=17),INDEX('1組'!$B$6:$E$39,MATCH($I161,'1組'!$B$6:$B$39,0),4),\"\")","v":""},null,null,null,null,{"$f":"IF($A161=\"\",\"\",$B161+$B161+5)","v":""},{"$f":"IF($A161=\"\",\"\",$I161+$I161+4)","v":""},{"$f":"IF($A161=\"\",\"\",$M161-1)","v":""},{"$f":"IF($A161=\"\",\"\",$N161)","v":""},{"$f":"IF($A161=\"\",\"\",$M161-1)","v":""},{"$f":"IF($A161=\"\",\"\",$N161+1)","v":""},{"$f":"IF(AND($B161>=1,$B161<=17),OFFSET(INDEX('1組'!$B$6:$E$39,MATCH($B161,'1組'!$B$6:$B$39,0),2),1,0),\"\")","v":""},{"$f":"IF($A161=\"\",\"\",$I161+$I161+5)","v":""},{"$f":"IF($A161=\"\",\"\",$B161+$B161+4)","v":""},{"$f":"IF($A161=\"\",\"\",$T161-1)","v":""},{"$f":"IF($A161=\"\",\"\",$U161)","v":""},{"$f":"IF($A161=\"\",\"\",$T161-1)","v":""},{"$f":"IF($A161=\"\",\"\",$U161+1)","v":""},{"$f":"IF(AND($I161>=1,$I161<=17),OFFSET(INDEX('1組'!$B$6:$E$39,MATCH($I161,'1組'!$B$6:$B$39,0),2),1,0),\"\")","v":""}]
[]
[null,null,{"$f":"IF(AND($B163>=1,$B163<=17),INDEX('1組'!$B$6:$E$39,MATCH($B163,'1組'!$B$6:$B$39,0),4),\"\")","v":""},null,null,null,null,{"$f":"IF(AND($I163>=1,$I163<=17),INDEX('1組'!$B$6:$E$39,MATCH($I163,'1組'!$B$6:$B$39,0),4),\"\")","v":""},null,null,null,null,{"$f":"IF($A163=\"\",\"\",$B163+$B163+5)","v":""},{"$f":"IF($A163=\"\",\"\",$I163+$I163+4)","v":""},{"$f":"IF($A163=\"\",\"\",$M163-1)","v":""},{"$f":"IF($A163=\"\",\"\",$N163)","v":""},{"$f":"IF($A163=\"\",\"\",$M163-1)","v":""},{"$f":"IF($A163=\"\",\"\",$N163+1)","v":""},{"$f":"IF(AND($B163>=1,$B163<=17),OFFSET(INDEX('1組'!$B$6:$E$39,MATCH($B163,'1組'!$B$6:$B$39,0),2),1,0),\"\")","v":""},{"$f":"IF($A163=\"\",\"\",$I163+$I163+5)","v":""},{"$f":"IF($A163=\"\",\"\",$B163+$B163+4)","v":""},{"$f":"IF($A163=\"\",\"\",$T163-1)","v":""},{"$f":"IF($A163=\"\",\"\",$U163)","v":""},{"$f":"IF($A163=\"\",\"\",$T163-1)","v":""},{"$f":"IF($A163=\"\",\"\",$U163+1)","v":""},{"$f":"IF(AND($I163>=1,$I163<=17),OFFSET(INDEX('1組'!$B$6:$E$39,MATCH($I163,'1組'!$B$6:$B$39,0),2),1,0),\"\")","v":""}]
[]
[null,null,{"$f":"IF(AND($B165>=1,$B165<=17),INDEX('1組'!$B$6:$E$39,MATCH($B165,'1組'!$B$6:$B$39,0),4),\"\")","v":""},null,null,null,null,{"$f":"IF(AND($I165>=1,$I165<=17),INDEX('1組'!$B$6:$E$39,MATCH($I165,'1組'!$B$6:$B$39,0),4),\"\")","v":""},null,null,null,null,{"$f":"IF($A165=\"\",\"\",$B165+$B165+5)","v":""},{"$f":"IF($A165=\"\",\"\",$I165+$I165+4)","v":""},{"$f":"IF($A165=\"\",\"\",$M165-1)","v":""},{"$f":"IF($A165=\"\",\"\",$N165)","v":""},{"$f":"IF($A165=\"\",\"\",$M165-1)","v":""},{"$f":"IF($A165=\"\",\"\",$N165+1)","v":""},{"$f":"IF(AND($B165>=1,$B165<=17),OFFSET(INDEX('1組'!$B$6:$E$39,MATCH($B165,'1組'!$B$6:$B$39,0),2),1,0),\"\")","v":""},{"$f":"IF($A165=\"\",\"\",$I165+$I165+5)","v":""},{"$f":"IF($A165=\"\",\"\",$B165+$B165+4)","v":""},{"$f":"IF($A165=\"\",\"\",$T165-1)","v":""},{"$f":"IF($A165=\"\",\"\",$U165)","v":""},{"$f":"IF($A165=\"\",\"\",$T165-1)","v":""},{"$f":"IF($A165=\"\",\"\",$U165+1)","v":""},{"$f":"IF(AND($I165>=1,$I165<=17),OFFSET(INDEX('1組'!$B$6:$E$39,MATCH($I165,'1組'!$B$6:$B$39,0),2),1,0),\"\")","v":""}]
[]
[null,null,{"$f":"IF(AND($B167>=1,$B167<=17),INDEX('1組'!$B$6:$E$39,MATCH($B167,'1組'!$B$6:$B$39,0),4),\"\")","v":""},null,null,null,null,{"$f":"IF(AND($I167>=1,$I167<=17),INDEX('1組'!$B$6:$E$39,MATCH($I167,'1組'!$B$6:$B$39,0),4),\"\")","v":""},null,null,null,null,{"$f":"IF($A167=\"\",\"\",$B167+$B167+5)","v":""},{"$f":"IF($A167=\"\",\"\",$I167+$I167+4)","v":""},{"$f":"IF($A167=\"\",\"\",$M167-1)","v":""},{"$f":"IF($A167=\"\",\"\",$N167)","v":""},{"$f":"IF($A167=\"\",\"\",$M167-1)","v":""},{"$f":"IF($A167=\"\",\"\",$N167+1)","v":""},{"$f":"IF(AND($B167>=1,$B167<=17),OFFSET(INDEX('1組'!$B$6:$E$39,MATCH($B167,'1組'!$B$6:$B$39,0),2),1,0),\"\")","v":""},{"$f":"IF($A167=\"\",\"\",$I167+$I167+5)","v":""},{"$f":"IF($A167=\"\",\"\",$B167+$B167+4)","v":""},{"$f":"IF($A167=\"\",\"\",$T167-1)","v":""},{"$f":"IF($A167=\"\",\"\",$U167)","v":""},{"$f":"IF($A167=\"\",\"\",$T167-1)","v":""},{"$f":"IF($A167=\"\",\"\",$U167+1)","v":""},{"$f":"IF(AND($I167>=1,$I167<=17),OFFSET(INDEX('1組'!$B$6:$E$39,MATCH($I167,'1組'!$B$6:$B$39,0),2),1,0),\"\")","v":""}]
[]
[null,null,{"$f":"IF(AND($B169>=1,$B169<=17),INDEX('1組'!$B$6:$E$39,MATCH($B169,'1組'!$B$6:$B$39,0),4),\"\")","v":""},null,null,null,null,{"$f":"IF(AND($I169>=1,$I169<=17),INDEX('1組'!$B$6:$E$39,MATCH($I169,'1組'!$B$6:$B$39,0),4),\"\")","v":""},null,null,null,null,{"$f":"IF($A169=\"\",\"\",$B169+$B169+5)","v":""},{"$f":"IF($A169=\"\",\"\",$I169+$I169+4)","v":""},{"$f":"IF($A169=\"\",\"\",$M169-1)","v":""},{"$f":"IF($A169=\"\",\"\",$N169)","v":""},{"$f":"IF($A169=\"\",\"\",$M169-1)","v":""},{"$f":"IF($A169=\"\",\"\",$N169+1)","v":""},{"$f":"IF(AND($B169>=1,$B169<=17),OFFSET(INDEX('1組'!$B$6:$E$39,MATCH($B169,'1組'!$B$6:$B$39,0),2),1,0),\"\")","v":""},{"$f":"IF($A169=\"\",\"\",$I169+$I169+5)","v":""},{"$f":"IF($A169=\"\",\"\",$B169+$B169+4)","v":""},{"$f":"IF($A169=\"\",\"\",$T169-1)","v":""},{"$f":"IF($A169=\"\",\"\",$U169)","v":""},{"$f":"IF($A169=\"\",\"\",$T169-1)","v":""},{"$f":"IF($A169=\"\",\"\",$U169+1)","v":""},{"$f":"IF(AND($I169>=1,$I169<=17),OFFSET(INDEX('1組'!$B$6:$E$39,MATCH($I169,'1組'!$B$6:$B$39,0),2),1,0),\"\")","v":""}]
[]
[null,null,{"$f":"IF(AND($B171>=1,$B171<=17),INDEX('1組'!$B$6:$E$39,MATCH($B171,'1組'!$B$6:$B$39,0),4),\"\")","v":""},null,null,null,null,{"$f":"IF(AND($I171>=1,$I171<=17),INDEX('1組'!$B$6:$E$39,MATCH($I171,'1組'!$B$6:$B$39,0),4),\"\")","v":""},null,null,null,null,{"$f":"IF($A171=\"\",\"\",$B171+$B171+5)","v":""},{"$f":"IF($A171=\"\",\"\",$I171+$I171+4)","v":""},{"$f":"IF($A171=\"\",\"\",$M171-1)","v":""},{"$f":"IF($A171=\"\",\"\",$N171)","v":""},{"$f":"IF($A171=\"\",\"\",$M171-1)","v":""},{"$f":"IF($A171=\"\",\"\",$N171+1)","v":""},{"$f":"IF(AND($B171>=1,$B171<=17),OFFSET(INDEX('1組'!$B$6:$E$39,MATCH($B171,'1組'!$B$6:$B$39,0),2),1,0),\"\")","v":""},{"$f":"IF($A171=\"\",\"\",$I171+$I171+5)","v":""},{"$f":"IF($A171=\"\",\"\",$B171+$B171+4)","v":""},{"$f":"IF($A171=\"\",\"\",$T171-1)","v":""},{"$f":"IF($A171=\"\",\"\",$U171)","v":""},{"$f":"IF($A171=\"\",\"\",$T171-1)","v":""},{"$f":"IF($A171=\"\",\"\",$U171+1)","v":""},{"$f":"IF(AND($I171>=1,$I171<=17),OFFSET(INDEX('1組'!$B$6:$E$39,MATCH($I171,'1組'!$B$6:$B$39,0),2),1,0),\"\")","v":""}]
[]
[null,null,{"$f":"IF(AND($B173>=1,$B173<=17),INDEX('1組'!$B$6:$E$39,MATCH($B173,'1組'!$B$6:$B$39,0),4),\"\")","v":""},null,null,null,null,{"$f":"IF(AND($I173>=1,$I173<=17),INDEX('1組'!$B$6:$E$39,MATCH($I173,'1組'!$B$6:$B$39,0),4),\"\")","v":""},null,null,null,null,{"$f":"IF($A173=\"\",\"\",$B173+$B173+5)","v":""},{"$f":"IF($A173=\"\",\"\",$I173+$I173+4)","v":""},{"$f":"IF($A173=\"\",\"\",$M173-1)","v":""},{"$f":"IF($A173=\"\",\"\",$N173)","v":""},{"$f":"IF($A173=\"\",\"\",$M173-1)","v":""},{"$f":"IF($A173=\"\",\"\",$N173+1)","v":""},{"$f":"IF(AND($B173>=1,$B173<=17),OFFSET(INDEX('1組'!$B$6:$E$39,MATCH($B173,'1組'!$B$6:$B$39,0),2),1,0),\"\")","v":""},{"$f":"IF($A173=\"\",\"\",$I173+$I173+5)","v":""},{"$f":"IF($A173=\"\",\"\",$B173+$B173+4)","v":""},{"$f":"IF($A173=\"\",\"\",$T173-1)","v":""},{"$f":"IF($A173=\"\",\"\",$U173)","v":""},{"$f":"IF($A173=\"\",\"\",$T173-1)","v":""},{"$f":"IF($A173=\"\",\"\",$U173+1)","v":""},{"$f":"IF(AND($I173>=1,$I173<=17),OFFSET(INDEX('1組'!$B$6:$E$39,MATCH($I173,'1組'!$B$6:$B$39,0),2),1,0),\"\")","v":""}]
[]
[null,null,{"$f":"IF(AND($B175>=1,$B175<=17),INDEX('1組'!$B$6:$E$39,MATCH($B175,'1組'!$B$6:$B$39,0),4),\"\")","v":""},null,null,null,null,{"$f":"IF(AND($I175>=1,$I175<=17),INDEX('1組'!$B$6:$E$39,MATCH($I175,'1組'!$B$6:$B$39,0),4),\"\")","v":""},null,null,null,null,{"$f":"IF($A175=\"\",\"\",$B175+$B175+5)","v":""},{"$f":"IF($A175=\"\",\"\",$I175+$I175+4)","v":""},{"$f":"IF($A175=\"\",\"\",$M175-1)","v":""},{"$f":"IF($A175=\"\",\"\",$N175)","v":""},{"$f":"IF($A175=\"\",\"\",$M175-1)","v":""},{"$f":"IF($A175=\"\",\"\",$N175+1)","v":""},{"$f":"IF(AND($B175>=1,$B175<=17),OFFSET(INDEX('1組'!$B$6:$E$39,MATCH($B175,'1組'!$B$6:$B$39,0),2),1,0),\"\")","v":""},{"$f":"IF($A175=\"\",\"\",$I175+$I175+5)","v":""},{"$f":"IF($A175=\"\",\"\",$B175+$B175+4)","v":""},{"$f":"IF($A175=\"\",\"\",$T175-1)","v":""},{"$f":"IF($A175=\"\",\"\",$U175)","v":""},{"$f":"IF($A175=\"\",\"\",$T175-1)","v":""},{"$f":"IF($A175=\"\",\"\",$U175+1)","v":""},{"$f":"IF(AND($I175>=1,$I175<=17),OFFSET(INDEX('1組'!$B$6:$E$39,MATCH($I175,'1組'!$B$6:$B$39,0),2),1,0),\"\")","v":""}]
[]
[null,null,{"$f":"IF(AND($B177>=1,$B177<=17),INDEX('1組'!$B$6:$E$39,MATCH($B177,'1組'!$B$6:$B$39,0),4),\"\")","v":""},null,null,null,null,{"$f":"IF(AND($I177>=1,$I177<=17),INDEX('1組'!$B$6:$E$39,MATCH($I177,'1組'!$B$6:$B$39,0),4),\"\")","v":""},null,null,null,null,{"$f":"IF($A177=\"\",\"\",$B177+$B177+5)","v":""},{"$f":"IF($A177=\"\",\"\",$I177+$I177+4)","v":""},{"$f":"IF($A177=\"\",\"\",$M177-1)","v":""},{"$f":"IF($A177=\"\",\"\",$N177)","v":""},{"$f":"IF($A177=\"\",\"\",$M177-1)","v":""},{"$f":"IF($A177=\"\",\"\",$N177+1)","v":""},{"$f":"IF(AND($B177>=1,$B177<=17),OFFSET(INDEX('1組'!$B$6:$E$39,MATCH($B177,'1組'!$B$6:$B$39,0),2),1,0),\"\")","v":""},{"$f":"IF($A177=\"\",\"\",$I177+$I177+5)","v":""},{"$f":"IF($A177=\"\",\"\",$B177+$B177+4)","v":""},{"$f":"IF($A177=\"\",\"\",$T177-1)","v":""},{"$f":"IF($A177=\"\",\"\",$U177)","v":""},{"$f":"IF($A177=\"\",\"\",$T177-1)","v":""},{"$f":"IF($A177=\"\",\"\",$U177+1)","v":""},{"$f":"IF(AND($I177>=1,$I177<=17),OFFSET(INDEX('1組'!$B$6:$E$39,MATCH($I177,'1組'!$B$6:$B$39,0),2),1,0),\"\")","v":""}]
[]
[null,null,{"$f":"IF(AND($B179>=1,$B179<=17),INDEX('1組'!$B$6:$E$39,MATCH($B179,'1組'!$B$6:$B$39,0),4),\"\")","v":""},null,null,null,null,{"$f":"IF(AND($I179>=1,$I179<=17),INDEX('1組'!$B$6:$E$39,MATCH($I179,'1組'!$B$6:$B$39,0),4),\"\")","v":""},null,null,null,null,{"$f":"IF($A179=\"\",\"\",$B179+$B179+5)","v":""},{"$f":"IF($A179=\"\",\"\",$I179+$I179+4)","v":""},{"$f":"IF($A179=\"\",\"\",$M179-1)","v":""},{"$f":"IF($A179=\"\",\"\",$N179)","v":""},{"$f":"IF($A179=\"\",\"\",$M179-1)","v":""},{"$f":"IF($A179=\"\",\"\",$N179+1)","v":""},{"$f":"IF(AND($B179>=1,$B179<=17),OFFSET(INDEX('1組'!$B$6:$E$39,MATCH($B179,'1組'!$B$6:$B$39,0),2),1,0),\"\")","v":""},{"$f":"IF($A179=\"\",\"\",$I179+$I179+5)","v":""},{"$f":"IF($A179=\"\",\"\",$B179+$B179+4)","v":""},{"$f":"IF($A179=\"\",\"\",$T179-1)","v":""},{"$f":"IF($A179=\"\",\"\",$U179)","v":""},{"$f":"IF($A179=\"\",\"\",$T179-1)","v":""},{"$f":"IF($A179=\"\",\"\",$U179+1)","v":""},{"$f":"IF(AND($I179>=1,$I179<=17),OFFSET(INDEX('1組'!$B$6:$E$39,MATCH($I179,'1組'!$B$6:$B$39,0),2),1,0),\"\")","v":""}]
[]
[null,null,{"$f":"IF(AND($B181>=1,$B181<=17),INDEX('1組'!$B$6:$E$39,MATCH($B181,'1組'!$B$6:$B$39,0),4),\"\")","v":""},null,null,null,null,{"$f":"IF(AND($I181>=1,$I181<=17),INDEX('1組'!$B$6:$E$39,MATCH($I181,'1組'!$B$6:$B$39,0),4),\"\")","v":""},null,null,null,null,{"$f":"IF($A181=\"\",\"\",$B181+$B181+5)","v":""},{"$f":"IF($A181=\"\",\"\",$I181+$I181+4)","v":""},{"$f":"IF($A181=\"\",\"\",$M181-1)","v":""},{"$f":"IF($A181=\"\",\"\",$N181)","v":""},{"$f":"IF($A181=\"\",\"\",$M181-1)","v":""},{"$f":"IF($A181=\"\",\"\",$N181+1)","v":""},{"$f":"IF(AND($B181>=1,$B181<=17),OFFSET(INDEX('1組'!$B$6:$E$39,MATCH($B181,'1組'!$B$6:$B$39,0),2),1,0),\"\")","v":""},{"$f":"IF($A181=\"\",\"\",$I181+$I181+5)","v":""},{"$f":"IF($A181=\"\",\"\",$B181+$B181+4)","v":""},{"$f":"IF($A181=\"\",\"\",$T181-1)","v":""},{"$f":"IF($A181=\"\",\"\",$U181)","v":""},{"$f":"IF($A181=\"\",\"\",$T181-1)","v":""},{"$f":"IF($A181=\"\",\"\",$U181+1)","v":""},{"$f":"IF(AND($I181>=1,$I181<=17),OFFSET(INDEX('1組'!$B$6:$E$39,MATCH($I181,'1組'!$B$6:$B$39,0),2),1,0),\"\")","v":""}]
[]
[null,null,{"$f":"IF(AND($B183>=1,$B183<=17),INDEX('1組'!$B$6:$E$39,MATCH($B183,'1組'!$B$6:$B$39,0),4),\"\")","v":""},null,null,null,null,{"$f":"IF(AND($I183>=1,$I183<=17),INDEX('1組'!$B$6:$E$39,MATCH($I183,'1組'!$B$6:$B$39,0),4),\"\")","v":""},null,null,null,null,{"$f":"IF($A183=\"\",\"\",$B183+$B183+5)","v":""},{"$f":"IF($A183=\"\",\"\",$I183+$I183+4)","v":""},{"$f":"IF($A183=\"\",\"\",$M183-1)","v":""},{"$f":"IF($A183=\"\",\"\",$N183)","v":""},{"$f":"IF($A183=\"\",\"\",$M183-1)","v":""},{"$f":"IF($A183=\"\",\"\",$N183+1)","v":""},{"$f":"IF(AND($B183>=1,$B183<=17),OFFSET(INDEX('1組'!$B$6:$E$39,MATCH($B183,'1組'!$B$6:$B$39,0),2),1,0),\"\")","v":""},{"$f":"IF($A183=\"\",\"\",$I183+$I183+5)","v":""},{"$f":"IF($A183=\"\",\"\",$B183+$B183+4)","v":""},{"$f":"IF($A183=\"\",\"\",$T183-1)","v":""},{"$f":"IF($A183=\"\",\"\",$U183)","v":""},{"$f":"IF($A183=\"\",\"\",$T183-1)","v":""},{"$f":"IF($A183=\"\",\"\",$U183+1)","v":""},{"$f":"IF(AND($I183>=1,$I183<=17),OFFSET(INDEX('1組'!$B$6:$E$39,MATCH($I183,'1組'!$B$6:$B$39,0),2),1,0),\"\")","v":""}]
[]
[null,null,{"$f":"IF(AND($B185>=1,$B185<=17),INDEX('1組'!$B$6:$E$39,MATCH($B185,'1組'!$B$6:$B$39,0),4),\"\")","v":""},null,null,null,null,{"$f":"IF(AND($I185>=1,$I185<=17),INDEX('1組'!$B$6:$E$39,MATCH($I185,'1組'!$B$6:$B$39,0),4),\"\")","v":""},null,null,null,null,{"$f":"IF($A185=\"\",\"\",$B185+$B185+5)","v":""},{"$f":"IF($A185=\"\",\"\",$I185+$I185+4)","v":""},{"$f":"IF($A185=\"\",\"\",$M185-1)","v":""},{"$f":"IF($A185=\"\",\"\",$N185)","v":""},{"$f":"IF($A185=\"\",\"\",$M185-1)","v":""},{"$f":"IF($A185=\"\",\"\",$N185+1)","v":""},{"$f":"IF(AND($B185>=1,$B185<=17),OFFSET(INDEX('1組'!$B$6:$E$39,MATCH($B185,'1組'!$B$6:$B$39,0),2),1,0),\"\")","v":""},{"$f":"IF($A185=\"\",\"\",$I185+$I185+5)","v":""},{"$f":"IF($A185=\"\",\"\",$B185+$B185+4)","v":""},{"$f":"IF($A185=\"\",\"\",$T185-1)","v":""},{"$f":"IF($A185=\"\",\"\",$U185)","v":""},{"$f":"IF($A185=\"\",\"\",$T185-1)","v":""},{"$f":"IF($A185=\"\",\"\",$U185+1)","v":""},{"$f":"IF(AND($I185>=1,$I185<=17),OFFSET(INDEX('1組'!$B$6:$E$39,MATCH($I185,'1組'!$B$6:$B$39,0),2),1,0),\"\")","v":""}]
[]
[null,null,{"$f":"IF(AND($B187>=1,$B187<=17),INDEX('1組'!$B$6:$E$39,MATCH($B187,'1組'!$B$6:$B$39,0),4),\"\")","v":""},null,null,null,null,{"$f":"IF(AND($I187>=1,$I187<=17),INDEX('1組'!$B$6:$E$39,MATCH($I187,'1組'!$B$6:$B$39,0),4),\"\")","v":""},null,null,null,null,{"$f":"IF($A187=\"\",\"\",$B187+$B187+5)","v":""},{"$f":"IF($A187=\"\",\"\",$I187+$I187+4)","v":""},{"$f":"IF($A187=\"\",\"\",$M187-1)","v":""},{"$f":"IF($A187=\"\",\"\",$N187)","v":""},{"$f":"IF($A187=\"\",\"\",$M187-1)","v":""},{"$f":"IF($A187=\"\",\"\",$N187+1)","v":""},{"$f":"IF(AND($B187>=1,$B187<=17),OFFSET(INDEX('1組'!$B$6:$E$39,MATCH($B187,'1組'!$B$6:$B$39,0),2),1,0),\"\")","v":""},{"$f":"IF($A187=\"\",\"\",$I187+$I187+5)","v":""},{"$f":"IF($A187=\"\",\"\",$B187+$B187+4)","v":""},{"$f":"IF($A187=\"\",\"\",$T187-1)","v":""},{"$f":"IF($A187=\"\",\"\",$U187)","v":""},{"$f":"IF($A187=\"\",\"\",$T187-1)","v":""},{"$f":"IF($A187=\"\",\"\",$U187+1)","v":""},{"$f":"IF(AND($I187>=1,$I187<=17),OFFSET(INDEX('1組'!$B$6:$E$39,MATCH($I187,'1組'!$B$6:$B$39,0),2),1,0),\"\")","v":""}]
[]
[null,null,{"$f":"IF(AND($B189>=1,$B189<=17),INDEX('1組'!$B$6:$E$39,MATCH($B189,'1組'!$B$6:$B$39,0),4),\"\")","v":""},null,null,null,null,{"$f":"IF(AND($I189>=1,$I189<=17),INDEX('1組'!$B$6:$E$39,MATCH($I189,'1組'!$B$6:$B$39,0),4),\"\")","v":""},null,null,null,null,{"$f":"IF($A189=\"\",\"\",$B189+$B189+5)","v":""},{"$f":"IF($A189=\"\",\"\",$I189+$I189+4)","v":""},{"$f":"IF($A189=\"\",\"\",$M189-1)","v":""},{"$f":"IF($A189=\"\",\"\",$N189)","v":""},{"$f":"IF($A189=\"\",\"\",$M189-1)","v":""},{"$f":"IF($A189=\"\",\"\",$N189+1)","v":""},{"$f":"IF(AND($B189>=1,$B189<=17),OFFSET(INDEX('1組'!$B$6:$E$39,MATCH($B189,'1組'!$B$6:$B$39,0),2),1,0),\"\")","v":""},{"$f":"IF($A189=\"\",\"\",$I189+$I189+5)","v":""},{"$f":"IF($A189=\"\",\"\",$B189+$B189+4)","v":""},{"$f":"IF($A189=\"\",\"\",$T189-1)","v":""},{"$f":"IF($A189=\"\",\"\",$U189)","v":""},{"$f":"IF($A189=\"\",\"\",$T189-1)","v":""},{"$f":"IF($A189=\"\",\"\",$U189+1)","v":""},{"$f":"IF(AND($I189>=1,$I189<=17),OFFSET(INDEX('1組'!$B$6:$E$39,MATCH($I189,'1組'!$B$6:$B$39,0),2),1,0),\"\")","v":""}]
[]
[null,null,{"$f":"IF(AND($B191>=1,$B191<=17),INDEX('1組'!$B$6:$E$39,MATCH($B191,'1組'!$B$6:$B$39,0),4),\"\")","v":""},null,null,null,null,{"$f":"IF(AND($I191>=1,$I191<=17),INDEX('1組'!$B$6:$E$39,MATCH($I191,'1組'!$B$6:$B$39,0),4),\"\")","v":""},null,null,null,null,{"$f":"IF($A191=\"\",\"\",$B191+$B191+5)","v":""},{"$f":"IF($A191=\"\",\"\",$I191+$I191+4)","v":""},{"$f":"IF($A191=\"\",\"\",$M191-1)","v":""},{"$f":"IF($A191=\"\",\"\",$N191)","v":""},{"$f":"IF($A191=\"\",\"\",$M191-1)","v":""},{"$f":"IF($A191=\"\",\"\",$N191+1)","v":""},{"$f":"IF(AND($B191>=1,$B191<=17),OFFSET(INDEX('1組'!$B$6:$E$39,MATCH($B191,'1組'!$B$6:$B$39,0),2),1,0),\"\")","v":""},{"$f":"IF($A191=\"\",\"\",$I191+$I191+5)","v":""},{"$f":"IF($A191=\"\",\"\",$B191+$B191+4)","v":""},{"$f":"IF($A191=\"\",\"\",$T191-1)","v":""},{"$f":"IF($A191=\"\",\"\",$U191)","v":""},{"$f":"IF($A191=\"\",\"\",$T191-1)","v":""},{"$f":"IF($A191=\"\",\"\",$U191+1)","v":""},{"$f":"IF(AND($I191>=1,$I191<=17),OFFSET(INDEX('1組'!$B$6:$E$39,MATCH($I191,'1組'!$B$6:$B$39,0),2),1,0),\"\")","v":""}]
[]
[null,null,{"$f":"IF(AND($B193>=1,$B193<=17),INDEX('1組'!$B$6:$E$39,MATCH($B193,'1組'!$B$6:$B$39,0),4),\"\")","v":""},null,null,null,null,{"$f":"IF(AND($I193>=1,$I193<=17),INDEX('1組'!$B$6:$E$39,MATCH($I193,'1組'!$B$6:$B$39,0),4),\"\")","v":""},null,null,null,null,{"$f":"IF($A193=\"\",\"\",$B193+$B193+5)","v":""},{"$f":"IF($A193=\"\",\"\",$I193+$I193+4)","v":""},{"$f":"IF($A193=\"\",\"\",$M193-1)","v":""},{"$f":"IF($A193=\"\",\"\",$N193)","v":""},{"$f":"IF($A193=\"\",\"\",$M193-1)","v":""},{"$f":"IF($A193=\"\",\"\",$N193+1)","v":""},{"$f":"IF(AND($B193>=1,$B193<=17),OFFSET(INDEX('1組'!$B$6:$E$39,MATCH($B193,'1組'!$B$6:$B$39,0),2),1,0),\"\")","v":""},{"$f":"IF($A193=\"\",\"\",$I193+$I193+5)","v":""},{"$f":"IF($A193=\"\",\"\",$B193+$B193+4)","v":""},{"$f":"IF($A193=\"\",\"\",$T193-1)","v":""},{"$f":"IF($A193=\"\",\"\",$U193)","v":""},{"$f":"IF($A193=\"\",\"\",$T193-1)","v":""},{"$f":"IF($A193=\"\",\"\",$U193+1)","v":""},{"$f":"IF(AND($I193>=1,$I193<=17),OFFSET(INDEX('1組'!$B$6:$E$39,MATCH($I193,'1組'!$B$6:$B$39,0),2),1,0),\"\")","v":""}]
[]
[null,null,{"$f":"IF(AND($B195>=1,$B195<=17),INDEX('1組'!$B$6:$E$39,MATCH($B195,'1組'!$B$6:$B$39,0),4),\"\")","v":""},null,null,null,null,{"$f":"IF(AND($I195>=1,$I195<=17),INDEX('1組'!$B$6:$E$39,MATCH($I195,'1組'!$B$6:$B$39,0),4),\"\")","v":""},null,null,null,null,{"$f":"IF($A195=\"\",\"\",$B195+$B195+5)","v":""},{"$f":"IF($A195=\"\",\"\",$I195+$I195+4)","v":""},{"$f":"IF($A195=\"\",\"\",$M195-1)","v":""},{"$f":"IF($A195=\"\",\"\",$N195)","v":""},{"$f":"IF($A195=\"\",\"\",$M195-1)","v":""},{"$f":"IF($A195=\"\",\"\",$N195+1)","v":""},{"$f":"IF(AND($B195>=1,$B195<=17),OFFSET(INDEX('1組'!$B$6:$E$39,MATCH($B195,'1組'!$B$6:$B$39,0),2),1,0),\"\")","v":""},{"$f":"IF($A195=\"\",\"\",$I195+$I195+5)","v":""},{"$f":"IF($A195=\"\",\"\",$B195+$B195+4)","v":""},{"$f":"IF($A195=\"\",\"\",$T195-1)","v":""},{"$f":"IF($A195=\"\",\"\",$U195)","v":""},{"$f":"IF($A195=\"\",\"\",$T195-1)","v":""},{"$f":"IF($A195=\"\",\"\",$U195+1)","v":""},{"$f":"IF(AND($I195>=1,$I195<=17),OFFSET(INDEX('1組'!$B$6:$E$39,MATCH($I195,'1組'!$B$6:$B$39,0),2),1,0),\"\")","v":""}]
[]
[null,null,{"$f":"IF(AND($B197>=1,$B197<=17),INDEX('1組'!$B$6:$E$39,MATCH($B197,'1組'!$B$6:$B$39,0),4),\"\")","v":""},null,null,null,null,{"$f":"IF(AND($I197>=1,$I197<=17),INDEX('1組'!$B$6:$E$39,MATCH($I197,'1組'!$B$6:$B$39,0),4),\"\")","v":""},null,null,null,null,{"$f":"IF($A197=\"\",\"\",$B197+$B197+5)","v":""},{"$f":"IF($A197=\"\",\"\",$I197+$I197+4)","v":""},{"$f":"IF($A197=\"\",\"\",$M197-1)","v":""},{"$f":"IF($A197=\"\",\"\",$N197)","v":""},{"$f":"IF($A197=\"\",\"\",$M197-1)","v":""},{"$f":"IF($A197=\"\",\"\",$N197+1)","v":""},{"$f":"IF(AND($B197>=1,$B197<=17),OFFSET(INDEX('1組'!$B$6:$E$39,MATCH($B197,'1組'!$B$6:$B$39,0),2),1,0),\"\")","v":""},{"$f":"IF($A197=\"\",\"\",$I197+$I197+5)","v":""},{"$f":"IF($A197=\"\",\"\",$B197+$B197+4)","v":""},{"$f":"IF($A197=\"\",\"\",$T197-1)","v":""},{"$f":"IF($A197=\"\",\"\",$U197)","v":""},{"$f":"IF($A197=\"\",\"\",$T197-1)","v":""},{"$f":"IF($A197=\"\",\"\",$U197+1)","v":""},{"$f":"IF(AND($I197>=1,$I197<=17),OFFSET(INDEX('1組'!$B$6:$E$39,MATCH($I197,'1組'!$B$6:$B$39,0),2),1,0),\"\")","v":""}]
[]
[null,null,{"$f":"IF(AND($B199>=1,$B199<=17),INDEX('1組'!$B$6:$E$39,MATCH($B199,'1組'!$B$6:$B$39,0),4),\"\")","v":""},null,null,null,null,{"$f":"IF(AND($I199>=1,$I199<=17),INDEX('1組'!$B$6:$E$39,MATCH($I199,'1組'!$B$6:$B$39,0),4),\"\")","v":""},null,null,null,null,{"$f":"IF($A199=\"\",\"\",$B199+$B199+5)","v":""},{"$f":"IF($A199=\"\",\"\",$I199+$I199+4)","v":""},{"$f":"IF($A199=\"\",\"\",$M199-1)","v":""},{"$f":"IF($A199=\"\",\"\",$N199)","v":""},{"$f":"IF($A199=\"\",\"\",$M199-1)","v":""},{"$f":"IF($A199=\"\",\"\",$N199+1)","v":""},{"$f":"IF(AND($B199>=1,$B199<=17),OFFSET(INDEX('1組'!$B$6:$E$39,MATCH($B199,'1組'!$B$6:$B$39,0),2),1,0),\"\")","v":""},{"$f":"IF($A199=\"\",\"\",$I199+$I199+5)","v":""},{"$f":"IF($A199=\"\",\"\",$B199+$B199+4)","v":""},{"$f":"IF($A199=\"\",\"\",$T199-1)","v":""},{"$f":"IF($A199=\"\",\"\",$U199)","v":""},{"$f":"IF($A199=\"\",\"\",$T199-1)","v":""},{"$f":"IF($A199=\"\",\"\",$U199+1)","v":""},{"$f":"IF(AND($I199>=1,$I199<=17),OFFSET(INDEX('1組'!$B$6:$E$39,MATCH($I199,'1組'!$B$6:$B$39,0),2),1,0),\"\")","v":""}]
[]
[null,null,{"$f":"IF(AND($B201>=1,$B201<=17),INDEX('1組'!$B$6:$E$39,MATCH($B201,'1組'!$B$6:$B$39,0),4),\"\")","v":""},null,null,null,null,{"$f":"IF(AND($I201>=1,$I201<=17),INDEX('1組'!$B$6:$E$39,MATCH($I201,'1組'!$B$6:$B$39,0),4),\"\")","v":""},null,null,null,null,{"$f":"IF($A201=\"\",\"\",$B201+$B201+5)","v":""},{"$f":"IF($A201=\"\",\"\",$I201+$I201+4)","v":""},{"$f":"IF($A201=\"\",\"\",$M201-1)","v":""},{"$f":"IF($A201=\"\",\"\",$N201)","v":""},{"$f":"IF($A201=\"\",\"\",$M201-1)","v":""},{"$f":"IF($A201=\"\",\"\",$N201+1)","v":""},{"$f":"IF(AND($B201>=1,$B201<=17),OFFSET(INDEX('1組'!$B$6:$E$39,MATCH($B201,'1組'!$B$6:$B$39,0),2),1,0),\"\")","v":""},{"$f":"IF($A201=\"\",\"\",$I201+$I201+5)","v":""},{"$f":"IF($A201=\"\",\"\",$B201+$B201+4)","v":""},{"$f":"IF($A201=\"\",\"\",$T201-1)","v":""},{"$f":"IF($A201=\"\",\"\",$U201)","v":""},{"$f":"IF($A201=\"\",\"\",$T201-1)","v":""},{"$f":"IF($A201=\"\",\"\",$U201+1)","v":""},{"$f":"IF(AND($I201>=1,$I201<=17),OFFSET(INDEX('1組'!$B$6:$E$39,MATCH($I201,'1組'!$B$6:$B$39,0),2),1,0),\"\")","v":""}]
[]
[null,null,{"$f":"IF(AND($B203>=1,$B203<=17),INDEX('1組'!$B$6:$E$39,MATCH($B203,'1組'!$B$6:$B$39,0),4),\"\")","v":""},null,null,null,null,{"$f":"IF(AND($I203>=1,$I203<=17),INDEX('1組'!$B$6:$E$39,MATCH($I203,'1組'!$B$6:$B$39,0),4),\"\")","v":""},null,null,null,null,{"$f":"IF($A203=\"\",\"\",$B203+$B203+5)","v":""},{"$f":"IF($A203=\"\",\"\",$I203+$I203+4)","v":""},{"$f":"IF($A203=\"\",\"\",$M203-1)","v":""},{"$f":"IF($A203=\"\",\"\",$N203)","v":""},{"$f":"IF($A203=\"\",\"\",$M203-1)","v":""},{"$f":"IF($A203=\"\",\"\",$N203+1)","v":""},{"$f":"IF(AND($B203>=1,$B203<=17),OFFSET(INDEX('1組'!$B$6:$E$39,MATCH($B203,'1組'!$B$6:$B$39,0),2),1,0),\"\")","v":""},{"$f":"IF($A203=\"\",\"\",$I203+$I203+5)","v":""},{"$f":"IF($A203=\"\",\"\",$B203+$B203+4)","v":""},{"$f":"IF($A203=\"\",\"\",$T203-1)","v":""},{"$f":"IF($A203=\"\",\"\",$U203)","v":""},{"$f":"IF($A203=\"\",\"\",$T203-1)","v":""},{"$f":"IF($A203=\"\",\"\",$U203+1)","v":""},{"$f":"IF(AND($I203>=1,$I203<=17),OFFSET(INDEX('1組'!$B$6:$E$39,MATCH($I203,'1組'!$B$6:$B$39,0),2),1,0),\"\")","v":""}]
[]
[null,null,{"$f":"IF(AND($B205>=1,$B205<=17),INDEX('1組'!$B$6:$E$39,MATCH($B205,'1組'!$B$6:$B$39,0),4),\"\")","v":""},null,null,null,null,{"$f":"IF(AND($I205>=1,$I205<=17),INDEX('1組'!$B$6:$E$39,MATCH($I205,'1組'!$B$6:$B$39,0),4),\"\")","v":""},null,null,null,null,{"$f":"IF($A205=\"\",\"\",$B205+$B205+5)","v":""},{"$f":"IF($A205=\"\",\"\",$I205+$I205+4)","v":""},{"$f":"IF($A205=\"\",\"\",$M205-1)","v":""},{"$f":"IF($A205=\"\",\"\",$N205)","v":""},{"$f":"IF($A205=\"\",\"\",$M205-1)","v":""},{"$f":"IF($A205=\"\",\"\",$N205+1)","v":""},{"$f":"IF(AND($B205>=1,$B205<=17),OFFSET(INDEX('1組'!$B$6:$E$39,MATCH($B205,'1組'!$B$6:$B$39,0),2),1,0),\"\")","v":""},{"$f":"IF($A205=\"\",\"\",$I205+$I205+5)","v":""},{"$f":"IF($A205=\"\",\"\",$B205+$B205+4)","v":""},{"$f":"IF($A205=\"\",\"\",$T205-1)","v":""},{"$f":"IF($A205=\"\",\"\",$U205)","v":""},{"$f":"IF($A205=\"\",\"\",$T205-1)","v":""},{"$f":"IF($A205=\"\",\"\",$U205+1)","v":""},{"$f":"IF(AND($I205>=1,$I205<=17),OFFSET(INDEX('1組'!$B$6:$E$39,MATCH($I205,'1組'!$B$6:$B$39,0),2),1,0),\"\")","v":""}]
[]
[null,null,{"$f":"IF(AND($B207>=1,$B207<=17),INDEX('1組'!$B$6:$E$39,MATCH($B207,'1組'!$B$6:$B$39,0),4),\"\")","v":""},null,null,null,null,{"$f":"IF(AND($I207>=1,$I207<=17),INDEX('1組'!$B$6:$E$39,MATCH($I207,'1組'!$B$6:$B$39,0),4),\"\")","v":""},null,null,null,null,{"$f":"IF($A207=\"\",\"\",$B207+$B207+5)","v":""},{"$f":"IF($A207=\"\",\"\",$I207+$I207+4)","v":""},{"$f":"IF($A207=\"\",\"\",$M207-1)","v":""},{"$f":"IF($A207=\"\",\"\",$N207)","v":""},{"$f":"IF($A207=\"\",\"\",$M207-1)","v":""},{"$f":"IF($A207=\"\",\"\",$N207+1)","v":""},{"$f":"IF(AND($B207>=1,$B207<=17),OFFSET(INDEX('1組'!$B$6:$E$39,MATCH($B207,'1組'!$B$6:$B$39,0),2),1,0),\"\")","v":""},{"$f":"IF($A207=\"\",\"\",$I207+$I207+5)","v":""},{"$f":"IF($A207=\"\",\"\",$B207+$B207+4)","v":""},{"$f":"IF($A207=\"\",\"\",$T207-1)","v":""},{"$f":"IF($A207=\"\",\"\",$U207)","v":""},{"$f":"IF($A207=\"\",\"\",$T207-1)","v":""},{"$f":"IF($A207=\"\",\"\",$U207+1)","v":""},{"$f":"IF(AND($I207>=1,$I207<=17),OFFSET(INDEX('1組'!$B$6:$E$39,MATCH($I207,'1組'!$B$6:$B$39,0),2),1,0),\"\")","v":""}]
[]
[null,null,{"$f":"IF(AND($B209>=1,$B209<=17),INDEX('1組'!$B$6:$E$39,MATCH($B209,'1組'!$B$6:$B$39,0),4),\"\")","v":""},null,null,null,null,{"$f":"IF(AND($I209>=1,$I209<=17),INDEX('1組'!$B$6:$E$39,MATCH($I209,'1組'!$B$6:$B$39,0),4),\"\")","v":""},null,null,null,null,{"$f":"IF($A209=\"\",\"\",$B209+$B209+5)","v":""},{"$f":"IF($A209=\"\",\"\",$I209+$I209+4)","v":""},{"$f":"IF($A209=\"\",\"\",$M209-1)","v":""},{"$f":"IF($A209=\"\",\"\",$N209)","v":""},{"$f":"IF($A209=\"\",\"\",$M209-1)","v":""},{"$f":"IF($A209=\"\",\"\",$N209+1)","v":""},{"$f":"IF(AND($B209>=1,$B209<=17),OFFSET(INDEX('1組'!$B$6:$E$39,MATCH($B209,'1組'!$B$6:$B$39,0),2),1,0),\"\")","v":""},{"$f":"IF($A209=\"\",\"\",$I209+$I209+5)","v":""},{"$f":"IF($A209=\"\",\"\",$B209+$B209+4)","v":""},{"$f":"IF($A209=\"\",\"\",$T209-1)","v":""},{"$f":"IF($A209=\"\",\"\",$U209)","v":""},{"$f":"IF($A209=\"\",\"\",$T209-1)","v":""},{"$f":"IF($A209=\"\",\"\",$U209+1)","v":""},{"$f":"IF(AND($I209>=1,$I209<=17),OFFSET(INDEX('1組'!$B$6:$E$39,MATCH($I209,'1組'!$B$6:$B$39,0),2),1,0),\"\")","v":""}]
[]
[null,null,{"$f":"IF(AND($B211>=1,$B211<=17),INDEX('1組'!$B$6:$E$39,MATCH($B211,'1組'!$B$6:$B$39,0),4),\"\")","v":""},null,null,null,null,{"$f":"IF(AND($I211>=1,$I211<=17),INDEX('1組'!$B$6:$E$39,MATCH($I211,'1組'!$B$6:$B$39,0),4),\"\")","v":""},null,null,null,null,{"$f":"IF($A211=\"\",\"\",$B211+$B211+5)","v":""},{"$f":"IF($A211=\"\",\"\",$I211+$I211+4)","v":""},{"$f":"IF($A211=\"\",\"\",$M211-1)","v":""},{"$f":"IF($A211=\"\",\"\",$N211)","v":""},{"$f":"IF($A211=\"\",\"\",$M211-1)","v":""},{"$f":"IF($A211=\"\",\"\",$N211+1)","v":""},{"$f":"IF(AND($B211>=1,$B211<=17),OFFSET(INDEX('1組'!$B$6:$E$39,MATCH($B211,'1組'!$B$6:$B$39,0),2),1,0),\"\")","v":""},{"$f":"IF($A211=\"\",\"\",$I211+$I211+5)","v":""},{"$f":"IF($A211=\"\",\"\",$B211+$B211+4)","v":""},{"$f":"IF($A211=\"\",\"\",$T211-1)","v":""},{"$f":"IF($A211=\"\",\"\",$U211)","v":""},{"$f":"IF($A211=\"\",\"\",$T211-1)","v":""},{"$f":"IF($A211=\"\",\"\",$U211+1)","v":""},{"$f":"IF(AND($I211>=1,$I211<=17),OFFSET(INDEX('1組'!$B$6:$E$39,MATCH($I211,'1組'!$B$6:$B$39,0),2),1,0),\"\")","v":""}]
[]
[null,null,{"$f":"IF(AND($B213>=1,$B213<=17),INDEX('1組'!$B$6:$E$39,MATCH($B213,'1組'!$B$6:$B$39,0),4),\"\")","v":""},null,null,null,null,{"$f":"IF(AND($I213>=1,$I213<=17),INDEX('1組'!$B$6:$E$39,MATCH($I213,'1組'!$B$6:$B$39,0),4),\"\")","v":""},null,null,null,null,{"$f":"IF($A213=\"\",\"\",$B213+$B213+5)","v":""},{"$f":"IF($A213=\"\",\"\",$I213+$I213+4)","v":""},{"$f":"IF($A213=\"\",\"\",$M213-1)","v":""},{"$f":"IF($A213=\"\",\"\",$N213)","v":""},{"$f":"IF($A213=\"\",\"\",$M213-1)","v":""},{"$f":"IF($A213=\"\",\"\",$N213+1)","v":""},{"$f":"IF(AND($B213>=1,$B213<=17),OFFSET(INDEX('1組'!$B$6:$E$39,MATCH($B213,'1組'!$B$6:$B$39,0),2),1,0),\"\")","v":""},{"$f":"IF($A213=\"\",\"\",$I213+$I213+5)","v":""},{"$f":"IF($A213=\"\",\"\",$B213+$B213+4)","v":""},{"$f":"IF($A213=\"\",\"\",$T213-1)","v":""},{"$f":"IF($A213=\"\",\"\",$U213)","v":""},{"$f":"IF($A213=\"\",\"\",$T213-1)","v":""},{"$f":"IF($A213=\"\",\"\",$U213+1)","v":""},{"$f":"IF(AND($I213>=1,$I213<=17),OFFSET(INDEX('1組'!$B$6:$E$39,MATCH($I213,'1組'!$B$6:$B$39,0),2),1,0),\"\")","v":""}]
[]
[null,null,{"$f":"IF(AND($B215>=1,$B215<=17),INDEX('1組'!$B$6:$E$39,MATCH($B215,'1組'!$B$6:$B$39,0),4),\"\")","v":""},null,null,null,null,{"$f":"IF(AND($I215>=1,$I215<=17),INDEX('1組'!$B$6:$E$39,MATCH($I215,'1組'!$B$6:$B$39,0),4),\"\")","v":""},null,null,null,null,{"$f":"IF($A215=\"\",\"\",$B215+$B215+5)","v":""},{"$f":"IF($A215=\"\",\"\",$I215+$I215+4)","v":""},{"$f":"IF($A215=\"\",\"\",$M215-1)","v":""},{"$f":"IF($A215=\"\",\"\",$N215)","v":""},{"$f":"IF($A215=\"\",\"\",$M215-1)","v":""},{"$f":"IF($A215=\"\",\"\",$N215+1)","v":""},{"$f":"IF(AND($B215>=1,$B215<=17),OFFSET(INDEX('1組'!$B$6:$E$39,MATCH($B215,'1組'!$B$6:$B$39,0),2),1,0),\"\")","v":""},{"$f":"IF($A215=\"\",\"\",$I215+$I215+5)","v":""},{"$f":"IF($A215=\"\",\"\",$B215+$B215+4)","v":""},{"$f":"IF($A215=\"\",\"\",$T215-1)","v":""},{"$f":"IF($A215=\"\",\"\",$U215)","v":""},{"$f":"IF($A215=\"\",\"\",$T215-1)","v":""},{"$f":"IF($A215=\"\",\"\",$U215+1)","v":""},{"$f":"IF(AND($I215>=1,$I215<=17),OFFSET(INDEX('1組'!$B$6:$E$39,MATCH($I215,'1組'!$B$6:$B$39,0),2),1,0),\"\")","v":""}]
[]
[null,null,{"$f":"IF(AND($B217>=1,$B217<=17),INDEX('1組'!$B$6:$E$39,MATCH($B217,'1組'!$B$6:$B$39,0),4),\"\")","v":""},null,null,null,null,{"$f":"IF(AND($I217>=1,$I217<=17),INDEX('1組'!$B$6:$E$39,MATCH($I217,'1組'!$B$6:$B$39,0),4),\"\")","v":""},null,null,null,null,{"$f":"IF($A217=\"\",\"\",$B217+$B217+5)","v":""},{"$f":"IF($A217=\"\",\"\",$I217+$I217+4)","v":""},{"$f":"IF($A217=\"\",\"\",$M217-1)","v":""},{"$f":"IF($A217=\"\",\"\",$N217)","v":""},{"$f":"IF($A217=\"\",\"\",$M217-1)","v":""},{"$f":"IF($A217=\"\",\"\",$N217+1)","v":""},{"$f":"IF(AND($B217>=1,$B217<=17),OFFSET(INDEX('1組'!$B$6:$E$39,MATCH($B217,'1組'!$B$6:$B$39,0),2),1,0),\"\")","v":""},{"$f":"IF($A217=\"\",\"\",$I217+$I217+5)","v":""},{"$f":"IF($A217=\"\",\"\",$B217+$B217+4)","v":""},{"$f":"IF($A217=\"\",\"\",$T217-1)","v":""},{"$f":"IF($A217=\"\",\"\",$U217)","v":""},{"$f":"IF($A217=\"\",\"\",$T217-1)","v":""},{"$f":"IF($A217=\"\",\"\",$U217+1)","v":""},{"$f":"IF(AND($I217>=1,$I217<=17),OFFSET(INDEX('1組'!$B$6:$E$39,MATCH($I217,'1組'!$B$6:$B$39,0),2),1,0),\"\")","v":""}]
[]
[null,null,{"$f":"IF(AND($B219>=1,$B219<=17),INDEX('1組'!$B$6:$E$39,MATCH($B219,'1組'!$B$6:$B$39,0),4),\"\")","v":""},null,null,null,null,{"$f":"IF(AND($I219>=1,$I219<=17),INDEX('1組'!$B$6:$E$39,MATCH($I219,'1組'!$B$6:$B$39,0),4),\"\")","v":""},null,null,null,null,{"$f":"IF($A219=\"\",\"\",$B219+$B219+5)","v":""},{"$f":"IF($A219=\"\",\"\",$I219+$I219+4)","v":""},{"$f":"IF($A219=\"\",\"\",$M219-1)","v":""},{"$f":"IF($A219=\"\",\"\",$N219)","v":""},{"$f":"IF($A219=\"\",\"\",$M219-1)","v":""},{"$f":"IF($A219=\"\",\"\",$N219+1)","v":""},{"$f":"IF(AND($B219>=1,$B219<=17),OFFSET(INDEX('1組'!$B$6:$E$39,MATCH($B219,'1組'!$B$6:$B$39,0),2),1,0),\"\")","v":""},{"$f":"IF($A219=\"\",\"\",$I219+$I219+5)","v":""},{"$f":"IF($A219=\"\",\"\",$B219+$B219+4)","v":""},{"$f":"IF($A219=\"\",\"\",$T219-1)","v":""},{"$f":"IF($A219=\"\",\"\",$U219)","v":""},{"$f":"IF($A219=\"\",\"\",$T219-1)","v":""},{"$f":"IF($A219=\"\",\"\",$U219+1)","v":""},{"$f":"IF(AND($I219>=1,$I219<=17),OFFSET(INDEX('1組'!$B$6:$E$39,MATCH($I219,'1組'!$B$6:$B$39,0),2),1,0),\"\")","v":""}]
[]
[null,null,{"$f":"IF(AND($B221>=1,$B221<=17),INDEX('1組'!$B$6:$E$39,MATCH($B221,'1組'!$B$6:$B$39,0),4),\"\")","v":""},null,null,null,null,{"$f":"IF(AND($I221>=1,$I221<=17),INDEX('1組'!$B$6:$E$39,MATCH($I221,'1組'!$B$6:$B$39,0),4),\"\")","v":""},null,null,null,null,{"$f":"IF($A221=\"\",\"\",$B221+$B221+5)","v":""},{"$f":"IF($A221=\"\",\"\",$I221+$I221+4)","v":""},{"$f":"IF($A221=\"\",\"\",$M221-1)","v":""},{"$f":"IF($A221=\"\",\"\",$N221)","v":""},{"$f":"IF($A221=\"\",\"\",$M221-1)","v":""},{"$f":"IF($A221=\"\",\"\",$N221+1)","v":""},{"$f":"IF(AND($B221>=1,$B221<=17),OFFSET(INDEX('1組'!$B$6:$E$39,MATCH($B221,'1組'!$B$6:$B$39,0),2),1,0),\"\")","v":""},{"$f":"IF($A221=\"\",\"\",$I221+$I221+5)","v":""},{"$f":"IF($A221=\"\",\"\",$B221+$B221+4)","v":""},{"$f":"IF($A221=\"\",\"\",$T221-1)","v":""},{"$f":"IF($A221=\"\",\"\",$U221)","v":""},{"$f":"IF($A221=\"\",\"\",$T221-1)","v":""},{"$f":"IF($A221=\"\",\"\",$U221+1)","v":""},{"$f":"IF(AND($I221>=1,$I221<=17),OFFSET(INDEX('1組'!$B$6:$E$39,MATCH($I221,'1組'!$B$6:$B$39,0),2),1,0),\"\")","v":""}]
[]
[null,null,{"$f":"IF(AND($B223>=1,$B223<=17),INDEX('1組'!$B$6:$E$39,MATCH($B223,'1組'!$B$6:$B$39,0),4),\"\")","v":""},null,null,null,null,{"$f":"IF(AND($I223>=1,$I223<=17),INDEX('1組'!$B$6:$E$39,MATCH($I223,'1組'!$B$6:$B$39,0),4),\"\")","v":""},null,null,null,null,{"$f":"IF($A223=\"\",\"\",$B223+$B223+5)","v":""},{"$f":"IF($A223=\"\",\"\",$I223+$I223+4)","v":""},{"$f":"IF($A223=\"\",\"\",$M223-1)","v":""},{"$f":"IF($A223=\"\",\"\",$N223)","v":""},{"$f":"IF($A223=\"\",\"\",$M223-1)","v":""},{"$f":"IF($A223=\"\",\"\",$N223+1)","v":""},{"$f":"IF(AND($B223>=1,$B223<=17),OFFSET(INDEX('1組'!$B$6:$E$39,MATCH($B223,'1組'!$B$6:$B$39,0),2),1,0),\"\")","v":""},{"$f":"IF($A223=\"\",\"\",$I223+$I223+5)","v":""},{"$f":"IF($A223=\"\",\"\",$B223+$B223+4)","v":""},{"$f":"IF($A223=\"\",\"\",$T223-1)","v":""},{"$f":"IF($A223=\"\",\"\",$U223)","v":""},{"$f":"IF($A223=\"\",\"\",$T223-1)","v":""},{"$f":"IF($A223=\"\",\"\",$U223+1)","v":""},{"$f":"IF(AND($I223>=1,$I223<=17),OFFSET(INDEX('1組'!$B$6:$E$39,MATCH($I223,'1組'!$B$6:$B$39,0),2),1,0),\"\")","v":""}]
[]
[null,null,{"$f":"IF(AND($B225>=1,$B225<=17),INDEX('1組'!$B$6:$E$39,MATCH($B225,'1組'!$B$6:$B$39,0),4),\"\")","v":""},null,null,null,null,{"$f":"IF(AND($I225>=1,$I225<=17),INDEX('1組'!$B$6:$E$39,MATCH($I225,'1組'!$B$6:$B$39,0),4),\"\")","v":""},null,null,null,null,{"$f":"IF($A225=\"\",\"\",$B225+$B225+5)","v":""},{"$f":"IF($A225=\"\",\"\",$I225+$I225+4)","v":""},{"$f":"IF($A225=\"\",\"\",$M225-1)","v":""},{"$f":"IF($A225=\"\",\"\",$N225)","v":""},{"$f":"IF($A225=\"\",\"\",$M225-1)","v":""},{"$f":"IF($A225=\"\",\"\",$N225+1)","v":""},{"$f":"IF(AND($B225>=1,$B225<=17),OFFSET(INDEX('1組'!$B$6:$E$39,MATCH($B225,'1組'!$B$6:$B$39,0),2),1,0),\"\")","v":""},{"$f":"IF($A225=\"\",\"\",$I225+$I225+5)","v":""},{"$f":"IF($A225=\"\",\"\",$B225+$B225+4)","v":""},{"$f":"IF($A225=\"\",\"\",$T225-1)","v":""},{"$f":"IF($A225=\"\",\"\",$U225)","v":""},{"$f":"IF($A225=\"\",\"\",$T225-1)","v":""},{"$f":"IF($A225=\"\",\"\",$U225+1)","v":""},{"$f":"IF(AND($I225>=1,$I225<=17),OFFSET(INDEX('1組'!$B$6:$E$39,MATCH($I225,'1組'!$B$6:$B$39,0),2),1,0),\"\")","v":""}]
[]
[null,null,{"$f":"IF(AND($B227>=1,$B227<=17),INDEX('1組'!$B$6:$E$39,MATCH($B227,'1組'!$B$6:$B$39,0),4),\"\")","v":""},null,null,null,null,{"$f":"IF(AND($I227>=1,$I227<=17),INDEX('1組'!$B$6:$E$39,MATCH($I227,'1組'!$B$6:$B$39,0),4),\"\")","v":""},null,null,null,null,{"$f":"IF($A227=\"\",\"\",$B227+$B227+5)","v":""},{"$f":"IF($A227=\"\",\"\",$I227+$I227+4)","v":""},{"$f":"IF($A227=\"\",\"\",$M227-1)","v":""},{"$f":"IF($A227=\"\",\"\",$N227)","v":""},{"$f":"IF($A227=\"\",\"\",$M227-1)","v":""},{"$f":"IF($A227=\"\",\"\",$N227+1)","v":""},{"$f":"IF(AND($B227>=1,$B227<=17),OFFSET(INDEX('1組'!$B$6:$E$39,MATCH($B227,'1組'!$B$6:$B$39,0),2),1,0),\"\")","v":""},{"$f":"IF($A227=\"\",\"\",$I227+$I227+5)","v":""},{"$f":"IF($A227=\"\",\"\",$B227+$B227+4)","v":""},{"$f":"IF($A227=\"\",\"\",$T227-1)","v":""},{"$f":"IF($A227=\"\",\"\",$U227)","v":""},{"$f":"IF($A227=\"\",\"\",$T227-1)","v":""},{"$f":"IF($A227=\"\",\"\",$U227+1)","v":""},{"$f":"IF(AND($I227>=1,$I227<=17),OFFSET(INDEX('1組'!$B$6:$E$39,MATCH($I227,'1組'!$B$6:$B$39,0),2),1,0),\"\")","v":""}]
[]
[null,null,{"$f":"IF(AND($B229>=1,$B229<=17),INDEX('1組'!$B$6:$E$39,MATCH($B229,'1組'!$B$6:$B$39,0),4),\"\")","v":""},null,null,null,null,{"$f":"IF(AND($I229>=1,$I229<=17),INDEX('1組'!$B$6:$E$39,MATCH($I229,'1組'!$B$6:$B$39,0),4),\"\")","v":""},null,null,null,null,{"$f":"IF($A229=\"\",\"\",$B229+$B229+5)","v":""},{"$f":"IF($A229=\"\",\"\",$I229+$I229+4)","v":""},{"$f":"IF($A229=\"\",\"\",$M229-1)","v":""},{"$f":"IF($A229=\"\",\"\",$N229)","v":""},{"$f":"IF($A229=\"\",\"\",$M229-1)","v":""},{"$f":"IF($A229=\"\",\"\",$N229+1)","v":""},{"$f":"IF(AND($B229>=1,$B229<=17),OFFSET(INDEX('1組'!$B$6:$E$39,MATCH($B229,'1組'!$B$6:$B$39,0),2),1,0),\"\")","v":""},{"$f":"IF($A229=\"\",\"\",$I229+$I229+5)","v":""},{"$f":"IF($A229=\"\",\"\",$B229+$B229+4)","v":""},{"$f":"IF($A229=\"\",\"\",$T229-1)","v":""},{"$f":"IF($A229=\"\",\"\",$U229)","v":""},{"$f":"IF($A229=\"\",\"\",$T229-1)","v":""},{"$f":"IF($A229=\"\",\"\",$U229+1)","v":""},{"$f":"IF(AND($I229>=1,$I229<=17),OFFSET(INDEX('1組'!$B$6:$E$39,MATCH($I229,'1組'!$B$6:$B$39,0),2),1,0),\"\")","v":""}]
[]
[null,null,{"$f":"IF(AND($B231>=1,$B231<=17),INDEX('1組'!$B$6:$E$39,MATCH($B231,'1組'!$B$6:$B$39,0),4),\"\")","v":""},null,null,null,null,{"$f":"IF(AND($I231>=1,$I231<=17),INDEX('1組'!$B$6:$E$39,MATCH($I231,'1組'!$B$6:$B$39,0),4),\"\")","v":""},null,null,null,null,{"$f":"IF($A231=\"\",\"\",$B231+$B231+5)","v":""},{"$f":"IF($A231=\"\",\"\",$I231+$I231+4)","v":""},{"$f":"IF($A231=\"\",\"\",$M231-1)","v":""},{"$f":"IF($A231=\"\",\"\",$N231)","v":""},{"$f":"IF($A231=\"\",\"\",$M231-1)","v":""},{"$f":"IF($A231=\"\",\"\",$N231+1)","v":""},{"$f":"IF(AND($B231>=1,$B231<=17),OFFSET(INDEX('1組'!$B$6:$E$39,MATCH($B231,'1組'!$B$6:$B$39,0),2),1,0),\"\")","v":""},{"$f":"IF($A231=\"\",\"\",$I231+$I231+5)","v":""},{"$f":"IF($A231=\"\",\"\",$B231+$B231+4)","v":""},{"$f":"IF($A231=\"\",\"\",$T231-1)","v":""},{"$f":"IF($A231=\"\",\"\",$U231)","v":""},{"$f":"IF($A231=\"\",\"\",$T231-1)","v":""},{"$f":"IF($A231=\"\",\"\",$U231+1)","v":""},{"$f":"IF(AND($I231>=1,$I231<=17),OFFSET(INDEX('1組'!$B$6:$E$39,MATCH($I231,'1組'!$B$6:$B$39,0),2),1,0),\"\")","v":""}]
[]
[null,null,{"$f":"IF(AND($B233>=1,$B233<=17),INDEX('1組'!$B$6:$E$39,MATCH($B233,'1組'!$B$6:$B$39,0),4),\"\")","v":""},null,null,null,null,{"$f":"IF(AND($I233>=1,$I233<=17),INDEX('1組'!$B$6:$E$39,MATCH($I233,'1組'!$B$6:$B$39,0),4),\"\")","v":""},null,null,null,null,{"$f":"IF($A233=\"\",\"\",$B233+$B233+5)","v":""},{"$f":"IF($A233=\"\",\"\",$I233+$I233+4)","v":""},{"$f":"IF($A233=\"\",\"\",$M233-1)","v":""},{"$f":"IF($A233=\"\",\"\",$N233)","v":""},{"$f":"IF($A233=\"\",\"\",$M233-1)","v":""},{"$f":"IF($A233=\"\",\"\",$N233+1)","v":""},{"$f":"IF(AND($B233>=1,$B233<=17),OFFSET(INDEX('1組'!$B$6:$E$39,MATCH($B233,'1組'!$B$6:$B$39,0),2),1,0),\"\")","v":""},{"$f":"IF($A233=\"\",\"\",$I233+$I233+5)","v":""},{"$f":"IF($A233=\"\",\"\",$B233+$B233+4)","v":""},{"$f":"IF($A233=\"\",\"\",$T233-1)","v":""},{"$f":"IF($A233=\"\",\"\",$U233)","v":""},{"$f":"IF($A233=\"\",\"\",$T233-1)","v":""},{"$f":"IF($A233=\"\",\"\",$U233+1)","v":""},{"$f":"IF(AND($I233>=1,$I233<=17),OFFSET(INDEX('1組'!$B$6:$E$39,MATCH($I233,'1組'!$B$6:$B$39,0),2),1,0),\"\")","v":""}]
[]
[null,null,{"$f":"IF(AND($B235>=1,$B235<=17),INDEX('1組'!$B$6:$E$39,MATCH($B235,'1組'!$B$6:$B$39,0),4),\"\")","v":""},null,null,null,null,{"$f":"IF(AND($I235>=1,$I235<=17),INDEX('1組'!$B$6:$E$39,MATCH($I235,'1組'!$B$6:$B$39,0),4),\"\")","v":""},null,null,null,null,{"$f":"IF($A235=\"\",\"\",$B235+$B235+5)","v":""},{"$f":"IF($A235=\"\",\"\",$I235+$I235+4)","v":""},{"$f":"IF($A235=\"\",\"\",$M235-1)","v":""},{"$f":"IF($A235=\"\",\"\",$N235)","v":""},{"$f":"IF($A235=\"\",\"\",$M235-1)","v":""},{"$f":"IF($A235=\"\",\"\",$N235+1)","v":""},{"$f":"IF(AND($B235>=1,$B235<=17),OFFSET(INDEX('1組'!$B$6:$E$39,MATCH($B235,'1組'!$B$6:$B$39,0),2),1,0),\"\")","v":""},{"$f":"IF($A235=\"\",\"\",$I235+$I235+5)","v":""},{"$f":"IF($A235=\"\",\"\",$B235+$B235+4)","v":""},{"$f":"IF($A235=\"\",\"\",$T235-1)","v":""},{"$f":"IF($A235=\"\",\"\",$U235)","v":""},{"$f":"IF($A235=\"\",\"\",$T235-1)","v":""},{"$f":"IF($A235=\"\",\"\",$U235+1)","v":""},{"$f":"IF(AND($I235>=1,$I235<=17),OFFSET(INDEX('1組'!$B$6:$E$39,MATCH($I235,'1組'!$B$6:$B$39,0),2),1,0),\"\")","v":""}]
[]
[null,null,{"$f":"IF(AND($B237>=1,$B237<=17),INDEX('1組'!$B$6:$E$39,MATCH($B237,'1組'!$B$6:$B$39,0),4),\"\")","v":""},null,null,null,null,{"$f":"IF(AND($I237>=1,$I237<=17),INDEX('1組'!$B$6:$E$39,MATCH($I237,'1組'!$B$6:$B$39,0),4),\"\")","v":""},null,null,null,null,{"$f":"IF($A237=\"\",\"\",$B237+$B237+5)","v":""},{"$f":"IF($A237=\"\",\"\",$I237+$I237+4)","v":""},{"$f":"IF($A237=\"\",\"\",$M237-1)","v":""},{"$f":"IF($A237=\"\",\"\",$N237)","v":""},{"$f":"IF($A237=\"\",\"\",$M237-1)","v":""},{"$f":"IF($A237=\"\",\"\",$N237+1)","v":""},{"$f":"IF(AND($B237>=1,$B237<=17),OFFSET(INDEX('1組'!$B$6:$E$39,MATCH($B237,'1組'!$B$6:$B$39,0),2),1,0),\"\")","v":""},{"$f":"IF($A237=\"\",\"\",$I237+$I237+5)","v":""},{"$f":"IF($A237=\"\",\"\",$B237+$B237+4)","v":""},{"$f":"IF($A237=\"\",\"\",$T237-1)","v":""},{"$f":"IF($A237=\"\",\"\",$U237)","v":""},{"$f":"IF($A237=\"\",\"\",$T237-1)","v":""},{"$f":"IF($A237=\"\",\"\",$U237+1)","v":""},{"$f":"IF(AND($I237>=1,$I237<=17),OFFSET(INDEX('1組'!$B$6:$E$39,MATCH($I237,'1組'!$B$6:$B$39,0),2),1,0),\"\")","v":""}]
[]
[null,null,{"$f":"IF(AND($B239>=1,$B239<=17),INDEX('1組'!$B$6:$E$39,MATCH($B239,'1組'!$B$6:$B$39,0),4),\"\")","v":""},null,null,null,null,{"$f":"IF(AND($I239>=1,$I239<=17),INDEX('1組'!$B$6:$E$39,MATCH($I239,'1組'!$B$6:$B$39,0),4),\"\")","v":""},null,null,null,null,{"$f":"IF($A239=\"\",\"\",$B239+$B239+5)","v":""},{"$f":"IF($A239=\"\",\"\",$I239+$I239+4)","v":""},{"$f":"IF($A239=\"\",\"\",$M239-1)","v":""},{"$f":"IF($A239=\"\",\"\",$N239)","v":""},{"$f":"IF($A239=\"\",\"\",$M239-1)","v":""},{"$f":"IF($A239=\"\",\"\",$N239+1)","v":""},{"$f":"IF(AND($B239>=1,$B239<=17),OFFSET(INDEX('1組'!$B$6:$E$39,MATCH($B239,'1組'!$B$6:$B$39,0),2),1,0),\"\")","v":""},{"$f":"IF($A239=\"\",\"\",$I239+$I239+5)","v":""},{"$f":"IF($A239=\"\",\"\",$B239+$B239+4)","v":""},{"$f":"IF($A239=\"\",\"\",$T239-1)","v":""},{"$f":"IF($A239=\"\",\"\",$U239)","v":""},{"$f":"IF($A239=\"\",\"\",$T239-1)","v":""},{"$f":"IF($A239=\"\",\"\",$U239+1)","v":""},{"$f":"IF(AND($I239>=1,$I239<=17),OFFSET(INDEX('1組'!$B$6:$E$39,MATCH($I239,'1組'!$B$6:$B$39,0),2),1,0),\"\")","v":""}]
[]
[null,null,{"$f":"IF(AND($B241>=1,$B241<=17),INDEX('1組'!$B$6:$E$39,MATCH($B241,'1組'!$B$6:$B$39,0),4),\"\")","v":""},null,null,null,null,{"$f":"IF(AND($I241>=1,$I241<=17),INDEX('1組'!$B$6:$E$39,MATCH($I241,'1組'!$B$6:$B$39,0),4),\"\")","v":""},null,null,null,null,{"$f":"IF($A241=\"\",\"\",$B241+$B241+5)","v":""},{"$f":"IF($A241=\"\",\"\",$I241+$I241+4)","v":""},{"$f":"IF($A241=\"\",\"\",$M241-1)","v":""},{"$f":"IF($A241=\"\",\"\",$N241)","v":""},{"$f":"IF($A241=\"\",\"\",$M241-1)","v":""},{"$f":"IF($A241=\"\",\"\",$N241+1)","v":""},{"$f":"IF(AND($B241>=1,$B241<=17),OFFSET(INDEX('1組'!$B$6:$E$39,MATCH($B241,'1組'!$B$6:$B$39,0),2),1,0),\"\")","v":""},{"$f":"IF($A241=\"\",\"\",$I241+$I241+5)","v":""},{"$f":"IF($A241=\"\",\"\",$B241+$B241+4)","v":""},{"$f":"IF($A241=\"\",\"\",$T241-1)","v":""},{"$f":"IF($A241=\"\",\"\",$U241)","v":""},{"$f":"IF($A241=\"\",\"\",$T241-1)","v":""},{"$f":"IF($A241=\"\",\"\",$U241+1)","v":""},{"$f":"IF(AND($I241>=1,$I241<=17),OFFSET(INDEX('1組'!$B$6:$E$39,MATCH($I241,'1組'!$B$6:$B$39,0),2),1,0),\"\")","v":""}]
[]
[null,null,{"$f":"IF(AND($B243>=1,$B243<=17),INDEX('1組'!$B$6:$E$39,MATCH($B243,'1組'!$B$6:$B$39,0),4),\"\")","v":""},null,null,null,null,{"$f":"IF(AND($I243>=1,$I243<=17),INDEX('1組'!$B$6:$E$39,MATCH($I243,'1組'!$B$6:$B$39,0),4),\"\")","v":""},null,null,null,null,{"$f":"IF($A243=\"\",\"\",$B243+$B243+5)","v":""},{"$f":"IF($A243=\"\",\"\",$I243+$I243+4)","v":""},{"$f":"IF($A243=\"\",\"\",$M243-1)","v":""},{"$f":"IF($A243=\"\",\"\",$N243)","v":""},{"$f":"IF($A243=\"\",\"\",$M243-1)","v":""},{"$f":"IF($A243=\"\",\"\",$N243+1)","v":""},{"$f":"IF(AND($B243>=1,$B243<=17),OFFSET(INDEX('1組'!$B$6:$E$39,MATCH($B243,'1組'!$B$6:$B$39,0),2),1,0),\"\")","v":""},{"$f":"IF($A243=\"\",\"\",$I243+$I243+5)","v":""},{"$f":"IF($A243=\"\",\"\",$B243+$B243+4)","v":""},{"$f":"IF($A243=\"\",\"\",$T243-1)","v":""},{"$f":"IF($A243=\"\",\"\",$U243)","v":""},{"$f":"IF($A243=\"\",\"\",$T243-1)","v":""},{"$f":"IF($A243=\"\",\"\",$U243+1)","v":""},{"$f":"IF(AND($I243>=1,$I243<=17),OFFSET(INDEX('1組'!$B$6:$E$39,MATCH($I243,'1組'!$B$6:$B$39,0),2),1,0),\"\")","v":""}]
[]
[null,null,{"$f":"IF(AND($B245>=1,$B245<=17),INDEX('1組'!$B$6:$E$39,MATCH($B245,'1組'!$B$6:$B$39,0),4),\"\")","v":""},null,null,null,null,{"$f":"IF(AND($I245>=1,$I245<=17),INDEX('1組'!$B$6:$E$39,MATCH($I245,'1組'!$B$6:$B$39,0),4),\"\")","v":""},null,null,null,null,{"$f":"IF($A245=\"\",\"\",$B245+$B245+5)","v":""},{"$f":"IF($A245=\"\",\"\",$I245+$I245+4)","v":""},{"$f":"IF($A245=\"\",\"\",$M245-1)","v":""},{"$f":"IF($A245=\"\",\"\",$N245)","v":""},{"$f":"IF($A245=\"\",\"\",$M245-1)","v":""},{"$f":"IF($A245=\"\",\"\",$N245+1)","v":""},{"$f":"IF(AND($B245>=1,$B245<=17),OFFSET(INDEX('1組'!$B$6:$E$39,MATCH($B245,'1組'!$B$6:$B$39,0),2),1,0),\"\")","v":""},{"$f":"IF($A245=\"\",\"\",$I245+$I245+5)","v":""},{"$f":"IF($A245=\"\",\"\",$B245+$B245+4)","v":""},{"$f":"IF($A245=\"\",\"\",$T245-1)","v":""},{"$f":"IF($A245=\"\",\"\",$U245)","v":""},{"$f":"IF($A245=\"\",\"\",$T245-1)","v":""},{"$f":"IF($A245=\"\",\"\",$U245+1)","v":""},{"$f":"IF(AND($I245>=1,$I245<=17),OFFSET(INDEX('1組'!$B$6:$E$39,MATCH($I245,'1組'!$B$6:$B$39,0),2),1,0),\"\")","v":""}]
[]
[null,null,{"$f":"IF(AND($B247>=1,$B247<=17),INDEX('1組'!$B$6:$E$39,MATCH($B247,'1組'!$B$6:$B$39,0),4),\"\")","v":""},null,null,null,null,{"$f":"IF(AND($I247>=1,$I247<=17),INDEX('1組'!$B$6:$E$39,MATCH($I247,'1組'!$B$6:$B$39,0),4),\"\")","v":""},null,null,null,null,{"$f":"IF($A247=\"\",\"\",$B247+$B247+5)","v":""},{"$f":"IF($A247=\"\",\"\",$I247+$I247+4)","v":""},{"$f":"IF($A247=\"\",\"\",$M247-1)","v":""},{"$f":"IF($A247=\"\",\"\",$N247)","v":""},{"$f":"IF($A247=\"\",\"\",$M247-1)","v":""},{"$f":"IF($A247=\"\",\"\",$N247+1)","v":""},{"$f":"IF(AND($B247>=1,$B247<=17),OFFSET(INDEX('1組'!$B$6:$E$39,MATCH($B247,'1組'!$B$6:$B$39,0),2),1,0),\"\")","v":""},{"$f":"IF($A247=\"\",\"\",$I247+$I247+5)","v":""},{"$f":"IF($A247=\"\",\"\",$B247+$B247+4)","v":""},{"$f":"IF($A247=\"\",\"\",$T247-1)","v":""},{"$f":"IF($A247=\"\",\"\",$U247)","v":""},{"$f":"IF($A247=\"\",\"\",$T247-1)","v":""},{"$f":"IF($A247=\"\",\"\",$U247+1)","v":""},{"$f":"IF(AND($I247>=1,$I247<=17),OFFSET(INDEX('1組'!$B$6:$E$39,MATCH($I247,'1組'!$B$6:$B$39,0),2),1,0),\"\")","v":""}]
[]
[null,null,{"$f":"IF(AND($B249>=1,$B249<=17),INDEX('1組'!$B$6:$E$39,MATCH($B249,'1組'!$B$6:$B$39,0),4),\"\")","v":""},null,null,null,null,{"$f":"IF(AND($I249>=1,$I249<=17),INDEX('1組'!$B$6:$E$39,MATCH($I249,'1組'!$B$6:$B$39,0),4),\"\")","v":""},null,null,null,null,{"$f":"IF($A249=\"\",\"\",$B249+$B249+5)","v":""},{"$f":"IF($A249=\"\",\"\",$I249+$I249+4)","v":""},{"$f":"IF($A249=\"\",\"\",$M249-1)","v":""},{"$f":"IF($A249=\"\",\"\",$N249)","v":""},{"$f":"IF($A249=\"\",\"\",$M249-1)","v":""},{"$f":"IF($A249=\"\",\"\",$N249+1)","v":""},{"$f":"IF(AND($B249>=1,$B249<=17),OFFSET(INDEX('1組'!$B$6:$E$39,MATCH($B249,'1組'!$B$6:$B$39,0),2),1,0),\"\")","v":""},{"$f":"IF($A249=\"\",\"\",$I249+$I249+5)","v":""},{"$f":"IF($A249=\"\",\"\",$B249+$B249+4)","v":""},{"$f":"IF($A249=\"\",\"\",$T249-1)","v":""},{"$f":"IF($A249=\"\",\"\",$U249)","v":""},{"$f":"IF($A249=\"\",\"\",$T249-1)","v":""},{"$f":"IF($A249=\"\",\"\",$U249+1)","v":""},{"$f":"IF(AND($I249>=1,$I249<=17),OFFSET(INDEX('1組'!$B$6:$E$39,MATCH($I249,'1組'!$B$6:$B$39,0),2),1,0),\"\")","v":""}]
[]
[null,null,{"$f":"IF(AND($B251>=1,$B251<=17),INDEX('1組'!$B$6:$E$39,MATCH($B251,'1組'!$B$6:$B$39,0),4),\"\")","v":""},null,null,null,null,{"$f":"IF(AND($I251>=1,$I251<=17),INDEX('1組'!$B$6:$E$39,MATCH($I251,'1組'!$B$6:$B$39,0),4),\"\")","v":""},null,null,null,null,{"$f":"IF($A251=\"\",\"\",$B251+$B251+5)","v":""},{"$f":"IF($A251=\"\",\"\",$I251+$I251+4)","v":""},{"$f":"IF($A251=\"\",\"\",$M251-1)","v":""},{"$f":"IF($A251=\"\",\"\",$N251)","v":""},{"$f":"IF($A251=\"\",\"\",$M251-1)","v":""},{"$f":"IF($A251=\"\",\"\",$N251+1)","v":""},{"$f":"IF(AND($B251>=1,$B251<=17),OFFSET(INDEX('1組'!$B$6:$E$39,MATCH($B251,'1組'!$B$6:$B$39,0),2),1,0),\"\")","v":""},{"$f":"IF($A251=\"\",\"\",$I251+$I251+5)","v":""},{"$f":"IF($A251=\"\",\"\",$B251+$B251+4)","v":""},{"$f":"IF($A251=\"\",\"\",$T251-1)","v":""},{"$f":"IF($A251=\"\",\"\",$U251)","v":""},{"$f":"IF($A251=\"\",\"\",$T251-1)","v":""},{"$f":"IF($A251=\"\",\"\",$U251+1)","v":""},{"$f":"IF(AND($I251>=1,$I251<=17),OFFSET(INDEX('1組'!$B$6:$E$39,MATCH($I251,'1組'!$B$6:$B$39,0),2),1,0),\"\")","v":""}]
[]
[null,null,{"$f":"IF(AND($B253>=1,$B253<=17),INDEX('1組'!$B$6:$E$39,MATCH($B253,'1組'!$B$6:$B$39,0),4),\"\")","v":""},null,null,null,null,{"$f":"IF(AND($I253>=1,$I253<=17),INDEX('1組'!$B$6:$E$39,MATCH($I253,'1組'!$B$6:$B$39,0),4),\"\")","v":""},null,null,null,null,{"$f":"IF($A253=\"\",\"\",$B253+$B253+5)","v":""},{"$f":"IF($A253=\"\",\"\",$I253+$I253+4)","v":""},{"$f":"IF($A253=\"\",\"\",$M253-1)","v":""},{"$f":"IF($A253=\"\",\"\",$N253)","v":""},{"$f":"IF($A253=\"\",\"\",$M253-1)","v":""},{"$f":"IF($A253=\"\",\"\",$N253+1)","v":""},{"$f":"IF(AND($B253>=1,$B253<=17),OFFSET(INDEX('1組'!$B$6:$E$39,MATCH($B253,'1組'!$B$6:$B$39,0),2),1,0),\"\")","v":""},{"$f":"IF($A253=\"\",\"\",$I253+$I253+5)","v":""},{"$f":"IF($A253=\"\",\"\",$B253+$B253+4)","v":""},{"$f":"IF($A253=\"\",\"\",$T253-1)","v":""},{"$f":"IF($A253=\"\",\"\",$U253)","v":""},{"$f":"IF($A253=\"\",\"\",$T253-1)","v":""},{"$f":"IF($A253=\"\",\"\",$U253+1)","v":""},{"$f":"IF(AND($I253>=1,$I253<=17),OFFSET(INDEX('1組'!$B$6:$E$39,MATCH($I253,'1組'!$B$6:$B$39,0),2),1,0),\"\")","v":""}]
[]
[null,null,{"$f":"IF(AND($B255>=1,$B255<=17),INDEX('1組'!$B$6:$E$39,MATCH($B255,'1組'!$B$6:$B$39,0),4),\"\")","v":""},null,null,null,null,{"$f":"IF(AND($I255>=1,$I255<=17),INDEX('1組'!$B$6:$E$39,MATCH($I255,'1組'!$B$6:$B$39,0),4),\"\")","v":""},null,null,null,null,{"$f":"IF($A255=\"\",\"\",$B255+$B255+5)","v":""},{"$f":"IF($A255=\"\",\"\",$I255+$I255+4)","v":""},{"$f":"IF($A255=\"\",\"\",$M255-1)","v":""},{"$f":"IF($A255=\"\",\"\",$N255)","v":""},{"$f":"IF($A255=\"\",\"\",$M255-1)","v":""},{"$f":"IF($A255=\"\",\"\",$N255+1)","v":""},{"$f":"IF(AND($B255>=1,$B255<=17),OFFSET(INDEX('1組'!$B$6:$E$39,MATCH($B255,'1組'!$B$6:$B$39,0),2),1,0),\"\")","v":""},{"$f":"IF($A255=\"\",\"\",$I255+$I255+5)","v":""},{"$f":"IF($A255=\"\",\"\",$B255+$B255+4)","v":""},{"$f":"IF($A255=\"\",\"\",$T255-1)","v":""},{"$f":"IF($A255=\"\",\"\",$U255)","v":""},{"$f":"IF($A255=\"\",\"\",$T255-1)","v":""},{"$f":"IF($A255=\"\",\"\",$U255+1)","v":""},{"$f":"IF(AND($I255>=1,$I255<=17),OFFSET(INDEX('1組'!$B$6:$E$39,MATCH($I255,'1組'!$B$6:$B$39,0),2),1,0),\"\")","v":""}]
[]
[null,null,{"$f":"IF(AND($B257>=1,$B257<=17),INDEX('1組'!$B$6:$E$39,MATCH($B257,'1組'!$B$6:$B$39,0),4),\"\")","v":""},null,null,null,null,{"$f":"IF(AND($I257>=1,$I257<=17),INDEX('1組'!$B$6:$E$39,MATCH($I257,'1組'!$B$6:$B$39,0),4),\"\")","v":""},null,null,null,null,{"$f":"IF($A257=\"\",\"\",$B257+$B257+5)","v":""},{"$f":"IF($A257=\"\",\"\",$I257+$I257+4)","v":""},{"$f":"IF($A257=\"\",\"\",$M257-1)","v":""},{"$f":"IF($A257=\"\",\"\",$N257)","v":""},{"$f":"IF($A257=\"\",\"\",$M257-1)","v":""},{"$f":"IF($A257=\"\",\"\",$N257+1)","v":""},{"$f":"IF(AND($B257>=1,$B257<=17),OFFSET(INDEX('1組'!$B$6:$E$39,MATCH($B257,'1組'!$B$6:$B$39,0),2),1,0),\"\")","v":""},{"$f":"IF($A257=\"\",\"\",$I257+$I257+5)","v":""},{"$f":"IF($A257=\"\",\"\",$B257+$B257+4)","v":""},{"$f":"IF($A257=\"\",\"\",$T257-1)","v":""},{"$f":"IF($A257=\"\",\"\",$U257)","v":""},{"$f":"IF($A257=\"\",\"\",$T257-1)","v":""},{"$f":"IF($A257=\"\",\"\",$U257+1)","v":""},{"$f":"IF(AND($I257>=1,$I257<=17),OFFSET(INDEX('1組'!$B$6:$E$39,MATCH($I257,'1組'!$B$6:$B$39,0),2),1,0),\"\")","v":""}]
[]
[null,null,{"$f":"IF(AND($B259>=1,$B259<=17),INDEX('1組'!$B$6:$E$39,MATCH($B259,'1組'!$B$6:$B$39,0),4),\"\")","v":""},null,null,null,null,{"$f":"IF(AND($I259>=1,$I259<=17),INDEX('1組'!$B$6:$E$39,MATCH($I259,'1組'!$B$6:$B$39,0),4),\"\")","v":""},null,null,null,null,{"$f":"IF($A259=\"\",\"\",$B259+$B259+5)","v":""},{"$f":"IF($A259=\"\",\"\",$I259+$I259+4)","v":""},{"$f":"IF($A259=\"\",\"\",$M259-1)","v":""},{"$f":"IF($A259=\"\",\"\",$N259)","v":""},{"$f":"IF($A259=\"\",\"\",$M259-1)","v":""},{"$f":"IF($A259=\"\",\"\",$N259+1)","v":""},{"$f":"IF(AND($B259>=1,$B259<=17),OFFSET(INDEX('1組'!$B$6:$E$39,MATCH($B259,'1組'!$B$6:$B$39,0),2),1,0),\"\")","v":""},{"$f":"IF($A259=\"\",\"\",$I259+$I259+5)","v":""},{"$f":"IF($A259=\"\",\"\",$B259+$B259+4)","v":""},{"$f":"IF($A259=\"\",\"\",$T259-1)","v":""},{"$f":"IF($A259=\"\",\"\",$U259)","v":""},{"$f":"IF($A259=\"\",\"\",$T259-1)","v":""},{"$f":"IF($A259=\"\",\"\",$U259+1)","v":""},{"$f":"IF(AND($I259>=1,$I259<=17),OFFSET(INDEX('1組'!$B$6:$E$39,MATCH($I259,'1組'!$B$6:$B$39,0),2),1,0),\"\")","v":""}]
[]
[null,null,{"$f":"IF(AND($B261>=1,$B261<=17),INDEX('1組'!$B$6:$E$39,MATCH($B261,'1組'!$B$6:$B$39,0),4),\"\")","v":""},null,null,null,null,{"$f":"IF(AND($I261>=1,$I261<=17),INDEX('1組'!$B$6:$E$39,MATCH($I261,'1組'!$B$6:$B$39,0),4),\"\")","v":""},null,null,null,null,{"$f":"IF($A261=\"\",\"\",$B261+$B261+5)","v":""},{"$f":"IF($A261=\"\",\"\",$I261+$I261+4)","v":""},{"$f":"IF($A261=\"\",\"\",$M261-1)","v":""},{"$f":"IF($A261=\"\",\"\",$N261)","v":""},{"$f":"IF($A261=\"\",\"\",$M261-1)","v":""},{"$f":"IF($A261=\"\",\"\",$N261+1)","v":""},{"$f":"IF(AND($B261>=1,$B261<=17),OFFSET(INDEX('1組'!$B$6:$E$39,MATCH($B261,'1組'!$B$6:$B$39,0),2),1,0),\"\")","v":""},{"$f":"IF($A261=\"\",\"\",$I261+$I261+5)","v":""},{"$f":"IF($A261=\"\",\"\",$B261+$B261+4)","v":""},{"$f":"IF($A261=\"\",\"\",$T261-1)","v":""},{"$f":"IF($A261=\"\",\"\",$U261)","v":""},{"$f":"IF($A261=\"\",\"\",$T261-1)","v":""},{"$f":"IF($A261=\"\",\"\",$U261+1)","v":""},{"$f":"IF(AND($I261>=1,$I261<=17),OFFSET(INDEX('1組'!$B$6:$E$39,MATCH($I261,'1組'!$B$6:$B$39,0),2),1,0),\"\")","v":""}]
[]
[null,null,{"$f":"IF(AND($B263>=1,$B263<=17),INDEX('1組'!$B$6:$E$39,MATCH($B263,'1組'!$B$6:$B$39,0),4),\"\")","v":""},null,null,null,null,{"$f":"IF(AND($I263>=1,$I263<=17),INDEX('1組'!$B$6:$E$39,MATCH($I263,'1組'!$B$6:$B$39,0),4),\"\")","v":""},null,null,null,null,{"$f":"IF($A263=\"\",\"\",$B263+$B263+5)","v":""},{"$f":"IF($A263=\"\",\"\",$I263+$I263+4)","v":""},{"$f":"IF($A263=\"\",\"\",$M263-1)","v":""},{"$f":"IF($A263=\"\",\"\",$N263)","v":""},{"$f":"IF($A263=\"\",\"\",$M263-1)","v":""},{"$f":"IF($A263=\"\",\"\",$N263+1)","v":""},{"$f":"IF(AND($B263>=1,$B263<=17),OFFSET(INDEX('1組'!$B$6:$E$39,MATCH($B263,'1組'!$B$6:$B$39,0),2),1,0),\"\")","v":""},{"$f":"IF($A263=\"\",\"\",$I263+$I263+5)","v":""},{"$f":"IF($A263=\"\",\"\",$B263+$B263+4)","v":""},{"$f":"IF($A263=\"\",\"\",$T263-1)","v":""},{"$f":"IF($A263=\"\",\"\",$U263)","v":""},{"$f":"IF($A263=\"\",\"\",$T263-1)","v":""},{"$f":"IF($A263=\"\",\"\",$U263+1)","v":""},{"$f":"IF(AND($I263>=1,$I263<=17),OFFSET(INDEX('1組'!$B$6:$E$39,MATCH($I263,'1組'!$B$6:$B$39,0),2),1,0),\"\")","v":""}]
[]
[null,null,{"$f":"IF(AND($B265>=1,$B265<=17),INDEX('1組'!$B$6:$E$39,MATCH($B265,'1組'!$B$6:$B$39,0),4),\"\")","v":""},null,null,null,null,{"$f":"IF(AND($I265>=1,$I265<=17),INDEX('1組'!$B$6:$E$39,MATCH($I265,'1組'!$B$6:$B$39,0),4),\"\")","v":""},null,null,null,null,{"$f":"IF($A265=\"\",\"\",$B265+$B265+5)","v":""},{"$f":"IF($A265=\"\",\"\",$I265+$I265+4)","v":""},{"$f":"IF($A265=\"\",\"\",$M265-1)","v":""},{"$f":"IF($A265=\"\",\"\",$N265)","v":""},{"$f":"IF($A265=\"\",\"\",$M265-1)","v":""},{"$f":"IF($A265=\"\",\"\",$N265+1)","v":""},{"$f":"IF(AND($B265>=1,$B265<=17),OFFSET(INDEX('1組'!$B$6:$E$39,MATCH($B265,'1組'!$B$6:$B$39,0),2),1,0),\"\")","v":""},{"$f":"IF($A265=\"\",\"\",$I265+$I265+5)","v":""},{"$f":"IF($A265=\"\",\"\",$B265+$B265+4)","v":""},{"$f":"IF($A265=\"\",\"\",$T265-1)","v":""},{"$f":"IF($A265=\"\",\"\",$U265)","v":""},{"$f":"IF($A265=\"\",\"\",$T265-1)","v":""},{"$f":"IF($A265=\"\",\"\",$U265+1)","v":""},{"$f":"IF(AND($I265>=1,$I265<=17),OFFSET(INDEX('1組'!$B$6:$E$39,MATCH($I265,'1組'!$B$6:$B$39,0),2),1,0),\"\")","v":""}]
[]
[null,null,{"$f":"IF(AND($B267>=1,$B267<=17),INDEX('1組'!$B$6:$E$39,MATCH($B267,'1組'!$B$6:$B$39,0),4),\"\")","v":""},null,null,null,null,{"$f":"IF(AND($I267>=1,$I267<=17),INDEX('1組'!$B$6:$E$39,MATCH($I267,'1組'!$B$6:$B$39,0),4),\"\")","v":""},null,null,null,null,{"$f":"IF($A267=\"\",\"\",$B267+$B267+5)","v":""},{"$f":"IF($A267=\"\",\"\",$I267+$I267+4)","v":""},{"$f":"IF($A267=\"\",\"\",$M267-1)","v":""},{"$f":"IF($A267=\"\",\"\",$N267)","v":""},{"$f":"IF($A267=\"\",\"\",$M267-1)","v":""},{"$f":"IF($A267=\"\",\"\",$N267+1)","v":""},{"$f":"IF(AND($B267>=1,$B267<=17),OFFSET(INDEX('1組'!$B$6:$E$39,MATCH($B267,'1組'!$B$6:$B$39,0),2),1,0),\"\")","v":""},{"$f":"IF($A267=\"\",\"\",$I267+$I267+5)","v":""},{"$f":"IF($A267=\"\",\"\",$B267+$B267+4)","v":""},{"$f":"IF($A267=\"\",\"\",$T267-1)","v":""},{"$f":"IF($A267=\"\",\"\",$U267)","v":""},{"$f":"IF($A267=\"\",\"\",$T267-1)","v":""},{"$f":"IF($A267=\"\",\"\",$U267+1)","v":""},{"$f":"IF(AND($I267>=1,$I267<=17),OFFSET(INDEX('1組'!$B$6:$E$39,MATCH($I267,'1組'!$B$6:$B$39,0),2),1,0),\"\")","v":""}]
[]
[null,null,{"$f":"IF(AND($B269>=1,$B269<=17),INDEX('1組'!$B$6:$E$39,MATCH($B269,'1組'!$B$6:$B$39,0),4),\"\")","v":""},null,null,null,null,{"$f":"IF(AND($I269>=1,$I269<=17),INDEX('1組'!$B$6:$E$39,MATCH($I269,'1組'!$B$6:$B$39,0),4),\"\")","v":""},null,null,null,null,{"$f":"IF($A269=\"\",\"\",$B269+$B269+5)","v":""},{"$f":"IF($A269=\"\",\"\",$I269+$I269+4)","v":""},{"$f":"IF($A269=\"\",\"\",$M269-1)","v":""},{"$f":"IF($A269=\"\",\"\",$N269)","v":""},{"$f":"IF($A269=\"\",\"\",$M269-1)","v":""},{"$f":"IF($A269=\"\",\"\",$N269+1)","v":""},{"$f":"IF(AND($B269>=1,$B269<=17),OFFSET(INDEX('1組'!$B$6:$E$39,MATCH($B269,'1組'!$B$6:$B$39,0),2),1,0),\"\")","v":""},{"$f":"IF($A269=\"\",\"\",$I269+$I269+5)","v":""},{"$f":"IF($A269=\"\",\"\",$B269+$B269+4)","v":""},{"$f":"IF($A269=\"\",\"\",$T269-1)","v":""},{"$f":"IF($A269=\"\",\"\",$U269)","v":""},{"$f":"IF($A269=\"\",\"\",$T269-1)","v":""},{"$f":"IF($A269=\"\",\"\",$U269+1)","v":""},{"$f":"IF(AND($I269>=1,$I269<=17),OFFSET(INDEX('1組'!$B$6:$E$39,MATCH($I269,'1組'!$B$6:$B$39,0),2),1,0),\"\")","v":""}]
[]
[null,null,{"$f":"IF(AND($B271>=1,$B271<=17),INDEX('1組'!$B$6:$E$39,MATCH($B271,'1組'!$B$6:$B$39,0),4),\"\")","v":""},null,null,null,null,{"$f":"IF(AND($I271>=1,$I271<=17),INDEX('1組'!$B$6:$E$39,MATCH($I271,'1組'!$B$6:$B$39,0),4),\"\")","v":""},null,null,null,null,{"$f":"IF($A271=\"\",\"\",$B271+$B271+5)","v":""},{"$f":"IF($A271=\"\",\"\",$I271+$I271+4)","v":""},{"$f":"IF($A271=\"\",\"\",$M271-1)","v":""},{"$f":"IF($A271=\"\",\"\",$N271)","v":""},{"$f":"IF($A271=\"\",\"\",$M271-1)","v":""},{"$f":"IF($A271=\"\",\"\",$N271+1)","v":""},{"$f":"IF(AND($B271>=1,$B271<=17),OFFSET(INDEX('1組'!$B$6:$E$39,MATCH($B271,'1組'!$B$6:$B$39,0),2),1,0),\"\")","v":""},{"$f":"IF($A271=\"\",\"\",$I271+$I271+5)","v":""},{"$f":"IF($A271=\"\",\"\",$B271+$B271+4)","v":""},{"$f":"IF($A271=\"\",\"\",$T271-1)","v":""},{"$f":"IF($A271=\"\",\"\",$U271)","v":""},{"$f":"IF($A271=\"\",\"\",$T271-1)","v":""},{"$f":"IF($A271=\"\",\"\",$U271+1)","v":""},{"$f":"IF(AND($I271>=1,$I271<=17),OFFSET(INDEX('1組'!$B$6:$E$39,MATCH($I271,'1組'!$B$6:$B$39,0),2),1,0),\"\")","v":""}]
[]
[null,null,{"$f":"IF(AND($B273>=1,$B273<=17),INDEX('1組'!$B$6:$E$39,MATCH($B273,'1組'!$B$6:$B$39,0),4),\"\")","v":""},null,null,null,null,{"$f":"IF(AND($I273>=1,$I273<=17),INDEX('1組'!$B$6:$E$39,MATCH($I273,'1組'!$B$6:$B$39,0),4),\"\")","v":""},null,null,null,null,{"$f":"IF($A273=\"\",\"\",$B273+$B273+5)","v":""},{"$f":"IF($A273=\"\",\"\",$I273+$I273+4)","v":""},{"$f":"IF($A273=\"\",\"\",$M273-1)","v":""},{"$f":"IF($A273=\"\",\"\",$N273)","v":""},{"$f":"IF($A273=\"\",\"\",$M273-1)","v":""},{"$f":"IF($A273=\"\",\"\",$N273+1)","v":""},{"$f":"IF(AND($B273>=1,$B273<=17),OFFSET(INDEX('1組'!$B$6:$E$39,MATCH($B273,'1組'!$B$6:$B$39,0),2),1,0),\"\")","v":""},{"$f":"IF($A273=\"\",\"\",$I273+$I273+5)","v":""},{"$f":"IF($A273=\"\",\"\",$B273+$B273+4)","v":""},{"$f":"IF($A273=\"\",\"\",$T273-1)","v":""},{"$f":"IF($A273=\"\",\"\",$U273)","v":""},{"$f":"IF($A273=\"\",\"\",$T273-1)","v":""},{"$f":"IF($A273=\"\",\"\",$U273+1)","v":""},{"$f":"IF(AND($I273>=1,$I273<=17),OFFSET(INDEX('1組'!$B$6:$E$39,MATCH($I273,'1組'!$B$6:$B$39,0),2),1,0),\"\")","v":""}]
[]
[null,null,{"$f":"IF(AND($B275>=1,$B275<=17),INDEX('1組'!$B$6:$E$39,MATCH($B275,'1組'!$B$6:$B$39,0),4),\"\")","v":""},null,null,null,null,{"$f":"IF(AND($I275>=1,$I275<=17),INDEX('1組'!$B$6:$E$39,MATCH($I275,'1組'!$B$6:$B$39,0),4),\"\")","v":""},null,null,null,null,{"$f":"IF($A275=\"\",\"\",$B275+$B275+5)","v":""},{"$f":"IF($A275=\"\",\"\",$I275+$I275+4)","v":""},"","","","",{"$f":"IF(AND($B275>=1,$B275<=17),OFFSET(INDEX('1組'!$B$6:$E$39,MATCH($B275,'1組'!$B$6:$B$39,0),2),1,0),\"\")","v":""},{"$f":"IF($A275=\"\",\"\",$I275+$I275+5)","v":""},{"$f":"IF($A275=\"\",\"\",$B275+$B275+4)","v":""},"","","","",{"$f":"IF(AND($I275>=1,$I275<=17),OFFSET(INDEX('1組'!$B$6:$E$39,MATCH($I275,'1組'!$B$6:$B$39,0),2),1,0),\"\")","v":""}]
[]
[null,null,{"$f":"IF(AND($B277>=1,$B277<=17),INDEX('1組'!$B$6:$E$39,MATCH($B277,'1組'!$B$6:$B$39,0),4),\"\")","v":""},null,null,null,null,{"$f":"IF(AND($I277>=1,$I277<=17),INDEX('1組'!$B$6:$E$39,MATCH($I277,'1組'!$B$6:$B$39,0),4),\"\")","v":""},null,null,null,null,{"$f":"IF($A277=\"\",\"\",$B277+$B277+5)","v":""},{"$f":"IF($A277=\"\",\"\",$I277+$I277+4)","v":""},"","","","",{"$f":"IF(AND($B277>=1,$B277<=17),OFFSET(INDEX('1組'!$B$6:$E$39,MATCH($B277,'1組'!$B$6:$B$39,0),2),1,0),\"\")","v":""},{"$f":"IF($A277=\"\",\"\",$I277+$I277+5)","v":""},{"$f":"IF($A277=\"\",\"\",$B277+$B277+4)","v":""},"","","","",{"$f":"IF(AND($I277>=1,$I277<=17),OFFSET(INDEX('1組'!$B$6:$E$39,MATCH($I277,'1組'!$B$6:$B$39,0),2),1,0),\"\")","v":""}]
[]
[null,null,{"$f":"IF(AND($B279>=1,$B279<=17),INDEX('1組'!$B$6:$E$39,MATCH($B279,'1組'!$B$6:$B$39,0),4),\"\")","v":""},null,null,null,null,{"$f":"IF(AND($I279>=1,$I279<=17),INDEX('1組'!$B$6:$E$39,MATCH($I279,'1組'!$B$6:$B$39,0),4),\"\")","v":""},null,null,null,null,{"$f":"IF($A279=\"\",\"\",$B279+$B279+5)","v":""},{"$f":"IF($A279=\"\",\"\",$I279+$I279+4)","v":""},"","","","",{"$f":"IF(AND($B279>=1,$B279<=17),OFFSET(INDEX('1組'!$B$6:$E$39,MATCH($B279,'1組'!$B$6:$B$39,0),2),1,0),\"\")","v":""},{"$f":"IF($A279=\"\",\"\",$I279+$I279+5)","v":""},{"$f":"IF($A279=\"\",\"\",$B279+$B279+4)","v":""},"","","","",{"$f":"IF(AND($I279>=1,$I279<=17),OFFSET(INDEX('1組'!$B$6:$E$39,MATCH($I279,'1組'!$B$6:$B$39,0),2),1,0),\"\")","v":""}]
[]
[null,null,{"$f":"IF(AND($B281>=1,$B281<=17),INDEX('1組'!$B$6:$E$39,MATCH($B281,'1組'!$B$6:$B$39,0),4),\"\")","v":""},null,null,null,null,{"$f":"IF(AND($I281>=1,$I281<=17),INDEX('1組'!$B$6:$E$39,MATCH($I281,'1組'!$B$6:$B$39,0),4),\"\")","v":""},null,null,null,null,{"$f":"IF($A281=\"\",\"\",$B281+$B281+5)","v":""},{"$f":"IF($A281=\"\",\"\",$I281+$I281+4)","v":""},"","","","",{"$f":"IF(AND($B281>=1,$B281<=17),OFFSET(INDEX('1組'!$B$6:$E$39,MATCH($B281,'1組'!$B$6:$B$39,0),2),1,0),\"\")","v":""},{"$f":"IF($A281=\"\",\"\",$I281+$I281+5)","v":""},{"$f":"IF($A281=\"\",\"\",$B281+$B281+4)","v":""},"","","","",{"$f":"IF(AND($I281>=1,$I281<=17),OFFSET(INDEX('1組'!$B$6:$E$39,MATCH($I281,'1組'!$B$6:$B$39,0),2),1,0),\"\")","v":""}]
[]
[null,null,{"$f":"IF(AND($B283>=1,$B283<=17),INDEX('1組'!$B$6:$E$39,MATCH($B283,'1組'!$B$6:$B$39,0),4),\"\")","v":""},null,null,null,null,{"$f":"IF(AND($I283>=1,$I283<=17),INDEX('1組'!$B$6:$E$39,MATCH($I283,'1組'!$B$6:$B$39,0),4),\"\")","v":""},null,null,null,null,{"$f":"IF($A283=\"\",\"\",$B283+$B283+5)","v":""},{"$f":"IF($A283=\"\",\"\",$I283+$I283+4)","v":""},"","","","",{"$f":"IF(AND($B283>=1,$B283<=17),OFFSET(INDEX('1組'!$B$6:$E$39,MATCH($B283,'1組'!$B$6:$B$39,0),2),1,0),\"\")","v":""},{"$f":"IF($A283=\"\",\"\",$I283+$I283+5)","v":""},{"$f":"IF($A283=\"\",\"\",$B283+$B283+4)","v":""},"","","","",{"$f":"IF(AND($I283>=1,$I283<=17),OFFSET(INDEX('1組'!$B$6:$E$39,MATCH($I283,'1組'!$B$6:$B$39,0),2),1,0),\"\")","v":""}]
[]
[null,null,{"$f":"IF(AND($B285>=1,$B285<=17),INDEX('1組'!$B$6:$E$39,MATCH($B285,'1組'!$B$6:$B$39,0),4),\"\")","v":""},null,null,null,null,{"$f":"IF(AND($I285>=1,$I285<=17),INDEX('1組'!$B$6:$E$39,MATCH($I285,'1組'!$B$6:$B$39,0),4),\"\")","v":""},null,null,null,null,{"$f":"IF($A285=\"\",\"\",$B285+$B285+5)","v":""},{"$f":"IF($A285=\"\",\"\",$I285+$I285+4)","v":""},"","","","",{"$f":"IF(AND($B285>=1,$B285<=17),OFFSET(INDEX('1組'!$B$6:$E$39,MATCH($B285,'1組'!$B$6:$B$39,0),2),1,0),\"\")","v":""},{"$f":"IF($A285=\"\",\"\",$I285+$I285+5)","v":""},{"$f":"IF($A285=\"\",\"\",$B285+$B285+4)","v":""},"","","","",{"$f":"IF(AND($I285>=1,$I285<=17),OFFSET(INDEX('1組'!$B$6:$E$39,MATCH($I285,'1組'!$B$6:$B$39,0),2),1,0),\"\")","v":""}]
[]
[null,null,{"$f":"IF(AND($B287>=1,$B287<=17),INDEX('1組'!$B$6:$E$39,MATCH($B287,'1組'!$B$6:$B$39,0),4),\"\")","v":""},null,null,null,null,{"$f":"IF(AND($I287>=1,$I287<=17),INDEX('1組'!$B$6:$E$39,MATCH($I287,'1組'!$B$6:$B$39,0),4),\"\")","v":""},null,null,null,null,{"$f":"IF($A287=\"\",\"\",$B287+$B287+5)","v":""},{"$f":"IF($A287=\"\",\"\",$I287+$I287+4)","v":""},"","","","",{"$f":"IF(AND($B287>=1,$B287<=17),OFFSET(INDEX('1組'!$B$6:$E$39,MATCH($B287,'1組'!$B$6:$B$39,0),2),1,0),\"\")","v":""},{"$f":"IF($A287=\"\",\"\",$I287+$I287+5)","v":""},{"$f":"IF($A287=\"\",\"\",$B287+$B287+4)","v":""},"","","","",{"$f":"IF(AND($I287>=1,$I287<=17),OFFSET(INDEX('1組'!$B$6:$E$39,MATCH($I287,'1組'!$B$6:$B$39,0),2),1,0),\"\")","v":""}]
[]
[null,null,{"$f":"IF(AND($B289>=1,$B289<=17),INDEX('1組'!$B$6:$E$39,MATCH($B289,'1組'!$B$6:$B$39,0),4),\"\")","v":""},null,null,null,null,{"$f":"IF(AND($I289>=1,$I289<=17),INDEX('1組'!$B$6:$E$39,MATCH($I289,'1組'!$B$6:$B$39,0),4),\"\")","v":""},null,null,null,null,{"$f":"IF($A289=\"\",\"\",$B289+$B289+5)","v":""},{"$f":"IF($A289=\"\",\"\",$I289+$I289+4)","v":""},"","","","",{"$f":"IF(AND($B289>=1,$B289<=17),OFFSET(INDEX('1組'!$B$6:$E$39,MATCH($B289,'1組'!$B$6:$B$39,0),2),1,0),\"\")","v":""},{"$f":"IF($A289=\"\",\"\",$I289+$I289+5)","v":""},{"$f":"IF($A289=\"\",\"\",$B289+$B289+4)","v":""},"","","","",{"$f":"IF(AND($I289>=1,$I289<=17),OFFSET(INDEX('1組'!$B$6:$E$39,MATCH($I289,'1組'!$B$6:$B$39,0),2),1,0),\"\")","v":""}]
[]
[null,null,{"$f":"IF(AND($B291>=1,$B291<=17),INDEX('1組'!$B$6:$E$39,MATCH($B291,'1組'!$B$6:$B$39,0),4),\"\")","v":""},null,null,null,null,{"$f":"IF(AND($I291>=1,$I291<=17),INDEX('1組'!$B$6:$E$39,MATCH($I291,'1組'!$B$6:$B$39,0),4),\"\")","v":""},null,null,null,null,{"$f":"IF($A291=\"\",\"\",$B291+$B291+5)","v":""},{"$f":"IF($A291=\"\",\"\",$I291+$I291+4)","v":""},"","","","",{"$f":"IF(AND($B291>=1,$B291<=17),OFFSET(INDEX('1組'!$B$6:$E$39,MATCH($B291,'1組'!$B$6:$B$39,0),2),1,0),\"\")","v":""},{"$f":"IF($A291=\"\",\"\",$I291+$I291+5)","v":""},{"$f":"IF($A291=\"\",\"\",$B291+$B291+4)","v":""},"","","","",{"$f":"IF(AND($I291>=1,$I291<=17),OFFSET(INDEX('1組'!$B$6:$E$39,MATCH($I291,'1組'!$B$6:$B$39,0),2),1,0),\"\")","v":""}]
[]
[null,null,{"$f":"IF(AND($B293>=1,$B293<=17),INDEX('1組'!$B$6:$E$39,MATCH($B293,'1組'!$B$6:$B$39,0),4),\"\")","v":""},null,null,null,null,{"$f":"IF(AND($I293>=1,$I293<=17),INDEX('1組'!$B$6:$E$39,MATCH($I293,'1組'!$B$6:$B$39,0),4),\"\")","v":""},null,null,null,null,{"$f":"IF($A293=\"\",\"\",$B293+$B293+5)","v":""},{"$f":"IF($A293=\"\",\"\",$I293+$I293+4)","v":""},"","","","",{"$f":"IF(AND($B293>=1,$B293<=17),OFFSET(INDEX('1組'!$B$6:$E$39,MATCH($B293,'1組'!$B$6:$B$39,0),2),1,0),\"\")","v":""},{"$f":"IF($A293=\"\",\"\",$I293+$I293+5)","v":""},{"$f":"IF($A293=\"\",\"\",$B293+$B293+4)","v":""},"","","","",{"$f":"IF(AND($I293>=1,$I293<=17),OFFSET(INDEX('1組'!$B$6:$E$39,MATCH($I293,'1組'!$B$6:$B$39,0),2),1,0),\"\")","v":""}]
[]
[null,null,{"$f":"IF(AND($B295>=1,$B295<=17),INDEX('1組'!$B$6:$E$39,MATCH($B295,'1組'!$B$6:$B$39,0),4),\"\")","v":""},null,null,null,null,{"$f":"IF(AND($I295>=1,$I295<=17),INDEX('1組'!$B$6:$E$39,MATCH($I295,'1組'!$B$6:$B$39,0),4),\"\")","v":""},null,null,null,null,{"$f":"IF($A295=\"\",\"\",$B295+$B295+5)","v":""},{"$f":"IF($A295=\"\",\"\",$I295+$I295+4)","v":""},"","","","",{"$f":"IF(AND($B295>=1,$B295<=17),OFFSET(INDEX('1組'!$B$6:$E$39,MATCH($B295,'1組'!$B$6:$B$39,0),2),1,0),\"\")","v":""},{"$f":"IF($A295=\"\",\"\",$I295+$I295+5)","v":""},{"$f":"IF($A295=\"\",\"\",$B295+$B295+4)","v":""},"","","","",{"$f":"IF(AND($I295>=1,$I295<=17),OFFSET(INDEX('1組'!$B$6:$E$39,MATCH($I295,'1組'!$B$6:$B$39,0),2),1,0),\"\")","v":""}]
[]
[null,null,{"$f":"IF(AND($B297>=1,$B297<=17),INDEX('1組'!$B$6:$E$39,MATCH($B297,'1組'!$B$6:$B$39,0),4),\"\")","v":""},null,null,null,null,{"$f":"IF(AND($I297>=1,$I297<=17),INDEX('1組'!$B$6:$E$39,MATCH($I297,'1組'!$B$6:$B$39,0),4),\"\")","v":""},null,null,null,null,{"$f":"IF($A297=\"\",\"\",$B297+$B297+5)","v":""},{"$f":"IF($A297=\"\",\"\",$I297+$I297+4)","v":""},"","","","",{"$f":"IF(AND($B297>=1,$B297<=17),OFFSET(INDEX('1組'!$B$6:$E$39,MATCH($B297,'1組'!$B$6:$B$39,0),2),1,0),\"\")","v":""},{"$f":"IF($A297=\"\",\"\",$I297+$I297+5)","v":""},{"$f":"IF($A297=\"\",\"\",$B297+$B297+4)","v":""},"","","","",{"$f":"IF(AND($I297>=1,$I297<=17),OFFSET(INDEX('1組'!$B$6:$E$39,MATCH($I297,'1組'!$B$6:$B$39,0),2),1,0),\"\")","v":""}]
[]
[null,null,{"$f":"IF(AND($B299>=1,$B299<=17),INDEX('1組'!$B$6:$E$39,MATCH($B299,'1組'!$B$6:$B$39,0),4),\"\")","v":""},null,null,null,null,{"$f":"IF(AND($I299>=1,$I299<=17),INDEX('1組'!$B$6:$E$39,MATCH($I299,'1組'!$B$6:$B$39,0),4),\"\")","v":""},null,null,null,null,{"$f":"IF($A299=\"\",\"\",$B299+$B299+5)","v":""},{"$f":"IF($A299=\"\",\"\",$I299+$I299+4)","v":""},"","","","",{"$f":"IF(AND($B299>=1,$B299<=17),OFFSET(INDEX('1組'!$B$6:$E$39,MATCH($B299,'1組'!$B$6:$B$39,0),2),1,0),\"\")","v":""},{"$f":"IF($A299=\"\",\"\",$I299+$I299+5)","v":""},{"$f":"IF($A299=\"\",\"\",$B299+$B299+4)","v":""},"","","","",{"$f":"IF(AND($I299>=1,$I299<=17),OFFSET(INDEX('1組'!$B$6:$E$39,MATCH($I299,'1組'!$B$6:$B$39,0),2),1,0),\"\")","v":""}]
[]
[null,null,{"$f":"IF(AND($B301>=1,$B301<=17),INDEX('1組'!$B$6:$E$39,MATCH($B301,'1組'!$B$6:$B$39,0),4),\"\")","v":""},null,null,null,null,{"$f":"IF(AND($I301>=1,$I301<=17),INDEX('1組'!$B$6:$E$39,MATCH($I301,'1組'!$B$6:$B$39,0),4),\"\")","v":""},null,null,null,null,{"$f":"IF($A301=\"\",\"\",$B301+$B301+5)","v":""},{"$f":"IF($A301=\"\",\"\",$I301+$I301+4)","v":""},"","","","",{"$f":"IF(AND($B301>=1,$B301<=17),OFFSET(INDEX('1組'!$B$6:$E$39,MATCH($B301,'1組'!$B$6:$B$39,0),2),1,0),\"\")","v":""},{"$f":"IF($A301=\"\",\"\",$I301+$I301+5)","v":""},{"$f":"IF($A301=\"\",\"\",$B301+$B301+4)","v":""},"","","","",{"$f":"IF(AND($I301>=1,$I301<=17),OFFSET(INDEX('1組'!$B$6:$E$39,MATCH($I301,'1組'!$B$6:$B$39,0),2),1,0),\"\")","v":""}]
[]
[null,null,{"$f":"IF(AND($B303>=1,$B303<=17),INDEX('1組'!$B$6:$E$39,MATCH($B303,'1組'!$B$6:$B$39,0),4),\"\")","v":""},null,null,null,null,{"$f":"IF(AND($I303>=1,$I303<=17),INDEX('1組'!$B$6:$E$39,MATCH($I303,'1組'!$B$6:$B$39,0),4),\"\")","v":""},null,null,null,null,{"$f":"IF($A303=\"\",\"\",$B303+$B303+5)","v":""},{"$f":"IF($A303=\"\",\"\",$I303+$I303+4)","v":""},"","","","",{"$f":"IF(AND($B303>=1,$B303<=17),OFFSET(INDEX('1組'!$B$6:$E$39,MATCH($B303,'1組'!$B$6:$B$39,0),2),1,0),\"\")","v":""},{"$f":"IF($A303=\"\",\"\",$I303+$I303+5)","v":""},{"$f":"IF($A303=\"\",\"\",$B303+$B303+4)","v":""},"","","","",{"$f":"IF(AND($I303>=1,$I303<=17),OFFSET(INDEX('1組'!$B$6:$E$39,MATCH($I303,'1組'!$B$6:$B$39,0),2),1,0),\"\")","v":""}]
[]
[null,null,{"$f":"IF(AND($B305>=1,$B305<=17),INDEX('1組'!$B$6:$E$39,MATCH($B305,'1組'!$B$6:$B$39,0),4),\"\")","v":""},null,null,null,null,{"$f":"IF(AND($I305>=1,$I305<=17),INDEX('1組'!$B$6:$E$39,MATCH($I305,'1組'!$B$6:$B$39,0),4),\"\")","v":""},null,null,null,null,{"$f":"IF($A305=\"\",\"\",$B305+$B305+5)","v":""},{"$f":"IF($A305=\"\",\"\",$I305+$I305+4)","v":""},"","","","",{"$f":"IF(AND($B305>=1,$B305<=17),OFFSET(INDEX('1組'!$B$6:$E$39,MATCH($B305,'1組'!$B$6:$B$39,0),2),1,0),\"\")","v":""},{"$f":"IF($A305=\"\",\"\",$I305+$I305+5)","v":""},{"$f":"IF($A305=\"\",\"\",$B305+$B305+4)","v":""},"","","","",{"$f":"IF(AND($I305>=1,$I305<=17),OFFSET(INDEX('1組'!$B$6:$E$39,MATCH($I305,'1組'!$B$6:$B$39,0),2),1,0),\"\")","v":""}]
[]
[null,null,{"$f":"IF(AND($B307>=1,$B307<=17),INDEX('1組'!$B$6:$E$39,MATCH($B307,'1組'!$B$6:$B$39,0),4),\"\")","v":""},null,null,null,null,{"$f":"IF(AND($I307>=1,$I307<=17),INDEX('1組'!$B$6:$E$39,MATCH($I307,'1組'!$B$6:$B$39,0),4),\"\")","v":""},null,null,null,null,{"$f":"IF($A307=\"\",\"\",$B307+$B307+5)","v":""},{"$f":"IF($A307=\"\",\"\",$I307+$I307+4)","v":""},"","","","",{"$f":"IF(AND($B307>=1,$B307<=17),OFFSET(INDEX('1組'!$B$6:$E$39,MATCH($B307,'1組'!$B$6:$B$39,0),2),1,0),\"\")","v":""},{"$f":"IF($A307=\"\",\"\",$I307+$I307+5)","v":""},{"$f":"IF($A307=\"\",\"\",$B307+$B307+4)","v":""},"","","","",{"$f":"IF(AND($I307>=1,$I307<=17),OFFSET(INDEX('1組'!$B$6:$E$39,MATCH($I307,'1組'!$B$6:$B$39,0),2),1,0),\"\")","v":""}]
[]
[null,null,{"$f":"IF(AND($B309>=1,$B309<=17),INDEX('1組'!$B$6:$E$39,MATCH($B309,'1組'!$B$6:$B$39,0),4),\"\")","v":""},null,null,null,null,{"$f":"IF(AND($I309>=1,$I309<=17),INDEX('1組'!$B$6:$E$39,MATCH($I309,'1組'!$B$6:$B$39,0),4),\"\")","v":""},null,null,null,null,{"$f":"IF($A309=\"\",\"\",$B309+$B309+5)","v":""},{"$f":"IF($A309=\"\",\"\",$I309+$I309+4)","v":""},"","","","",{"$f":"IF(AND($B309>=1,$B309<=17),OFFSET(INDEX('1組'!$B$6:$E$39,MATCH($B309,'1組'!$B$6:$B$39,0),2),1,0),\"\")","v":""},{"$f":"IF($A309=\"\",\"\",$I309+$I309+5)","v":""},{"$f":"IF($A309=\"\",\"\",$B309+$B309+4)","v":""},"","","","",{"$f":"IF(AND($I309>=1,$I309<=17),OFFSET(INDEX('1組'!$B$6:$E$39,MATCH($I309,'1組'!$B$6:$B$39,0),2),1,0),\"\")","v":""}]
[]
[null,null,{"$f":"IF(AND($B311>=1,$B311<=17),INDEX('1組'!$B$6:$E$39,MATCH($B311,'1組'!$B$6:$B$39,0),4),\"\")","v":""},null,null,null,null,{"$f":"IF(AND($I311>=1,$I311<=17),INDEX('1組'!$B$6:$E$39,MATCH($I311,'1組'!$B$6:$B$39,0),4),\"\")","v":""},null,null,null,null,{"$f":"IF($A311=\"\",\"\",$B311+$B311+5)","v":""},{"$f":"IF($A311=\"\",\"\",$I311+$I311+4)","v":""},"","","","",{"$f":"IF(AND($B311>=1,$B311<=17),OFFSET(INDEX('1組'!$B$6:$E$39,MATCH($B311,'1組'!$B$6:$B$39,0),2),1,0),\"\")","v":""},{"$f":"IF($A311=\"\",\"\",$I311+$I311+5)","v":""},{"$f":"IF($A311=\"\",\"\",$B311+$B311+4)","v":""},"","","","",{"$f":"IF(AND($I311>=1,$I311<=17),OFFSET(INDEX('1組'!$B$6:$E$39,MATCH($I311,'1組'!$B$6:$B$39,0),2),1,0),\"\")","v":""}]
[]
[null,null,{"$f":"IF(AND($B313>=1,$B313<=17),INDEX('1組'!$B$6:$E$39,MATCH($B313,'1組'!$B$6:$B$39,0),4),\"\")","v":""},null,null,null,null,{"$f":"IF(AND($I313>=1,$I313<=17),INDEX('1組'!$B$6:$E$39,MATCH($I313,'1組'!$B$6:$B$39,0),4),\"\")","v":""},null,null,null,null,{"$f":"IF($A313=\"\",\"\",$B313+$B313+5)","v":""},{"$f":"IF($A313=\"\",\"\",$I313+$I313+4)","v":""},"","","","",{"$f":"IF(AND($B313>=1,$B313<=17),OFFSET(INDEX('1組'!$B$6:$E$39,MATCH($B313,'1組'!$B$6:$B$39,0),2),1,0),\"\")","v":""},{"$f":"IF($A313=\"\",\"\",$I313+$I313+5)","v":""},{"$f":"IF($A313=\"\",\"\",$B313+$B313+4)","v":""},"","","","",{"$f":"IF(AND($I313>=1,$I313<=17),OFFSET(INDEX('1組'!$B$6:$E$39,MATCH($I313,'1組'!$B$6:$B$39,0),2),1,0),\"\")","v":""}]
[]
[null,null,{"$f":"IF(AND($B315>=1,$B315<=17),INDEX('1組'!$B$6:$E$39,MATCH($B315,'1組'!$B$6:$B$39,0),4),\"\")","v":""},null,null,null,null,{"$f":"IF(AND($I315>=1,$I315<=17),INDEX('1組'!$B$6:$E$39,MATCH($I315,'1組'!$B$6:$B$39,0),4),\"\")","v":""},null,null,null,null,{"$f":"IF($A315=\"\",\"\",$B315+$B315+5)","v":""},{"$f":"IF($A315=\"\",\"\",$I315+$I315+4)","v":""},"","","","",{"$f":"IF(AND($B315>=1,$B315<=17),OFFSET(INDEX('1組'!$B$6:$E$39,MATCH($B315,'1組'!$B$6:$B$39,0),2),1,0),\"\")","v":""},{"$f":"IF($A315=\"\",\"\",$I315+$I315+5)","v":""},{"$f":"IF($A315=\"\",\"\",$B315+$B315+4)","v":""},"","","","",{"$f":"IF(AND($I315>=1,$I315<=17),OFFSET(INDEX('1組'!$B$6:$E$39,MATCH($I315,'1組'!$B$6:$B$39,0),2),1,0),\"\")","v":""}]
[]
[null,null,{"$f":"IF(AND($B317>=1,$B317<=17),INDEX('1組'!$B$6:$E$39,MATCH($B317,'1組'!$B$6:$B$39,0),4),\"\")","v":""},null,null,null,null,{"$f":"IF(AND($I317>=1,$I317<=17),INDEX('1組'!$B$6:$E$39,MATCH($I317,'1組'!$B$6:$B$39,0),4),\"\")","v":""},null,null,null,null,{"$f":"IF($A317=\"\",\"\",$B317+$B317+5)","v":""},{"$f":"IF($A317=\"\",\"\",$I317+$I317+4)","v":""},"","","","",{"$f":"IF(AND($B317>=1,$B317<=17),OFFSET(INDEX('1組'!$B$6:$E$39,MATCH($B317,'1組'!$B$6:$B$39,0),2),1,0),\"\")","v":""},{"$f":"IF($A317=\"\",\"\",$I317+$I317+5)","v":""},{"$f":"IF($A317=\"\",\"\",$B317+$B317+4)","v":""},"","","","",{"$f":"IF(AND($I317>=1,$I317<=17),OFFSET(INDEX('1組'!$B$6:$E$39,MATCH($I317,'1組'!$B$6:$B$39,0),2),1,0),\"\")","v":""}]
[]
[null,null,{"$f":"IF(AND($B319>=1,$B319<=17),INDEX('1組'!$B$6:$E$39,MATCH($B319,'1組'!$B$6:$B$39,0),4),\"\")","v":""},null,null,null,null,{"$f":"IF(AND($I319>=1,$I319<=17),INDEX('1組'!$B$6:$E$39,MATCH($I319,'1組'!$B$6:$B$39,0),4),\"\")","v":""},null,null,null,null,{"$f":"IF($A319=\"\",\"\",$B319+$B319+5)","v":""},{"$f":"IF($A319=\"\",\"\",$I319+$I319+4)","v":""},"","","","",{"$f":"IF(AND($B319>=1,$B319<=17),OFFSET(INDEX('1組'!$B$6:$E$39,MATCH($B319,'1組'!$B$6:$B$39,0),2),1,0),\"\")","v":""},{"$f":"IF($A319=\"\",\"\",$I319+$I319+5)","v":""},{"$f":"IF($A319=\"\",\"\",$B319+$B319+4)","v":""},"","","","",{"$f":"IF(AND($I319>=1,$I319<=17),OFFSET(INDEX('1組'!$B$6:$E$39,MATCH($I319,'1組'!$B$6:$B$39,0),2),1,0),\"\")","v":""}]
[]
[null,null,{"$f":"IF(AND($B321>=1,$B321<=17),INDEX('1組'!$B$6:$E$39,MATCH($B321,'1組'!$B$6:$B$39,0),4),\"\")","v":""},null,null,null,null,{"$f":"IF(AND($I321>=1,$I321<=17),INDEX('1組'!$B$6:$E$39,MATCH($I321,'1組'!$B$6:$B$39,0),4),\"\")","v":""},null,null,null,null,{"$f":"IF($A321=\"\",\"\",$B321+$B321+5)","v":""},{"$f":"IF($A321=\"\",\"\",$I321+$I321+4)","v":""},"","","","",{"$f":"IF(AND($B321>=1,$B321<=17),OFFSET(INDEX('1組'!$B$6:$E$39,MATCH($B321,'1組'!$B$6:$B$39,0),2),1,0),\"\")","v":""},{"$f":"IF($A321=\"\",\"\",$I321+$I321+5)","v":""},{"$f":"IF($A321=\"\",\"\",$B321+$B321+4)","v":""},"","","","",{"$f":"IF(AND($I321>=1,$I321<=17),OFFSET(INDEX('1組'!$B$6:$E$39,MATCH($I321,'1組'!$B$6:$B$39,0),2),1,0),\"\")","v":""}]
[]
[null,null,{"$f":"IF(AND($B323>=1,$B323<=17),INDEX('1組'!$B$6:$E$39,MATCH($B323,'1組'!$B$6:$B$39,0),4),\"\")","v":""},null,null,null,null,{"$f":"IF(AND($I323>=1,$I323<=17),INDEX('1組'!$B$6:$E$39,MATCH($I323,'1組'!$B$6:$B$39,0),4),\"\")","v":""},null,null,null,null,{"$f":"IF($A323=\"\",\"\",$B323+$B323+5)","v":""},{"$f":"IF($A323=\"\",\"\",$I323+$I323+4)","v":""},"","","","",{"$f":"IF(AND($B323>=1,$B323<=17),OFFSET(INDEX('1組'!$B$6:$E$39,MATCH($B323,'1組'!$B$6:$B$39,0),2),1,0),\"\")","v":""},{"$f":"IF($A323=\"\",\"\",$I323+$I323+5)","v":""},{"$f":"IF($A323=\"\",\"\",$B323+$B323+4)","v":""},"","","","",{"$f":"IF(AND($I323>=1,$I323<=17),OFFSET(INDEX('1組'!$B$6:$E$39,MATCH($I323,'1組'!$B$6:$B$39,0),2),1,0),\"\")","v":""}]
[]
[null,null,{"$f":"IF(AND($B325>=1,$B325<=17),INDEX('1組'!$B$6:$E$39,MATCH($B325,'1組'!$B$6:$B$39,0),4),\"\")","v":""},null,null,null,null,{"$f":"IF(AND($I325>=1,$I325<=17),INDEX('1組'!$B$6:$E$39,MATCH($I325,'1組'!$B$6:$B$39,0),4),\"\")","v":""},null,null,null,null,{"$f":"IF($A325=\"\",\"\",$B325+$B325+5)","v":""},{"$f":"IF($A325=\"\",\"\",$I325+$I325+4)","v":""},"","","","",{"$f":"IF(AND($B325>=1,$B325<=17),OFFSET(INDEX('1組'!$B$6:$E$39,MATCH($B325,'1組'!$B$6:$B$39,0),2),1,0),\"\")","v":""},{"$f":"IF($A325=\"\",\"\",$I325+$I325+5)","v":""},{"$f":"IF($A325=\"\",\"\",$B325+$B325+4)","v":""},"","","","",{"$f":"IF(AND($I325>=1,$I325<=17),OFFSET(INDEX('1組'!$B$6:$E$39,MATCH($I325,'1組'!$B$6:$B$39,0),2),1,0),\"\")","v":""}]
[]
[null,null,{"$f":"IF(AND($B327>=1,$B327<=17),INDEX('1組'!$B$6:$E$39,MATCH($B327,'1組'!$B$6:$B$39,0),4),\"\")","v":""},null,null,null,null,{"$f":"IF(AND($I327>=1,$I327<=17),INDEX('1組'!$B$6:$E$39,MATCH($I327,'1組'!$B$6:$B$39,0),4),\"\")","v":""},null,null,null,null,{"$f":"IF($A327=\"\",\"\",$B327+$B327+5)","v":""},{"$f":"IF($A327=\"\",\"\",$I327+$I327+4)","v":""},"","","","",{"$f":"IF(AND($B327>=1,$B327<=17),OFFSET(INDEX('1組'!$B$6:$E$39,MATCH($B327,'1組'!$B$6:$B$39,0),2),1,0),\"\")","v":""},{"$f":"IF($A327=\"\",\"\",$I327+$I327+5)","v":""},{"$f":"IF($A327=\"\",\"\",$B327+$B327+4)","v":""},"","","","",{"$f":"IF(AND($I327>=1,$I327<=17),OFFSET(INDEX('1組'!$B$6:$E$39,MATCH($I327,'1組'!$B$6:$B$39,0),2),1,0),\"\")","v":""}]
[]
[null,null,{"$f":"IF(AND($B329>=1,$B329<=17),INDEX('1組'!$B$6:$E$39,MATCH($B329,'1組'!$B$6:$B$39,0),4),\"\")","v":""},null,null,null,null,{"$f":"IF(AND($I329>=1,$I329<=17),INDEX('1組'!$B$6:$E$39,MATCH($I329,'1組'!$B$6:$B$39,0),4),\"\")","v":""},null,null,null,null,{"$f":"IF($A329=\"\",\"\",$B329+$B329+5)","v":""},{"$f":"IF($A329=\"\",\"\",$I329+$I329+4)","v":""},"","","","",{"$f":"IF(AND($B329>=1,$B329<=17),OFFSET(INDEX('1組'!$B$6:$E$39,MATCH($B329,'1組'!$B$6:$B$39,0),2),1,0),\"\")","v":""},{"$f":"IF($A329=\"\",\"\",$I329+$I329+5)","v":""},{"$f":"IF($A329=\"\",\"\",$B329+$B329+4)","v":""},"","","","",{"$f":"IF(AND($I329>=1,$I329<=17),OFFSET(INDEX('1組'!$B$6:$E$39,MATCH($I329,'1組'!$B$6:$B$39,0),2),1,0),\"\")","v":""}]

{"sheet":"ラベル","index":5,"n_rows":79,"n_cols":15,"rows_kept":79,"cut":false,"hidden":false,"merged":[]}
[]
[null,"2 - 4　持ち点：180","第1節　(1)　持ち点：180",null,null,"3 - 6　持ち点：180","第1節　(2)　持ち点：180",null,null,"5 - 8　持ち点：180","第1節　(3)　持ち点：180",null,null,"10 - 7　持ち点：180","第1節　(4)　持ち点：180"]
[null,"近藤","山田　晋之",null,null,"吉向","長谷川",null,null,"山田晃司","金澤",null,null,"岩本","植田"]
[]
[]
[null,"HR","HR",null,null,"HR","HR",null,null,"HR","HR",null,null,"HR","HR"]
[null,"レフリー",null,null,null,"レフリー",null,null,null,"レフリー",null,null,null,"レフリー"]
[]
[]
[null,"9 - 12　持ち点：140","第1節　(5)　持ち点：180",null,null,"11 - 13　持ち点：180","第1節　(6)　持ち点：180",null,null,"4 - 1　持ち点：180","第1節　(7)　持ち点：180",null,null,"2 - 6　持ち点：180","第1節　(8)　持ち点：180"]
[null,"宮野","斎藤裕児",null,null,"水田","鷲尾",null,null,"山田　晋之","白戸",null,null,"近藤","長谷川"]
[]
[]
[null,"HR","HR",null,null,"HR","HR",null,null,"HR","HR",null,null,"HR","HR"]
[null,"レフリー",null,null,null,"レフリー",null,null,null,"レフリー",null,null,null,"レフリー"]
[]
[]
[null,"3 - 8　持ち点：180","第1節　(9)　持ち点：180",null,null,"5 - 10　持ち点：180","第1節　(10)　持ち点：180",null,null,"7 - 12　持ち点：180","第1節　(11)　持ち点：180",null,null,"9 - 13　持ち点：140","第1節　(12)　持ち点：180"]
[null,"吉向","金澤",null,null,"山田晃司","岩本",null,null,"植田","斎藤裕児",null,null,"宮野","鷲尾"]
[]
[]
[null,"HR","HR",null,null,"HR","HR",null,null,"HR","HR",null,null,"HR","HR"]
[null,"レフリー",null,null,null,"レフリー",null,null,null,"レフリー",null,null,null,"レフリー"]
[]
[]
[null,"1 - 11　持ち点：180","第1節　(13)　持ち点：180",null,null,"4 - 6　持ち点：180","第2節　(14)　持ち点：180",null,null,"2 - 8　持ち点：180","第2節　(15)　持ち点：180",null,null,"3 - 10　持ち点：180","第2節　(16)　持ち点：180"]
[null,"白戸","水田",null,null,"山田　晋之","長谷川",null,null,"近藤","金澤",null,null,"吉向","岩本"]
[]
[]
[null,"HR","HR",null,null,"HR","HR",null,null,"HR","HR",null,null,"HR","HR"]
[null,"レフリー",null,null,null,"レフリー",null,null,null,"レフリー",null,null,null,"レフリー"]
[]
[]
[null,"5 - 12　持ち点：180","第2節　(17)　持ち点：180",null,null,"7 - 13　持ち点：180","第2節　(18)　持ち点：180",null,null,"9 - 11　持ち点：140","第2節　(19)　持ち点：180",null,null,"6 - 1　持ち点：180","第2節　(20)　持ち点：180"]
[null,"山田晃司","斎藤裕児",null,null,"植田","鷲尾",null,null,"宮野","水田",null,null,"長谷川","白戸"]
[]
[]
[null,"HR","HR",null,null,"HR","HR",null,null,"HR","HR",null,null,"HR","HR"]
[null,"レフリー",null,null,null,"レフリー",null,null,null,"レフリー",null,null,null,"レフリー"]
[]
[]
[null,"4 - 8　持ち点：180","第2節　(21)　持ち点：180",null,null,"2 - 10　持ち点：180","第2節　(22)　持ち点：180",null,null,"3 - 12　持ち点：180","第2節　(23)　持ち点：180",null,null,"5 - 13　持ち点：180","第2節　(24)　持ち点：180"]
[null,"山田　晋之","金澤",null,null,"近藤","岩本",null,null,"吉向","斎藤裕児",null,null,"山田晃司","鷲尾"]
[]
[]
[null,"HR","HR",null,null,"HR","HR",null,null,"HR","HR",null,null,"HR","HR"]
[null,"レフリー",null,null,null,"レフリー",null,null,null,"レフリー",null,null,null,"レフリー"]
[]
[]
[null,"7 - 11　持ち点：180","第2節　(25)　持ち点：180",null,null,"1 - 9　持ち点：180","第2節　(26)　持ち点：140",null,null,"6 - 8　持ち点：180","第3節　(27)　持ち点：180",null,null,"4 - 10　持ち点：180","第3節　(28)　持ち点：180"]
[null,"植田","水田",null,null,"白戸","宮野",null,null,"長谷川","金澤",null,null,"山田　晋之","岩本"]
[]
[]
[null,"HR","HR",null,null,"HR","HR",null,null,"HR","HR",null,null,"HR","HR"]
[null,"レフリー",null,null,null,"レフリー",null,null,null,"レフリー",null,null,null,"レフリー"]
[]
[]
[null,"2 - 12　持ち点：180","第3節　(29)　持ち点：180",null,null,"3 - 13　持ち点：180","第3節　(30)　持ち点：180",null,null,"5 - 11　持ち点：180","第3節　(31)　持ち点：180",null,null,"7 - 9　持ち点：180","第3節　(32)　持ち点：140"]
[null,"近藤","斎藤裕児",null,null,"吉向","鷲尾",null,null,"山田晃司","水田",null,null,"植田","宮野"]
[]
[]
[null,"HR","HR",null,null,"HR","HR",null,null,"HR","HR",null,null,"HR","HR"]
[null,"レフリー",null,null,null,"レフリー",null,null,null,"レフリー",null,null,null,"レフリー"]
[]
[]
[null,"8 - 1　持ち点：180","第3節　(33)　持ち点：180",null,null,"6 - 10　持ち点：180","第3節　(34)　持ち点：180",null,null,"4 - 12　持ち点：180","第3節　(35)　持ち点：180",null,null,"2 - 13　持ち点：180","第3節　(36)　持ち点：180"]
[null,"金澤","白戸",null,null,"長谷川","岩本",null,null,"山田　晋之","斎藤裕児",null,null,"近藤","鷲尾"]
[]
[]
[null,"HR","HR",null,null,"HR","HR",null,null,"HR","HR",null,null,"HR","HR"]
[null,"レフリー",null,null,null,"レフリー",null,null,null,"レフリー",null,null,null,"レフリー"]
[]
[]
[null,"3 - 11　持ち点：180","第3節　(37)　持ち点：180",null,null,"5 - 9　持ち点：180","第3節　(38)　持ち点：140",null,null,"1 - 7　持ち点：180","第3節　(39)　持ち点：180"]
[null,"吉向","水田",null,null,"山田晃司","宮野",null,null,"白戸","植田"]
[]
[]
[null,"HR","HR",null,null,"HR","HR",null,null,"HR","HR"]
[null,"レフリー",null,null,null,"レフリー",null,null,null,"レフリー"]

{"sheet":"結果","index":6,"n_rows":18,"n_cols":7,"rows_kept":18,"cut":false,"hidden":false,"merged":[]}
["順位","名      前","W","L","TP","LP","HR"]
[1,{"$f":"IF(ISERROR(INDEX('1組'!$E$6:$AT$39,MATCH($A2,'1組'!$AS$6:$AS$39,0),1)),\"\",INDEX('1組'!$E$6:$AT$39,MATCH($A2,'1組'!$AS$6:$AS$39,0),1))","v":"白戸"},{"$f":"IF(ISERROR(INDEX('1組'!$E$6:$AT$39,MATCH($A2,'1組'!$AS$6:$AS$39,0),36)),\"\",INDEX('1組'!$E$6:$AT$39,MATCH($A2,'1組'!$AS$6:$AS$39,0),36))","v":5},{"$f":"IF(ISERROR(INDEX('1組'!$E$6:$AT$39,MATCH($A2,'1組'!$AS$6:$AS$39,0),37)),\"\",INDEX('1組'!$E$6:$AT$39,MATCH($A2,'1組'!$AS$6:$AS$39,0),37))","v":1},{"$f":"IF(ISERROR(INDEX('1組'!$E$6:$AT$39,MATCH($A2,'1組'!$AS$6:$AS$39,0),38)),\"\",INDEX('1組'!$E$6:$AT$39,MATCH($A2,'1組'!$AS$6:$AS$39,0),38))","v":1073},{"$f":"IF(ISERROR(INDEX('1組'!$E$6:$AT$39,MATCH($A2,'1組'!$AS$6:$AS$39,0),39)),\"\",INDEX('1組'!$E$6:$AT$39,MATCH($A2,'1組'!$AS$6:$AS$39,0),39))","v":263},{"$f":"IF(ISERROR(INDEX('1組'!$E$6:$AT$39,MATCH($A2,'1組'!$AS$6:$AS$39,0),42)),\"\",INDEX('1組'!$E$6:$AT$39,MATCH($A2,'1組'!$AS$6:$AS$39,0),42))","v":110}]
[{"$f":"A2+1","v":2},{"$f":"IF(ISERROR(INDEX('1組'!$E$6:$AS$39,MATCH($A3,'1組'!$AS$6:$AS$39,0),1)),\"\",INDEX('1組'!$E$6:$AS$39,MATCH($A3,'1組'!$AS$6:$AS$39,0),1))","v":"吉向"},{"$f":"IF(ISERROR(INDEX('1組'!$E$6:$AT$39,MATCH($A3,'1組'!$AS$6:$AS$39,0),36)),\"\",INDEX('1組'!$E$6:$AT$39,MATCH($A3,'1組'!$AS$6:$AS$39,0),36))","v":5},{"$f":"IF(ISERROR(INDEX('1組'!$E$6:$AT$39,MATCH($A3,'1組'!$AS$6:$AS$39,0),37)),\"\",INDEX('1組'!$E$6:$AT$39,MATCH($A3,'1組'!$AS$6:$AS$39,0),37))","v":1},{"$f":"IF(ISERROR(INDEX('1組'!$E$6:$AT$39,MATCH($A3,'1組'!$AS$6:$AS$39,0),38)),\"\",INDEX('1組'!$E$6:$AT$39,MATCH($A3,'1組'!$AS$6:$AS$39,0),38))","v":1065},{"$f":"IF(ISERROR(INDEX('1組'!$E$6:$AT$39,MATCH($A3,'1組'!$AS$6:$AS$39,0),39)),\"\",INDEX('1組'!$E$6:$AT$39,MATCH($A3,'1組'!$AS$6:$AS$39,0),39))","v":316},{"$f":"IF(ISERROR(INDEX('1組'!$E$6:$AT$39,MATCH($A3,'1組'!$AS$6:$AS$39,0),42)),\"\",INDEX('1組'!$E$6:$AT$39,MATCH($A3,'1組'!$AS$6:$AS$39,0),42))","v":105}]
[{"$f":"A3+1","v":3},{"$f":"IF(ISERROR(INDEX('1組'!$E$6:$AS$39,MATCH($A4,'1組'!$AS$6:$AS$39,0),1)),\"\",INDEX('1組'!$E$6:$AS$39,MATCH($A4,'1組'!$AS$6:$AS$39,0),1))","v":"山田晃司"},{"$f":"IF(ISERROR(INDEX('1組'!$E$6:$AT$39,MATCH($A4,'1組'!$AS$6:$AS$39,0),36)),\"\",INDEX('1組'!$E$6:$AT$39,MATCH($A4,'1組'!$AS$6:$AS$39,0),36))","v":5},{"$f":"IF(ISERROR(INDEX('1組'!$E$6:$AT$39,MATCH($A4,'1組'!$AS$6:$AS$39,0),37)),\"\",INDEX('1組'!$E$6:$AT$39,MATCH($A4,'1組'!$AS$6:$AS$39,0),37))","v":1},{"$f":"IF(ISERROR(INDEX('1組'!$E$6:$AT$39,MATCH($A4,'1組'!$AS$6:$AS$39,0),38)),\"\",INDEX('1組'!$E$6:$AT$39,MATCH($A4,'1組'!$AS$6:$AS$39,0),38))","v":1018},{"$f":"IF(ISERROR(INDEX('1組'!$E$6:$AT$39,MATCH($A4,'1組'!$AS$6:$AS$39,0),39)),\"\",INDEX('1組'!$E$6:$AT$39,MATCH($A4,'1組'!$AS$6:$AS$39,0),39))","v":648},{"$f":"IF(ISERROR(INDEX('1組'!$E$6:$AT$39,MATCH($A4,'1組'!$AS$6:$AS$39,0),42)),\"\",INDEX('1組'!$E$6:$AT$39,MATCH($A4,'1組'!$AS$6:$AS$39,0),42))","v":0}]
[4,{"$f":"IF(ISERROR(INDEX('1組'!$E$6:$AS$39,MATCH($A5,'1組'!$AS$6:$AS$39,0),1)),\"\",INDEX('1組'!$E$6:$AS$39,MATCH($A5,'1組'!$AS$6:$AS$39,0),1))","v":"斎藤裕児"},{"$f":"IF(ISERROR(INDEX('1組'!$E$6:$AT$39,MATCH($A5,'1組'!$AS$6:$AS$39,0),36)),\"\",INDEX('1組'!$E$6:$AT$39,MATCH($A5,'1組'!$AS$6:$AS$39,0),36))","v":5},{"$f":"IF(ISERROR(INDEX('1組'!$E$6:$AT$39,MATCH($A5,'1組'!$AS$6:$AS$39,0),37)),\"\",INDEX('1組'!$E$6:$AT$39,MATCH($A5,'1組'!$AS$6:$AS$39,0),37))","v":1},{"$f":"IF(ISERROR(INDEX('1組'!$E$6:$AT$39,MATCH($A5,'1組'!$AS$6:$AS$39,0),38)),\"\",INDEX('1組'!$E$6:$AT$39,MATCH($A5,'1組'!$AS$6:$AS$39,0),38))","v":964},{"$f":"IF(ISERROR(INDEX('1組'!$E$6:$AT$39,MATCH($A5,'1組'!$AS$6:$AS$39,0),39)),\"\",INDEX('1組'!$E$6:$AT$39,MATCH($A5,'1組'!$AS$6:$AS$39,0),39))","v":406},{"$f":"IF(ISERROR(INDEX('1組'!$E$6:$AT$39,MATCH($A5,'1組'!$AS$6:$AS$39,0),42)),\"\",INDEX('1組'!$E$6:$AT$39,MATCH($A5,'1組'!$AS$6:$AS$39,0),42))","v":0}]
[5,{"$f":"IF(ISERROR(INDEX('1組'!$E$6:$AS$39,MATCH($A6,'1組'!$AS$6:$AS$39,0),1)),\"\",INDEX('1組'!$E$6:$AS$39,MATCH($A6,'1組'!$AS$6:$AS$39,0),1))","v":"近藤"},{"$f":"IF(ISERROR(INDEX('1組'!$E$6:$AT$39,MATCH($A6,'1組'!$AS$6:$AS$39,0),36)),\"\",INDEX('1組'!$E$6:$AT$39,MATCH($A6,'1組'!$AS$6:$AS$39,0),36))","v":4},{"$f":"IF(ISERROR(INDEX('1組'!$E$6:$AT$39,MATCH($A6,'1組'!$AS$6:$AS$39,0),37)),\"\",INDEX('1組'!$E$6:$AT$39,MATCH($A6,'1組'!$AS$6:$AS$39,0),37))","v":2},{"$f":"IF(ISERROR(INDEX('1組'!$E$6:$AT$39,MATCH($A6,'1組'!$AS$6:$AS$39,0),38)),\"\",INDEX('1組'!$E$6:$AT$39,MATCH($A6,'1組'!$AS$6:$AS$39,0),38))","v":829},{"$f":"IF(ISERROR(INDEX('1組'!$E$6:$AT$39,MATCH($A6,'1組'!$AS$6:$AS$39,0),39)),\"\",INDEX('1組'!$E$6:$AT$39,MATCH($A6,'1組'!$AS$6:$AS$39,0),39))","v":343},0]
[6,{"$f":"IF(ISERROR(INDEX('1組'!$E$6:$AS$39,MATCH($A7,'1組'!$AS$6:$AS$39,0),1)),\"\",INDEX('1組'!$E$6:$AS$39,MATCH($A7,'1組'!$AS$6:$AS$39,0),1))","v":"植田"},{"$f":"IF(ISERROR(INDEX('1組'!$E$6:$AT$39,MATCH($A7,'1組'!$AS$6:$AS$39,0),36)),\"\",INDEX('1組'!$E$6:$AT$39,MATCH($A7,'1組'!$AS$6:$AS$39,0),36))","v":3},{"$f":"IF(ISERROR(INDEX('1組'!$E$6:$AT$39,MATCH($A7,'1組'!$AS$6:$AS$39,0),37)),\"\",INDEX('1組'!$E$6:$AT$39,MATCH($A7,'1組'!$AS$6:$AS$39,0),37))","v":3},{"$f":"IF(ISERROR(INDEX('1組'!$E$6:$AT$39,MATCH($A7,'1組'!$AS$6:$AS$39,0),38)),\"\",INDEX('1組'!$E$6:$AT$39,MATCH($A7,'1組'!$AS$6:$AS$39,0),38))","v":902},{"$f":"IF(ISERROR(INDEX('1組'!$E$6:$AT$39,MATCH($A7,'1組'!$AS$6:$AS$39,0),39)),\"\",INDEX('1組'!$E$6:$AT$39,MATCH($A7,'1組'!$AS$6:$AS$39,0),39))","v":393},{"$f":"IF(ISERROR(INDEX('1組'!$E$6:$AT$39,MATCH($A7,'1組'!$AS$6:$AS$39,0),42)),\"\",INDEX('1組'!$E$6:$AT$39,MATCH($A7,'1組'!$AS$6:$AS$39,0),42))","v":0}]
[7,{"$f":"IF(ISERROR(INDEX('1組'!$E$6:$AS$39,MATCH($A8,'1組'!$AS$6:$AS$39,0),1)),\"\",INDEX('1組'!$E$6:$AS$39,MATCH($A8,'1組'!$AS$6:$AS$39,0),1))","v":"岩本"},{"$f":"IF(ISERROR(INDEX('1組'!$E$6:$AT$39,MATCH($A8,'1組'!$AS$6:$AS$39,0),36)),\"\",INDEX('1組'!$E$6:$AT$39,MATCH($A8,'1組'!$AS$6:$AS$39,0),36))","v":2},{"$f":"IF(ISERROR(INDEX('1組'!$E$6:$AT$39,MATCH($A8,'1組'!$AS$6:$AS$39,0),37)),\"\",INDEX('1組'!$E$6:$AT$39,MATCH($A8,'1組'!$AS$6:$AS$39,0),37))","v":4},{"$f":"IF(ISERROR(INDEX('1組'!$E$6:$AT$39,MATCH($A8,'1組'!$AS$6:$AS$39,0),38)),\"\",INDEX('1組'!$E$6:$AT$39,MATCH($A8,'1組'!$AS$6:$AS$39,0),38))","v":860},{"$f":"IF(ISERROR(INDEX('1組'!$E$6:$AT$39,MATCH($A8,'1組'!$AS$6:$AS$39,0),39)),\"\",INDEX('1組'!$E$6:$AT$39,MATCH($A8,'1組'!$AS$6:$AS$39,0),39))","v":229},{"$f":"IF(ISERROR(INDEX('1組'!$E$6:$AT$39,MATCH($A8,'1組'!$AS$6:$AS$39,0),42)),\"\",INDEX('1組'!$E$6:$AT$39,MATCH($A8,'1組'!$AS$6:$AS$39,0),42))","v":0}]
[8,{"$f":"IF(ISERROR(INDEX('1組'!$E$6:$AS$39,MATCH($A9,'1組'!$AS$6:$AS$39,0),1)),\"\",INDEX('1組'!$E$6:$AS$39,MATCH($A9,'1組'!$AS$6:$AS$39,0),1))","v":"金澤"},{"$f":"IF(ISERROR(INDEX('1組'!$E$6:$AT$39,MATCH($A9,'1組'!$AS$6:$AS$39,0),36)),\"\",INDEX('1組'!$E$6:$AT$39,MATCH($A9,'1組'!$AS$6:$AS$39,0),36))","v":2},{"$f":"IF(ISERROR(INDEX('1組'!$E$6:$AT$39,MATCH($A9,'1組'!$AS$6:$AS$39,0),37)),\"\",INDEX('1組'!$E$6:$AT$39,MATCH($A9,'1組'!$AS$6:$AS$39,0),37))","v":4},{"$f":"IF(ISERROR(INDEX('1組'!$E$6:$AT$39,MATCH($A9,'1組'!$AS$6:$AS$39,0),38)),\"\",INDEX('1組'!$E$6:$AT$39,MATCH($A9,'1組'!$AS$6:$AS$39,0),38))","v":804},{"$f":"IF(ISERROR(INDEX('1組'!$E$6:$AT$39,MATCH($A9,'1組'!$AS$6:$AS$39,0),39)),\"\",INDEX('1組'!$E$6:$AT$39,MATCH($A9,'1組'!$AS$6:$AS$39,0),39))","v":99},{"$f":"IF(ISERROR(INDEX('1組'!$E$6:$AT$39,MATCH($A9,'1組'!$AS$6:$AS$39,0),42)),\"\",INDEX('1組'!$E$6:$AT$39,MATCH($A9,'1組'!$AS$6:$AS$39,0),42))","v":120}]
[9,{"$f":"IF(ISERROR(INDEX('1組'!$E$6:$AS$39,MATCH($A10,'1組'!$AS$6:$AS$39,0),1)),\"\",INDEX('1組'!$E$6:$AS$39,MATCH($A10,'1組'!$AS$6:$AS$39,0),1))","v":"鷲尾"},{"$f":"IF(ISERROR(INDEX('1組'!$E$6:$AT$39,MATCH($A10,'1組'!$AS$6:$AS$39,0),36)),\"\",INDEX('1組'!$E$6:$AT$39,MATCH($A10,'1組'!$AS$6:$AS$39,0),36))","v":2},{"$f":"IF(ISERROR(INDEX('1組'!$E$6:$AT$39,MATCH($A10,'1組'!$AS$6:$AS$39,0),37)),\"\",INDEX('1組'!$E$6:$AT$39,MATCH($A10,'1組'!$AS$6:$AS$39,0),37))","v":4},{"$f":"IF(ISERROR(INDEX('1組'!$E$6:$AT$39,MATCH($A10,'1組'!$AS$6:$AS$39,0),38)),\"\",INDEX('1組'!$E$6:$AT$39,MATCH($A10,'1組'!$AS$6:$AS$39,0),38))","v":785},{"$f":"IF(ISERROR(INDEX('1組'!$E$6:$AT$39,MATCH($A10,'1組'!$AS$6:$AS$39,0),39)),\"\",INDEX('1組'!$E$6:$AT$39,MATCH($A10,'1組'!$AS$6:$AS$39,0),39))","v":288},{"$f":"IF(ISERROR(INDEX('1組'!$E$6:$AT$39,MATCH($A10,'1組'!$AS$6:$AS$39,0),42)),\"\",INDEX('1組'!$E$6:$AT$39,MATCH($A10,'1組'!$AS$6:$AS$39,0),42))","v":103}]
[10,{"$f":"IF(ISERROR(INDEX('1組'!$E$6:$AS$39,MATCH($A11,'1組'!$AS$6:$AS$39,0),1)),\"\",INDEX('1組'!$E$6:$AS$39,MATCH($A11,'1組'!$AS$6:$AS$39,0),1))","v":"山田　晋之"},{"$f":"IF(ISERROR(INDEX('1組'!$E$6:$AT$39,MATCH($A11,'1組'!$AS$6:$AS$39,0),36)),\"\",INDEX('1組'!$E$6:$AT$39,MATCH($A11,'1組'!$AS$6:$AS$39,0),36))","v":2},{"$f":"IF(ISERROR(INDEX('1組'!$E$6:$AT$39,MATCH($A11,'1組'!$AS$6:$AS$39,0),37)),\"\",INDEX('1組'!$E$6:$AT$39,MATCH($A11,'1組'!$AS$6:$AS$39,0),37))","v":4},{"$f":"IF(ISERROR(INDEX('1組'!$E$6:$AT$39,MATCH($A11,'1組'!$AS$6:$AS$39,0),38)),\"\",INDEX('1組'!$E$6:$AT$39,MATCH($A11,'1組'!$AS$6:$AS$39,0),38))","v":757},{"$f":"IF(ISERROR(INDEX('1組'!$E$6:$AT$39,MATCH($A11,'1組'!$AS$6:$AS$39,0),39)),\"\",INDEX('1組'!$E$6:$AT$39,MATCH($A11,'1組'!$AS$6:$AS$39,0),39))","v":293},{"$f":"IF(ISERROR(INDEX('1組'!$E$6:$AT$39,MATCH($A11,'1組'!$AS$6:$AS$39,0),42)),\"\",INDEX('1組'!$E$6:$AT$39,MATCH($A11,'1組'!$AS$6:$AS$39,0),42))","v":0}]
[11,{"$f":"IF(ISERROR(INDEX('1組'!$E$6:$AS$39,MATCH($A12,'1組'!$AS$6:$AS$39,0),1)),\"\",INDEX('1組'!$E$6:$AS$39,MATCH($A12,'1組'!$AS$6:$AS$39,0),1))","v":"水田"},{"$f":"IF(ISERROR(INDEX('1組'!$E$6:$AT$39,MATCH($A12,'1組'!$AS$6:$AS$39,0),36)),\"\",INDEX('1組'!$E$6:$AT$39,MATCH($A12,'1組'!$AS$6:$AS$39,0),36))","v":2},{"$f":"IF(ISERROR(INDEX('1組'!$E$6:$AT$39,MATCH($A12,'1組'!$AS$6:$AS$39,0),37)),\"\",INDEX('1組'!$E$6:$AT$39,MATCH($A12,'1組'!$AS$6:$AS$39,0),37))","v":4},{"$f":"IF(ISERROR(INDEX('1組'!$E$6:$AT$39,MATCH($A12,'1組'!$AS$6:$AS$39,0),38)),\"\",INDEX('1組'!$E$6:$AT$39,MATCH($A12,'1組'!$AS$6:$AS$39,0),38))","v":691},{"$f":"IF(ISERROR(INDEX('1組'!$E$6:$AT$39,MATCH($A12,'1組'!$AS$6:$AS$39,0),39)),\"\",INDEX('1組'!$E$6:$AT$39,MATCH($A12,'1組'!$AS$6:$AS$39,0),39))","v":176},{"$f":"IF(ISERROR(INDEX('1組'!$E$6:$AT$39,MATCH($A12,'1組'!$AS$6:$AS$39,0),42)),\"\",INDEX('1組'!$E$6:$AT$39,MATCH($A12,'1組'!$AS$6:$AS$39,0),42))","v":0}]
[12,{"$f":"IF(ISERROR(INDEX('1組'!$E$6:$AS$39,MATCH($A13,'1組'!$AS$6:$AS$39,0),1)),\"\",INDEX('1組'!$E$6:$AS$39,MATCH($A13,'1組'!$AS$6:$AS$39,0),1))","v":"宮野"},{"$f":"IF(ISERROR(INDEX('1組'!$E$6:$AT$39,MATCH($A13,'1組'!$AS$6:$AS$39,0),36)),\"\",INDEX('1組'!$E$6:$AT$39,MATCH($A13,'1組'!$AS$6:$AS$39,0),36))","v":1},{"$f":"IF(ISERROR(INDEX('1組'!$E$6:$AT$39,MATCH($A13,'1組'!$AS$6:$AS$39,0),37)),\"\",INDEX('1組'!$E$6:$AT$39,MATCH($A13,'1組'!$AS$6:$AS$39,0),37))","v":5},{"$f":"IF(ISERROR(INDEX('1組'!$E$6:$AT$39,MATCH($A13,'1組'!$AS$6:$AS$39,0),38)),\"\",INDEX('1組'!$E$6:$AT$39,MATCH($A13,'1組'!$AS$6:$AS$39,0),38))","v":528},{"$f":"IF(ISERROR(INDEX('1組'!$E$6:$AT$39,MATCH($A13,'1組'!$AS$6:$AS$39,0),39)),\"\",INDEX('1組'!$E$6:$AT$39,MATCH($A13,'1組'!$AS$6:$AS$39,0),39))","v":141},{"$f":"IF(ISERROR(INDEX('1組'!$E$6:$AT$39,MATCH($A13,'1組'!$AS$6:$AS$39,0),42)),\"\",INDEX('1組'!$E$6:$AT$39,MATCH($A13,'1組'!$AS$6:$AS$39,0),42))","v":0}]
[13,{"$f":"IF(ISERROR(INDEX('1組'!$E$6:$AS$39,MATCH($A14,'1組'!$AS$6:$AS$39,0),1)),\"\",INDEX('1組'!$E$6:$AS$39,MATCH($A14,'1組'!$AS$6:$AS$39,0),1))","v":"長谷川"},{"$f":"IF(ISERROR(INDEX('1組'!$E$6:$AT$39,MATCH($A14,'1組'!$AS$6:$AS$39,0),36)),\"\",INDEX('1組'!$E$6:$AT$39,MATCH($A14,'1組'!$AS$6:$AS$39,0),36))","v":1},{"$f":"IF(ISERROR(INDEX('1組'!$E$6:$AT$39,MATCH($A14,'1組'!$AS$6:$AS$39,0),37)),\"\",INDEX('1組'!$E$6:$AT$39,MATCH($A14,'1組'!$AS$6:$AS$39,0),37))","v":5},{"$f":"IF(ISERROR(INDEX('1組'!$E$6:$AT$39,MATCH($A14,'1組'!$AS$6:$AS$39,0),38)),\"\",INDEX('1組'!$E$6:$AT$39,MATCH($A14,'1組'!$AS$6:$AS$39,0),38))","v":518},{"$f":"IF(ISERROR(INDEX('1組'!$E$6:$AT$39,MATCH($A14,'1組'!$AS$6:$AS$39,0),39)),\"\",INDEX('1組'!$E$6:$AT$39,MATCH($A14,'1組'!$AS$6:$AS$39,0),39))","v":102},{"$f":"IF(ISERROR(INDEX('1組'!$E$6:$AT$39,MATCH($A14,'1組'!$AS$6:$AS$39,0),42)),\"\",INDEX('1組'!$E$6:$AT$39,MATCH($A14,'1組'!$AS$6:$AS$39,0),42))","v":0}]
[14,{"$f":"IF(ISERROR(INDEX('1組'!$E$6:$AS$39,MATCH($A15,'1組'!$AS$6:$AS$39,0),1)),\"\",INDEX('1組'!$E$6:$AS$39,MATCH($A15,'1組'!$AS$6:$AS$39,0),1))","v":""},{"$f":"IF(ISERROR(INDEX('1組'!$E$6:$AT$39,MATCH($A15,'1組'!$AS$6:$AS$39,0),36)),\"\",INDEX('1組'!$E$6:$AT$39,MATCH($A15,'1組'!$AS$6:$AS$39,0),36))","v":""},{"$f":"IF(ISERROR(INDEX('1組'!$E$6:$AT$39,MATCH($A15,'1組'!$AS$6:$AS$39,0),37)),\"\",INDEX('1組'!$E$6:$AT$39,MATCH($A15,'1組'!$AS$6:$AS$39,0),37))","v":""},{"$f":"IF(ISERROR(INDEX('1組'!$E$6:$AT$39,MATCH($A15,'1組'!$AS$6:$AS$39,0),38)),\"\",INDEX('1組'!$E$6:$AT$39,MATCH($A15,'1組'!$AS$6:$AS$39,0),38))","v":""},{"$f":"IF(ISERROR(INDEX('1組'!$E$6:$AT$39,MATCH($A15,'1組'!$AS$6:$AS$39,0),39)),\"\",INDEX('1組'!$E$6:$AT$39,MATCH($A15,'1組'!$AS$6:$AS$39,0),39))","v":""},{"$f":"IF(ISERROR(INDEX('1組'!$E$6:$AT$39,MATCH($A15,'1組'!$AS$6:$AS$39,0),42)),\"\",INDEX('1組'!$E$6:$AT$39,MATCH($A15,'1組'!$AS$6:$AS$39,0),42))","v":""}]
[15,{"$f":"IF(ISERROR(INDEX('1組'!$E$6:$AS$39,MATCH($A16,'1組'!$AS$6:$AS$39,0),1)),\"\",INDEX('1組'!$E$6:$AS$39,MATCH($A16,'1組'!$AS$6:$AS$39,0),1))","v":""},{"$f":"IF(ISERROR(INDEX('1組'!$E$6:$AT$39,MATCH($A16,'1組'!$AS$6:$AS$39,0),36)),\"\",INDEX('1組'!$E$6:$AT$39,MATCH($A16,'1組'!$AS$6:$AS$39,0),36))","v":""},{"$f":"IF(ISERROR(INDEX('1組'!$E$6:$AT$39,MATCH($A16,'1組'!$AS$6:$AS$39,0),37)),\"\",INDEX('1組'!$E$6:$AT$39,MATCH($A16,'1組'!$AS$6:$AS$39,0),37))","v":""},{"$f":"IF(ISERROR(INDEX('1組'!$E$6:$AT$39,MATCH($A16,'1組'!$AS$6:$AS$39,0),38)),\"\",INDEX('1組'!$E$6:$AT$39,MATCH($A16,'1組'!$AS$6:$AS$39,0),38))","v":""},{"$f":"IF(ISERROR(INDEX('1組'!$E$6:$AT$39,MATCH($A16,'1組'!$AS$6:$AS$39,0),39)),\"\",INDEX('1組'!$E$6:$AT$39,MATCH($A16,'1組'!$AS$6:$AS$39,0),39))","v":""},{"$f":"IF(ISERROR(INDEX('1組'!$E$6:$AT$39,MATCH($A16,'1組'!$AS$6:$AS$39,0),42)),\"\",INDEX('1組'!$E$6:$AT$39,MATCH($A16,'1組'!$AS$6:$AS$39,0),42))","v":""}]
[16,{"$f":"IF(ISERROR(INDEX('1組'!$E$6:$AS$39,MATCH($A17,'1組'!$AS$6:$AS$39,0),1)),\"\",INDEX('1組'!$E$6:$AS$39,MATCH($A17,'1組'!$AS$6:$AS$39,0),1))","v":""},{"$f":"IF(ISERROR(INDEX('1組'!$E$6:$AT$39,MATCH($A17,'1組'!$AS$6:$AS$39,0),36)),\"\",INDEX('1組'!$E$6:$AT$39,MATCH($A17,'1組'!$AS$6:$AS$39,0),36))","v":""},{"$f":"IF(ISERROR(INDEX('1組'!$E$6:$AT$39,MATCH($A17,'1組'!$AS$6:$AS$39,0),37)),\"\",INDEX('1組'!$E$6:$AT$39,MATCH($A17,'1組'!$AS$6:$AS$39,0),37))","v":""},{"$f":"IF(ISERROR(INDEX('1組'!$E$6:$AT$39,MATCH($A17,'1組'!$AS$6:$AS$39,0),38)),\"\",INDEX('1組'!$E$6:$AT$39,MATCH($A17,'1組'!$AS$6:$AS$39,0),38))","v":""},{"$f":"IF(ISERROR(INDEX('1組'!$E$6:$AT$39,MATCH($A17,'1組'!$AS$6:$AS$39,0),39)),\"\",INDEX('1組'!$E$6:$AT$39,MATCH($A17,'1組'!$AS$6:$AS$39,0),39))","v":""},{"$f":"IF(ISERROR(INDEX('1組'!$E$6:$AT$39,MATCH($A17,'1組'!$AS$6:$AS$39,0),42)),\"\",INDEX('1組'!$E$6:$AT$39,MATCH($A17,'1組'!$AS$6:$AS$39,0),42))","v":""}]
[17,{"$f":"IF(ISERROR(INDEX('1組'!$E$6:$AS$39,MATCH($A18,'1組'!$AS$6:$AS$39,0),1)),\"\",INDEX('1組'!$E$6:$AS$39,MATCH($A18,'1組'!$AS$6:$AS$39,0),1))","v":""},{"$f":"IF(ISERROR(INDEX('1組'!$E$6:$AT$39,MATCH($A18,'1組'!$AS$6:$AS$39,0),36)),\"\",INDEX('1組'!$E$6:$AT$39,MATCH($A18,'1組'!$AS$6:$AS$39,0),36))","v":""},{"$f":"IF(ISERROR(INDEX('1組'!$E$6:$AT$39,MATCH($A18,'1組'!$AS$6:$AS$39,0),37)),\"\",INDEX('1組'!$E$6:$AT$39,MATCH($A18,'1組'!$AS$6:$AS$39,0),37))","v":""},{"$f":"IF(ISERROR(INDEX('1組'!$E$6:$AT$39,MATCH($A18,'1組'!$AS$6:$AS$39,0),38)),\"\",INDEX('1組'!$E$6:$AT$39,MATCH($A18,'1組'!$AS$6:$AS$39,0),38))","v":""},{"$f":"IF(ISERROR(INDEX('1組'!$E$6:$AT$39,MATCH($A18,'1組'!$AS$6:$AS$39,0),39)),\"\",INDEX('1組'!$E$6:$AT$39,MATCH($A18,'1組'!$AS$6:$AS$39,0),39))","v":""},{"$f":"IF(ISERROR(INDEX('1組'!$E$6:$AT$39,MATCH($A18,'1組'!$AS$6:$AS$39,0),42)),\"\",INDEX('1組'!$E$6:$AT$39,MATCH($A18,'1組'!$AS$6:$AS$39,0),42))","v":""}]